{"text_format":"1","workbook":"xlsx","n_sheets":10,"sheets":["Import","Start","Försättsblad","Anvisningar","VP203","FlexDimensioner","Kontroll","db_kontroller","Combo","db"],"not_rendered":{"charts":0,"images":493,"macros":1,"external_links":1,"defined_names":7326,"comments":0,"pivot_tables":0},"unopened":[],"bounds":{"document_bytes":16777216,"sheet_cells":100000,"rows_first":2000,"rows_last":500,"rows_between":2000,"halvings":0,"cell_chars":16384,"cell_head_chars":4096},"cells_cut":0,"cells_raw":0,"read":"whole","date_system":"1900"}

{"sheet":"Import","index":0,"n_rows":0,"n_cols":0,"rows_kept":0,"cut":false,"hidden":true,"merged":[]}

{"sheet":"Start","index":1,"n_rows":23,"n_cols":3,"rows_kept":23,"cut":false,"hidden":false,"merged":[]}
[]
[]
[]
[]
[]
[]
[]
[null,null,"BLANKETT  VP203"]
[]
[null,null,"Handel med aktier i utlandet - svenska aktier"]
[]
[null,null,"Blanketten skall vara Statistiska centralbyrån tillhanda senast"]
[null,null,"den 15:e i efterföljande månad."]
[]
[]
[null,null,"Uppgifter om orgnr, datum etc lämnas i dialogrutan som kommer upp då ni "]
[null,null,"klickar på \"Skicka in blanketten\""]
[]
[null,null,"Kvittens från SCB på mottagen blankett"]
[null,"Uppgiftslämnare:"]
[null,"Rapportdatum:"]
[null,"Inskickat av:"]
[null,"Mottaget:",{"$f":"NOW()","v":"2020-11-25T10:42:16.360"}]

{"sheet":"Försättsblad","index":2,"n_rows":35,"n_cols":6,"rows_kept":35,"cut":false,"hidden":false,"merged":[[17,1,17,7],[18,1,18,7],[19,1,19,7],[6,1,6,2],[15,1,15,7],[16,1,16,7],[10,1,10,5]]}
[]
[null,"Betalningsbalansstatistik"]
[]
[]
[null,"Rapportperiod",null,null,null,"Blankettid"]
[]
[null,null,null,null,null,"VP203"]
[]
[null,"Kontaktperson"]
[]
[]
[]
[]
[]
[null,"Egna noteringar"]
[]
[]
[]
[]
[]
[]
[]
[]
[null,"STATISTISKA CENTRALBYRÅN"]
[null,"ES / BFM / BoP"]
[null,"Box 24300"]
[null,"104 51 Stockholm"]
[]
[]
[null,"OBS!!! "]
[null,"Uppgifter som noteras på detta försättsblad kan lagras och/eller skrivas ut av rapportören,"]
[null,"men det följer inte med i rapporteringen till SCB. "]
[]
[null,"Fritext kan skrivas i Kommentar-rutan som finns i inloggningen när du klickar på"]
[null,"Skicka in blanketten i Start-fliken eller i E-post till SCB: bop@scb.se"]

{"sheet":"Anvisningar","index":3,"n_rows":35,"n_cols":3,"rows_kept":35,"cut":false,"hidden":false,"merged":[[34,1,34,2],[0,1,0,2],[2,1,2,2],[4,1,4,2],[5,1,5,2],[7,1,7,2],[8,1,8,2],[30,1,30,2],[31,1,31,2],[32,1,32,2],[10,1,10,2],[11,1,11,2],[13,1,13,2],[14,1,14,2],[33,1,33,2],[16,1,16,2],[18,1,18,2],[19,1,19,2],[21,1,21,2]]}
[null,"Anvisningar"]
[]
[null,"Blankett VP203 - Handel med aktier i utlandet - Svenska aktier"]
[]
[null,"Rapporten omfattar"]
[null,"värdepappersinstituts handel med svenska aktier med utlandet såväl för egen räkning som kundaffärer. Även den som för egen räkning handlar direkt i utlandet utan svenskt värdepappersintitut som mellanhand ska rapportera på denna blankett. "]
[]
[null,"Utländsk motpart"]
[null,"Med utländsk motpart avses motpart med utländsk adress. Utländsk filial till svenskt företag betraktas således som utlänning"]
[]
[null,"Svenska kronor, SEK"]
[null,"Belopp anges i tusental svenska kronor och utländsk valuta omräknas till SEK enligt valuakurs vid transaktionstillfället."]
[]
[null,"Transaktioner"]
[null,"Rapporten redovisar handeln per avslutsdag. De redovisade värdena avser likvidbelopp, dvs det belopp som debiteras eller krediteras utländsk motpart, och ska således i förekommande fall inkludera avgifter m.m."]
[]
[null,"Depåbevis för utländska aktier ska redovisas som utländsk aktie på blankett VP201. Detta gäller även utländska aktier som är noterade på Stockholmsbörsen."]
[]
[null,"ISIN-kod"]
[null,"Specificering efter ISIN-kod ska göras för svenska aktier noterade på Nordic Exchanges Stockholmslista."]
[null,null,"   "]
[null,"Rapporten omfattar inte"]
[null,"-","handel med optioner avseende aktier. Dessa rapporteras på blankett FD201-FD203."]
[null,"-","handel mellan inlänningar eller handel mellan utlänningar."]
[null,"-","handel med konvertibler. Dessa rapporteras på blankett VP207-VP208."]
[null,"-","för rapportören kända direktinvesteringsaffärer (där köparen/säljaren äger minst 10% av aktierna). Dessa rapporteras på blankett IS 205 eller IU 205.      "]
[null,"-","Handel med svenska eller utländska fondandelar. Dessa rapporteras på  bl VP202 resp VP204."]
[null,"-","Observera att depåbevis för utländska aktier ska redovisas som utländsk aktie på blankett VP201. Detta gäller även utländska aktier som är noterade på Stockholmsbörsen."]
[]
[]
[null,"Aktiehandel med utlandet är uppdelad på fyra blanketter: "]
[null,"VP 201 Handel med aktier i utlandet – Utländska aktier "]
[null,"VP 202 Handel med fonder i utlandet – Utländska andelar"]
[null,"VP 203 Handel med aktier i utlandet – Svenska aktier"]
[null,"VP 204 Handel med fonder i utlandet – Svenska andelar"]

{"sheet":"VP203","index":4,"n_rows":500,"n_cols":4,"rows_kept":500,"cut":false,"hidden":false,"merged":[[3,1,3,3],[6,1,7,1]]}
[]
[null,"HANDEL MED AKTIER I UTLANDET",null,"VP203"]
[null,"Svenska aktier"]
[null,"Rapporteras i 1000-tal kronor"]
[]
[]
[null,"Total handel med svenska aktier","Köpt från utlandet","Sålt till utlandet"]
[]
[]
[null,"Varav börsnoterade svenska aktier specificeras"]
[null,"Värdepapper","Köpt från utlandet","Sålt till utlandet"]
[]
[null,"Värdepapper"]
[null,"Värdepapper"]
[null,"Värdepapper"]
[null,"Värdepapper"]
[null,"Värdepapper"]
[null,"Värdepapper"]
[null,"Värdepapper"]
[null,"Värdepapper"]
[null,"Värdepapper"]
[null,"Värdepapper"]
[null,"Värdepapper"]
[null,"Värdepapper"]
[null,"Värdepapper"]
[null,"Värdepapper"]
[null,"Värdepapper"]
[null,"Värdepapper"]
[null,"Värdepapper"]
[null,"Värdepapper"]
[null,"Värdepapper"]
[null,"Värdepapper"]
[null,"Värdepapper"]
[null,"Värdepapper"]
[null,"Värdepapper"]
[null,"Värdepapper"]
[null,"Värdepapper"]
[null,"Värdepapper"]
[null,"Värdepapper"]
[null,"Värdepapper"]
[null,"Värdepapper"]
[null,"Värdepapper"]
[null,"Värdepapper"]
[null,"Värdepapper"]
[null,"Värdepapper"]
[null,"Värdepapper"]
[null,"Värdepapper"]
[null,"Värdepapper"]
[null,"Värdepapper"]
[null,"Värdepapper"]
[null,"Värdepapper"]
[null,"Värdepapper"]
[null,"Värdepapper"]
[null,"Värdepapper"]
[null,"Värdepapper"]
[null,"Värdepapper"]
[null,"Värdepapper"]
[null,"Värdepapper"]
[null,"Värdepapper"]
[null,"Värdepapper"]
[null,"Värdepapper"]
[null,"Värdepapper"]
[null,"Värdepapper"]
[null,"Värdepapper"]
[null,"Värdepapper"]
[null,"Värdepapper"]
[null,"Värdepapper"]
[null,"Värdepapper"]
[null,"Värdepapper"]
[null,"Värdepapper"]
[null,"Värdepapper"]
[null,"Värdepapper"]
[null,"Värdepapper"]
[null,"Värdepapper"]
[null,"Värdepapper"]
[null,"Värdepapper"]
[null,"Värdepapper"]
[null,"Värdepapper"]
[null,"Värdepapper"]
[null,"Värdepapper"]
[null,"Värdepapper"]
[null,"Värdepapper"]
[null,"Värdepapper"]
[null,"Värdepapper"]
[null,"Värdepapper"]
[null,"Värdepapper"]
[null,"Värdepapper"]
[null,"Värdepapper"]
[null,"Värdepapper"]
[null,"Värdepapper"]
[null,"Värdepapper"]
[null,"Värdepapper"]
[null,"Värdepapper"]
[null,"Värdepapper"]
[null,"Värdepapper"]
[null,"Värdepapper"]
[null,"Värdepapper"]
[null,"Värdepapper"]
[null,"Värdepapper"]
[null,"Värdepapper"]
[null,"Värdepapper"]
[null,"Värdepapper"]
[null,"Värdepapper"]
[null,"Värdepapper"]
[null,"Värdepapper"]
[null,"Värdepapper"]
[null,"Värdepapper"]
[null,"Värdepapper"]
[null,"Värdepapper"]
[null,"Värdepapper"]
[null,"Värdepapper"]
[null,"Värdepapper"]
[null,"Värdepapper"]
[null,"Värdepapper"]
[null,"Värdepapper"]
[null,"Värdepapper"]
[null,"Värdepapper"]
[null,"Värdepapper"]
[null,"Värdepapper"]
[null,"Värdepapper"]
[null,"Värdepapper"]
[null,"Värdepapper"]
[null,"Värdepapper"]
[null,"Värdepapper"]
[null,"Värdepapper"]
[null,"Värdepapper"]
[null,"Värdepapper"]
[null,"Värdepapper"]
[null,"Värdepapper"]
[null,"Värdepapper"]
[null,"Värdepapper"]
[null,"Värdepapper"]
[null,"Värdepapper"]
[null,"Värdepapper"]
[null,"Värdepapper"]
[null,"Värdepapper"]
[null,"Värdepapper"]
[null,"Värdepapper"]
[null,"Värdepapper"]
[null,"Värdepapper"]
[null,"Värdepapper"]
[null,"Värdepapper"]
[null,"Värdepapper"]
[null,"Värdepapper"]
[null,"Värdepapper"]
[null,"Värdepapper"]
[null,"Värdepapper"]
[null,"Värdepapper"]
[null,"Värdepapper"]
[null,"Värdepapper"]
[null,"Värdepapper"]
[null,"Värdepapper"]
[null,"Värdepapper"]
[null,"Värdepapper"]
[null,"Värdepapper"]
[null,"Värdepapper"]
[null,"Värdepapper"]
[null,"Värdepapper"]
[null,"Värdepapper"]
[null,"Värdepapper"]
[null,"Värdepapper"]
[null,"Värdepapper"]
[null,"Värdepapper"]
[null,"Värdepapper"]
[null,"Värdepapper"]
[null,"Värdepapper"]
[null,"Värdepapper"]
[null,"Värdepapper"]
[null,"Värdepapper"]
[null,"Värdepapper"]
[null,"Värdepapper"]
[null,"Värdepapper"]
[null,"Värdepapper"]
[null,"Värdepapper"]
[null,"Värdepapper"]
[null,"Värdepapper"]
[null,"Värdepapper"]
[null,"Värdepapper"]
[null,"Värdepapper"]
[null,"Värdepapper"]
[null,"Värdepapper"]
[null,"Värdepapper"]
[null,"Värdepapper"]
[null,"Värdepapper"]
[null,"Värdepapper"]
[null,"Värdepapper"]
[null,"Värdepapper"]
[null,"Värdepapper"]
[null,"Värdepapper"]
[null,"Värdepapper"]
[null,"Värdepapper"]
[null,"Värdepapper"]
[null,"Värdepapper"]
[null,"Värdepapper"]
[null,"Värdepapper"]
[null,"Värdepapper"]
[null,"Värdepapper"]
[null,"Värdepapper"]
[null,"Värdepapper"]
[null,"Värdepapper"]
[null,"Värdepapper"]
[null,"Värdepapper"]
[null,"Värdepapper"]
[null,"Värdepapper"]
[null,"Värdepapper"]
[null,"Värdepapper"]
[null,"Värdepapper"]
[null,"Värdepapper"]
[null,"Värdepapper"]
[null,"Värdepapper"]
[null,"Värdepapper"]
[null,"Värdepapper"]
[null,"Värdepapper"]
[null,"Värdepapper"]
[null,"Värdepapper"]
[null,"Värdepapper"]
[null,"Värdepapper"]
[null,"Värdepapper"]
[null,"Värdepapper"]
[null,"Värdepapper"]
[null,"Värdepapper"]
[null,"Värdepapper"]
[null,"Värdepapper"]
[null,"Värdepapper"]
[null,"Värdepapper"]
[null,"Värdepapper"]
[null,"Värdepapper"]
[null,"Värdepapper"]
[null,"Värdepapper"]
[null,"Värdepapper"]
[null,"Värdepapper"]
[null,"Värdepapper"]
[null,"Värdepapper"]
[null,"Värdepapper"]
[null,"Värdepapper"]
[null,"Värdepapper"]
[null,"Värdepapper"]
[null,"Värdepapper"]
[null,"Värdepapper"]
[null,"Värdepapper"]
[null,"Värdepapper"]
[null,"Värdepapper"]
[null,"Värdepapper"]
[null,"Värdepapper"]
[null,"Värdepapper"]
[null,"Värdepapper"]
[null,"Värdepapper"]
[null,"Värdepapper"]
[null,"Värdepapper"]
[null,"Värdepapper"]
[null,"Värdepapper"]
[null,"Värdepapper"]
[null,"Värdepapper"]
[null,"Värdepapper"]
[null,"Värdepapper"]
[null,"Värdepapper"]
[null,"Värdepapper"]
[null,"Värdepapper"]
[null,"Värdepapper"]
[null,"Värdepapper"]
[null,"Värdepapper"]
[null,"Värdepapper"]
[null,"Värdepapper"]
[null,"Värdepapper"]
[null,"Värdepapper"]
[null,"Värdepapper"]
[null,"Värdepapper"]
[null,"Värdepapper"]
[null,"Värdepapper"]
[null,"Värdepapper"]
[null,"Värdepapper"]
[null,"Värdepapper"]
[null,"Värdepapper"]
[null,"Värdepapper"]
[null,"Värdepapper"]
[null,"Värdepapper"]
[null,"Värdepapper"]
[null,"Värdepapper"]
[null,"Värdepapper"]
[null,"Värdepapper"]
[null,"Värdepapper"]
[null,"Värdepapper"]
[null,"Värdepapper"]
[null,"Värdepapper"]
[null,"Värdepapper"]
[null,"Värdepapper"]
[null,"Värdepapper"]
[null,"Värdepapper"]
[null,"Värdepapper"]
[null,"Värdepapper"]
[null,"Värdepapper"]
[null,"Värdepapper"]
[null,"Värdepapper"]
[null,"Värdepapper"]
[null,"Värdepapper"]
[null,"Värdepapper"]
[null,"Värdepapper"]
[null,"Värdepapper"]
[null,"Värdepapper"]
[null,"Värdepapper"]
[null,"Värdepapper"]
[null,"Värdepapper"]
[null,"Värdepapper"]
[null,"Värdepapper"]
[null,"Värdepapper"]
[null,"Värdepapper"]
[null,"Värdepapper"]
[null,"Värdepapper"]
[null,"Värdepapper"]
[null,"Värdepapper"]
[null,"Värdepapper"]
[null,"Värdepapper"]
[null,"Värdepapper"]
[null,"Värdepapper"]
[null,"Värdepapper"]
[null,"Värdepapper"]
[null,"Värdepapper"]
[null,"Värdepapper"]
[null,"Värdepapper"]
[null,"Värdepapper"]
[null,"Värdepapper"]
[null,"Värdepapper"]
[null,"Värdepapper"]
[null,"Värdepapper"]
[null,"Värdepapper"]
[null,"Värdepapper"]
[null,"Värdepapper"]
[null,"Värdepapper"]
[null,"Värdepapper"]
[null,"Värdepapper"]
[null,"Värdepapper"]
[null,"Värdepapper"]
[null,"Värdepapper"]
[null,"Värdepapper"]
[null,"Värdepapper"]
[null,"Värdepapper"]
[null,"Värdepapper"]
[null,"Värdepapper"]
[null,"Värdepapper"]
[null,"Värdepapper"]
[null,"Värdepapper"]
[null,"Värdepapper"]
[null,"Värdepapper"]
[null,"Värdepapper"]
[null,"Värdepapper"]
[null,"Värdepapper"]
[null,"Värdepapper"]
[null,"Värdepapper"]
[null,"Värdepapper"]
[null,"Värdepapper"]
[null,"Värdepapper"]
[null,"Värdepapper"]
[null,"Värdepapper"]
[null,"Värdepapper"]
[null,"Värdepapper"]
[null,"Värdepapper"]
[null,"Värdepapper"]
[null,"Värdepapper"]
[null,"Värdepapper"]
[null,"Värdepapper"]
[null,"Värdepapper"]
[null,"Värdepapper"]
[null,"Värdepapper"]
[null,"Värdepapper"]
[null,"Värdepapper"]
[null,"Värdepapper"]
[null,"Värdepapper"]
[null,"Värdepapper"]
[null,"Värdepapper"]
[null,"Värdepapper"]
[null,"Värdepapper"]
[null,"Värdepapper"]
[null,"Värdepapper"]
[null,"Värdepapper"]
[null,"Värdepapper"]
[null,"Värdepapper"]
[null,"Värdepapper"]
[null,"Värdepapper"]
[null,"Värdepapper"]
[null,"Värdepapper"]
[null,"Värdepapper"]
[null,"Värdepapper"]
[null,"Värdepapper"]
[null,"Värdepapper"]
[null,"Värdepapper"]
[null,"Värdepapper"]
[null,"Värdepapper"]
[null,"Värdepapper"]
[null,"Värdepapper"]
[null,"Värdepapper"]
[null,"Värdepapper"]
[null,"Värdepapper"]
[null,"Värdepapper"]
[null,"Värdepapper"]
[null,"Värdepapper"]
[null,"Värdepapper"]
[null,"Värdepapper"]
[null,"Värdepapper"]
[null,"Värdepapper"]
[null,"Värdepapper"]
[null,"Värdepapper"]
[null,"Värdepapper"]
[null,"Värdepapper"]
[null,"Värdepapper"]
[null,"Värdepapper"]
[null,"Värdepapper"]
[null,"Värdepapper"]
[null,"Värdepapper"]
[null,"Värdepapper"]
[null,"Värdepapper"]
[null,"Värdepapper"]
[null,"Värdepapper"]
[null,"Värdepapper"]
[null,"Värdepapper"]
[null,"Värdepapper"]
[null,"Värdepapper"]
[null,"Värdepapper"]
[null,"Värdepapper"]
[null,"Värdepapper"]
[null,"Värdepapper"]
[null,"Värdepapper"]
[null,"Värdepapper"]
[null,"Värdepapper"]
[null,"Värdepapper"]
[null,"Värdepapper"]
[null,"Värdepapper"]
[null,"Värdepapper"]
[null,"Värdepapper"]
[null,"Värdepapper"]
[null,"Värdepapper"]
[null,"Värdepapper"]
[null,"Värdepapper"]
[null,"Värdepapper"]
[null,"Värdepapper"]
[null,"Värdepapper"]
[null,"Värdepapper"]
[null,"Värdepapper"]
[null,"Värdepapper"]
[null,"Värdepapper"]
[null,"Värdepapper"]
[null,"Värdepapper"]
[null,"Värdepapper"]
[null,"Värdepapper"]
[null,"Värdepapper"]
[null,"Värdepapper"]
[null,"Värdepapper"]
[null,"Värdepapper"]
[null,"Värdepapper"]
[null,"Värdepapper"]
[null,"Värdepapper"]
[null,"Värdepapper"]
[null,"Värdepapper"]
[null,"Värdepapper"]
[null,"Värdepapper"]
[null,"Värdepapper"]
[null,"Värdepapper"]
[null,"Värdepapper"]
[null,"Värdepapper"]
[null,"Värdepapper"]
[null,"Värdepapper"]
[null,"Värdepapper"]
[null,"Värdepapper"]
[null,"Värdepapper"]
[null,"Värdepapper"]
[null,"Värdepapper"]
[null,"Värdepapper"]
[null,"Värdepapper"]
[null,"Värdepapper"]
[null,"Värdepapper"]
[null,"Värdepapper"]
[null,"Värdepapper"]
[null,"Värdepapper"]
[null,"Värdepapper"]
[null,"Värdepapper"]
[null,"Värdepapper"]
[null,"Värdepapper"]
[null,"Värdepapper"]
[null,"Värdepapper"]
[null,"Värdepapper"]
[null,"Värdepapper"]
[null,"Värdepapper"]
[null,"Värdepapper"]
[null,"Värdepapper"]
[null,"Värdepapper"]
[null,"Värdepapper"]
[null,"Värdepapper"]
[null,"Värdepapper"]
[null,"Värdepapper"]
[null,"Värdepapper"]
[null,"Värdepapper"]
[null,"Värdepapper"]
[null,"Värdepapper"]
[null,"Värdepapper"]
[null,"Värdepapper"]
[null,"Värdepapper"]
[null,"Värdepapper"]
[null,"Värdepapper"]
[null,"Värdepapper"]
[null,"Värdepapper"]
[null,"Värdepapper"]

{"sheet":"FlexDimensioner","index":5,"n_rows":358,"n_cols":5,"rows_kept":358,"cut":false,"hidden":true,"merged":[]}
["Land","VALFRI","Värdepapper","VALFRI","Finansieringsform"]
[null,null,"ATRE","SE0001625534"]
[null,null,"AAK","SE0011337708"]
[null,null,"ABLI","SE0002575340"]
[null,null,"ACAD","SE0007897079"]
[null,null,"ATIC","SE0009269467"]
[null,null,"ACTI","SE0001137985"]
[null,null,"ALIF B","SE0014401378"]
[null,null,"ANOD B","SE0000472268"]
[null,null,"ADDT B","SE0014781795"]
[null,null,"AF B","SE0005999836"]
[null,null,"ALFA","SE0000695876"]
[null,null,"ALIG","SE0007158910"]
[null,null,"ATORX","SE0000767188"]
[null,null,"AMBEA","SE0009663826"]
[null,null,"ANOT","SE0010415281"]
[null,null,"AQ","SE0000772956"]
[null,null,"ARISE","SE0002095604"]
[null,null,"ARJO B","SE0010468116"]
[null,null,"ACE","SE0010573113"]
[null,null,"ASSA B","SE0007100581"]
[null,null,"ATCO A","SE0011166610"]
[null,null,"ATCO B","SE0011166628"]
[null,null,"ATRLJ B","SE0000191827"]
[null,null,"ATT","SE0007666110"]
[null,null,"AZA","SE0012454072"]
[null,null,"AXFO","SE0006993770"]
[null,null,"B3","SE0008347660"]
[null,null,"BACTI B","SE0005878741"]
[null,null,"BALCO","SE0010323998"]
[null,null,"BEGR","SE0008321921"]
[null,null,"BEIA B","SE0011090547"]
[null,null,"BELE","SE0000671711"]
[null,null,"BEIJ B","SE0011116508"]
[null,null,"BERG B","SE0000101362"]
[null,null,"BRG B","SE0000101297"]
[null,null,"BESQ","SE0005991411"]
[null,null,"BETS B","SE0014186532"]
[null,null,"BHG","SE0010948588"]
[null,null,"BILI A","SE0009921588"]
[null,null,"BILL","SE0000862997"]
[null,null,"BIOA B","SE0010323311"]
[null,null,"BIOG B","SE0000470395"]
[null,null,"BINV","SE0000789711"]
[null,null,"BIOT","SE0000454746"]
[null,null,"BORG","SE0012455350"]
[null,null,"BOL","SE0012455673"]
[null,null,"BONAV A","SE0008091573"]
[null,null,"BONAV B","SE0008091581"]
[null,null,"BONEX","SE0009858152"]
[null,null,"BONG","SE0000396061"]
[null,null,"BOOZT","SE0009888738"]
[null,null,"BOUL","SE0011231158"]
[null,null,"BRAV","SE0007491303"]
[null,null,"BRIN B","SE0008347652"]
[null,null,"BTS B","SE0000805426"]
[null,null,"BUFAB","SE0005677135"]
[null,null,"BULTEN","SE0003849223"]
[null,null,"BURE","SE0000195810"]
[null,null,"BMAX","SE0003303627"]
[null,null,"CALTX","SE0010441584"]
[null,null,"CAMX","SE0007692850"]
[null,null,"CANTA","SE0006371126"]
[null,null,"CAST","SE0000379190"]
[null,null,"CAT A","SE0000188500"]
[null,null,"CAT B","SE0000188518"]
[null,null,"CATE","SE0001664707"]
[null,null,"CEVI","SE0000683484"]
[null,null,"CLNK B","SE0013647385"]
[null,null,"CBTT B","SE0006143129"]
[null,null,"CLAS B","SE0000584948"]
[null,null,"CLA B","SE0002626861"]
[null,null,"COLL","SE0007048020"]
[null,null,"COIC","SE0003950864"]
[null,null,"CCOR B","SE0000102824"]
[null,null,"CONS B","SE0000236382"]
[null,null,"COOR","SE0007158829"]
[null,null,"CORE PREF","SE0010714311"]
[null,null,"CORE A","SE0010714279"]
[null,null,"CORE B","SE0010714287"]
[null,null,"CRAD B","SE0002016352"]
[null,null,"CRED A","SE0004390516"]
[null,null,"CTT","SE0000418923"]
[null,null,"DEDI","SE0003909282"]
[null,null,"DIOS","SE0001634262"]
[null,null,"DOM","SE0007691613"]
[null,null,"DORO","SE0000215493"]
[null,null,"DUNI","SE0000616716"]
[null,null,"DURC B","SE0000331266"]
[null,null,"DUST","SE0006625471"]
[null,null,"EAST","SE0002158568"]
[null,null,"EDGE","SE0009268360"]
[null,null,"ELAN B","SE0000119299"]
[null,null,"ELEC","SE0001572520"]
[null,null,"ELUX A","SE0000103806"]
[null,null,"ELUX B","SE0000103814"]
[null,null,"EPRO B","SE0013747870"]
[null,null,"EKTA B","SE0000163628"]
[null,null,"ELOS B","SE0000120776"]
[null,null,"ELTEL","SE0006509949"]
[null,null,"EMPIR B","SE0010769182"]
[null,null,"ENDO","SE0008294334"]
[null,null,"ENEA","SE0009697220"]
[null,null,"ENRO","SE0011256312"]
[null,null,"ENRO PREF A","SE0014957320"]
[null,null,"ENRO PREF B","SE0004633956"]
[null,null,"EOLU B","SE0007075056"]
[null,null,"EPI A","SE0011166933"]
[null,null,"EPI B","SE0011166941"]
[null,null,"EPIS B","SE0003491562"]
[null,null,"EQT","SE0012853455"]
[null,null,"ERIC A","SE0000108649"]
[null,null,"ERIC B","SE0000108656"]
[null,null,"ESSITY A","SE0009922156"]
[null,null,"ESSITY B","SE0009922164"]
[null,null,"EVO","SE0012673267"]
[null,null,"EWRK","SE0002402701"]
[null,null,"FABG","SE0011166974"]
[null,null,"FAG","SE0010048884"]
[null,null,"BALD B","SE0000455057"]
[null,null,"FPAR PREF","SE0011309236"]
[null,null,"FPAR A","SE0013512506"]
[null,null,"FPAR D","SE0013512514"]
[null,null,"FEEL","SE0000381840"]
[null,null,"FNM","SE0005468717"]
[null,null,"FING B","SE0008374250"]
[null,null,"FMM B","SE0001116021"]
[null,null,"FPIP","SE0001338039"]
[null,null,"G5EN","SE0001824004"]
[null,null,"GARO","SE0008008262"]
[null,null,"GPG","SE0007184189"]
[null,null,"GPG PREF","SE0007526132"]
[null,null,"GETI B","SE0000202624"]
[null,null,"GHP","SE0002579912"]
[null,null,"GRNG","SE0006288015"]
[null,null,"GREEN","SE0010985028"]
[null,null,"GUNN","SE0000195570"]
[null,null,"HLDX","SE0000105199"]
[null,null,"HANDI","SE0010298109"]
[null,null,"HNSA","SE0002148817"]
[null,null,"HANZA","SE0005878543"]
[null,null,"HAV B","SE0000312043"]
[null,null,"HEBA B","SE0012676336"]
[null,null,"HM B","SE0000106270"]
[null,null,"HEXA B","SE0000103699"]
[null,null,"HTRO","SE0002367797"]
[null,null,"HPOL B","SE0007074281"]
[null,null,"HMS","SE0009997018"]
[null,null,"HOFI","SE0006887063"]
[null,null,"HOLM A","SE0011090000"]
[null,null,"HOLM B","SE0011090018"]
[null,null,"HUFV A","SE0000170375"]
[null,null,"HUM","SE0008040653"]
[null,null,"HUSQ A","SE0001662222"]
[null,null,"HUSQ B","SE0001662230"]
[null,null,"IAR B","SE0005851706"]
[null,null,"ICA","SE0000652216"]
[null,null,"IS","SE0006421871"]
[null,null,"IMMU","SE0005003654"]
[null,null,"IMMNOV","SE0006091997"]
[null,null,"INDU A","SE0000190126"]
[null,null,"INDU C","SE0000107203"]
[null,null,"INDT","SE0001515552"]
[null,null,"IBT B","SE0008015259"]
[null,null,"INSTAL","SE0009664253"]
[null,null,"ENG","SE0008585525"]
[null,null,"INTRUM","SE0000936478"]
[null,null,"INVE A","SE0000107401"]
[null,null,"INVE B","SE0000107419"]
[null,null,"IVSO","SE0001200015"]
[null,null,"INWI","SE0006220018"]
[null,null,"IRLAB A","SE0012675361"]
[null,null,"IRRAS","SE0008321202"]
[null,null,"ITAB B","SE0008375117"]
[null,null,"JM","SE0000806994"]
[null,null,"JOMA","SE0012481364"]
[null,null,"K2A B","SE0010520254"]
[null,null,"K2A PREF","SE0006852075"]
[null,null,"KABE B","SE0000107724"]
[null,null,"KAR","SE0012323715"]
[null,null,"KDEV","SE0002190926"]
[null,null,"KARO","SE0007464888"]
[null,null,"KFAST B","SE0013382355"]
[null,null,"KINV A","SE0014684510"]
[null,null,"KINV B","SE0014684528"]
[null,null,"KLOV PREF","SE0006593927"]
[null,null,"KLOV A","SE0006593901"]
[null,null,"KLOV B","SE0006593919"]
[null,null,"KNOW","SE0000421273"]
[null,null,"KLED","SE0000549412"]
[null,null,"LAGR B","SE0014990966"]
[null,null,"LAMM B","SE0000386138"]
[null,null,"LATO B","SE0010100958"]
[null,null,"LEO","SE0008091904"]
[null,null,"LIFCO B","SE0006370730"]
[null,null,"LIME","SE0011870195"]
[null,null,"LIAB","SE0001852419"]
[null,null,"LOOMIS","SE0014504817"]
[null,null,"LUND B","SE0000108847"]
[null,null,"LUNE","SE0000825820"]
[null,null,"MAG","SE0007074505"]
[null,null,"MEAB B","SE0000507659"]
[null,null,"MCAP","SE0009160872"]
[null,null,"MCOV B","SE0009778848"]
[null,null,"MVIR B","SE0000273294"]
[null,null,"MEKO","SE0002110064"]
[null,null,"MSAB B","SE0000526626"]
[null,null,"MSON A","SE0000565210"]
[null,null,"MSON B","SE0000565228"]
[null,null,"MIDW A","SE0000122657"]
[null,null,"MIDW B","SE0000122673"]
[null,null,"MIPS","SE0009216278"]
[null,null,"MOB","SE0013121340"]
[null,null,"MTG A","SE0000412363"]
[null,null,"MTG B","SE0000412371"]
[null,null,"MOMENT","SE0000680902"]
[null,null,"MMGR B","SE0009922305"]
[null,null,"MULQ","SE0000353898"]
[null,null,"MTRS","SE0009806607"]
[null,null,"MYCR","SE0000375115"]
[null,null,"NAXS","SE0001965369"]
[null,null,"NCAB","SE0011167956"]
[null,null,"NCC A","SE0000118952"]
[null,null,"NCC B","SE0000117970"]
[null,null,"NMAN","SE0011204510"]
[null,null,"NELLY","SE0003652163"]
[null,null,"NET B","SE0014186656"]
[null,null,"NETI B","SE0000366098"]
[null,null,"NEWA B","SE0000426546"]
[null,null,"NGS","SE0009947708"]
[null,null,"NIBE B","SE0008321293"]
[null,null,"NIL B","SE0007100342"]
[null,null,"NOBI","SE0000949331"]
[null,null,"NOBINA","SE0007185418"]
[null,null,"NOLA B","SE0000109811"]
[null,null,"NENT A","SE0012324226"]
[null,null,"NENT B","SE0012116390"]
[null,null,"NPAPER","SE0014808838"]
[null,null,"NOTE","SE0001161654"]
[null,null,"NTEK B","SE0000567752"]
[null,null,"NP3","SE0006342333"]
[null,null,"NP3 PREF","SE0010820514"]
[null,null,"NYF","SE0011426428"]
[null,null,"OASM","SE0000722365"]
[null,null,"ODD","SE0002017657"]
[null,null,"OEM B","SE0005876968"]
[null,null,"ONCO","SE0009414576"]
[null,null,"ORES","SE0008321608"]
[null,null,"ORX","SE0000736415"]
[null,null,"ORTI A","SE0000188930"]
[null,null,"ORTI B","SE0000123085"]
[null,null,"OP","SE0005095601"]
[null,null,"OP PREF","SE0006992335"]
[null,null,"OP PREFB","SE0008041248"]
[null,null,"PNDX B","SE0007100359"]
[null,null,"PEAB B","SE0000106205"]
[null,null,"PLAZ B","SE0004977692"]
[null,null,"PLED","SE0003815604"]
[null,null,"POOL B","SE0000567539"]
[null,null,"PREC","SE0001823303"]
[null,null,"PREV B","SE0000356008"]
[null,null,"PRIC B","SE0000233934"]
[null,null,"PACT","SE0000412991"]
[null,null,"PROB","SE0001280355"]
[null,null,"PROF B","SE0000393860"]
[null,null,"PENG B","SE0011337666"]
[null,null,"QLINEA","SE0011527845"]
[null,null,"QLIRO","SE0013719077"]
[null,null,"RAIL","SE0010441139"]
[null,null,"RATO A","SE0000191090"]
[null,null,"RATO B","SE0000111940"]
[null,null,"RAY B","SE0000135485"]
[null,null,"READ","SE0014855292"]
[null,null,"RECI B","SE0005757267"]
[null,null,"REJL B","SE0000123671"]
[null,null,"RESURS","SE0007665823"]
[null,null,"RNBS","SE0005223674"]
[null,null,"RROS","SE0000112252"]
[null,null,"SAAB B","SE0000112385"]
[null,null,"SAGA A","SE0004635878"]
[null,null,"SAGA B","SE0005127818"]
[null,null,"SAGA D","SE0009161052"]
[null,null,"SAGA PREF","SE0001629288"]
[null,null,"SBB B","SE0009554454"]
[null,null,"SBB D","SE0011844091"]
[null,null,"SAND","SE0000667891"]
[null,null,"SANION","SE0005794617"]
[null,null,"SAS","SE0003366871"]
[null,null,"SHOT","SE0007640156"]
[null,null,"SCST","SE0005999760"]
[null,null,"SECT B","SE0014609061"]
[null,null,"SECU B","SE0000163594"]
[null,null,"SEMC","SE0000379497"]
[null,null,"SENS","SE0000567729"]
[null,null,"SRNKE B","SE0007278841"]
[null,null,"SINCH","SE0007439112"]
[null,null,"SINT","SE0000950982"]
[null,null,"SEB A","SE0000148884"]
[null,null,"SEB C","SE0000120784"]
[null,null,"SKA B","SE0000113250"]
[null,null,"SKF A","SE0000108201"]
[null,null,"SKF B","SE0000108227"]
[null,null,"SKIS B","SE0012141687"]
[null,null,"SOF B","SE0000323305"]
[null,null,"SSAB A","SE0000171100"]
[null,null,"SSAB B","SE0000120669"]
[null,null,"SSM","SE0009663511"]
[null,null,"STAR A","SE0007158928"]
[null,null,"STAR B","SE0005992831"]
[null,null,"STEF B","SE0006543344"]
[null,null,"STWK","SE0012257970"]
[null,null,"STRAX","SE0012040459"]
[null,null,"SVIK","SE0000653230"]
[null,null,"SVED B","SE0000407991"]
[null,null,"SCA A","SE0000171886"]
[null,null,"SCA B","SE0000112724"]
[null,null,"SHB A","SE0007100599"]
[null,null,"SHB B","SE0007100607"]
[null,null,"SVOL A","SE0010663302"]
[null,null,"SVOL B","SE0010663310"]
[null,null,"SWEC A","SE0014960365"]
[null,null,"SWEC B","SE0014960373"]
[null,null,"SWED A","SE0000242455"]
[null,null,"SWMA","SE0000310336"]
[null,null,"SOBI","SE0000872095"]
[null,null,"SYSR","SE0002133975"]
[null,null,"TEL2 A","SE0005190220"]
[null,null,"TEL2 B","SE0005190238"]
[null,null,"TELIA","SE0000667925"]
[null,null,"TETY","SE0014399424"]
[null,null,"TFBANK","SE0007331608"]
[null,null,"THULE","SE0006422390"]
[null,null,"TOBII","SE0002591420"]
[null,null,"TRAC B","SE0000391716"]
[null,null,"TRAD","SE0001552357"]
[null,null,"TREL B","SE0000114837"]
[null,null,"TRENT","SE0008348767"]
[null,null,"TROAX","SE0012729366"]
[null,null,"VBG B","SE0000115107"]
[null,null,"VRG B","SE0000396822"]
[null,null,"VICO","SE0007577895"]
[null,null,"VSSAB B","SE0010820613"]
[null,null,"VIT B","SE0007871363"]
[null,null,"VITR","SE0011205202"]
[null,null,"VNV","SE0014428835"]
[null,null,"VOLO","SE0009143662"]
[null,null,"VOLO PREF","SE0009143670"]
[null,null,"VOLV A","SE0000115420"]
[null,null,"VOLV B","SE0000115446"]
[null,null,"WALL B","SE0007074844"]
[null,null,"WBGR B","SE0014453874"]
[null,null,"WIHL","SE0011205194"]
[null,null,"WISE","SE0007277876"]
[null,null,"XANO B","SE0012674232"]
[null,null,"XBRANE","SE0007789409"]
[null,null,"XSPRAY","SE0009973563"]
[null,null,"XVIVO","SE0004840718"]
[null,null,"ZETA","SE0001105511"]

{"sheet":"Kontroll","index":6,"n_rows":1,"n_cols":4,"rows_kept":1,"cut":false,"hidden":true,"merged":[]}
["Variabelkod","Värde","Enhet","Medelvärde"]

{"sheet":"db_kontroller","index":7,"n_rows":3,"n_cols":2,"rows_kept":3,"cut":false,"hidden":true,"merged":[]}
[]
[]
[null,{"$f":"HYPERLINK($G$14)","v":""}]

{"sheet":"Combo","index":8,"n_rows":501,"n_cols":7,"rows_kept":501,"cut":false,"hidden":true,"merged":[]}
[null,null,null,null,null,null,"Kvittens på insänd blankett:"]
[2,"VP-BOP-KF",null,null,null,null,"OrgNr:"]
[3,"VP-BOP-KF",null,null,null,null,"Blankett:"]
[4,"VP-BOP-KF",null,null,null,null,"RapportDatum:"]
[5,"VP-BOP-KF",null,null,null,null,"Insänt av:"]
[6,"VP-BOP-KF",null,null,null,null,"Tidpunkt:"]
[7,"VP-BOP-KF",null,null,null,null,"Mottagare:"]
[8,"VP-BOP-KF"]
[9,"VP-BOP-KF"]
[10,"VP-BOP-KF"]
[11,"VP-BOP-KF"]
[12,"VP-BOP-KF"]
[13,"VP-BOP-KF"]
[14,"VP-BOP-KF"]
[15,"VP-BOP-KF"]
[16,"VP-BOP-KF"]
[17,"VP-BOP-KF"]
[18,"VP-BOP-KF"]
[19,"VP-BOP-KF"]
[20,"VP-BOP-KF"]
[21,"VP-BOP-KF"]
[22,"VP-BOP-KF"]
[23,"VP-BOP-KF"]
[24,"VP-BOP-KF"]
[25,"VP-BOP-KF"]
[26,"VP-BOP-KF"]
[27,"VP-BOP-KF"]
[28,"VP-BOP-KF"]
[29,"VP-BOP-KF"]
[30,"VP-BOP-KF"]
[31,"VP-BOP-KF"]
[32,"VP-BOP-KF"]
[33,"VP-BOP-KF"]
[34,"VP-BOP-KF"]
[35,"VP-BOP-KF"]
[36,"VP-BOP-KF"]
[37,"VP-BOP-KF"]
[38,"VP-BOP-KF"]
[39,"VP-BOP-KF"]
[40,"VP-BOP-KF"]
[41,"VP-BOP-KF"]
[42,"VP-BOP-KF"]
[43,"VP-BOP-KF"]
[44,"VP-BOP-KF"]
[45,"VP-BOP-KF"]
[46,"VP-BOP-KF"]
[47,"VP-BOP-KF"]
[48,"VP-BOP-KF"]
[49,"VP-BOP-KF"]
[50,"VP-BOP-KF"]
[51,"VP-BOP-KF"]
[52,"VP-BOP-KF"]
[53,"VP-BOP-KF"]
[54,"VP-BOP-KF"]
[55,"VP-BOP-KF"]
[56,"VP-BOP-KF"]
[57,"VP-BOP-KF"]
[58,"VP-BOP-KF"]
[59,"VP-BOP-KF"]
[60,"VP-BOP-KF"]
[61,"VP-BOP-KF"]
[62,"VP-BOP-KF"]
[63,"VP-BOP-KF"]
[64,"VP-BOP-KF"]
[65,"VP-BOP-KF"]
[66,"VP-BOP-KF"]
[67,"VP-BOP-KF"]
[68,"VP-BOP-KF"]
[69,"VP-BOP-KF"]
[70,"VP-BOP-KF"]
[71,"VP-BOP-KF"]
[72,"VP-BOP-KF"]
[73,"VP-BOP-KF"]
[74,"VP-BOP-KF"]
[75,"VP-BOP-KF"]
[76,"VP-BOP-KF"]
[77,"VP-BOP-KF"]
[78,"VP-BOP-KF"]
[79,"Sort"]
[80,"VP-BOP-KF"]
[81,"VP-BOP-KF"]
[82,"VP-BOP-KF"]
[83,"VP-BOP-KF"]
[84,"VP-BOP-KF"]
[85,"VP-BOP-KF"]
[86,"VP-BOP-KF"]
[87,"VP-BOP-KF"]
[88,"VP-BOP-KF"]
[89,"VP-BOP-KF"]
[90,"VP-BOP-KF"]
[91,"VP-BOP-KF"]
[92,"VP-BOP-KF"]
[93,"VP-BOP-KF"]
[94,"VP-BOP-KF"]
[95,"VP-BOP-KF"]
[96,"VP-BOP-KF"]
[97,"VP-BOP-KF"]
[98,"VP-BOP-KF"]
[99,"VP-BOP-KF"]
[100,"VP-BOP-KF"]
[101,"VP-BOP-KF"]
[102,"VP-BOP-KF"]
[103,"VP-BOP-KF"]
[104,"VP-BOP-KF"]
[105,"VP-BOP-KF"]
[106,"VP-BOP-KF"]
[107,"VP-BOP-KF"]
[108,"VP-BOP-KF"]
[109,"VP-BOP-KF"]
[]
[111,"VP-BOP-KF"]
[112,"VP-BOP-KF"]
[113,"VP-BOP-KF"]
[114,"VP-BOP-KF"]
[115,"VP-BOP-KF"]
[116,"VP-BOP-KF"]
[117,"VP-BOP-KF"]
[118,"VP-BOP-KF"]
[119,"VP-BOP-KF"]
[120,"VP-BOP-KF"]
[121,"VP-BOP-KF"]
[122,"VP-BOP-KF"]
[123,"VP-BOP-KF"]
[124,"VP-BOP-KF"]
[125,"VP-BOP-KF"]
[126,"VP-BOP-KF"]
[127,"VP-BOP-KF"]
[128,"VP-BOP-KF"]
[129,"VP-BOP-KF"]
[130,"VP-BOP-KF"]
[131,"VP-BOP-KF"]
[132,"VP-BOP-KF"]
[133,"VP-BOP-KF"]
[134,"VP-BOP-KF"]
[135,"VP-BOP-KF"]
[136,"VP-BOP-KF"]
[137,"VP-BOP-KF"]
[138,"VP-BOP-KF"]
[139,"VP-BOP-KF"]
[140,"VP-BOP-KF"]
[141,"VP-BOP-KF"]
[142,"VP-BOP-KF"]
[143,"VP-BOP-KF"]
[144,"VP-BOP-KF"]
[145,"VP-BOP-KF"]
[146,"VP-BOP-KF"]
[147,"VP-BOP-KF"]
[148,"VP-BOP-KF"]
[149,"VP-BOP-KF"]
[150,"VP-BOP-KF"]
[151,"VP-BOP-KF"]
[152,"VP-BOP-KF"]
[153,"VP-BOP-KF"]
[154,"VP-BOP-KF"]
[155,"VP-BOP-KF"]
[156,"VP-BOP-KF"]
[157,"VP-BOP-KF"]
[158,"VP-BOP-KF"]
[159,"VP-BOP-KF"]
[160,"VP-BOP-KF"]
[161,"VP-BOP-KF"]
[162,"VP-BOP-KF"]
[163,"VP-BOP-KF"]
[164,"VP-BOP-KF"]
[165,"VP-BOP-KF"]
[166,"VP-BOP-KF"]
[167,"VP-BOP-KF"]
[168,"VP-BOP-KF"]
[169,"VP-BOP-KF"]
[170,"VP-BOP-KF"]
[171,"VP-BOP-KF"]
[172,"VP-BOP-KF"]
[173,"VP-BOP-KF"]
[174,"VP-BOP-KF"]
[175,"VP-BOP-KF"]
[176,"VP-BOP-KF"]
[177,"VP-BOP-KF"]
[178,"VP-BOP-KF"]
[179,"VP-BOP-KF"]
[180,"VP-BOP-KF"]
[181,"VP-BOP-KF"]
[182,"VP-BOP-KF"]
[183,"VP-BOP-KF"]
[184,"VP-BOP-KF"]
[185,"VP-BOP-KF"]
[186,"VP-BOP-KF"]
[187,"VP-BOP-KF"]
[188,"VP-BOP-KF"]
[189,"VP-BOP-KF"]
[190,"VP-BOP-KF"]
[191,"VP-BOP-KF"]
[192,"VP-BOP-KF"]
[193,"VP-BOP-KF"]
[194,"VP-BOP-KF"]
[195,"VP-BOP-KF"]
[196,"VP-BOP-KF"]
[197,"VP-BOP-KF"]
[198,"VP-BOP-KF"]
[199,"VP-BOP-KF"]
[200,"VP-BOP-KF"]
[201,"VP-BOP-KF"]
[202,"VP-BOP-KF"]
[203,"VP-BOP-KF"]
[]
[]
[206,"VP-BOP-KF"]
[207,"VP-BOP-KF"]
[208,"VP-BOP-KF"]
[209,"VP-BOP-KF"]
[210,"VP-BOP-KF"]
[211,"VP-BOP-KF"]
[212,"VP-BOP-KF"]
[213,"VP-BOP-KF"]
[214,"VP-BOP-KF"]
[215,"VP-BOP-KF"]
[216,"VP-BOP-KF"]
[217,"VP-BOP-KF"]
[218,"VP-BOP-KF"]
[219,"VP-BOP-KF"]
[220,"VP-BOP-KF"]
[221,"VP-BOP-KF"]
[222,"VP-BOP-KF"]
[223,"VP-BOP-KF"]
[224,"VP-BOP-KF"]
[225,"VP-BOP-KF"]
[226,"VP-BOP-KF"]
[227,"VP-BOP-KF"]
[228,"VP-BOP-KF"]
[229,"VP-BOP-KF"]
[230,"VP-BOP-KF"]
[231,"VP-BOP-KF"]
[]
[233,"VP-BOP-KF"]
[234,"VP-BOP-KF"]
[235,"VP-BOP-KF"]
[236,"VP-BOP-KF"]
[237,"VP-BOP-KF"]
[238,"VP-BOP-KF"]
[239,"VP-BOP-KF"]
[240,"VP-BOP-KF"]
[241,"VP-BOP-KF"]
[242,"VP-BOP-KF"]
[243,"VP-BOP-KF"]
[244,"VP-BOP-KF"]
[245,"VP-BOP-KF"]
[246,"VP-BOP-KF"]
[247,"VP-BOP-KF"]
[248,"VP-BOP-KF"]
[249,"VP-BOP-KF"]
[250,"VP-BOP-KF"]
[251,"VP-BOP-KF"]
[252,"VP-BOP-KF"]
[253,"VP-BOP-KF"]
[254,"VP-BOP-KF"]
[255,"VP-BOP-KF"]
[256,"VP-BOP-KF"]
[257,"VP-BOP-KF"]
[258,"VP-BOP-KF"]
[259,"VP-BOP-KF"]
[260,"VP-BOP-KF"]
[261,"VP-BOP-KF"]
[262,"VP-BOP-KF"]
[263,"VP-BOP-KF"]
[264,"VP-BOP-KF"]
[265,"VP-BOP-KF"]
[266,"VP-BOP-KF"]
[267,"VP-BOP-KF"]
[268,"VP-BOP-KF"]
[269,"VP-BOP-KF"]
[270,"VP-BOP-KF"]
[271,"VP-BOP-KF"]
[272,"VP-BOP-KF"]
[273,"VP-BOP-KF"]
[274,"VP-BOP-KF"]
[275,"VP-BOP-KF"]
[276,"VP-BOP-KF"]
[277,"VP-BOP-KF"]
[278,"VP-BOP-KF"]
[279,"VP-BOP-KF"]
[280,"VP-BOP-KF"]
[281,"VP-BOP-KF"]
[282,"VP-BOP-KF"]
[283,"VP-BOP-KF"]
[284,"VP-BOP-KF"]
[285,"VP-BOP-KF"]
[286,"VP-BOP-KF"]
[287,"VP-BOP-KF"]
[288,"VP-BOP-KF"]
[289,"VP-BOP-KF"]
[290,"VP-BOP-KF"]
[291,"VP-BOP-KF"]
[292,"Värdepapper"]
[293,"Värdepapper"]
[294,"Värdepapper"]
[295,"Värdepapper"]
[296,"Värdepapper"]
[297,"Värdepapper"]
[298,"Värdepapper"]
[299,"Värdepapper"]
[300,"Värdepapper"]
[301,"Värdepapper"]
[302,"Värdepapper"]
[303,"Värdepapper"]
[304,"Värdepapper"]
[305,"Värdepapper"]
[306,"Värdepapper"]
[307,"Värdepapper"]
[308,"Värdepapper"]
[309,"Värdepapper"]
[310,"Värdepapper"]
[311,"Värdepapper"]
[312,"Värdepapper"]
[313,"Värdepapper"]
[314,"Värdepapper"]
[315,"Värdepapper"]
[316,"Värdepapper"]
[317,"Värdepapper"]
[318,"Värdepapper"]
[319,"Värdepapper"]
[320,"Värdepapper"]
[321,"Värdepapper"]
[322,"Värdepapper"]
[323,"Värdepapper"]
[324,"Värdepapper"]
[325,"Värdepapper"]
[326,"Värdepapper"]
[327,"Värdepapper"]
[328,"Värdepapper"]
[329,"Värdepapper"]
[330,"Värdepapper"]
[331,"Värdepapper"]
[332,"Värdepapper"]
[333,"Värdepapper"]
[334,"Värdepapper"]
[335,"Värdepapper"]
[336,"Värdepapper"]
[337,"Värdepapper"]
[338,"Värdepapper"]
[339,"Värdepapper"]
[340,"Värdepapper"]
[341,"Värdepapper"]
[342,"Värdepapper"]
[343,"Värdepapper"]
[344,"Värdepapper"]
[345,"Värdepapper"]
[346,"Värdepapper"]
[347,"Värdepapper"]
[348,"Värdepapper"]
[349,"Värdepapper"]
[350,"Värdepapper"]
[351,"Värdepapper"]
[352,"Värdepapper"]
[353,"Värdepapper"]
[354,"Värdepapper"]
[355,"Värdepapper"]
[356,"Värdepapper"]
[357,"Värdepapper"]
[358,"Värdepapper"]
[359,"Värdepapper"]
[360,"Värdepapper"]
[361,"Värdepapper"]
[362,"Värdepapper"]
[363,"Värdepapper"]
[364,"Värdepapper"]
[365,"Värdepapper"]
[366,"Värdepapper"]
[367,"Värdepapper"]
[368,"Värdepapper"]
[369,"Värdepapper"]
[370,"Värdepapper"]
[371,"Värdepapper"]
[372,"Värdepapper"]
[373,"Värdepapper"]
[374,"Värdepapper"]
[375,"Värdepapper"]
[376,"Värdepapper"]
[377,"Värdepapper"]
[378,"Värdepapper"]
[379,"Värdepapper"]
[380,"Värdepapper"]
[381,"Värdepapper"]
[382,"Värdepapper"]
[383,"Värdepapper"]
[384,"Värdepapper"]
[385,"Värdepapper"]
[386,"Värdepapper"]
[387,"Värdepapper"]
[388,"Värdepapper"]
[389,"Värdepapper"]
[390,"Värdepapper"]
[391,"Värdepapper"]
[392,"Värdepapper"]
[393,"Värdepapper"]
[394,"Värdepapper"]
[395,"Värdepapper"]
[396,"Värdepapper"]
[397,"Värdepapper"]
[398,"Värdepapper"]
[399,"Värdepapper"]
[400,"Värdepapper"]
[401,"Värdepapper"]
[402,"Värdepapper"]
[403,"Värdepapper"]
[404,"Värdepapper"]
[405,"Värdepapper"]
[406,"Värdepapper"]
[407,"Värdepapper"]
[408,"Värdepapper"]
[409,"Värdepapper"]
[410,"Värdepapper"]
[411,"Värdepapper"]
[412,"Värdepapper"]
[413,"Värdepapper"]
[414,"Värdepapper"]
[415,"Värdepapper"]
[416,"Värdepapper"]
[417,"Värdepapper"]
[418,"Värdepapper"]
[419,"Värdepapper"]
[420,"Värdepapper"]
[421,"Värdepapper"]
[422,"Värdepapper"]
[423,"Värdepapper"]
[424,"Värdepapper"]
[425,"Värdepapper"]
[426,"Värdepapper"]
[427,"Värdepapper"]
[428,"Värdepapper"]
[429,"Värdepapper"]
[430,"Värdepapper"]
[431,"Värdepapper"]
[432,"Värdepapper"]
[433,"Värdepapper"]
[434,"Värdepapper"]
[435,"Värdepapper"]
[436,"Värdepapper"]
[437,"Värdepapper"]
[438,"Värdepapper"]
[439,"Värdepapper"]
[440,"Värdepapper"]
[441,"Värdepapper"]
[442,"Värdepapper"]
[443,"Värdepapper"]
[444,"Värdepapper"]
[445,"Värdepapper"]
[446,"Värdepapper"]
[447,"Värdepapper"]
[448,"Värdepapper"]
[449,"Värdepapper"]
[450,"Värdepapper"]
[451,"Värdepapper"]
[452,"Värdepapper"]
[453,"Värdepapper"]
[454,"Värdepapper"]
[455,"Värdepapper"]
[456,"Värdepapper"]
[457,"Värdepapper"]
[458,"Värdepapper"]
[459,"Värdepapper"]
[460,"Värdepapper"]
[461,"Värdepapper"]
[462,"Värdepapper"]
[463,"Värdepapper"]
[464,"Värdepapper"]
[465,"Värdepapper"]
[466,"Värdepapper"]
[467,"Värdepapper"]
[468,"Värdepapper"]
[469,"Värdepapper"]
[470,"Värdepapper"]
[471,"Värdepapper"]
[472,"Värdepapper"]
[473,"Värdepapper"]
[474,"Värdepapper"]
[475,"Värdepapper"]
[476,"Värdepapper"]
[477,"Värdepapper"]
[478,"Värdepapper"]
[479,"Värdepapper"]
[480,"Värdepapper"]
[481,"Värdepapper"]
[482,"Värdepapper"]
[483,"Värdepapper"]
[484,"Värdepapper"]
[485,"Värdepapper"]
[486,"Värdepapper"]
[487,"Värdepapper"]
[488,"Värdepapper"]
[489,"Värdepapper"]
[490,"Värdepapper"]
[491,"Värdepapper"]
[492,"Värdepapper"]
[493,"Värdepapper"]
[494,"Värdepapper"]
[495,"Värdepapper"]
[496,"Värdepapper"]
[497,"Värdepapper"]
[498,"Värdepapper"]
[499,"Värdepapper"]
[500,"Värdepapper"]
[501,"Värdepapper"]

{"sheet":"db","index":9,"n_rows":981,"n_cols":23,"rows_kept":981,"cut":false,"hidden":true,"merged":[]}
["Var.Värde","IdVariabel","Kortnamn","Kopplad till cell","Extkod1","Extkod2","Extkod3","Extkod4","Extkod5","Extkod6","Extkod7","Extkod8","Extkod9","Extkod10","Extkod11","Imoprt_1","Gr.Var?","Import_2","Variabelkod","Omr.faktor","Variabeltext","FlexVarReferens","IDVariabel"]
[{"$f":"IF(ISBLANK(Inm_30672),\"\",$T$2 * Inm_30672)","v":""},30672,"Handel i sven, Lång , Inflöde","VP203'!Inm_30672","32211","S","L","SEK","TOT","I","M","X","H1","VP","SEK",{"$f":"VLOOKUP(B2,Import!A$1:B$20000,2,FALSE)","v":{"$error":"#N/A"}},"GRANSKN",{"$f":"VLOOKUP(S2,Import!A$1:B$20000,2,FALSE)","v":{"$error":"#N/A"}},{"$f":"CONCATENATE(E2,\"_\",F2,\"_\",G2,\"_\",H2,\"_\",I2,\"_\",J2,\"_\",K2,\"_\",L2,\"_\",M2,\"_\",N2,\"_\",O2)","v":"32211_S_L_SEK_TOT_I_M_X_H1_VP_SEK"},1000,null,null,{"$f":"VLOOKUP(B2,Import!E$1:F$20000,2,FALSE)","v":{"$error":"#N/A"}}]
[{"$f":"IF(ISBLANK(Inm_30671),\"\",$T$3 * Inm_30671)","v":""},30671,"Handel i sven, Lång , Utflöde","VP203'!Inm_30671","32211","S","L","SEK","TOT","U","M","X","H1","VP","SEK",{"$f":"VLOOKUP(B3,Import!A$1:B$20000,2,FALSE)","v":{"$error":"#N/A"}},"GRANSKN",{"$f":"VLOOKUP(S3,Import!A$1:B$20000,2,FALSE)","v":{"$error":"#N/A"}},"32211_S_L_SEK_TOT_U_M_X_H1_VP_SEK",1000,null,null,{"$f":"VLOOKUP(B3,Import!E$1:F$20000,2,FALSE)","v":{"$error":"#N/A"}}]
[{"$f":"IF(ISBLANK(Inm_30674_D2_cmb34_),\"\",$T$4 * Inm_30674_D2_cmb34_)","v":""},"30674_D2_cmb34_","Handel i sven, Lång , Utflöde","VP203'!Inm_30674_D2_cmb34_","32211","S","L","SEK","TOT","U","M","X","H1",{"$f":"VLOOKUP('VP203'!$B$12,FlexDimensioner!$C$1:$D$430,2,FALSE)","v":{"$error":"#N/A"}},"SEK",{"$f":"VLOOKUP(B4,Import!A$1:B$20000,2,FALSE)","v":{"$error":"#N/A"}},"EJ_GRANSKN",{"$f":"VLOOKUP(S4,Import!A$1:B$20000,2,FALSE)","v":{"$error":"#N/A"}},{"$error":"#N/A"},1000,null,"30674_D2_cmb34_",{"$f":"VLOOKUP(B4,Import!E$1:F$20000,2,FALSE)","v":{"$error":"#N/A"}}]
[{"$f":"IF(ISBLANK(Inm_30674_D3_cmb3_),\"\",$T$5 * Inm_30674_D3_cmb3_)","v":""},"30674_D3_cmb3_","Handel i sven, Lång , Utflöde","VP203'!Inm_30674_D3_cmb3_","32211","S","L","SEK","TOT","U","M","X","H1",{"$f":"VLOOKUP('VP203'!$B$13,FlexDimensioner!$C$1:$D$430,2,FALSE)","v":"VALFRI"},"SEK",{"$f":"VLOOKUP(B5,Import!A$1:B$20000,2,FALSE)","v":{"$error":"#N/A"}},"EJ_GRANSKN",{"$f":"VLOOKUP(S5,Import!A$1:B$20000,2,FALSE)","v":{"$error":"#N/A"}},"32211_S_L_SEK_TOT_U_M_X_H1_VALFRI_SEK",1000,null,"30674_D3_cmb3_",{"$f":"VLOOKUP(B5,Import!E$1:F$20000,2,FALSE)","v":{"$error":"#N/A"}}]
[{"$f":"IF(ISBLANK(Inm_30674_D4_cmb4_),\"\",$T$6 * Inm_30674_D4_cmb4_)","v":""},"30674_D4_cmb4_","Handel i sven, Lång , Utflöde","VP203'!Inm_30674_D4_cmb4_","32211","S","L","SEK","TOT","U","M","X","H1",{"$f":"VLOOKUP('VP203'!$B$14,FlexDimensioner!$C$1:$D$430,2,FALSE)","v":"VALFRI"},"SEK",{"$f":"VLOOKUP(B6,Import!A$1:B$20000,2,FALSE)","v":{"$error":"#N/A"}},"EJ_GRANSKN",{"$f":"VLOOKUP(S6,Import!A$1:B$20000,2,FALSE)","v":{"$error":"#N/A"}},"32211_S_L_SEK_TOT_U_M_X_H1_VALFRI_SEK",1000,null,"30674_D4_cmb4_",{"$f":"VLOOKUP(B6,Import!E$1:F$20000,2,FALSE)","v":{"$error":"#N/A"}}]
[{"$f":"IF(ISBLANK(Inm_30674_D5_cmb5_),\"\",$T$7 * Inm_30674_D5_cmb5_)","v":""},"30674_D5_cmb5_","Handel i sven, Lång , Utflöde","VP203'!Inm_30674_D5_cmb5_","32211","S","L","SEK","TOT","U","M","X","H1",{"$f":"VLOOKUP('VP203'!$B$15,FlexDimensioner!$C$1:$D$430,2,FALSE)","v":"VALFRI"},"SEK",{"$f":"VLOOKUP(B7,Import!A$1:B$20000,2,FALSE)","v":{"$error":"#N/A"}},"EJ_GRANSKN",{"$f":"VLOOKUP(S7,Import!A$1:B$20000,2,FALSE)","v":{"$error":"#N/A"}},"32211_S_L_SEK_TOT_U_M_X_H1_VALFRI_SEK",1000,null,"30674_D5_cmb5_",{"$f":"VLOOKUP(B7,Import!E$1:F$20000,2,FALSE)","v":{"$error":"#N/A"}}]
[{"$f":"IF(ISBLANK(Inm_30674_D6_cmb6_),\"\",$T$8 * Inm_30674_D6_cmb6_)","v":""},"30674_D6_cmb6_","Handel i sven, Lång , Utflöde","VP203'!Inm_30674_D6_cmb6_","32211","S","L","SEK","TOT","U","M","X","H1",{"$f":"VLOOKUP('VP203'!$B$16,FlexDimensioner!$C$1:$D$430,2,FALSE)","v":"VALFRI"},"SEK",{"$f":"VLOOKUP(B8,Import!A$1:B$20000,2,FALSE)","v":{"$error":"#N/A"}},"EJ_GRANSKN",{"$f":"VLOOKUP(S8,Import!A$1:B$20000,2,FALSE)","v":{"$error":"#N/A"}},"32211_S_L_SEK_TOT_U_M_X_H1_VALFRI_SEK",1000,null,"30674_D6_cmb6_",{"$f":"VLOOKUP(B8,Import!E$1:F$20000,2,FALSE)","v":{"$error":"#N/A"}}]
[{"$f":"IF(ISBLANK(Inm_30674_D7_cmb7_),\"\",$T$9 * Inm_30674_D7_cmb7_)","v":""},"30674_D7_cmb7_","Handel i sven, Lång , Utflöde","VP203'!Inm_30674_D7_cmb7_","32211","S","L","SEK","TOT","U","M","X","H1",{"$f":"VLOOKUP('VP203'!$B$17,FlexDimensioner!$C$1:$D$430,2,FALSE)","v":"VALFRI"},"SEK",{"$f":"VLOOKUP(B9,Import!A$1:B$20000,2,FALSE)","v":{"$error":"#N/A"}},"EJ_GRANSKN",{"$f":"VLOOKUP(S9,Import!A$1:B$20000,2,FALSE)","v":{"$error":"#N/A"}},"32211_S_L_SEK_TOT_U_M_X_H1_VALFRI_SEK",1000,null,"30674_D7_cmb7_",{"$f":"VLOOKUP(B9,Import!E$1:F$20000,2,FALSE)","v":{"$error":"#N/A"}}]
[{"$f":"IF(ISBLANK(Inm_30674_D8_cmb8_),\"\",$T$10 * Inm_30674_D8_cmb8_)","v":""},"30674_D8_cmb8_","Handel i sven, Lång , Utflöde","VP203'!Inm_30674_D8_cmb8_","32211","S","L","SEK","TOT","U","M","X","H1",{"$f":"VLOOKUP('VP203'!$B$18,FlexDimensioner!$C$1:$D$430,2,FALSE)","v":"VALFRI"},"SEK",{"$f":"VLOOKUP(B10,Import!A$1:B$20000,2,FALSE)","v":{"$error":"#N/A"}},"EJ_GRANSKN",{"$f":"VLOOKUP(S10,Import!A$1:B$20000,2,FALSE)","v":{"$error":"#N/A"}},"32211_S_L_SEK_TOT_U_M_X_H1_VALFRI_SEK",1000,null,"30674_D8_cmb8_",{"$f":"VLOOKUP(B10,Import!E$1:F$20000,2,FALSE)","v":{"$error":"#N/A"}}]
[{"$f":"IF(ISBLANK(Inm_30674_D9_cmb9_),\"\",$T$11 * Inm_30674_D9_cmb9_)","v":""},"30674_D9_cmb9_","Handel i sven, Lång , Utflöde","VP203'!Inm_30674_D9_cmb9_","32211","S","L","SEK","TOT","U","M","X","H1",{"$f":"VLOOKUP('VP203'!$B$19,FlexDimensioner!$C$1:$D$430,2,FALSE)","v":"VALFRI"},"SEK",{"$f":"VLOOKUP(B11,Import!A$1:B$20000,2,FALSE)","v":{"$error":"#N/A"}},"EJ_GRANSKN",{"$f":"VLOOKUP(S11,Import!A$1:B$20000,2,FALSE)","v":{"$error":"#N/A"}},"32211_S_L_SEK_TOT_U_M_X_H1_VALFRI_SEK",1000,null,"30674_D9_cmb9_",{"$f":"VLOOKUP(B11,Import!E$1:F$20000,2,FALSE)","v":{"$error":"#N/A"}}]
[{"$f":"IF(ISBLANK(Inm_30674_D10_cmb10_),\"\",$T$12 * Inm_30674_D10_cmb10_)","v":""},"30674_D10_cmb10_","Handel i sven, Lång , Utflöde","VP203'!Inm_30674_D10_cmb10_","32211","S","L","SEK","TOT","U","M","X","H1",{"$f":"VLOOKUP('VP203'!$B$20,FlexDimensioner!$C$1:$D$430,2,FALSE)","v":"VALFRI"},"SEK",{"$f":"VLOOKUP(B12,Import!A$1:B$20000,2,FALSE)","v":{"$error":"#N/A"}},"EJ_GRANSKN",{"$f":"VLOOKUP(S12,Import!A$1:B$20000,2,FALSE)","v":{"$error":"#N/A"}},"32211_S_L_SEK_TOT_U_M_X_H1_VALFRI_SEK",1000,null,"30674_D10_cmb10_",{"$f":"VLOOKUP(B12,Import!E$1:F$20000,2,FALSE)","v":{"$error":"#N/A"}}]
[{"$f":"IF(ISBLANK(Inm_30674_D11_cmb11_),\"\",$T$13 * Inm_30674_D11_cmb11_)","v":""},"30674_D11_cmb11_","Handel i sven, Lång , Utflöde","VP203'!Inm_30674_D11_cmb11_","32211","S","L","SEK","TOT","U","M","X","H1",{"$f":"VLOOKUP('VP203'!$B$21,FlexDimensioner!$C$1:$D$430,2,FALSE)","v":"VALFRI"},"SEK",{"$f":"VLOOKUP(B13,Import!A$1:B$20000,2,FALSE)","v":{"$error":"#N/A"}},"EJ_GRANSKN",{"$f":"VLOOKUP(S13,Import!A$1:B$20000,2,FALSE)","v":{"$error":"#N/A"}},"32211_S_L_SEK_TOT_U_M_X_H1_VALFRI_SEK",1000,null,"30674_D11_cmb11_",{"$f":"VLOOKUP(B13,Import!E$1:F$20000,2,FALSE)","v":{"$error":"#N/A"}}]
[{"$f":"IF(ISBLANK(Inm_30674_D12_cmb12_),\"\",$T$14 * Inm_30674_D12_cmb12_)","v":""},"30674_D12_cmb12_","Handel i sven, Lång , Utflöde","VP203'!Inm_30674_D12_cmb12_","32211","S","L","SEK","TOT","U","M","X","H1",{"$f":"VLOOKUP('VP203'!$B$22,FlexDimensioner!$C$1:$D$430,2,FALSE)","v":"VALFRI"},"SEK",{"$f":"VLOOKUP(B14,Import!A$1:B$20000,2,FALSE)","v":{"$error":"#N/A"}},"EJ_GRANSKN",{"$f":"VLOOKUP(S14,Import!A$1:B$20000,2,FALSE)","v":{"$error":"#N/A"}},"32211_S_L_SEK_TOT_U_M_X_H1_VALFRI_SEK",1000,null,"30674_D12_cmb12_",{"$f":"VLOOKUP(B14,Import!E$1:F$20000,2,FALSE)","v":{"$error":"#N/A"}}]
[{"$f":"IF(ISBLANK(Inm_30674_D13_cmb13_),\"\",$T$15 * Inm_30674_D13_cmb13_)","v":""},"30674_D13_cmb13_","Handel i sven, Lång , Utflöde","VP203'!Inm_30674_D13_cmb13_","32211","S","L","SEK","TOT","U","M","X","H1",{"$f":"VLOOKUP('VP203'!$B$23,FlexDimensioner!$C$1:$D$430,2,FALSE)","v":"VALFRI"},"SEK",{"$f":"VLOOKUP(B15,Import!A$1:B$20000,2,FALSE)","v":{"$error":"#N/A"}},"EJ_GRANSKN",{"$f":"VLOOKUP(S15,Import!A$1:B$20000,2,FALSE)","v":{"$error":"#N/A"}},"32211_S_L_SEK_TOT_U_M_X_H1_VALFRI_SEK",1000,null,"30674_D13_cmb13_",{"$f":"VLOOKUP(B15,Import!E$1:F$20000,2,FALSE)","v":{"$error":"#N/A"}}]
[{"$f":"IF(ISBLANK(Inm_30674_D14_cmb14_),\"\",$T$16 * Inm_30674_D14_cmb14_)","v":""},"30674_D14_cmb14_","Handel i sven, Lång , Utflöde","VP203'!Inm_30674_D14_cmb14_","32211","S","L","SEK","TOT","U","M","X","H1",{"$f":"VLOOKUP('VP203'!$B$24,FlexDimensioner!$C$1:$D$430,2,FALSE)","v":"VALFRI"},"SEK",{"$f":"VLOOKUP(B16,Import!A$1:B$20000,2,FALSE)","v":{"$error":"#N/A"}},"EJ_GRANSKN",{"$f":"VLOOKUP(S16,Import!A$1:B$20000,2,FALSE)","v":{"$error":"#N/A"}},"32211_S_L_SEK_TOT_U_M_X_H1_VALFRI_SEK",1000,null,"30674_D14_cmb14_",{"$f":"VLOOKUP(B16,Import!E$1:F$20000,2,FALSE)","v":{"$error":"#N/A"}}]
[{"$f":"IF(ISBLANK(Inm_30674_D15_cmb15_),\"\",$T$17 * Inm_30674_D15_cmb15_)","v":""},"30674_D15_cmb15_","Handel i sven, Lång , Utflöde","VP203'!Inm_30674_D15_cmb15_","32211","S","L","SEK","TOT","U","M","X","H1",{"$f":"VLOOKUP('VP203'!$B$25,FlexDimensioner!$C$1:$D$430,2,FALSE)","v":"VALFRI"},"SEK",{"$f":"VLOOKUP(B17,Import!A$1:B$20000,2,FALSE)","v":{"$error":"#N/A"}},"EJ_GRANSKN",{"$f":"VLOOKUP(S17,Import!A$1:B$20000,2,FALSE)","v":{"$error":"#N/A"}},"32211_S_L_SEK_TOT_U_M_X_H1_VALFRI_SEK",1000,null,"30674_D15_cmb15_",{"$f":"VLOOKUP(B17,Import!E$1:F$20000,2,FALSE)","v":{"$error":"#N/A"}}]
[{"$f":"IF(ISBLANK(Inm_30674_D16_cmb16_),\"\",$T$18 * Inm_30674_D16_cmb16_)","v":""},"30674_D16_cmb16_","Handel i sven, Lång , Utflöde","VP203'!Inm_30674_D16_cmb16_","32211","S","L","SEK","TOT","U","M","X","H1",{"$f":"VLOOKUP('VP203'!$B$26,FlexDimensioner!$C$1:$D$430,2,FALSE)","v":"VALFRI"},"SEK",{"$f":"VLOOKUP(B18,Import!A$1:B$20000,2,FALSE)","v":{"$error":"#N/A"}},"EJ_GRANSKN",{"$f":"VLOOKUP(S18,Import!A$1:B$20000,2,FALSE)","v":{"$error":"#N/A"}},"32211_S_L_SEK_TOT_U_M_X_H1_VALFRI_SEK",1000,null,"30674_D16_cmb16_",{"$f":"VLOOKUP(B18,Import!E$1:F$20000,2,FALSE)","v":{"$error":"#N/A"}}]
[{"$f":"IF(ISBLANK(Inm_30674_D17_cmb17_),\"\",$T$19 * Inm_30674_D17_cmb17_)","v":""},"30674_D17_cmb17_","Handel i sven, Lång , Utflöde","VP203'!Inm_30674_D17_cmb17_","32211","S","L","SEK","TOT","U","M","X","H1",{"$f":"VLOOKUP('VP203'!$B$27,FlexDimensioner!$C$1:$D$430,2,FALSE)","v":"VALFRI"},"SEK",{"$f":"VLOOKUP(B19,Import!A$1:B$20000,2,FALSE)","v":{"$error":"#N/A"}},"EJ_GRANSKN",{"$f":"VLOOKUP(S19,Import!A$1:B$20000,2,FALSE)","v":{"$error":"#N/A"}},"32211_S_L_SEK_TOT_U_M_X_H1_VALFRI_SEK",1000,null,"30674_D17_cmb17_",{"$f":"VLOOKUP(B19,Import!E$1:F$20000,2,FALSE)","v":{"$error":"#N/A"}}]
[{"$f":"IF(ISBLANK(Inm_30674_D18_cmb18_),\"\",$T$20 * Inm_30674_D18_cmb18_)","v":""},"30674_D18_cmb18_","Handel i sven, Lång , Utflöde","VP203'!Inm_30674_D18_cmb18_","32211","S","L","SEK","TOT","U","M","X","H1",{"$f":"VLOOKUP('VP203'!$B$28,FlexDimensioner!$C$1:$D$430,2,FALSE)","v":"VALFRI"},"SEK",{"$f":"VLOOKUP(B20,Import!A$1:B$20000,2,FALSE)","v":{"$error":"#N/A"}},"EJ_GRANSKN",{"$f":"VLOOKUP(S20,Import!A$1:B$20000,2,FALSE)","v":{"$error":"#N/A"}},"32211_S_L_SEK_TOT_U_M_X_H1_VALFRI_SEK",1000,null,"30674_D18_cmb18_",{"$f":"VLOOKUP(B20,Import!E$1:F$20000,2,FALSE)","v":{"$error":"#N/A"}}]
[{"$f":"IF(ISBLANK(Inm_30674_D19_cmb19_),\"\",$T$21 * Inm_30674_D19_cmb19_)","v":""},"30674_D19_cmb19_","Handel i sven, Lång , Utflöde","VP203'!Inm_30674_D19_cmb19_","32211","S","L","SEK","TOT","U","M","X","H1",{"$f":"VLOOKUP('VP203'!$B$29,FlexDimensioner!$C$1:$D$430,2,FALSE)","v":"VALFRI"},"SEK",{"$f":"VLOOKUP(B21,Import!A$1:B$20000,2,FALSE)","v":{"$error":"#N/A"}},"EJ_GRANSKN",{"$f":"VLOOKUP(S21,Import!A$1:B$20000,2,FALSE)","v":{"$error":"#N/A"}},"32211_S_L_SEK_TOT_U_M_X_H1_VALFRI_SEK",1000,null,"30674_D19_cmb19_",{"$f":"VLOOKUP(B21,Import!E$1:F$20000,2,FALSE)","v":{"$error":"#N/A"}}]
[{"$f":"IF(ISBLANK(Inm_30674_D20_cmb20_),\"\",$T$22 * Inm_30674_D20_cmb20_)","v":""},"30674_D20_cmb20_","Handel i sven, Lång , Utflöde","VP203'!Inm_30674_D20_cmb20_","32211","S","L","SEK","TOT","U","M","X","H1",{"$f":"VLOOKUP('VP203'!$B$30,FlexDimensioner!$C$1:$D$430,2,FALSE)","v":"VALFRI"},"SEK",{"$f":"VLOOKUP(B22,Import!A$1:B$20000,2,FALSE)","v":{"$error":"#N/A"}},"EJ_GRANSKN",{"$f":"VLOOKUP(S22,Import!A$1:B$20000,2,FALSE)","v":{"$error":"#N/A"}},"32211_S_L_SEK_TOT_U_M_X_H1_VALFRI_SEK",1000,null,"30674_D20_cmb20_",{"$f":"VLOOKUP(B22,Import!E$1:F$20000,2,FALSE)","v":{"$error":"#N/A"}}]
[{"$f":"IF(ISBLANK(Inm_30674_D21_cmb21_),\"\",$T$23 * Inm_30674_D21_cmb21_)","v":""},"30674_D21_cmb21_","Handel i sven, Lång , Utflöde","VP203'!Inm_30674_D21_cmb21_","32211","S","L","SEK","TOT","U","M","X","H1",{"$f":"VLOOKUP('VP203'!$B$31,FlexDimensioner!$C$1:$D$430,2,FALSE)","v":"VALFRI"},"SEK",{"$f":"VLOOKUP(B23,Import!A$1:B$20000,2,FALSE)","v":{"$error":"#N/A"}},"EJ_GRANSKN",{"$f":"VLOOKUP(S23,Import!A$1:B$20000,2,FALSE)","v":{"$error":"#N/A"}},"32211_S_L_SEK_TOT_U_M_X_H1_VALFRI_SEK",1000,null,"30674_D21_cmb21_",{"$f":"VLOOKUP(B23,Import!E$1:F$20000,2,FALSE)","v":{"$error":"#N/A"}}]
[{"$f":"IF(ISBLANK(Inm_30674_D22_cmb22_),\"\",$T$24 * Inm_30674_D22_cmb22_)","v":""},"30674_D22_cmb22_","Handel i sven, Lång , Utflöde","VP203'!Inm_30674_D22_cmb22_","32211","S","L","SEK","TOT","U","M","X","H1",{"$f":"VLOOKUP('VP203'!$B$32,FlexDimensioner!$C$1:$D$430,2,FALSE)","v":"VALFRI"},"SEK",{"$f":"VLOOKUP(B24,Import!A$1:B$20000,2,FALSE)","v":{"$error":"#N/A"}},"EJ_GRANSKN",{"$f":"VLOOKUP(S24,Import!A$1:B$20000,2,FALSE)","v":{"$error":"#N/A"}},"32211_S_L_SEK_TOT_U_M_X_H1_VALFRI_SEK",1000,null,"30674_D22_cmb22_",{"$f":"VLOOKUP(B24,Import!E$1:F$20000,2,FALSE)","v":{"$error":"#N/A"}}]
[{"$f":"IF(ISBLANK(Inm_30674_D23_cmb23_),\"\",$T$25 * Inm_30674_D23_cmb23_)","v":""},"30674_D23_cmb23_","Handel i sven, Lång , Utflöde","VP203'!Inm_30674_D23_cmb23_","32211","S","L","SEK","TOT","U","M","X","H1",{"$f":"VLOOKUP('VP203'!$B$33,FlexDimensioner!$C$1:$D$430,2,FALSE)","v":"VALFRI"},"SEK",{"$f":"VLOOKUP(B25,Import!A$1:B$20000,2,FALSE)","v":{"$error":"#N/A"}},"EJ_GRANSKN",{"$f":"VLOOKUP(S25,Import!A$1:B$20000,2,FALSE)","v":{"$error":"#N/A"}},"32211_S_L_SEK_TOT_U_M_X_H1_VALFRI_SEK",1000,null,"30674_D23_cmb23_",{"$f":"VLOOKUP(B25,Import!E$1:F$20000,2,FALSE)","v":{"$error":"#N/A"}}]
[{"$f":"IF(ISBLANK(Inm_30674_D24_cmb24_),\"\",$T$26 * Inm_30674_D24_cmb24_)","v":""},"30674_D24_cmb24_","Handel i sven, Lång , Utflöde","VP203'!Inm_30674_D24_cmb24_","32211","S","L","SEK","TOT","U","M","X","H1",{"$f":"VLOOKUP('VP203'!$B$34,FlexDimensioner!$C$1:$D$430,2,FALSE)","v":"VALFRI"},"SEK",{"$f":"VLOOKUP(B26,Import!A$1:B$20000,2,FALSE)","v":{"$error":"#N/A"}},"EJ_GRANSKN",{"$f":"VLOOKUP(S26,Import!A$1:B$20000,2,FALSE)","v":{"$error":"#N/A"}},"32211_S_L_SEK_TOT_U_M_X_H1_VALFRI_SEK",1000,null,"30674_D24_cmb24_",{"$f":"VLOOKUP(B26,Import!E$1:F$20000,2,FALSE)","v":{"$error":"#N/A"}}]
[{"$f":"IF(ISBLANK(Inm_30674_D25_cmb25_),\"\",$T$27 * Inm_30674_D25_cmb25_)","v":""},"30674_D25_cmb25_","Handel i sven, Lång , Utflöde","VP203'!Inm_30674_D25_cmb25_","32211","S","L","SEK","TOT","U","M","X","H1",{"$f":"VLOOKUP('VP203'!$B$35,FlexDimensioner!$C$1:$D$430,2,FALSE)","v":"VALFRI"},"SEK",{"$f":"VLOOKUP(B27,Import!A$1:B$20000,2,FALSE)","v":{"$error":"#N/A"}},"EJ_GRANSKN",{"$f":"VLOOKUP(S27,Import!A$1:B$20000,2,FALSE)","v":{"$error":"#N/A"}},"32211_S_L_SEK_TOT_U_M_X_H1_VALFRI_SEK",1000,null,"30674_D25_cmb25_",{"$f":"VLOOKUP(B27,Import!E$1:F$20000,2,FALSE)","v":{"$error":"#N/A"}}]
[{"$f":"IF(ISBLANK(Inm_30674_D26_cmb26_),\"\",$T$28 * Inm_30674_D26_cmb26_)","v":""},"30674_D26_cmb26_","Handel i sven, Lång , Utflöde","VP203'!Inm_30674_D26_cmb26_","32211","S","L","SEK","TOT","U","M","X","H1",{"$f":"VLOOKUP('VP203'!$B$36,FlexDimensioner!$C$1:$D$430,2,FALSE)","v":"VALFRI"},"SEK",{"$f":"VLOOKUP(B28,Import!A$1:B$20000,2,FALSE)","v":{"$error":"#N/A"}},"EJ_GRANSKN",{"$f":"VLOOKUP(S28,Import!A$1:B$20000,2,FALSE)","v":{"$error":"#N/A"}},"32211_S_L_SEK_TOT_U_M_X_H1_VALFRI_SEK",1000,null,"30674_D26_cmb26_",{"$f":"VLOOKUP(B28,Import!E$1:F$20000,2,FALSE)","v":{"$error":"#N/A"}}]
[{"$f":"IF(ISBLANK(Inm_30674_D27_cmb27_),\"\",$T$29 * Inm_30674_D27_cmb27_)","v":""},"30674_D27_cmb27_","Handel i sven, Lång , Utflöde","VP203'!Inm_30674_D27_cmb27_","32211","S","L","SEK","TOT","U","M","X","H1",{"$f":"VLOOKUP('VP203'!$B$37,FlexDimensioner!$C$1:$D$430,2,FALSE)","v":"VALFRI"},"SEK",{"$f":"VLOOKUP(B29,Import!A$1:B$20000,2,FALSE)","v":{"$error":"#N/A"}},"EJ_GRANSKN",{"$f":"VLOOKUP(S29,Import!A$1:B$20000,2,FALSE)","v":{"$error":"#N/A"}},"32211_S_L_SEK_TOT_U_M_X_H1_VALFRI_SEK",1000,null,"30674_D27_cmb27_",{"$f":"VLOOKUP(B29,Import!E$1:F$20000,2,FALSE)","v":{"$error":"#N/A"}}]
[{"$f":"IF(ISBLANK(Inm_30674_D28_cmb28_),\"\",$T$30 * Inm_30674_D28_cmb28_)","v":""},"30674_D28_cmb28_","Handel i sven, Lång , Utflöde","VP203'!Inm_30674_D28_cmb28_","32211","S","L","SEK","TOT","U","M","X","H1",{"$f":"VLOOKUP('VP203'!$B$38,FlexDimensioner!$C$1:$D$430,2,FALSE)","v":"VALFRI"},"SEK",{"$f":"VLOOKUP(B30,Import!A$1:B$20000,2,FALSE)","v":{"$error":"#N/A"}},"EJ_GRANSKN",{"$f":"VLOOKUP(S30,Import!A$1:B$20000,2,FALSE)","v":{"$error":"#N/A"}},"32211_S_L_SEK_TOT_U_M_X_H1_VALFRI_SEK",1000,null,"30674_D28_cmb28_",{"$f":"VLOOKUP(B30,Import!E$1:F$20000,2,FALSE)","v":{"$error":"#N/A"}}]
[{"$f":"IF(ISBLANK(Inm_30674_D29_cmb29_),\"\",$T$31 * Inm_30674_D29_cmb29_)","v":""},"30674_D29_cmb29_","Handel i sven, Lång , Utflöde","VP203'!Inm_30674_D29_cmb29_","32211","S","L","SEK","TOT","U","M","X","H1",{"$f":"VLOOKUP('VP203'!$B$39,FlexDimensioner!$C$1:$D$430,2,FALSE)","v":"VALFRI"},"SEK",{"$f":"VLOOKUP(B31,Import!A$1:B$20000,2,FALSE)","v":{"$error":"#N/A"}},"EJ_GRANSKN",{"$f":"VLOOKUP(S31,Import!A$1:B$20000,2,FALSE)","v":{"$error":"#N/A"}},"32211_S_L_SEK_TOT_U_M_X_H1_VALFRI_SEK",1000,null,"30674_D29_cmb29_",{"$f":"VLOOKUP(B31,Import!E$1:F$20000,2,FALSE)","v":{"$error":"#N/A"}}]
[{"$f":"IF(ISBLANK(Inm_30674_D30_cmb30_),\"\",$T$32 * Inm_30674_D30_cmb30_)","v":""},"30674_D30_cmb30_","Handel i sven, Lång , Utflöde","VP203'!Inm_30674_D30_cmb30_","32211","S","L","SEK","TOT","U","M","X","H1",{"$f":"VLOOKUP('VP203'!$B$40,FlexDimensioner!$C$1:$D$430,2,FALSE)","v":"VALFRI"},"SEK",{"$f":"VLOOKUP(B32,Import!A$1:B$20000,2,FALSE)","v":{"$error":"#N/A"}},"EJ_GRANSKN",{"$f":"VLOOKUP(S32,Import!A$1:B$20000,2,FALSE)","v":{"$error":"#N/A"}},"32211_S_L_SEK_TOT_U_M_X_H1_VALFRI_SEK",1000,null,"30674_D30_cmb30_",{"$f":"VLOOKUP(B32,Import!E$1:F$20000,2,FALSE)","v":{"$error":"#N/A"}}]
[{"$f":"IF(ISBLANK(Inm_30674_D31_cmb31_),\"\",$T$33 * Inm_30674_D31_cmb31_)","v":""},"30674_D31_cmb31_","Handel i sven, Lång , Utflöde","VP203'!Inm_30674_D31_cmb31_","32211","S","L","SEK","TOT","U","M","X","H1",{"$f":"VLOOKUP('VP203'!$B$41,FlexDimensioner!$C$1:$D$430,2,FALSE)","v":"VALFRI"},"SEK",{"$f":"VLOOKUP(B33,Import!A$1:B$20000,2,FALSE)","v":{"$error":"#N/A"}},"EJ_GRANSKN",{"$f":"VLOOKUP(S33,Import!A$1:B$20000,2,FALSE)","v":{"$error":"#N/A"}},"32211_S_L_SEK_TOT_U_M_X_H1_VALFRI_SEK",1000,null,"30674_D31_cmb31_",{"$f":"VLOOKUP(B33,Import!E$1:F$20000,2,FALSE)","v":{"$error":"#N/A"}}]
[{"$f":"IF(ISBLANK(Inm_30674_D32_cmb35_),\"\",$T$34 * Inm_30674_D32_cmb35_)","v":""},"30674_D32_cmb35_","Handel i sven, Lång , Utflöde","VP203'!Inm_30674_D32_cmb35_","32211","S","L","SEK","TOT","U","M","X","H1",{"$f":"VLOOKUP('VP203'!$B$42,FlexDimensioner!$C$1:$D$430,2,FALSE)","v":"VALFRI"},"SEK",{"$f":"VLOOKUP(B34,Import!A$1:B$20000,2,FALSE)","v":{"$error":"#N/A"}},"EJ_GRANSKN",{"$f":"VLOOKUP(S34,Import!A$1:B$20000,2,FALSE)","v":{"$error":"#N/A"}},"32211_S_L_SEK_TOT_U_M_X_H1_VALFRI_SEK",1000,null,"30674_D32_cmb35_",{"$f":"VLOOKUP(B34,Import!E$1:F$20000,2,FALSE)","v":{"$error":"#N/A"}}]
[{"$f":"IF(ISBLANK(Inm_30674_D33_cmb36_),\"\",$T$35 * Inm_30674_D33_cmb36_)","v":""},"30674_D33_cmb36_","Handel i sven, Lång , Utflöde","VP203'!Inm_30674_D33_cmb36_","32211","S","L","SEK","TOT","U","M","X","H1",{"$f":"VLOOKUP('VP203'!$B$43,FlexDimensioner!$C$1:$D$430,2,FALSE)","v":"VALFRI"},"SEK",{"$f":"VLOOKUP(B35,Import!A$1:B$20000,2,FALSE)","v":{"$error":"#N/A"}},"EJ_GRANSKN",{"$f":"VLOOKUP(S35,Import!A$1:B$20000,2,FALSE)","v":{"$error":"#N/A"}},"32211_S_L_SEK_TOT_U_M_X_H1_VALFRI_SEK",1000,null,"30674_D33_cmb36_",{"$f":"VLOOKUP(B35,Import!E$1:F$20000,2,FALSE)","v":{"$error":"#N/A"}}]
[{"$f":"IF(ISBLANK(Inm_30674_D34_cmb37_),\"\",$T$36 * Inm_30674_D34_cmb37_)","v":""},"30674_D34_cmb37_","Handel i sven, Lång , Utflöde","VP203'!Inm_30674_D34_cmb37_","32211","S","L","SEK","TOT","U","M","X","H1",{"$f":"VLOOKUP('VP203'!$B$44,FlexDimensioner!$C$1:$D$430,2,FALSE)","v":"VALFRI"},"SEK",{"$f":"VLOOKUP(B36,Import!A$1:B$20000,2,FALSE)","v":{"$error":"#N/A"}},"EJ_GRANSKN",{"$f":"VLOOKUP(S36,Import!A$1:B$20000,2,FALSE)","v":{"$error":"#N/A"}},"32211_S_L_SEK_TOT_U_M_X_H1_VALFRI_SEK",1000,null,"30674_D34_cmb37_",{"$f":"VLOOKUP(B36,Import!E$1:F$20000,2,FALSE)","v":{"$error":"#N/A"}}]
[{"$f":"IF(ISBLANK(Inm_30674_D35_cmb38_),\"\",$T$37 * Inm_30674_D35_cmb38_)","v":""},"30674_D35_cmb38_","Handel i sven, Lång , Utflöde","VP203'!Inm_30674_D35_cmb38_","32211","S","L","SEK","TOT","U","M","X","H1",{"$f":"VLOOKUP('VP203'!$B$45,FlexDimensioner!$C$1:$D$430,2,FALSE)","v":"VALFRI"},"SEK",{"$f":"VLOOKUP(B37,Import!A$1:B$20000,2,FALSE)","v":{"$error":"#N/A"}},"EJ_GRANSKN",{"$f":"VLOOKUP(S37,Import!A$1:B$20000,2,FALSE)","v":{"$error":"#N/A"}},"32211_S_L_SEK_TOT_U_M_X_H1_VALFRI_SEK",1000,null,"30674_D35_cmb38_",{"$f":"VLOOKUP(B37,Import!E$1:F$20000,2,FALSE)","v":{"$error":"#N/A"}}]
[{"$f":"IF(ISBLANK(Inm_30674_D36_cmb39_),\"\",$T$38 * Inm_30674_D36_cmb39_)","v":""},"30674_D36_cmb39_","Handel i sven, Lång , Utflöde","VP203'!Inm_30674_D36_cmb39_","32211","S","L","SEK","TOT","U","M","X","H1",{"$f":"VLOOKUP('VP203'!$B$46,FlexDimensioner!$C$1:$D$430,2,FALSE)","v":"VALFRI"},"SEK",{"$f":"VLOOKUP(B38,Import!A$1:B$20000,2,FALSE)","v":{"$error":"#N/A"}},"EJ_GRANSKN",{"$f":"VLOOKUP(S38,Import!A$1:B$20000,2,FALSE)","v":{"$error":"#N/A"}},"32211_S_L_SEK_TOT_U_M_X_H1_VALFRI_SEK",1000,null,"30674_D36_cmb39_",{"$f":"VLOOKUP(B38,Import!E$1:F$20000,2,FALSE)","v":{"$error":"#N/A"}}]
[{"$f":"IF(ISBLANK(Inm_30674_D37_cmb40_),\"\",$T$39 * Inm_30674_D37_cmb40_)","v":""},"30674_D37_cmb40_","Handel i sven, Lång , Utflöde","VP203'!Inm_30674_D37_cmb40_","32211","S","L","SEK","TOT","U","M","X","H1",{"$f":"VLOOKUP('VP203'!$B$47,FlexDimensioner!$C$1:$D$430,2,FALSE)","v":"VALFRI"},"SEK",{"$f":"VLOOKUP(B39,Import!A$1:B$20000,2,FALSE)","v":{"$error":"#N/A"}},"EJ_GRANSKN",{"$f":"VLOOKUP(S39,Import!A$1:B$20000,2,FALSE)","v":{"$error":"#N/A"}},"32211_S_L_SEK_TOT_U_M_X_H1_VALFRI_SEK",1000,null,"30674_D37_cmb40_",{"$f":"VLOOKUP(B39,Import!E$1:F$20000,2,FALSE)","v":{"$error":"#N/A"}}]
[{"$f":"IF(ISBLANK(Inm_30674_D38_cmb41_),\"\",$T$40 * Inm_30674_D38_cmb41_)","v":""},"30674_D38_cmb41_","Handel i sven, Lång , Utflöde","VP203'!Inm_30674_D38_cmb41_","32211","S","L","SEK","TOT","U","M","X","H1",{"$f":"VLOOKUP('VP203'!$B$48,FlexDimensioner!$C$1:$D$430,2,FALSE)","v":"VALFRI"},"SEK",{"$f":"VLOOKUP(B40,Import!A$1:B$20000,2,FALSE)","v":{"$error":"#N/A"}},"EJ_GRANSKN",{"$f":"VLOOKUP(S40,Import!A$1:B$20000,2,FALSE)","v":{"$error":"#N/A"}},"32211_S_L_SEK_TOT_U_M_X_H1_VALFRI_SEK",1000,null,"30674_D38_cmb41_",{"$f":"VLOOKUP(B40,Import!E$1:F$20000,2,FALSE)","v":{"$error":"#N/A"}}]
[{"$f":"IF(ISBLANK(Inm_30674_D39_cmb42_),\"\",$T$41 * Inm_30674_D39_cmb42_)","v":""},"30674_D39_cmb42_","Handel i sven, Lång , Utflöde","VP203'!Inm_30674_D39_cmb42_","32211","S","L","SEK","TOT","U","M","X","H1",{"$f":"VLOOKUP('VP203'!$B$49,FlexDimensioner!$C$1:$D$430,2,FALSE)","v":"VALFRI"},"SEK",{"$f":"VLOOKUP(B41,Import!A$1:B$20000,2,FALSE)","v":{"$error":"#N/A"}},"EJ_GRANSKN",{"$f":"VLOOKUP(S41,Import!A$1:B$20000,2,FALSE)","v":{"$error":"#N/A"}},"32211_S_L_SEK_TOT_U_M_X_H1_VALFRI_SEK",1000,null,"30674_D39_cmb42_",{"$f":"VLOOKUP(B41,Import!E$1:F$20000,2,FALSE)","v":{"$error":"#N/A"}}]
[{"$f":"IF(ISBLANK(Inm_30674_D40_cmb43_),\"\",$T$42 * Inm_30674_D40_cmb43_)","v":""},"30674_D40_cmb43_","Handel i sven, Lång , Utflöde","VP203'!Inm_30674_D40_cmb43_","32211","S","L","SEK","TOT","U","M","X","H1",{"$f":"VLOOKUP('VP203'!$B$50,FlexDimensioner!$C$1:$D$430,2,FALSE)","v":"VALFRI"},"SEK",{"$f":"VLOOKUP(B42,Import!A$1:B$20000,2,FALSE)","v":{"$error":"#N/A"}},"EJ_GRANSKN",{"$f":"VLOOKUP(S42,Import!A$1:B$20000,2,FALSE)","v":{"$error":"#N/A"}},"32211_S_L_SEK_TOT_U_M_X_H1_VALFRI_SEK",1000,null,"30674_D40_cmb43_",{"$f":"VLOOKUP(B42,Import!E$1:F$20000,2,FALSE)","v":{"$error":"#N/A"}}]
[{"$f":"IF(ISBLANK(Inm_30674_D41_cmb44_),\"\",$T$43 * Inm_30674_D41_cmb44_)","v":""},"30674_D41_cmb44_","Handel i sven, Lång , Utflöde","VP203'!Inm_30674_D41_cmb44_","32211","S","L","SEK","TOT","U","M","X","H1",{"$f":"VLOOKUP('VP203'!$B$51,FlexDimensioner!$C$1:$D$430,2,FALSE)","v":"VALFRI"},"SEK",{"$f":"VLOOKUP(B43,Import!A$1:B$20000,2,FALSE)","v":{"$error":"#N/A"}},"EJ_GRANSKN",{"$f":"VLOOKUP(S43,Import!A$1:B$20000,2,FALSE)","v":{"$error":"#N/A"}},"32211_S_L_SEK_TOT_U_M_X_H1_VALFRI_SEK",1000,null,"30674_D41_cmb44_",{"$f":"VLOOKUP(B43,Import!E$1:F$20000,2,FALSE)","v":{"$error":"#N/A"}}]
[{"$f":"IF(ISBLANK(Inm_30674_D42_cmb45_),\"\",$T$44 * Inm_30674_D42_cmb45_)","v":""},"30674_D42_cmb45_","Handel i sven, Lång , Utflöde","VP203'!Inm_30674_D42_cmb45_","32211","S","L","SEK","TOT","U","M","X","H1",{"$f":"VLOOKUP('VP203'!$B$52,FlexDimensioner!$C$1:$D$430,2,FALSE)","v":"VALFRI"},"SEK",{"$f":"VLOOKUP(B44,Import!A$1:B$20000,2,FALSE)","v":{"$error":"#N/A"}},"EJ_GRANSKN",{"$f":"VLOOKUP(S44,Import!A$1:B$20000,2,FALSE)","v":{"$error":"#N/A"}},"32211_S_L_SEK_TOT_U_M_X_H1_VALFRI_SEK",1000,null,"30674_D42_cmb45_",{"$f":"VLOOKUP(B44,Import!E$1:F$20000,2,FALSE)","v":{"$error":"#N/A"}}]
[{"$f":"IF(ISBLANK(Inm_30674_D43_cmb46_),\"\",$T$45 * Inm_30674_D43_cmb46_)","v":""},"30674_D43_cmb46_","Handel i sven, Lång , Utflöde","VP203'!Inm_30674_D43_cmb46_","32211","S","L","SEK","TOT","U","M","X","H1",{"$f":"VLOOKUP('VP203'!$B$53,FlexDimensioner!$C$1:$D$430,2,FALSE)","v":"VALFRI"},"SEK",{"$f":"VLOOKUP(B45,Import!A$1:B$20000,2,FALSE)","v":{"$error":"#N/A"}},"EJ_GRANSKN",{"$f":"VLOOKUP(S45,Import!A$1:B$20000,2,FALSE)","v":{"$error":"#N/A"}},"32211_S_L_SEK_TOT_U_M_X_H1_VALFRI_SEK",1000,null,"30674_D43_cmb46_",{"$f":"VLOOKUP(B45,Import!E$1:F$20000,2,FALSE)","v":{"$error":"#N/A"}}]
[{"$f":"IF(ISBLANK(Inm_30674_D44_cmb47_),\"\",$T$46 * Inm_30674_D44_cmb47_)","v":""},"30674_D44_cmb47_","Handel i sven, Lång , Utflöde","VP203'!Inm_30674_D44_cmb47_","32211","S","L","SEK","TOT","U","M","X","H1",{"$f":"VLOOKUP('VP203'!$B$54,FlexDimensioner!$C$1:$D$430,2,FALSE)","v":"VALFRI"},"SEK",{"$f":"VLOOKUP(B46,Import!A$1:B$20000,2,FALSE)","v":{"$error":"#N/A"}},"EJ_GRANSKN",{"$f":"VLOOKUP(S46,Import!A$1:B$20000,2,FALSE)","v":{"$error":"#N/A"}},"32211_S_L_SEK_TOT_U_M_X_H1_VALFRI_SEK",1000,null,"30674_D44_cmb47_",{"$f":"VLOOKUP(B46,Import!E$1:F$20000,2,FALSE)","v":{"$error":"#N/A"}}]
[{"$f":"IF(ISBLANK(Inm_30674_D45_cmb48_),\"\",$T$47 * Inm_30674_D45_cmb48_)","v":""},"30674_D45_cmb48_","Handel i sven, Lång , Utflöde","VP203'!Inm_30674_D45_cmb48_","32211","S","L","SEK","TOT","U","M","X","H1",{"$f":"VLOOKUP('VP203'!$B$55,FlexDimensioner!$C$1:$D$430,2,FALSE)","v":"VALFRI"},"SEK",{"$f":"VLOOKUP(B47,Import!A$1:B$20000,2,FALSE)","v":{"$error":"#N/A"}},"EJ_GRANSKN",{"$f":"VLOOKUP(S47,Import!A$1:B$20000,2,FALSE)","v":{"$error":"#N/A"}},"32211_S_L_SEK_TOT_U_M_X_H1_VALFRI_SEK",1000,null,"30674_D45_cmb48_",{"$f":"VLOOKUP(B47,Import!E$1:F$20000,2,FALSE)","v":{"$error":"#N/A"}}]
[{"$f":"IF(ISBLANK(Inm_30674_D46_cmb49_),\"\",$T$48 * Inm_30674_D46_cmb49_)","v":""},"30674_D46_cmb49_","Handel i sven, Lång , Utflöde","VP203'!Inm_30674_D46_cmb49_","32211","S","L","SEK","TOT","U","M","X","H1",{"$f":"VLOOKUP('VP203'!$B$56,FlexDimensioner!$C$1:$D$430,2,FALSE)","v":"VALFRI"},"SEK",{"$f":"VLOOKUP(B48,Import!A$1:B$20000,2,FALSE)","v":{"$error":"#N/A"}},"EJ_GRANSKN",{"$f":"VLOOKUP(S48,Import!A$1:B$20000,2,FALSE)","v":{"$error":"#N/A"}},"32211_S_L_SEK_TOT_U_M_X_H1_VALFRI_SEK",1000,null,"30674_D46_cmb49_",{"$f":"VLOOKUP(B48,Import!E$1:F$20000,2,FALSE)","v":{"$error":"#N/A"}}]
[{"$f":"IF(ISBLANK(Inm_30674_D47_cmb50_),\"\",$T$49 * Inm_30674_D47_cmb50_)","v":""},"30674_D47_cmb50_","Handel i sven, Lång , Utflöde","VP203'!Inm_30674_D47_cmb50_","32211","S","L","SEK","TOT","U","M","X","H1",{"$f":"VLOOKUP('VP203'!$B$57,FlexDimensioner!$C$1:$D$430,2,FALSE)","v":"VALFRI"},"SEK",{"$f":"VLOOKUP(B49,Import!A$1:B$20000,2,FALSE)","v":{"$error":"#N/A"}},"EJ_GRANSKN",{"$f":"VLOOKUP(S49,Import!A$1:B$20000,2,FALSE)","v":{"$error":"#N/A"}},"32211_S_L_SEK_TOT_U_M_X_H1_VALFRI_SEK",1000,null,"30674_D47_cmb50_",{"$f":"VLOOKUP(B49,Import!E$1:F$20000,2,FALSE)","v":{"$error":"#N/A"}}]
[{"$f":"IF(ISBLANK(Inm_30674_D48_cmb51_),\"\",$T$50 * Inm_30674_D48_cmb51_)","v":""},"30674_D48_cmb51_","Handel i sven, Lång , Utflöde","VP203'!Inm_30674_D48_cmb51_","32211","S","L","SEK","TOT","U","M","X","H1",{"$f":"VLOOKUP('VP203'!$B$58,FlexDimensioner!$C$1:$D$430,2,FALSE)","v":"VALFRI"},"SEK",{"$f":"VLOOKUP(B50,Import!A$1:B$20000,2,FALSE)","v":{"$error":"#N/A"}},"EJ_GRANSKN",{"$f":"VLOOKUP(S50,Import!A$1:B$20000,2,FALSE)","v":{"$error":"#N/A"}},"32211_S_L_SEK_TOT_U_M_X_H1_VALFRI_SEK",1000,null,"30674_D48_cmb51_",{"$f":"VLOOKUP(B50,Import!E$1:F$20000,2,FALSE)","v":{"$error":"#N/A"}}]
[{"$f":"IF(ISBLANK(Inm_30674_D49_cmb52_),\"\",$T$51 * Inm_30674_D49_cmb52_)","v":""},"30674_D49_cmb52_","Handel i sven, Lång , Utflöde","VP203'!Inm_30674_D49_cmb52_","32211","S","L","SEK","TOT","U","M","X","H1",{"$f":"VLOOKUP('VP203'!$B$59,FlexDimensioner!$C$1:$D$430,2,FALSE)","v":"VALFRI"},"SEK",{"$f":"VLOOKUP(B51,Import!A$1:B$20000,2,FALSE)","v":{"$error":"#N/A"}},"EJ_GRANSKN",{"$f":"VLOOKUP(S51,Import!A$1:B$20000,2,FALSE)","v":{"$error":"#N/A"}},"32211_S_L_SEK_TOT_U_M_X_H1_VALFRI_SEK",1000,null,"30674_D49_cmb52_",{"$f":"VLOOKUP(B51,Import!E$1:F$20000,2,FALSE)","v":{"$error":"#N/A"}}]
[{"$f":"IF(ISBLANK(Inm_30674_D50_cmb53_),\"\",$T$52 * Inm_30674_D50_cmb53_)","v":""},"30674_D50_cmb53_","Handel i sven, Lång , Utflöde","VP203'!Inm_30674_D50_cmb53_","32211","S","L","SEK","TOT","U","M","X","H1",{"$f":"VLOOKUP('VP203'!$B$60,FlexDimensioner!$C$1:$D$430,2,FALSE)","v":"VALFRI"},"SEK",{"$f":"VLOOKUP(B52,Import!A$1:B$20000,2,FALSE)","v":{"$error":"#N/A"}},"EJ_GRANSKN",{"$f":"VLOOKUP(S52,Import!A$1:B$20000,2,FALSE)","v":{"$error":"#N/A"}},"32211_S_L_SEK_TOT_U_M_X_H1_VALFRI_SEK",1000,null,"30674_D50_cmb53_",{"$f":"VLOOKUP(B52,Import!E$1:F$20000,2,FALSE)","v":{"$error":"#N/A"}}]
[{"$f":"IF(ISBLANK(Inm_30674_D51_cmb54_),\"\",$T$53 * Inm_30674_D51_cmb54_)","v":""},"30674_D51_cmb54_","Handel i sven, Lång , Utflöde","VP203'!Inm_30674_D51_cmb54_","32211","S","L","SEK","TOT","U","M","X","H1",{"$f":"VLOOKUP('VP203'!$B$61,FlexDimensioner!$C$1:$D$430,2,FALSE)","v":"VALFRI"},"SEK",{"$f":"VLOOKUP(B53,Import!A$1:B$20000,2,FALSE)","v":{"$error":"#N/A"}},"EJ_GRANSKN",{"$f":"VLOOKUP(S53,Import!A$1:B$20000,2,FALSE)","v":{"$error":"#N/A"}},"32211_S_L_SEK_TOT_U_M_X_H1_VALFRI_SEK",1000,null,"30674_D51_cmb54_",{"$f":"VLOOKUP(B53,Import!E$1:F$20000,2,FALSE)","v":{"$error":"#N/A"}}]
[{"$f":"IF(ISBLANK(Inm_30674_D52_cmb55_),\"\",$T$54 * Inm_30674_D52_cmb55_)","v":""},"30674_D52_cmb55_","Handel i sven, Lång , Utflöde","VP203'!Inm_30674_D52_cmb55_","32211","S","L","SEK","TOT","U","M","X","H1",{"$f":"VLOOKUP('VP203'!$B$62,FlexDimensioner!$C$1:$D$430,2,FALSE)","v":"VALFRI"},"SEK",{"$f":"VLOOKUP(B54,Import!A$1:B$20000,2,FALSE)","v":{"$error":"#N/A"}},"EJ_GRANSKN",{"$f":"VLOOKUP(S54,Import!A$1:B$20000,2,FALSE)","v":{"$error":"#N/A"}},"32211_S_L_SEK_TOT_U_M_X_H1_VALFRI_SEK",1000,null,"30674_D52_cmb55_",{"$f":"VLOOKUP(B54,Import!E$1:F$20000,2,FALSE)","v":{"$error":"#N/A"}}]
[{"$f":"IF(ISBLANK(Inm_30674_D53_cmb56_),\"\",$T$55 * Inm_30674_D53_cmb56_)","v":""},"30674_D53_cmb56_","Handel i sven, Lång , Utflöde","VP203'!Inm_30674_D53_cmb56_","32211","S","L","SEK","TOT","U","M","X","H1",{"$f":"VLOOKUP('VP203'!$B$63,FlexDimensioner!$C$1:$D$430,2,FALSE)","v":"VALFRI"},"SEK",{"$f":"VLOOKUP(B55,Import!A$1:B$20000,2,FALSE)","v":{"$error":"#N/A"}},"EJ_GRANSKN",{"$f":"VLOOKUP(S55,Import!A$1:B$20000,2,FALSE)","v":{"$error":"#N/A"}},"32211_S_L_SEK_TOT_U_M_X_H1_VALFRI_SEK",1000,null,"30674_D53_cmb56_",{"$f":"VLOOKUP(B55,Import!E$1:F$20000,2,FALSE)","v":{"$error":"#N/A"}}]
[{"$f":"IF(ISBLANK(Inm_30674_D54_cmb57_),\"\",$T$56 * Inm_30674_D54_cmb57_)","v":""},"30674_D54_cmb57_","Handel i sven, Lång , Utflöde","VP203'!Inm_30674_D54_cmb57_","32211","S","L","SEK","TOT","U","M","X","H1",{"$f":"VLOOKUP('VP203'!$B$64,FlexDimensioner!$C$1:$D$430,2,FALSE)","v":"VALFRI"},"SEK",{"$f":"VLOOKUP(B56,Import!A$1:B$20000,2,FALSE)","v":{"$error":"#N/A"}},"EJ_GRANSKN",{"$f":"VLOOKUP(S56,Import!A$1:B$20000,2,FALSE)","v":{"$error":"#N/A"}},"32211_S_L_SEK_TOT_U_M_X_H1_VALFRI_SEK",1000,null,"30674_D54_cmb57_",{"$f":"VLOOKUP(B56,Import!E$1:F$20000,2,FALSE)","v":{"$error":"#N/A"}}]
[{"$f":"IF(ISBLANK(Inm_30674_D55_cmb59_),\"\",$T$57 * Inm_30674_D55_cmb59_)","v":""},"30674_D55_cmb59_","Handel i sven, Lång , Utflöde","VP203'!Inm_30674_D55_cmb59_","32211","S","L","SEK","TOT","U","M","X","H1",{"$f":"VLOOKUP('VP203'!$B$65,FlexDimensioner!$C$1:$D$430,2,FALSE)","v":"VALFRI"},"SEK",{"$f":"VLOOKUP(B57,Import!A$1:B$20000,2,FALSE)","v":{"$error":"#N/A"}},"EJ_GRANSKN",{"$f":"VLOOKUP(S57,Import!A$1:B$20000,2,FALSE)","v":{"$error":"#N/A"}},"32211_S_L_SEK_TOT_U_M_X_H1_VALFRI_SEK",1000,null,"30674_D55_cmb59_",{"$f":"VLOOKUP(B57,Import!E$1:F$20000,2,FALSE)","v":{"$error":"#N/A"}}]
[{"$f":"IF(ISBLANK(Inm_30674_D56_cmb60_),\"\",$T$58 * Inm_30674_D56_cmb60_)","v":""},"30674_D56_cmb60_","Handel i sven, Lång , Utflöde","VP203'!Inm_30674_D56_cmb60_","32211","S","L","SEK","TOT","U","M","X","H1",{"$f":"VLOOKUP('VP203'!$B$66,FlexDimensioner!$C$1:$D$430,2,FALSE)","v":"VALFRI"},"SEK",{"$f":"VLOOKUP(B58,Import!A$1:B$20000,2,FALSE)","v":{"$error":"#N/A"}},"EJ_GRANSKN",{"$f":"VLOOKUP(S58,Import!A$1:B$20000,2,FALSE)","v":{"$error":"#N/A"}},"32211_S_L_SEK_TOT_U_M_X_H1_VALFRI_SEK",1000,null,"30674_D56_cmb60_",{"$f":"VLOOKUP(B58,Import!E$1:F$20000,2,FALSE)","v":{"$error":"#N/A"}}]
[{"$f":"IF(ISBLANK(Inm_30674_D57_cmb61_),\"\",$T$59 * Inm_30674_D57_cmb61_)","v":""},"30674_D57_cmb61_","Handel i sven, Lång , Utflöde","VP203'!Inm_30674_D57_cmb61_","32211","S","L","SEK","TOT","U","M","X","H1",{"$f":"VLOOKUP('VP203'!$B$67,FlexDimensioner!$C$1:$D$430,2,FALSE)","v":"VALFRI"},"SEK",{"$f":"VLOOKUP(B59,Import!A$1:B$20000,2,FALSE)","v":{"$error":"#N/A"}},"EJ_GRANSKN",{"$f":"VLOOKUP(S59,Import!A$1:B$20000,2,FALSE)","v":{"$error":"#N/A"}},"32211_S_L_SEK_TOT_U_M_X_H1_VALFRI_SEK",1000,null,"30674_D57_cmb61_",{"$f":"VLOOKUP(B59,Import!E$1:F$20000,2,FALSE)","v":{"$error":"#N/A"}}]
[{"$f":"IF(ISBLANK(Inm_30674_D58_cmb62_),\"\",$T$60 * Inm_30674_D58_cmb62_)","v":""},"30674_D58_cmb62_","Handel i sven, Lång , Utflöde","VP203'!Inm_30674_D58_cmb62_","32211","S","L","SEK","TOT","U","M","X","H1",{"$f":"VLOOKUP('VP203'!$B$68,FlexDimensioner!$C$1:$D$430,2,FALSE)","v":"VALFRI"},"SEK",{"$f":"VLOOKUP(B60,Import!A$1:B$20000,2,FALSE)","v":{"$error":"#N/A"}},"EJ_GRANSKN",{"$f":"VLOOKUP(S60,Import!A$1:B$20000,2,FALSE)","v":{"$error":"#N/A"}},"32211_S_L_SEK_TOT_U_M_X_H1_VALFRI_SEK",1000,null,"30674_D58_cmb62_",{"$f":"VLOOKUP(B60,Import!E$1:F$20000,2,FALSE)","v":{"$error":"#N/A"}}]
[{"$f":"IF(ISBLANK(Inm_30674_D59_cmb63_),\"\",$T$61 * Inm_30674_D59_cmb63_)","v":""},"30674_D59_cmb63_","Handel i sven, Lång , Utflöde","VP203'!Inm_30674_D59_cmb63_","32211","S","L","SEK","TOT","U","M","X","H1",{"$f":"VLOOKUP('VP203'!$B$69,FlexDimensioner!$C$1:$D$430,2,FALSE)","v":"VALFRI"},"SEK",{"$f":"VLOOKUP(B61,Import!A$1:B$20000,2,FALSE)","v":{"$error":"#N/A"}},"EJ_GRANSKN",{"$f":"VLOOKUP(S61,Import!A$1:B$20000,2,FALSE)","v":{"$error":"#N/A"}},"32211_S_L_SEK_TOT_U_M_X_H1_VALFRI_SEK",1000,null,"30674_D59_cmb63_",{"$f":"VLOOKUP(B61,Import!E$1:F$20000,2,FALSE)","v":{"$error":"#N/A"}}]
[{"$f":"IF(ISBLANK(Inm_30674_D60_cmb64_),\"\",$T$62 * Inm_30674_D60_cmb64_)","v":""},"30674_D60_cmb64_","Handel i sven, Lång , Utflöde","VP203'!Inm_30674_D60_cmb64_","32211","S","L","SEK","TOT","U","M","X","H1",{"$f":"VLOOKUP('VP203'!$B$70,FlexDimensioner!$C$1:$D$430,2,FALSE)","v":"VALFRI"},"SEK",{"$f":"VLOOKUP(B62,Import!A$1:B$20000,2,FALSE)","v":{"$error":"#N/A"}},"EJ_GRANSKN",{"$f":"VLOOKUP(S62,Import!A$1:B$20000,2,FALSE)","v":{"$error":"#N/A"}},"32211_S_L_SEK_TOT_U_M_X_H1_VALFRI_SEK",1000,null,"30674_D60_cmb64_",{"$f":"VLOOKUP(B62,Import!E$1:F$20000,2,FALSE)","v":{"$error":"#N/A"}}]
[{"$f":"IF(ISBLANK(Inm_30674_D61_cmb65_),\"\",$T$63 * Inm_30674_D61_cmb65_)","v":""},"30674_D61_cmb65_","Handel i sven, Lång , Utflöde","VP203'!Inm_30674_D61_cmb65_","32211","S","L","SEK","TOT","U","M","X","H1",{"$f":"VLOOKUP('VP203'!$B$71,FlexDimensioner!$C$1:$D$430,2,FALSE)","v":"VALFRI"},"SEK",{"$f":"VLOOKUP(B63,Import!A$1:B$20000,2,FALSE)","v":{"$error":"#N/A"}},"EJ_GRANSKN",{"$f":"VLOOKUP(S63,Import!A$1:B$20000,2,FALSE)","v":{"$error":"#N/A"}},"32211_S_L_SEK_TOT_U_M_X_H1_VALFRI_SEK",1000,null,"30674_D61_cmb65_",{"$f":"VLOOKUP(B63,Import!E$1:F$20000,2,FALSE)","v":{"$error":"#N/A"}}]
[{"$f":"IF(ISBLANK(Inm_30674_D62_cmb66_),\"\",$T$64 * Inm_30674_D62_cmb66_)","v":""},"30674_D62_cmb66_","Handel i sven, Lång , Utflöde","VP203'!Inm_30674_D62_cmb66_","32211","S","L","SEK","TOT","U","M","X","H1",{"$f":"VLOOKUP('VP203'!$B$72,FlexDimensioner!$C$1:$D$430,2,FALSE)","v":"VALFRI"},"SEK",{"$f":"VLOOKUP(B64,Import!A$1:B$20000,2,FALSE)","v":{"$error":"#N/A"}},"EJ_GRANSKN",{"$f":"VLOOKUP(S64,Import!A$1:B$20000,2,FALSE)","v":{"$error":"#N/A"}},"32211_S_L_SEK_TOT_U_M_X_H1_VALFRI_SEK",1000,null,"30674_D62_cmb66_",{"$f":"VLOOKUP(B64,Import!E$1:F$20000,2,FALSE)","v":{"$error":"#N/A"}}]
[{"$f":"IF(ISBLANK(Inm_30674_D63_cmb67_),\"\",$T$65 * Inm_30674_D63_cmb67_)","v":""},"30674_D63_cmb67_","Handel i sven, Lång , Utflöde","VP203'!Inm_30674_D63_cmb67_","32211","S","L","SEK","TOT","U","M","X","H1",{"$f":"VLOOKUP('VP203'!$B$73,FlexDimensioner!$C$1:$D$430,2,FALSE)","v":"VALFRI"},"SEK",{"$f":"VLOOKUP(B65,Import!A$1:B$20000,2,FALSE)","v":{"$error":"#N/A"}},"EJ_GRANSKN",{"$f":"VLOOKUP(S65,Import!A$1:B$20000,2,FALSE)","v":{"$error":"#N/A"}},"32211_S_L_SEK_TOT_U_M_X_H1_VALFRI_SEK",1000,null,"30674_D63_cmb67_",{"$f":"VLOOKUP(B65,Import!E$1:F$20000,2,FALSE)","v":{"$error":"#N/A"}}]
[{"$f":"IF(ISBLANK(Inm_30674_D64_cmb68_),\"\",$T$66 * Inm_30674_D64_cmb68_)","v":""},"30674_D64_cmb68_","Handel i sven, Lång , Utflöde","VP203'!Inm_30674_D64_cmb68_","32211","S","L","SEK","TOT","U","M","X","H1",{"$f":"VLOOKUP('VP203'!$B$74,FlexDimensioner!$C$1:$D$430,2,FALSE)","v":"VALFRI"},"SEK",{"$f":"VLOOKUP(B66,Import!A$1:B$20000,2,FALSE)","v":{"$error":"#N/A"}},"EJ_GRANSKN",{"$f":"VLOOKUP(S66,Import!A$1:B$20000,2,FALSE)","v":{"$error":"#N/A"}},{"$f":"CONCATENATE(E66,\"_\",F66,\"_\",G66,\"_\",H66,\"_\",I66,\"_\",J66,\"_\",K66,\"_\",L66,\"_\",M66,\"_\",N66,\"_\",O66)","v":"32211_S_L_SEK_TOT_U_M_X_H1_VALFRI_SEK"},1000,null,"30674_D64_cmb68_",{"$f":"VLOOKUP(B66,Import!E$1:F$20000,2,FALSE)","v":{"$error":"#N/A"}}]
[{"$f":"IF(ISBLANK(Inm_30674_D65_cmb69_),\"\",$T$67 * Inm_30674_D65_cmb69_)","v":""},"30674_D65_cmb69_","Handel i sven, Lång , Utflöde","VP203'!Inm_30674_D65_cmb69_","32211","S","L","SEK","TOT","U","M","X","H1",{"$f":"VLOOKUP('VP203'!$B$75,FlexDimensioner!$C$1:$D$430,2,FALSE)","v":"VALFRI"},"SEK",{"$f":"VLOOKUP(B67,Import!A$1:B$20000,2,FALSE)","v":{"$error":"#N/A"}},"EJ_GRANSKN",{"$f":"VLOOKUP(S67,Import!A$1:B$20000,2,FALSE)","v":{"$error":"#N/A"}},"32211_S_L_SEK_TOT_U_M_X_H1_VALFRI_SEK",1000,null,"30674_D65_cmb69_",{"$f":"VLOOKUP(B67,Import!E$1:F$20000,2,FALSE)","v":{"$error":"#N/A"}}]
[{"$f":"IF(ISBLANK(Inm_30674_D66_cmb70_),\"\",$T$68 * Inm_30674_D66_cmb70_)","v":""},"30674_D66_cmb70_","Handel i sven, Lång , Utflöde","VP203'!Inm_30674_D66_cmb70_","32211","S","L","SEK","TOT","U","M","X","H1",{"$f":"VLOOKUP('VP203'!$B$76,FlexDimensioner!$C$1:$D$430,2,FALSE)","v":"VALFRI"},"SEK",{"$f":"VLOOKUP(B68,Import!A$1:B$20000,2,FALSE)","v":{"$error":"#N/A"}},"EJ_GRANSKN",{"$f":"VLOOKUP(S68,Import!A$1:B$20000,2,FALSE)","v":{"$error":"#N/A"}},"32211_S_L_SEK_TOT_U_M_X_H1_VALFRI_SEK",1000,null,"30674_D66_cmb70_",{"$f":"VLOOKUP(B68,Import!E$1:F$20000,2,FALSE)","v":{"$error":"#N/A"}}]
[{"$f":"IF(ISBLANK(Inm_30674_D67_cmb71_),\"\",$T$69 * Inm_30674_D67_cmb71_)","v":""},"30674_D67_cmb71_","Handel i sven, Lång , Utflöde","VP203'!Inm_30674_D67_cmb71_","32211","S","L","SEK","TOT","U","M","X","H1",{"$f":"VLOOKUP('VP203'!$B$77,FlexDimensioner!$C$1:$D$430,2,FALSE)","v":"VALFRI"},"SEK",{"$f":"VLOOKUP(B69,Import!A$1:B$20000,2,FALSE)","v":{"$error":"#N/A"}},"EJ_GRANSKN",{"$f":"VLOOKUP(S69,Import!A$1:B$20000,2,FALSE)","v":{"$error":"#N/A"}},"32211_S_L_SEK_TOT_U_M_X_H1_VALFRI_SEK",1000,null,"30674_D67_cmb71_",{"$f":"VLOOKUP(B69,Import!E$1:F$20000,2,FALSE)","v":{"$error":"#N/A"}}]
[{"$f":"IF(ISBLANK(Inm_30674_D68_cmb72_),\"\",$T$70 * Inm_30674_D68_cmb72_)","v":""},"30674_D68_cmb72_","Handel i sven, Lång , Utflöde","VP203'!Inm_30674_D68_cmb72_","32211","S","L","SEK","TOT","U","M","X","H1",{"$f":"VLOOKUP('VP203'!$B$78,FlexDimensioner!$C$1:$D$430,2,FALSE)","v":"VALFRI"},"SEK",{"$f":"VLOOKUP(B70,Import!A$1:B$20000,2,FALSE)","v":{"$error":"#N/A"}},"EJ_GRANSKN",{"$f":"VLOOKUP(S70,Import!A$1:B$20000,2,FALSE)","v":{"$error":"#N/A"}},"32211_S_L_SEK_TOT_U_M_X_H1_VALFRI_SEK",1000,null,"30674_D68_cmb72_",{"$f":"VLOOKUP(B70,Import!E$1:F$20000,2,FALSE)","v":{"$error":"#N/A"}}]
[{"$f":"IF(ISBLANK(Inm_30674_D69_cmb73_),\"\",$T$71 * Inm_30674_D69_cmb73_)","v":""},"30674_D69_cmb73_","Handel i sven, Lång , Utflöde","VP203'!Inm_30674_D69_cmb73_","32211","S","L","SEK","TOT","U","M","X","H1",{"$f":"VLOOKUP('VP203'!$B$79,FlexDimensioner!$C$1:$D$430,2,FALSE)","v":"VALFRI"},"SEK",{"$f":"VLOOKUP(B71,Import!A$1:B$20000,2,FALSE)","v":{"$error":"#N/A"}},"EJ_GRANSKN",{"$f":"VLOOKUP(S71,Import!A$1:B$20000,2,FALSE)","v":{"$error":"#N/A"}},"32211_S_L_SEK_TOT_U_M_X_H1_VALFRI_SEK",1000,null,"30674_D69_cmb73_",{"$f":"VLOOKUP(B71,Import!E$1:F$20000,2,FALSE)","v":{"$error":"#N/A"}}]
[{"$f":"IF(ISBLANK(Inm_30674_D70_cmb74_),\"\",$T$72 * Inm_30674_D70_cmb74_)","v":""},"30674_D70_cmb74_","Handel i sven, Lång , Utflöde","VP203'!Inm_30674_D70_cmb74_","32211","S","L","SEK","TOT","U","M","X","H1",{"$f":"VLOOKUP('VP203'!$B$80,FlexDimensioner!$C$1:$D$430,2,FALSE)","v":"VALFRI"},"SEK",{"$f":"VLOOKUP(B72,Import!A$1:B$20000,2,FALSE)","v":{"$error":"#N/A"}},"EJ_GRANSKN",{"$f":"VLOOKUP(S72,Import!A$1:B$20000,2,FALSE)","v":{"$error":"#N/A"}},"32211_S_L_SEK_TOT_U_M_X_H1_VALFRI_SEK",1000,null,"30674_D70_cmb74_",{"$f":"VLOOKUP(B72,Import!E$1:F$20000,2,FALSE)","v":{"$error":"#N/A"}}]
[{"$f":"IF(ISBLANK(Inm_30674_D71_cmb75_),\"\",$T$73 * Inm_30674_D71_cmb75_)","v":""},"30674_D71_cmb75_","Handel i sven, Lång , Utflöde","VP203'!Inm_30674_D71_cmb75_","32211","S","L","SEK","TOT","U","M","X","H1",{"$f":"VLOOKUP('VP203'!$B$81,FlexDimensioner!$C$1:$D$430,2,FALSE)","v":"VALFRI"},"SEK",{"$f":"VLOOKUP(B73,Import!A$1:B$20000,2,FALSE)","v":{"$error":"#N/A"}},"EJ_GRANSKN",{"$f":"VLOOKUP(S73,Import!A$1:B$20000,2,FALSE)","v":{"$error":"#N/A"}},"32211_S_L_SEK_TOT_U_M_X_H1_VALFRI_SEK",1000,null,"30674_D71_cmb75_",{"$f":"VLOOKUP(B73,Import!E$1:F$20000,2,FALSE)","v":{"$error":"#N/A"}}]
[{"$f":"IF(ISBLANK(Inm_30674_D72_cmb76_),\"\",$T$74 * Inm_30674_D72_cmb76_)","v":""},"30674_D72_cmb76_","Handel i sven, Lång , Utflöde","VP203'!Inm_30674_D72_cmb76_","32211","S","L","SEK","TOT","U","M","X","H1",{"$f":"VLOOKUP('VP203'!$B$82,FlexDimensioner!$C$1:$D$430,2,FALSE)","v":"VALFRI"},"SEK",{"$f":"VLOOKUP(B74,Import!A$1:B$20000,2,FALSE)","v":{"$error":"#N/A"}},"EJ_GRANSKN",{"$f":"VLOOKUP(S74,Import!A$1:B$20000,2,FALSE)","v":{"$error":"#N/A"}},"32211_S_L_SEK_TOT_U_M_X_H1_VALFRI_SEK",1000,null,"30674_D72_cmb76_",{"$f":"VLOOKUP(B74,Import!E$1:F$20000,2,FALSE)","v":{"$error":"#N/A"}}]
[{"$f":"IF(ISBLANK(Inm_30674_D73_cmb77_),\"\",$T$75 * Inm_30674_D73_cmb77_)","v":""},"30674_D73_cmb77_","Handel i sven, Lång , Utflöde","VP203'!Inm_30674_D73_cmb77_","32211","S","L","SEK","TOT","U","M","X","H1",{"$f":"VLOOKUP('VP203'!$B$83,FlexDimensioner!$C$1:$D$430,2,FALSE)","v":"VALFRI"},"SEK",{"$f":"VLOOKUP(B75,Import!A$1:B$20000,2,FALSE)","v":{"$error":"#N/A"}},"EJ_GRANSKN",{"$f":"VLOOKUP(S75,Import!A$1:B$20000,2,FALSE)","v":{"$error":"#N/A"}},"32211_S_L_SEK_TOT_U_M_X_H1_VALFRI_SEK",1000,null,"30674_D73_cmb77_",{"$f":"VLOOKUP(B75,Import!E$1:F$20000,2,FALSE)","v":{"$error":"#N/A"}}]
[{"$f":"IF(ISBLANK(Inm_30674_D74_cmb78_),\"\",$T$76 * Inm_30674_D74_cmb78_)","v":""},"30674_D74_cmb78_","Handel i sven, Lång , Utflöde","VP203'!Inm_30674_D74_cmb78_","32211","S","L","SEK","TOT","U","M","X","H1",{"$f":"VLOOKUP('VP203'!$B$84,FlexDimensioner!$C$1:$D$430,2,FALSE)","v":"VALFRI"},"SEK",{"$f":"VLOOKUP(B76,Import!A$1:B$20000,2,FALSE)","v":{"$error":"#N/A"}},"EJ_GRANSKN",{"$f":"VLOOKUP(S76,Import!A$1:B$20000,2,FALSE)","v":{"$error":"#N/A"}},"32211_S_L_SEK_TOT_U_M_X_H1_VALFRI_SEK",1000,null,"30674_D74_cmb78_",{"$f":"VLOOKUP(B76,Import!E$1:F$20000,2,FALSE)","v":{"$error":"#N/A"}}]
[{"$f":"IF(ISBLANK(Inm_30674_D76_cmb81_),\"\",$T$77 * Inm_30674_D76_cmb81_)","v":""},"30674_D76_cmb81_","Handel i sven, Lång , Utflöde","VP203'!Inm_30674_D76_cmb81_","32211","S","L","SEK","TOT","U","M","X","H1",{"$f":"VLOOKUP('VP203'!$B$85,FlexDimensioner!$C$1:$D$430,2,FALSE)","v":"VALFRI"},"SEK",{"$f":"VLOOKUP(B77,Import!A$1:B$20000,2,FALSE)","v":{"$error":"#N/A"}},"EJ_GRANSKN",{"$f":"VLOOKUP(S77,Import!A$1:B$20000,2,FALSE)","v":{"$error":"#N/A"}},"32211_S_L_SEK_TOT_U_M_X_H1_VALFRI_SEK",1000,null,"30674_D76_cmb81_",{"$f":"VLOOKUP(B77,Import!E$1:F$20000,2,FALSE)","v":{"$error":"#N/A"}}]
[{"$f":"IF(ISBLANK(Inm_30674_D77_cmb82_),\"\",$T$78 * Inm_30674_D77_cmb82_)","v":""},"30674_D77_cmb82_","Handel i sven, Lång , Utflöde","VP203'!Inm_30674_D77_cmb82_","32211","S","L","SEK","TOT","U","M","X","H1",{"$f":"VLOOKUP('VP203'!$B$86,FlexDimensioner!$C$1:$D$430,2,FALSE)","v":"VALFRI"},"SEK",{"$f":"VLOOKUP(B78,Import!A$1:B$20000,2,FALSE)","v":{"$error":"#N/A"}},"EJ_GRANSKN",{"$f":"VLOOKUP(S78,Import!A$1:B$20000,2,FALSE)","v":{"$error":"#N/A"}},"32211_S_L_SEK_TOT_U_M_X_H1_VALFRI_SEK",1000,null,"30674_D77_cmb82_",{"$f":"VLOOKUP(B78,Import!E$1:F$20000,2,FALSE)","v":{"$error":"#N/A"}}]
[{"$f":"IF(ISBLANK(Inm_30674_D78_cmb83_),\"\",$T$79 * Inm_30674_D78_cmb83_)","v":""},"30674_D78_cmb83_","Handel i sven, Lång , Utflöde","VP203'!Inm_30674_D78_cmb83_","32211","S","L","SEK","TOT","U","M","X","H1",{"$f":"VLOOKUP('VP203'!$B$87,FlexDimensioner!$C$1:$D$430,2,FALSE)","v":"VALFRI"},"SEK",{"$f":"VLOOKUP(B79,Import!A$1:B$20000,2,FALSE)","v":{"$error":"#N/A"}},"EJ_GRANSKN",{"$f":"VLOOKUP(S79,Import!A$1:B$20000,2,FALSE)","v":{"$error":"#N/A"}},"32211_S_L_SEK_TOT_U_M_X_H1_VALFRI_SEK",1000,null,"30674_D78_cmb83_",{"$f":"VLOOKUP(B79,Import!E$1:F$20000,2,FALSE)","v":{"$error":"#N/A"}}]
[{"$f":"IF(ISBLANK(Inm_30674_D79_cmb84_),\"\",$T$80 * Inm_30674_D79_cmb84_)","v":""},"30674_D79_cmb84_","Handel i sven, Lång , Utflöde","VP203'!Inm_30674_D79_cmb84_","32211","S","L","SEK","TOT","U","M","X","H1",{"$f":"VLOOKUP('VP203'!$B$88,FlexDimensioner!$C$1:$D$430,2,FALSE)","v":"VALFRI"},"SEK",{"$f":"VLOOKUP(B80,Import!A$1:B$20000,2,FALSE)","v":{"$error":"#N/A"}},"EJ_GRANSKN",{"$f":"VLOOKUP(S80,Import!A$1:B$20000,2,FALSE)","v":{"$error":"#N/A"}},"32211_S_L_SEK_TOT_U_M_X_H1_VALFRI_SEK",1000,null,"30674_D79_cmb84_",{"$f":"VLOOKUP(B80,Import!E$1:F$20000,2,FALSE)","v":{"$error":"#N/A"}}]
[{"$f":"IF(ISBLANK(Inm_30674_D80_cmb85_),\"\",$T$81 * Inm_30674_D80_cmb85_)","v":""},"30674_D80_cmb85_","Handel i sven, Lång , Utflöde","VP203'!Inm_30674_D80_cmb85_","32211","S","L","SEK","TOT","U","M","X","H1",{"$f":"VLOOKUP('VP203'!$B$89,FlexDimensioner!$C$1:$D$430,2,FALSE)","v":"VALFRI"},"SEK",{"$f":"VLOOKUP(B81,Import!A$1:B$20000,2,FALSE)","v":{"$error":"#N/A"}},"EJ_GRANSKN",{"$f":"VLOOKUP(S81,Import!A$1:B$20000,2,FALSE)","v":{"$error":"#N/A"}},"32211_S_L_SEK_TOT_U_M_X_H1_VALFRI_SEK",1000,null,"30674_D80_cmb85_",{"$f":"VLOOKUP(B81,Import!E$1:F$20000,2,FALSE)","v":{"$error":"#N/A"}}]
[{"$f":"IF(ISBLANK(Inm_30674_D81_cmb86_),\"\",$T$82 * Inm_30674_D81_cmb86_)","v":""},"30674_D81_cmb86_","Handel i sven, Lång , Utflöde","VP203'!Inm_30674_D81_cmb86_","32211","S","L","SEK","TOT","U","M","X","H1",{"$f":"VLOOKUP('VP203'!$B$90,FlexDimensioner!$C$1:$D$430,2,FALSE)","v":"VALFRI"},"SEK",{"$f":"VLOOKUP(B82,Import!A$1:B$20000,2,FALSE)","v":{"$error":"#N/A"}},"EJ_GRANSKN",{"$f":"VLOOKUP(S82,Import!A$1:B$20000,2,FALSE)","v":{"$error":"#N/A"}},"32211_S_L_SEK_TOT_U_M_X_H1_VALFRI_SEK",1000,null,"30674_D81_cmb86_",{"$f":"VLOOKUP(B82,Import!E$1:F$20000,2,FALSE)","v":{"$error":"#N/A"}}]
[{"$f":"IF(ISBLANK(Inm_30674_D82_cmb87_),\"\",$T$83 * Inm_30674_D82_cmb87_)","v":""},"30674_D82_cmb87_","Handel i sven, Lång , Utflöde","VP203'!Inm_30674_D82_cmb87_","32211","S","L","SEK","TOT","U","M","X","H1",{"$f":"VLOOKUP('VP203'!$B$91,FlexDimensioner!$C$1:$D$430,2,FALSE)","v":"VALFRI"},"SEK",{"$f":"VLOOKUP(B83,Import!A$1:B$20000,2,FALSE)","v":{"$error":"#N/A"}},"EJ_GRANSKN",{"$f":"VLOOKUP(S83,Import!A$1:B$20000,2,FALSE)","v":{"$error":"#N/A"}},"32211_S_L_SEK_TOT_U_M_X_H1_VALFRI_SEK",1000,null,"30674_D82_cmb87_",{"$f":"VLOOKUP(B83,Import!E$1:F$20000,2,FALSE)","v":{"$error":"#N/A"}}]
[{"$f":"IF(ISBLANK(Inm_30674_D83_cmb88_),\"\",$T$84 * Inm_30674_D83_cmb88_)","v":""},"30674_D83_cmb88_","Handel i sven, Lång , Utflöde","VP203'!Inm_30674_D83_cmb88_","32211","S","L","SEK","TOT","U","M","X","H1",{"$f":"VLOOKUP('VP203'!$B$92,FlexDimensioner!$C$1:$D$430,2,FALSE)","v":"VALFRI"},"SEK",{"$f":"VLOOKUP(B84,Import!A$1:B$20000,2,FALSE)","v":{"$error":"#N/A"}},"EJ_GRANSKN",{"$f":"VLOOKUP(S84,Import!A$1:B$20000,2,FALSE)","v":{"$error":"#N/A"}},"32211_S_L_SEK_TOT_U_M_X_H1_VALFRI_SEK",1000,null,"30674_D83_cmb88_",{"$f":"VLOOKUP(B84,Import!E$1:F$20000,2,FALSE)","v":{"$error":"#N/A"}}]
[{"$f":"IF(ISBLANK(Inm_30674_D84_cmb89_),\"\",$T$85 * Inm_30674_D84_cmb89_)","v":""},"30674_D84_cmb89_","Handel i sven, Lång , Utflöde","VP203'!Inm_30674_D84_cmb89_","32211","S","L","SEK","TOT","U","M","X","H1",{"$f":"VLOOKUP('VP203'!$B$93,FlexDimensioner!$C$1:$D$430,2,FALSE)","v":"VALFRI"},"SEK",{"$f":"VLOOKUP(B85,Import!A$1:B$20000,2,FALSE)","v":{"$error":"#N/A"}},"EJ_GRANSKN",{"$f":"VLOOKUP(S85,Import!A$1:B$20000,2,FALSE)","v":{"$error":"#N/A"}},"32211_S_L_SEK_TOT_U_M_X_H1_VALFRI_SEK",1000,null,"30674_D84_cmb89_",{"$f":"VLOOKUP(B85,Import!E$1:F$20000,2,FALSE)","v":{"$error":"#N/A"}}]
[{"$f":"IF(ISBLANK(Inm_30674_D85_cmb90_),\"\",$T$86 * Inm_30674_D85_cmb90_)","v":""},"30674_D85_cmb90_","Handel i sven, Lång , Utflöde","VP203'!Inm_30674_D85_cmb90_","32211","S","L","SEK","TOT","U","M","X","H1",{"$f":"VLOOKUP('VP203'!$B$94,FlexDimensioner!$C$1:$D$430,2,FALSE)","v":"VALFRI"},"SEK",{"$f":"VLOOKUP(B86,Import!A$1:B$20000,2,FALSE)","v":{"$error":"#N/A"}},"EJ_GRANSKN",{"$f":"VLOOKUP(S86,Import!A$1:B$20000,2,FALSE)","v":{"$error":"#N/A"}},"32211_S_L_SEK_TOT_U_M_X_H1_VALFRI_SEK",1000,null,"30674_D85_cmb90_",{"$f":"VLOOKUP(B86,Import!E$1:F$20000,2,FALSE)","v":{"$error":"#N/A"}}]
[{"$f":"IF(ISBLANK(Inm_30674_D86_cmb91_),\"\",$T$87 * Inm_30674_D86_cmb91_)","v":""},"30674_D86_cmb91_","Handel i sven, Lång , Utflöde","VP203'!Inm_30674_D86_cmb91_","32211","S","L","SEK","TOT","U","M","X","H1",{"$f":"VLOOKUP('VP203'!$B$95,FlexDimensioner!$C$1:$D$430,2,FALSE)","v":"VALFRI"},"SEK",{"$f":"VLOOKUP(B87,Import!A$1:B$20000,2,FALSE)","v":{"$error":"#N/A"}},"EJ_GRANSKN",{"$f":"VLOOKUP(S87,Import!A$1:B$20000,2,FALSE)","v":{"$error":"#N/A"}},"32211_S_L_SEK_TOT_U_M_X_H1_VALFRI_SEK",1000,null,"30674_D86_cmb91_",{"$f":"VLOOKUP(B87,Import!E$1:F$20000,2,FALSE)","v":{"$error":"#N/A"}}]
[{"$f":"IF(ISBLANK(Inm_30674_D87_cmb92_),\"\",$T$88 * Inm_30674_D87_cmb92_)","v":""},"30674_D87_cmb92_","Handel i sven, Lång , Utflöde","VP203'!Inm_30674_D87_cmb92_","32211","S","L","SEK","TOT","U","M","X","H1",{"$f":"VLOOKUP('VP203'!$B$96,FlexDimensioner!$C$1:$D$430,2,FALSE)","v":"VALFRI"},"SEK",{"$f":"VLOOKUP(B88,Import!A$1:B$20000,2,FALSE)","v":{"$error":"#N/A"}},"EJ_GRANSKN",{"$f":"VLOOKUP(S88,Import!A$1:B$20000,2,FALSE)","v":{"$error":"#N/A"}},"32211_S_L_SEK_TOT_U_M_X_H1_VALFRI_SEK",1000,null,"30674_D87_cmb92_",{"$f":"VLOOKUP(B88,Import!E$1:F$20000,2,FALSE)","v":{"$error":"#N/A"}}]
[{"$f":"IF(ISBLANK(Inm_30674_D88_cmb93_),\"\",$T$89 * Inm_30674_D88_cmb93_)","v":""},"30674_D88_cmb93_","Handel i sven, Lång , Utflöde","VP203'!Inm_30674_D88_cmb93_","32211","S","L","SEK","TOT","U","M","X","H1",{"$f":"VLOOKUP('VP203'!$B$97,FlexDimensioner!$C$1:$D$430,2,FALSE)","v":"VALFRI"},"SEK",{"$f":"VLOOKUP(B89,Import!A$1:B$20000,2,FALSE)","v":{"$error":"#N/A"}},"EJ_GRANSKN",{"$f":"VLOOKUP(S89,Import!A$1:B$20000,2,FALSE)","v":{"$error":"#N/A"}},"32211_S_L_SEK_TOT_U_M_X_H1_VALFRI_SEK",1000,null,"30674_D88_cmb93_",{"$f":"VLOOKUP(B89,Import!E$1:F$20000,2,FALSE)","v":{"$error":"#N/A"}}]
[{"$f":"IF(ISBLANK(Inm_30674_D89_cmb94_),\"\",$T$90 * Inm_30674_D89_cmb94_)","v":""},"30674_D89_cmb94_","Handel i sven, Lång , Utflöde","VP203'!Inm_30674_D89_cmb94_","32211","S","L","SEK","TOT","U","M","X","H1",{"$f":"VLOOKUP('VP203'!$B$98,FlexDimensioner!$C$1:$D$430,2,FALSE)","v":"VALFRI"},"SEK",{"$f":"VLOOKUP(B90,Import!A$1:B$20000,2,FALSE)","v":{"$error":"#N/A"}},"EJ_GRANSKN",{"$f":"VLOOKUP(S90,Import!A$1:B$20000,2,FALSE)","v":{"$error":"#N/A"}},"32211_S_L_SEK_TOT_U_M_X_H1_VALFRI_SEK",1000,null,"30674_D89_cmb94_",{"$f":"VLOOKUP(B90,Import!E$1:F$20000,2,FALSE)","v":{"$error":"#N/A"}}]
[{"$f":"IF(ISBLANK(Inm_30674_D90_cmb95_),\"\",$T$91 * Inm_30674_D90_cmb95_)","v":""},"30674_D90_cmb95_","Handel i sven, Lång , Utflöde","VP203'!Inm_30674_D90_cmb95_","32211","S","L","SEK","TOT","U","M","X","H1",{"$f":"VLOOKUP('VP203'!$B$99,FlexDimensioner!$C$1:$D$430,2,FALSE)","v":"VALFRI"},"SEK",{"$f":"VLOOKUP(B91,Import!A$1:B$20000,2,FALSE)","v":{"$error":"#N/A"}},"EJ_GRANSKN",{"$f":"VLOOKUP(S91,Import!A$1:B$20000,2,FALSE)","v":{"$error":"#N/A"}},"32211_S_L_SEK_TOT_U_M_X_H1_VALFRI_SEK",1000,null,"30674_D90_cmb95_",{"$f":"VLOOKUP(B91,Import!E$1:F$20000,2,FALSE)","v":{"$error":"#N/A"}}]
[{"$f":"IF(ISBLANK(Inm_30674_D91_cmb96_),\"\",$T$92 * Inm_30674_D91_cmb96_)","v":""},"30674_D91_cmb96_","Handel i sven, Lång , Utflöde","VP203'!Inm_30674_D91_cmb96_","32211","S","L","SEK","TOT","U","M","X","H1",{"$f":"VLOOKUP('VP203'!$B$100,FlexDimensioner!$C$1:$D$430,2,FALSE)","v":"VALFRI"},"SEK",{"$f":"VLOOKUP(B92,Import!A$1:B$20000,2,FALSE)","v":{"$error":"#N/A"}},"EJ_GRANSKN",{"$f":"VLOOKUP(S92,Import!A$1:B$20000,2,FALSE)","v":{"$error":"#N/A"}},"32211_S_L_SEK_TOT_U_M_X_H1_VALFRI_SEK",1000,null,"30674_D91_cmb96_",{"$f":"VLOOKUP(B92,Import!E$1:F$20000,2,FALSE)","v":{"$error":"#N/A"}}]
[{"$f":"IF(ISBLANK(Inm_30674_D92_cmb97_),\"\",$T$93 * Inm_30674_D92_cmb97_)","v":""},"30674_D92_cmb97_","Handel i sven, Lång , Utflöde","VP203'!Inm_30674_D92_cmb97_","32211","S","L","SEK","TOT","U","M","X","H1",{"$f":"VLOOKUP('VP203'!$B$101,FlexDimensioner!$C$1:$D$430,2,FALSE)","v":"VALFRI"},"SEK",{"$f":"VLOOKUP(B93,Import!A$1:B$20000,2,FALSE)","v":{"$error":"#N/A"}},"EJ_GRANSKN",{"$f":"VLOOKUP(S93,Import!A$1:B$20000,2,FALSE)","v":{"$error":"#N/A"}},"32211_S_L_SEK_TOT_U_M_X_H1_VALFRI_SEK",1000,null,"30674_D92_cmb97_",{"$f":"VLOOKUP(B93,Import!E$1:F$20000,2,FALSE)","v":{"$error":"#N/A"}}]
[{"$f":"IF(ISBLANK(Inm_30674_D93_cmb98_),\"\",$T$94 * Inm_30674_D93_cmb98_)","v":""},"30674_D93_cmb98_","Handel i sven, Lång , Utflöde","VP203'!Inm_30674_D93_cmb98_","32211","S","L","SEK","TOT","U","M","X","H1",{"$f":"VLOOKUP('VP203'!$B$102,FlexDimensioner!$C$1:$D$430,2,FALSE)","v":"VALFRI"},"SEK",{"$f":"VLOOKUP(B94,Import!A$1:B$20000,2,FALSE)","v":{"$error":"#N/A"}},"EJ_GRANSKN",{"$f":"VLOOKUP(S94,Import!A$1:B$20000,2,FALSE)","v":{"$error":"#N/A"}},"32211_S_L_SEK_TOT_U_M_X_H1_VALFRI_SEK",1000,null,"30674_D93_cmb98_",{"$f":"VLOOKUP(B94,Import!E$1:F$20000,2,FALSE)","v":{"$error":"#N/A"}}]
[{"$f":"IF(ISBLANK(Inm_30674_D94_cmb99_),\"\",$T$95 * Inm_30674_D94_cmb99_)","v":""},"30674_D94_cmb99_","Handel i sven, Lång , Utflöde","VP203'!Inm_30674_D94_cmb99_","32211","S","L","SEK","TOT","U","M","X","H1",{"$f":"VLOOKUP('VP203'!$B$103,FlexDimensioner!$C$1:$D$430,2,FALSE)","v":"VALFRI"},"SEK",{"$f":"VLOOKUP(B95,Import!A$1:B$20000,2,FALSE)","v":{"$error":"#N/A"}},"EJ_GRANSKN",{"$f":"VLOOKUP(S95,Import!A$1:B$20000,2,FALSE)","v":{"$error":"#N/A"}},"32211_S_L_SEK_TOT_U_M_X_H1_VALFRI_SEK",1000,null,"30674_D94_cmb99_",{"$f":"VLOOKUP(B95,Import!E$1:F$20000,2,FALSE)","v":{"$error":"#N/A"}}]
[{"$f":"IF(ISBLANK(Inm_30674_D95_cmb100_),\"\",$T$96 * Inm_30674_D95_cmb100_)","v":""},"30674_D95_cmb100_","Handel i sven, Lång , Utflöde","VP203'!Inm_30674_D95_cmb100_","32211","S","L","SEK","TOT","U","M","X","H1",{"$f":"VLOOKUP('VP203'!$B$104,FlexDimensioner!$C$1:$D$430,2,FALSE)","v":"VALFRI"},"SEK",{"$f":"VLOOKUP(B96,Import!A$1:B$20000,2,FALSE)","v":{"$error":"#N/A"}},"EJ_GRANSKN",{"$f":"VLOOKUP(S96,Import!A$1:B$20000,2,FALSE)","v":{"$error":"#N/A"}},"32211_S_L_SEK_TOT_U_M_X_H1_VALFRI_SEK",1000,null,"30674_D95_cmb100_",{"$f":"VLOOKUP(B96,Import!E$1:F$20000,2,FALSE)","v":{"$error":"#N/A"}}]
[{"$f":"IF(ISBLANK(Inm_30674_D96_cmb101_),\"\",$T$97 * Inm_30674_D96_cmb101_)","v":""},"30674_D96_cmb101_","Handel i sven, Lång , Utflöde","VP203'!Inm_30674_D96_cmb101_","32211","S","L","SEK","TOT","U","M","X","H1",{"$f":"VLOOKUP('VP203'!$B$105,FlexDimensioner!$C$1:$D$430,2,FALSE)","v":"VALFRI"},"SEK",{"$f":"VLOOKUP(B97,Import!A$1:B$20000,2,FALSE)","v":{"$error":"#N/A"}},"EJ_GRANSKN",{"$f":"VLOOKUP(S97,Import!A$1:B$20000,2,FALSE)","v":{"$error":"#N/A"}},"32211_S_L_SEK_TOT_U_M_X_H1_VALFRI_SEK",1000,null,"30674_D96_cmb101_",{"$f":"VLOOKUP(B97,Import!E$1:F$20000,2,FALSE)","v":{"$error":"#N/A"}}]
[{"$f":"IF(ISBLANK(Inm_30674_D97_cmb102_),\"\",$T$98 * Inm_30674_D97_cmb102_)","v":""},"30674_D97_cmb102_","Handel i sven, Lång , Utflöde","VP203'!Inm_30674_D97_cmb102_","32211","S","L","SEK","TOT","U","M","X","H1",{"$f":"VLOOKUP('VP203'!$B$106,FlexDimensioner!$C$1:$D$430,2,FALSE)","v":"VALFRI"},"SEK",{"$f":"VLOOKUP(B98,Import!A$1:B$20000,2,FALSE)","v":{"$error":"#N/A"}},"EJ_GRANSKN",{"$f":"VLOOKUP(S98,Import!A$1:B$20000,2,FALSE)","v":{"$error":"#N/A"}},"32211_S_L_SEK_TOT_U_M_X_H1_VALFRI_SEK",1000,null,"30674_D97_cmb102_",{"$f":"VLOOKUP(B98,Import!E$1:F$20000,2,FALSE)","v":{"$error":"#N/A"}}]
[{"$f":"IF(ISBLANK(Inm_30674_D98_cmb103_),\"\",$T$99 * Inm_30674_D98_cmb103_)","v":""},"30674_D98_cmb103_","Handel i sven, Lång , Utflöde","VP203'!Inm_30674_D98_cmb103_","32211","S","L","SEK","TOT","U","M","X","H1",{"$f":"VLOOKUP('VP203'!$B$107,FlexDimensioner!$C$1:$D$430,2,FALSE)","v":"VALFRI"},"SEK",{"$f":"VLOOKUP(B99,Import!A$1:B$20000,2,FALSE)","v":{"$error":"#N/A"}},"EJ_GRANSKN",{"$f":"VLOOKUP(S99,Import!A$1:B$20000,2,FALSE)","v":{"$error":"#N/A"}},"32211_S_L_SEK_TOT_U_M_X_H1_VALFRI_SEK",1000,null,"30674_D98_cmb103_",{"$f":"VLOOKUP(B99,Import!E$1:F$20000,2,FALSE)","v":{"$error":"#N/A"}}]
[{"$f":"IF(ISBLANK(Inm_30674_D99_cmb104_),\"\",$T$100 * Inm_30674_D99_cmb104_)","v":""},"30674_D99_cmb104_","Handel i sven, Lång , Utflöde","VP203'!Inm_30674_D99_cmb104_","32211","S","L","SEK","TOT","U","M","X","H1",{"$f":"VLOOKUP('VP203'!$B$108,FlexDimensioner!$C$1:$D$430,2,FALSE)","v":"VALFRI"},"SEK",{"$f":"VLOOKUP(B100,Import!A$1:B$20000,2,FALSE)","v":{"$error":"#N/A"}},"EJ_GRANSKN",{"$f":"VLOOKUP(S100,Import!A$1:B$20000,2,FALSE)","v":{"$error":"#N/A"}},"32211_S_L_SEK_TOT_U_M_X_H1_VALFRI_SEK",1000,null,"30674_D99_cmb104_",{"$f":"VLOOKUP(B100,Import!E$1:F$20000,2,FALSE)","v":{"$error":"#N/A"}}]
[{"$f":"IF(ISBLANK(Inm_30674_D100_cmb105_),\"\",$T$101 * Inm_30674_D100_cmb105_)","v":""},"30674_D100_cmb105_","Handel i sven, Lång , Utflöde","VP203'!Inm_30674_D100_cmb105_","32211","S","L","SEK","TOT","U","M","X","H1",{"$f":"VLOOKUP('VP203'!$B$109,FlexDimensioner!$C$1:$D$430,2,FALSE)","v":"VALFRI"},"SEK",{"$f":"VLOOKUP(B101,Import!A$1:B$20000,2,FALSE)","v":{"$error":"#N/A"}},"EJ_GRANSKN",{"$f":"VLOOKUP(S101,Import!A$1:B$20000,2,FALSE)","v":{"$error":"#N/A"}},"32211_S_L_SEK_TOT_U_M_X_H1_VALFRI_SEK",1000,null,"30674_D100_cmb105_",{"$f":"VLOOKUP(B101,Import!E$1:F$20000,2,FALSE)","v":{"$error":"#N/A"}}]
[{"$f":"IF(ISBLANK(Inm_30674_D101_cmb106_),\"\",$T$102 * Inm_30674_D101_cmb106_)","v":""},"30674_D101_cmb106_","Handel i sven, Lång , Utflöde","VP203'!Inm_30674_D101_cmb106_","32211","S","L","SEK","TOT","U","M","X","H1",{"$f":"VLOOKUP('VP203'!$B$110,FlexDimensioner!$C$1:$D$430,2,FALSE)","v":"VALFRI"},"SEK",{"$f":"VLOOKUP(B102,Import!A$1:B$20000,2,FALSE)","v":{"$error":"#N/A"}},"EJ_GRANSKN",{"$f":"VLOOKUP(S102,Import!A$1:B$20000,2,FALSE)","v":{"$error":"#N/A"}},"32211_S_L_SEK_TOT_U_M_X_H1_VALFRI_SEK",1000,null,"30674_D101_cmb106_",{"$f":"VLOOKUP(B102,Import!E$1:F$20000,2,FALSE)","v":{"$error":"#N/A"}}]
[{"$f":"IF(ISBLANK(Inm_30674_D102_cmb107_),\"\",$T$103 * Inm_30674_D102_cmb107_)","v":""},"30674_D102_cmb107_","Handel i sven, Lång , Utflöde","VP203'!Inm_30674_D102_cmb107_","32211","S","L","SEK","TOT","U","M","X","H1",{"$f":"VLOOKUP('VP203'!$B$111,FlexDimensioner!$C$1:$D$430,2,FALSE)","v":"VALFRI"},"SEK",{"$f":"VLOOKUP(B103,Import!A$1:B$20000,2,FALSE)","v":{"$error":"#N/A"}},"EJ_GRANSKN",{"$f":"VLOOKUP(S103,Import!A$1:B$20000,2,FALSE)","v":{"$error":"#N/A"}},"32211_S_L_SEK_TOT_U_M_X_H1_VALFRI_SEK",1000,null,"30674_D102_cmb107_",{"$f":"VLOOKUP(B103,Import!E$1:F$20000,2,FALSE)","v":{"$error":"#N/A"}}]
[{"$f":"IF(ISBLANK(Inm_30674_D103_cmb108_),\"\",$T$104 * Inm_30674_D103_cmb108_)","v":""},"30674_D103_cmb108_","Handel i sven, Lång , Utflöde","VP203'!Inm_30674_D103_cmb108_","32211","S","L","SEK","TOT","U","M","X","H1",{"$f":"VLOOKUP('VP203'!$B$112,FlexDimensioner!$C$1:$D$430,2,FALSE)","v":"VALFRI"},"SEK",{"$f":"VLOOKUP(B104,Import!A$1:B$20000,2,FALSE)","v":{"$error":"#N/A"}},"EJ_GRANSKN",{"$f":"VLOOKUP(S104,Import!A$1:B$20000,2,FALSE)","v":{"$error":"#N/A"}},"32211_S_L_SEK_TOT_U_M_X_H1_VALFRI_SEK",1000,null,"30674_D103_cmb108_",{"$f":"VLOOKUP(B104,Import!E$1:F$20000,2,FALSE)","v":{"$error":"#N/A"}}]
[{"$f":"IF(ISBLANK(Inm_30674_D104_cmb109_),\"\",$T$105 * Inm_30674_D104_cmb109_)","v":""},"30674_D104_cmb109_","Handel i sven, Lång , Utflöde","VP203'!Inm_30674_D104_cmb109_","32211","S","L","SEK","TOT","U","M","X","H1",{"$f":"VLOOKUP('VP203'!$B$113,FlexDimensioner!$C$1:$D$430,2,FALSE)","v":"VALFRI"},"SEK",{"$f":"VLOOKUP(B105,Import!A$1:B$20000,2,FALSE)","v":{"$error":"#N/A"}},"EJ_GRANSKN",{"$f":"VLOOKUP(S105,Import!A$1:B$20000,2,FALSE)","v":{"$error":"#N/A"}},"32211_S_L_SEK_TOT_U_M_X_H1_VALFRI_SEK",1000,null,"30674_D104_cmb109_",{"$f":"VLOOKUP(B105,Import!E$1:F$20000,2,FALSE)","v":{"$error":"#N/A"}}]
[{"$f":"IF(ISBLANK(Inm_30674_D105_cmb111_),\"\",$T$106 * Inm_30674_D105_cmb111_)","v":""},"30674_D105_cmb111_","Handel i sven, Lång , Utflöde","VP203'!Inm_30674_D105_cmb111_","32211","S","L","SEK","TOT","U","M","X","H1",{"$f":"VLOOKUP('VP203'!$B$114,FlexDimensioner!$C$1:$D$430,2,FALSE)","v":"VALFRI"},"SEK",{"$f":"VLOOKUP(B106,Import!A$1:B$20000,2,FALSE)","v":{"$error":"#N/A"}},"EJ_GRANSKN",{"$f":"VLOOKUP(S106,Import!A$1:B$20000,2,FALSE)","v":{"$error":"#N/A"}},"32211_S_L_SEK_TOT_U_M_X_H1_VALFRI_SEK",1000,null,"30674_D105_cmb111_",{"$f":"VLOOKUP(B106,Import!E$1:F$20000,2,FALSE)","v":{"$error":"#N/A"}}]
[{"$f":"IF(ISBLANK(Inm_30674_D106_cmb112_),\"\",$T$107 * Inm_30674_D106_cmb112_)","v":""},"30674_D106_cmb112_","Handel i sven, Lång , Utflöde","VP203'!Inm_30674_D106_cmb112_","32211","S","L","SEK","TOT","U","M","X","H1",{"$f":"VLOOKUP('VP203'!$B$115,FlexDimensioner!$C$1:$D$430,2,FALSE)","v":"VALFRI"},"SEK",{"$f":"VLOOKUP(B107,Import!A$1:B$20000,2,FALSE)","v":{"$error":"#N/A"}},"EJ_GRANSKN",{"$f":"VLOOKUP(S107,Import!A$1:B$20000,2,FALSE)","v":{"$error":"#N/A"}},"32211_S_L_SEK_TOT_U_M_X_H1_VALFRI_SEK",1000,null,"30674_D106_cmb112_",{"$f":"VLOOKUP(B107,Import!E$1:F$20000,2,FALSE)","v":{"$error":"#N/A"}}]
[{"$f":"IF(ISBLANK(Inm_30674_D107_cmb113_),\"\",$T$108 * Inm_30674_D107_cmb113_)","v":""},"30674_D107_cmb113_","Handel i sven, Lång , Utflöde","VP203'!Inm_30674_D107_cmb113_","32211","S","L","SEK","TOT","U","M","X","H1",{"$f":"VLOOKUP('VP203'!$B$116,FlexDimensioner!$C$1:$D$430,2,FALSE)","v":"VALFRI"},"SEK",{"$f":"VLOOKUP(B108,Import!A$1:B$20000,2,FALSE)","v":{"$error":"#N/A"}},"EJ_GRANSKN",{"$f":"VLOOKUP(S108,Import!A$1:B$20000,2,FALSE)","v":{"$error":"#N/A"}},"32211_S_L_SEK_TOT_U_M_X_H1_VALFRI_SEK",1000,null,"30674_D107_cmb113_",{"$f":"VLOOKUP(B108,Import!E$1:F$20000,2,FALSE)","v":{"$error":"#N/A"}}]
[{"$f":"IF(ISBLANK(Inm_30674_D108_cmb114_),\"\",$T$109 * Inm_30674_D108_cmb114_)","v":""},"30674_D108_cmb114_","Handel i sven, Lång , Utflöde","VP203'!Inm_30674_D108_cmb114_","32211","S","L","SEK","TOT","U","M","X","H1",{"$f":"VLOOKUP('VP203'!$B$117,FlexDimensioner!$C$1:$D$430,2,FALSE)","v":"VALFRI"},"SEK",{"$f":"VLOOKUP(B109,Import!A$1:B$20000,2,FALSE)","v":{"$error":"#N/A"}},"EJ_GRANSKN",{"$f":"VLOOKUP(S109,Import!A$1:B$20000,2,FALSE)","v":{"$error":"#N/A"}},"32211_S_L_SEK_TOT_U_M_X_H1_VALFRI_SEK",1000,null,"30674_D108_cmb114_",{"$f":"VLOOKUP(B109,Import!E$1:F$20000,2,FALSE)","v":{"$error":"#N/A"}}]
[{"$f":"IF(ISBLANK(Inm_30674_D109_cmb115_),\"\",$T$110 * Inm_30674_D109_cmb115_)","v":""},"30674_D109_cmb115_","Handel i sven, Lång , Utflöde","VP203'!Inm_30674_D109_cmb115_","32211","S","L","SEK","TOT","U","M","X","H1",{"$f":"VLOOKUP('VP203'!$B$118,FlexDimensioner!$C$1:$D$430,2,FALSE)","v":"VALFRI"},"SEK",{"$f":"VLOOKUP(B110,Import!A$1:B$20000,2,FALSE)","v":{"$error":"#N/A"}},"EJ_GRANSKN",{"$f":"VLOOKUP(S110,Import!A$1:B$20000,2,FALSE)","v":{"$error":"#N/A"}},"32211_S_L_SEK_TOT_U_M_X_H1_VALFRI_SEK",1000,null,"30674_D109_cmb115_",{"$f":"VLOOKUP(B110,Import!E$1:F$20000,2,FALSE)","v":{"$error":"#N/A"}}]
[{"$f":"IF(ISBLANK(Inm_30674_D110_cmb116_),\"\",$T$111 * Inm_30674_D110_cmb116_)","v":""},"30674_D110_cmb116_","Handel i sven, Lång , Utflöde","VP203'!Inm_30674_D110_cmb116_","32211","S","L","SEK","TOT","U","M","X","H1",{"$f":"VLOOKUP('VP203'!$B$119,FlexDimensioner!$C$1:$D$430,2,FALSE)","v":"VALFRI"},"SEK",{"$f":"VLOOKUP(B111,Import!A$1:B$20000,2,FALSE)","v":{"$error":"#N/A"}},"EJ_GRANSKN",{"$f":"VLOOKUP(S111,Import!A$1:B$20000,2,FALSE)","v":{"$error":"#N/A"}},"32211_S_L_SEK_TOT_U_M_X_H1_VALFRI_SEK",1000,null,"30674_D110_cmb116_",{"$f":"VLOOKUP(B111,Import!E$1:F$20000,2,FALSE)","v":{"$error":"#N/A"}}]
[{"$f":"IF(ISBLANK(Inm_30674_D111_cmb117_),\"\",$T$112 * Inm_30674_D111_cmb117_)","v":""},"30674_D111_cmb117_","Handel i sven, Lång , Utflöde","VP203'!Inm_30674_D111_cmb117_","32211","S","L","SEK","TOT","U","M","X","H1",{"$f":"VLOOKUP('VP203'!$B$120,FlexDimensioner!$C$1:$D$430,2,FALSE)","v":"VALFRI"},"SEK",{"$f":"VLOOKUP(B112,Import!A$1:B$20000,2,FALSE)","v":{"$error":"#N/A"}},"EJ_GRANSKN",{"$f":"VLOOKUP(S112,Import!A$1:B$20000,2,FALSE)","v":{"$error":"#N/A"}},"32211_S_L_SEK_TOT_U_M_X_H1_VALFRI_SEK",1000,null,"30674_D111_cmb117_",{"$f":"VLOOKUP(B112,Import!E$1:F$20000,2,FALSE)","v":{"$error":"#N/A"}}]
[{"$f":"IF(ISBLANK(Inm_30674_D112_cmb118_),\"\",$T$113 * Inm_30674_D112_cmb118_)","v":""},"30674_D112_cmb118_","Handel i sven, Lång , Utflöde","VP203'!Inm_30674_D112_cmb118_","32211","S","L","SEK","TOT","U","M","X","H1",{"$f":"VLOOKUP('VP203'!$B$121,FlexDimensioner!$C$1:$D$430,2,FALSE)","v":"VALFRI"},"SEK",{"$f":"VLOOKUP(B113,Import!A$1:B$20000,2,FALSE)","v":{"$error":"#N/A"}},"EJ_GRANSKN",{"$f":"VLOOKUP(S113,Import!A$1:B$20000,2,FALSE)","v":{"$error":"#N/A"}},"32211_S_L_SEK_TOT_U_M_X_H1_VALFRI_SEK",1000,null,"30674_D112_cmb118_",{"$f":"VLOOKUP(B113,Import!E$1:F$20000,2,FALSE)","v":{"$error":"#N/A"}}]
[{"$f":"IF(ISBLANK(Inm_30674_D113_cmb119_),\"\",$T$114 * Inm_30674_D113_cmb119_)","v":""},"30674_D113_cmb119_","Handel i sven, Lång , Utflöde","VP203'!Inm_30674_D113_cmb119_","32211","S","L","SEK","TOT","U","M","X","H1",{"$f":"VLOOKUP('VP203'!$B$122,FlexDimensioner!$C$1:$D$430,2,FALSE)","v":"VALFRI"},"SEK",{"$f":"VLOOKUP(B114,Import!A$1:B$20000,2,FALSE)","v":{"$error":"#N/A"}},"EJ_GRANSKN",{"$f":"VLOOKUP(S114,Import!A$1:B$20000,2,FALSE)","v":{"$error":"#N/A"}},"32211_S_L_SEK_TOT_U_M_X_H1_VALFRI_SEK",1000,null,"30674_D113_cmb119_",{"$f":"VLOOKUP(B114,Import!E$1:F$20000,2,FALSE)","v":{"$error":"#N/A"}}]
[{"$f":"IF(ISBLANK(Inm_30674_D114_cmb120_),\"\",$T$115 * Inm_30674_D114_cmb120_)","v":""},"30674_D114_cmb120_","Handel i sven, Lång , Utflöde","VP203'!Inm_30674_D114_cmb120_","32211","S","L","SEK","TOT","U","M","X","H1",{"$f":"VLOOKUP('VP203'!$B$123,FlexDimensioner!$C$1:$D$430,2,FALSE)","v":"VALFRI"},"SEK",{"$f":"VLOOKUP(B115,Import!A$1:B$20000,2,FALSE)","v":{"$error":"#N/A"}},"EJ_GRANSKN",{"$f":"VLOOKUP(S115,Import!A$1:B$20000,2,FALSE)","v":{"$error":"#N/A"}},"32211_S_L_SEK_TOT_U_M_X_H1_VALFRI_SEK",1000,null,"30674_D114_cmb120_",{"$f":"VLOOKUP(B115,Import!E$1:F$20000,2,FALSE)","v":{"$error":"#N/A"}}]
[{"$f":"IF(ISBLANK(Inm_30674_D115_cmb121_),\"\",$T$116 * Inm_30674_D115_cmb121_)","v":""},"30674_D115_cmb121_","Handel i sven, Lång , Utflöde","VP203'!Inm_30674_D115_cmb121_","32211","S","L","SEK","TOT","U","M","X","H1",{"$f":"VLOOKUP('VP203'!$B$124,FlexDimensioner!$C$1:$D$430,2,FALSE)","v":"VALFRI"},"SEK",{"$f":"VLOOKUP(B116,Import!A$1:B$20000,2,FALSE)","v":{"$error":"#N/A"}},"EJ_GRANSKN",{"$f":"VLOOKUP(S116,Import!A$1:B$20000,2,FALSE)","v":{"$error":"#N/A"}},"32211_S_L_SEK_TOT_U_M_X_H1_VALFRI_SEK",1000,null,"30674_D115_cmb121_",{"$f":"VLOOKUP(B116,Import!E$1:F$20000,2,FALSE)","v":{"$error":"#N/A"}}]
[{"$f":"IF(ISBLANK(Inm_30674_D116_cmb122_),\"\",$T$117 * Inm_30674_D116_cmb122_)","v":""},"30674_D116_cmb122_","Handel i sven, Lång , Utflöde","VP203'!Inm_30674_D116_cmb122_","32211","S","L","SEK","TOT","U","M","X","H1",{"$f":"VLOOKUP('VP203'!$B$125,FlexDimensioner!$C$1:$D$430,2,FALSE)","v":"VALFRI"},"SEK",{"$f":"VLOOKUP(B117,Import!A$1:B$20000,2,FALSE)","v":{"$error":"#N/A"}},"EJ_GRANSKN",{"$f":"VLOOKUP(S117,Import!A$1:B$20000,2,FALSE)","v":{"$error":"#N/A"}},"32211_S_L_SEK_TOT_U_M_X_H1_VALFRI_SEK",1000,null,"30674_D116_cmb122_",{"$f":"VLOOKUP(B117,Import!E$1:F$20000,2,FALSE)","v":{"$error":"#N/A"}}]
[{"$f":"IF(ISBLANK(Inm_30674_D117_cmb123_),\"\",$T$118 * Inm_30674_D117_cmb123_)","v":""},"30674_D117_cmb123_","Handel i sven, Lång , Utflöde","VP203'!Inm_30674_D117_cmb123_","32211","S","L","SEK","TOT","U","M","X","H1",{"$f":"VLOOKUP('VP203'!$B$126,FlexDimensioner!$C$1:$D$430,2,FALSE)","v":"VALFRI"},"SEK",{"$f":"VLOOKUP(B118,Import!A$1:B$20000,2,FALSE)","v":{"$error":"#N/A"}},"EJ_GRANSKN",{"$f":"VLOOKUP(S118,Import!A$1:B$20000,2,FALSE)","v":{"$error":"#N/A"}},"32211_S_L_SEK_TOT_U_M_X_H1_VALFRI_SEK",1000,null,"30674_D117_cmb123_",{"$f":"VLOOKUP(B118,Import!E$1:F$20000,2,FALSE)","v":{"$error":"#N/A"}}]
[{"$f":"IF(ISBLANK(Inm_30674_D118_cmb124_),\"\",$T$119 * Inm_30674_D118_cmb124_)","v":""},"30674_D118_cmb124_","Handel i sven, Lång , Utflöde","VP203'!Inm_30674_D118_cmb124_","32211","S","L","SEK","TOT","U","M","X","H1",{"$f":"VLOOKUP('VP203'!$B$127,FlexDimensioner!$C$1:$D$430,2,FALSE)","v":"VALFRI"},"SEK",{"$f":"VLOOKUP(B119,Import!A$1:B$20000,2,FALSE)","v":{"$error":"#N/A"}},"EJ_GRANSKN",{"$f":"VLOOKUP(S119,Import!A$1:B$20000,2,FALSE)","v":{"$error":"#N/A"}},"32211_S_L_SEK_TOT_U_M_X_H1_VALFRI_SEK",1000,null,"30674_D118_cmb124_",{"$f":"VLOOKUP(B119,Import!E$1:F$20000,2,FALSE)","v":{"$error":"#N/A"}}]
[{"$f":"IF(ISBLANK(Inm_30674_D119_cmb125_),\"\",$T$120 * Inm_30674_D119_cmb125_)","v":""},"30674_D119_cmb125_","Handel i sven, Lång , Utflöde","VP203'!Inm_30674_D119_cmb125_","32211","S","L","SEK","TOT","U","M","X","H1",{"$f":"VLOOKUP('VP203'!$B$128,FlexDimensioner!$C$1:$D$430,2,FALSE)","v":"VALFRI"},"SEK",{"$f":"VLOOKUP(B120,Import!A$1:B$20000,2,FALSE)","v":{"$error":"#N/A"}},"EJ_GRANSKN",{"$f":"VLOOKUP(S120,Import!A$1:B$20000,2,FALSE)","v":{"$error":"#N/A"}},"32211_S_L_SEK_TOT_U_M_X_H1_VALFRI_SEK",1000,null,"30674_D119_cmb125_",{"$f":"VLOOKUP(B120,Import!E$1:F$20000,2,FALSE)","v":{"$error":"#N/A"}}]
[{"$f":"IF(ISBLANK(Inm_30674_D120_cmb126_),\"\",$T$121 * Inm_30674_D120_cmb126_)","v":""},"30674_D120_cmb126_","Handel i sven, Lång , Utflöde","VP203'!Inm_30674_D120_cmb126_","32211","S","L","SEK","TOT","U","M","X","H1",{"$f":"VLOOKUP('VP203'!$B$129,FlexDimensioner!$C$1:$D$430,2,FALSE)","v":"VALFRI"},"SEK",{"$f":"VLOOKUP(B121,Import!A$1:B$20000,2,FALSE)","v":{"$error":"#N/A"}},"EJ_GRANSKN",{"$f":"VLOOKUP(S121,Import!A$1:B$20000,2,FALSE)","v":{"$error":"#N/A"}},"32211_S_L_SEK_TOT_U_M_X_H1_VALFRI_SEK",1000,null,"30674_D120_cmb126_",{"$f":"VLOOKUP(B121,Import!E$1:F$20000,2,FALSE)","v":{"$error":"#N/A"}}]
[{"$f":"IF(ISBLANK(Inm_30674_D121_cmb127_),\"\",$T$122 * Inm_30674_D121_cmb127_)","v":""},"30674_D121_cmb127_","Handel i sven, Lång , Utflöde","VP203'!Inm_30674_D121_cmb127_","32211","S","L","SEK","TOT","U","M","X","H1",{"$f":"VLOOKUP('VP203'!$B$130,FlexDimensioner!$C$1:$D$430,2,FALSE)","v":"VALFRI"},"SEK",{"$f":"VLOOKUP(B122,Import!A$1:B$20000,2,FALSE)","v":{"$error":"#N/A"}},"EJ_GRANSKN",{"$f":"VLOOKUP(S122,Import!A$1:B$20000,2,FALSE)","v":{"$error":"#N/A"}},"32211_S_L_SEK_TOT_U_M_X_H1_VALFRI_SEK",1000,null,"30674_D121_cmb127_",{"$f":"VLOOKUP(B122,Import!E$1:F$20000,2,FALSE)","v":{"$error":"#N/A"}}]
[{"$f":"IF(ISBLANK(Inm_30674_D122_cmb128_),\"\",$T$123 * Inm_30674_D122_cmb128_)","v":""},"30674_D122_cmb128_","Handel i sven, Lång , Utflöde","VP203'!Inm_30674_D122_cmb128_","32211","S","L","SEK","TOT","U","M","X","H1",{"$f":"VLOOKUP('VP203'!$B$131,FlexDimensioner!$C$1:$D$430,2,FALSE)","v":"VALFRI"},"SEK",{"$f":"VLOOKUP(B123,Import!A$1:B$20000,2,FALSE)","v":{"$error":"#N/A"}},"EJ_GRANSKN",{"$f":"VLOOKUP(S123,Import!A$1:B$20000,2,FALSE)","v":{"$error":"#N/A"}},"32211_S_L_SEK_TOT_U_M_X_H1_VALFRI_SEK",1000,null,"30674_D122_cmb128_",{"$f":"VLOOKUP(B123,Import!E$1:F$20000,2,FALSE)","v":{"$error":"#N/A"}}]
[{"$f":"IF(ISBLANK(Inm_30674_D123_cmb129_),\"\",$T$124 * Inm_30674_D123_cmb129_)","v":""},"30674_D123_cmb129_","Handel i sven, Lång , Utflöde","VP203'!Inm_30674_D123_cmb129_","32211","S","L","SEK","TOT","U","M","X","H1",{"$f":"VLOOKUP('VP203'!$B$132,FlexDimensioner!$C$1:$D$430,2,FALSE)","v":"VALFRI"},"SEK",{"$f":"VLOOKUP(B124,Import!A$1:B$20000,2,FALSE)","v":{"$error":"#N/A"}},"EJ_GRANSKN",{"$f":"VLOOKUP(S124,Import!A$1:B$20000,2,FALSE)","v":{"$error":"#N/A"}},"32211_S_L_SEK_TOT_U_M_X_H1_VALFRI_SEK",1000,null,"30674_D123_cmb129_",{"$f":"VLOOKUP(B124,Import!E$1:F$20000,2,FALSE)","v":{"$error":"#N/A"}}]
[{"$f":"IF(ISBLANK(Inm_30674_D124_cmb130_),\"\",$T$125 * Inm_30674_D124_cmb130_)","v":""},"30674_D124_cmb130_","Handel i sven, Lång , Utflöde","VP203'!Inm_30674_D124_cmb130_","32211","S","L","SEK","TOT","U","M","X","H1",{"$f":"VLOOKUP('VP203'!$B$133,FlexDimensioner!$C$1:$D$430,2,FALSE)","v":"VALFRI"},"SEK",{"$f":"VLOOKUP(B125,Import!A$1:B$20000,2,FALSE)","v":{"$error":"#N/A"}},"EJ_GRANSKN",{"$f":"VLOOKUP(S125,Import!A$1:B$20000,2,FALSE)","v":{"$error":"#N/A"}},"32211_S_L_SEK_TOT_U_M_X_H1_VALFRI_SEK",1000,null,"30674_D124_cmb130_",{"$f":"VLOOKUP(B125,Import!E$1:F$20000,2,FALSE)","v":{"$error":"#N/A"}}]
[{"$f":"IF(ISBLANK(Inm_30674_D125_cmb131_),\"\",$T$126 * Inm_30674_D125_cmb131_)","v":""},"30674_D125_cmb131_","Handel i sven, Lång , Utflöde","VP203'!Inm_30674_D125_cmb131_","32211","S","L","SEK","TOT","U","M","X","H1",{"$f":"VLOOKUP('VP203'!$B$134,FlexDimensioner!$C$1:$D$430,2,FALSE)","v":"VALFRI"},"SEK",{"$f":"VLOOKUP(B126,Import!A$1:B$20000,2,FALSE)","v":{"$error":"#N/A"}},"EJ_GRANSKN",{"$f":"VLOOKUP(S126,Import!A$1:B$20000,2,FALSE)","v":{"$error":"#N/A"}},"32211_S_L_SEK_TOT_U_M_X_H1_VALFRI_SEK",1000,null,"30674_D125_cmb131_",{"$f":"VLOOKUP(B126,Import!E$1:F$20000,2,FALSE)","v":{"$error":"#N/A"}}]
[{"$f":"IF(ISBLANK(Inm_30674_D126_cmb132_),\"\",$T$127 * Inm_30674_D126_cmb132_)","v":""},"30674_D126_cmb132_","Handel i sven, Lång , Utflöde","VP203'!Inm_30674_D126_cmb132_","32211","S","L","SEK","TOT","U","M","X","H1",{"$f":"VLOOKUP('VP203'!$B$135,FlexDimensioner!$C$1:$D$430,2,FALSE)","v":"VALFRI"},"SEK",{"$f":"VLOOKUP(B127,Import!A$1:B$20000,2,FALSE)","v":{"$error":"#N/A"}},"EJ_GRANSKN",{"$f":"VLOOKUP(S127,Import!A$1:B$20000,2,FALSE)","v":{"$error":"#N/A"}},"32211_S_L_SEK_TOT_U_M_X_H1_VALFRI_SEK",1000,null,"30674_D126_cmb132_",{"$f":"VLOOKUP(B127,Import!E$1:F$20000,2,FALSE)","v":{"$error":"#N/A"}}]
[{"$f":"IF(ISBLANK(Inm_30674_D127_cmb133_),\"\",$T$128 * Inm_30674_D127_cmb133_)","v":""},"30674_D127_cmb133_","Handel i sven, Lång , Utflöde","VP203'!Inm_30674_D127_cmb133_","32211","S","L","SEK","TOT","U","M","X","H1",{"$f":"VLOOKUP('VP203'!$B$136,FlexDimensioner!$C$1:$D$430,2,FALSE)","v":"VALFRI"},"SEK",{"$f":"VLOOKUP(B128,Import!A$1:B$20000,2,FALSE)","v":{"$error":"#N/A"}},"EJ_GRANSKN",{"$f":"VLOOKUP(S128,Import!A$1:B$20000,2,FALSE)","v":{"$error":"#N/A"}},"32211_S_L_SEK_TOT_U_M_X_H1_VALFRI_SEK",1000,null,"30674_D127_cmb133_",{"$f":"VLOOKUP(B128,Import!E$1:F$20000,2,FALSE)","v":{"$error":"#N/A"}}]
[{"$f":"IF(ISBLANK(Inm_30674_D128_cmb134_),\"\",$T$129 * Inm_30674_D128_cmb134_)","v":""},"30674_D128_cmb134_","Handel i sven, Lång , Utflöde","VP203'!Inm_30674_D128_cmb134_","32211","S","L","SEK","TOT","U","M","X","H1",{"$f":"VLOOKUP('VP203'!$B$137,FlexDimensioner!$C$1:$D$430,2,FALSE)","v":"VALFRI"},"SEK",{"$f":"VLOOKUP(B129,Import!A$1:B$20000,2,FALSE)","v":{"$error":"#N/A"}},"EJ_GRANSKN",{"$f":"VLOOKUP(S129,Import!A$1:B$20000,2,FALSE)","v":{"$error":"#N/A"}},{"$f":"CONCATENATE(E129,\"_\",F129,\"_\",G129,\"_\",H129,\"_\",I129,\"_\",J129,\"_\",K129,\"_\",L129,\"_\",M129,\"_\",N129,\"_\",O129)","v":"32211_S_L_SEK_TOT_U_M_X_H1_VALFRI_SEK"},1000,null,"30674_D128_cmb134_",{"$f":"VLOOKUP(B129,Import!E$1:F$20000,2,FALSE)","v":{"$error":"#N/A"}}]
[{"$f":"IF(ISBLANK(Inm_30674_D129_cmb135_),\"\",$T$130 * Inm_30674_D129_cmb135_)","v":""},"30674_D129_cmb135_","Handel i sven, Lång , Utflöde","VP203'!Inm_30674_D129_cmb135_","32211","S","L","SEK","TOT","U","M","X","H1",{"$f":"VLOOKUP('VP203'!$B$138,FlexDimensioner!$C$1:$D$430,2,FALSE)","v":"VALFRI"},"SEK",{"$f":"VLOOKUP(B130,Import!A$1:B$20000,2,FALSE)","v":{"$error":"#N/A"}},"EJ_GRANSKN",{"$f":"VLOOKUP(S130,Import!A$1:B$20000,2,FALSE)","v":{"$error":"#N/A"}},"32211_S_L_SEK_TOT_U_M_X_H1_VALFRI_SEK",1000,null,"30674_D129_cmb135_",{"$f":"VLOOKUP(B130,Import!E$1:F$20000,2,FALSE)","v":{"$error":"#N/A"}}]
[{"$f":"IF(ISBLANK(Inm_30674_D130_cmb136_),\"\",$T$131 * Inm_30674_D130_cmb136_)","v":""},"30674_D130_cmb136_","Handel i sven, Lång , Utflöde","VP203'!Inm_30674_D130_cmb136_","32211","S","L","SEK","TOT","U","M","X","H1",{"$f":"VLOOKUP('VP203'!$B$139,FlexDimensioner!$C$1:$D$430,2,FALSE)","v":"VALFRI"},"SEK",{"$f":"VLOOKUP(B131,Import!A$1:B$20000,2,FALSE)","v":{"$error":"#N/A"}},"EJ_GRANSKN",{"$f":"VLOOKUP(S131,Import!A$1:B$20000,2,FALSE)","v":{"$error":"#N/A"}},"32211_S_L_SEK_TOT_U_M_X_H1_VALFRI_SEK",1000,null,"30674_D130_cmb136_",{"$f":"VLOOKUP(B131,Import!E$1:F$20000,2,FALSE)","v":{"$error":"#N/A"}}]
[{"$f":"IF(ISBLANK(Inm_30674_D131_cmb137_),\"\",$T$132 * Inm_30674_D131_cmb137_)","v":""},"30674_D131_cmb137_","Handel i sven, Lång , Utflöde","VP203'!Inm_30674_D131_cmb137_","32211","S","L","SEK","TOT","U","M","X","H1",{"$f":"VLOOKUP('VP203'!$B$140,FlexDimensioner!$C$1:$D$430,2,FALSE)","v":"VALFRI"},"SEK",{"$f":"VLOOKUP(B132,Import!A$1:B$20000,2,FALSE)","v":{"$error":"#N/A"}},"EJ_GRANSKN",{"$f":"VLOOKUP(S132,Import!A$1:B$20000,2,FALSE)","v":{"$error":"#N/A"}},"32211_S_L_SEK_TOT_U_M_X_H1_VALFRI_SEK",1000,null,"30674_D131_cmb137_",{"$f":"VLOOKUP(B132,Import!E$1:F$20000,2,FALSE)","v":{"$error":"#N/A"}}]
[{"$f":"IF(ISBLANK(Inm_30674_D132_cmb138_),\"\",$T$133 * Inm_30674_D132_cmb138_)","v":""},"30674_D132_cmb138_","Handel i sven, Lång , Utflöde","VP203'!Inm_30674_D132_cmb138_","32211","S","L","SEK","TOT","U","M","X","H1",{"$f":"VLOOKUP('VP203'!$B$141,FlexDimensioner!$C$1:$D$430,2,FALSE)","v":"VALFRI"},"SEK",{"$f":"VLOOKUP(B133,Import!A$1:B$20000,2,FALSE)","v":{"$error":"#N/A"}},"EJ_GRANSKN",{"$f":"VLOOKUP(S133,Import!A$1:B$20000,2,FALSE)","v":{"$error":"#N/A"}},"32211_S_L_SEK_TOT_U_M_X_H1_VALFRI_SEK",1000,null,"30674_D132_cmb138_",{"$f":"VLOOKUP(B133,Import!E$1:F$20000,2,FALSE)","v":{"$error":"#N/A"}}]
[{"$f":"IF(ISBLANK(Inm_30674_D133_cmb139_),\"\",$T$134 * Inm_30674_D133_cmb139_)","v":""},"30674_D133_cmb139_","Handel i sven, Lång , Utflöde","VP203'!Inm_30674_D133_cmb139_","32211","S","L","SEK","TOT","U","M","X","H1",{"$f":"VLOOKUP('VP203'!$B$142,FlexDimensioner!$C$1:$D$430,2,FALSE)","v":"VALFRI"},"SEK",{"$f":"VLOOKUP(B134,Import!A$1:B$20000,2,FALSE)","v":{"$error":"#N/A"}},"EJ_GRANSKN",{"$f":"VLOOKUP(S134,Import!A$1:B$20000,2,FALSE)","v":{"$error":"#N/A"}},"32211_S_L_SEK_TOT_U_M_X_H1_VALFRI_SEK",1000,null,"30674_D133_cmb139_",{"$f":"VLOOKUP(B134,Import!E$1:F$20000,2,FALSE)","v":{"$error":"#N/A"}}]
[{"$f":"IF(ISBLANK(Inm_30674_D134_cmb140_),\"\",$T$135 * Inm_30674_D134_cmb140_)","v":""},"30674_D134_cmb140_","Handel i sven, Lång , Utflöde","VP203'!Inm_30674_D134_cmb140_","32211","S","L","SEK","TOT","U","M","X","H1",{"$f":"VLOOKUP('VP203'!$B$143,FlexDimensioner!$C$1:$D$430,2,FALSE)","v":"VALFRI"},"SEK",{"$f":"VLOOKUP(B135,Import!A$1:B$20000,2,FALSE)","v":{"$error":"#N/A"}},"EJ_GRANSKN",{"$f":"VLOOKUP(S135,Import!A$1:B$20000,2,FALSE)","v":{"$error":"#N/A"}},"32211_S_L_SEK_TOT_U_M_X_H1_VALFRI_SEK",1000,null,"30674_D134_cmb140_",{"$f":"VLOOKUP(B135,Import!E$1:F$20000,2,FALSE)","v":{"$error":"#N/A"}}]
[{"$f":"IF(ISBLANK(Inm_30674_D135_cmb141_),\"\",$T$136 * Inm_30674_D135_cmb141_)","v":""},"30674_D135_cmb141_","Handel i sven, Lång , Utflöde","VP203'!Inm_30674_D135_cmb141_","32211","S","L","SEK","TOT","U","M","X","H1",{"$f":"VLOOKUP('VP203'!$B$144,FlexDimensioner!$C$1:$D$430,2,FALSE)","v":"VALFRI"},"SEK",{"$f":"VLOOKUP(B136,Import!A$1:B$20000,2,FALSE)","v":{"$error":"#N/A"}},"EJ_GRANSKN",{"$f":"VLOOKUP(S136,Import!A$1:B$20000,2,FALSE)","v":{"$error":"#N/A"}},"32211_S_L_SEK_TOT_U_M_X_H1_VALFRI_SEK",1000,null,"30674_D135_cmb141_",{"$f":"VLOOKUP(B136,Import!E$1:F$20000,2,FALSE)","v":{"$error":"#N/A"}}]
[{"$f":"IF(ISBLANK(Inm_30674_D136_cmb142_),\"\",$T$137 * Inm_30674_D136_cmb142_)","v":""},"30674_D136_cmb142_","Handel i sven, Lång , Utflöde","VP203'!Inm_30674_D136_cmb142_","32211","S","L","SEK","TOT","U","M","X","H1",{"$f":"VLOOKUP('VP203'!$B$145,FlexDimensioner!$C$1:$D$430,2,FALSE)","v":"VALFRI"},"SEK",{"$f":"VLOOKUP(B137,Import!A$1:B$20000,2,FALSE)","v":{"$error":"#N/A"}},"EJ_GRANSKN",{"$f":"VLOOKUP(S137,Import!A$1:B$20000,2,FALSE)","v":{"$error":"#N/A"}},"32211_S_L_SEK_TOT_U_M_X_H1_VALFRI_SEK",1000,null,"30674_D136_cmb142_",{"$f":"VLOOKUP(B137,Import!E$1:F$20000,2,FALSE)","v":{"$error":"#N/A"}}]
[{"$f":"IF(ISBLANK(Inm_30674_D137_cmb143_),\"\",$T$138 * Inm_30674_D137_cmb143_)","v":""},"30674_D137_cmb143_","Handel i sven, Lång , Utflöde","VP203'!Inm_30674_D137_cmb143_","32211","S","L","SEK","TOT","U","M","X","H1",{"$f":"VLOOKUP('VP203'!$B$146,FlexDimensioner!$C$1:$D$430,2,FALSE)","v":"VALFRI"},"SEK",{"$f":"VLOOKUP(B138,Import!A$1:B$20000,2,FALSE)","v":{"$error":"#N/A"}},"EJ_GRANSKN",{"$f":"VLOOKUP(S138,Import!A$1:B$20000,2,FALSE)","v":{"$error":"#N/A"}},"32211_S_L_SEK_TOT_U_M_X_H1_VALFRI_SEK",1000,null,"30674_D137_cmb143_",{"$f":"VLOOKUP(B138,Import!E$1:F$20000,2,FALSE)","v":{"$error":"#N/A"}}]
[{"$f":"IF(ISBLANK(Inm_30674_D138_cmb144_),\"\",$T$139 * Inm_30674_D138_cmb144_)","v":""},"30674_D138_cmb144_","Handel i sven, Lång , Utflöde","VP203'!Inm_30674_D138_cmb144_","32211","S","L","SEK","TOT","U","M","X","H1",{"$f":"VLOOKUP('VP203'!$B$147,FlexDimensioner!$C$1:$D$430,2,FALSE)","v":"VALFRI"},"SEK",{"$f":"VLOOKUP(B139,Import!A$1:B$20000,2,FALSE)","v":{"$error":"#N/A"}},"EJ_GRANSKN",{"$f":"VLOOKUP(S139,Import!A$1:B$20000,2,FALSE)","v":{"$error":"#N/A"}},"32211_S_L_SEK_TOT_U_M_X_H1_VALFRI_SEK",1000,null,"30674_D138_cmb144_",{"$f":"VLOOKUP(B139,Import!E$1:F$20000,2,FALSE)","v":{"$error":"#N/A"}}]
[{"$f":"IF(ISBLANK(Inm_30674_D139_cmb145_),\"\",$T$140 * Inm_30674_D139_cmb145_)","v":""},"30674_D139_cmb145_","Handel i sven, Lång , Utflöde","VP203'!Inm_30674_D139_cmb145_","32211","S","L","SEK","TOT","U","M","X","H1",{"$f":"VLOOKUP('VP203'!$B$148,FlexDimensioner!$C$1:$D$430,2,FALSE)","v":"VALFRI"},"SEK",{"$f":"VLOOKUP(B140,Import!A$1:B$20000,2,FALSE)","v":{"$error":"#N/A"}},"EJ_GRANSKN",{"$f":"VLOOKUP(S140,Import!A$1:B$20000,2,FALSE)","v":{"$error":"#N/A"}},"32211_S_L_SEK_TOT_U_M_X_H1_VALFRI_SEK",1000,null,"30674_D139_cmb145_",{"$f":"VLOOKUP(B140,Import!E$1:F$20000,2,FALSE)","v":{"$error":"#N/A"}}]
[{"$f":"IF(ISBLANK(Inm_30674_D140_cmb146_),\"\",$T$141 * Inm_30674_D140_cmb146_)","v":""},"30674_D140_cmb146_","Handel i sven, Lång , Utflöde","VP203'!Inm_30674_D140_cmb146_","32211","S","L","SEK","TOT","U","M","X","H1",{"$f":"VLOOKUP('VP203'!$B$149,FlexDimensioner!$C$1:$D$430,2,FALSE)","v":"VALFRI"},"SEK",{"$f":"VLOOKUP(B141,Import!A$1:B$20000,2,FALSE)","v":{"$error":"#N/A"}},"EJ_GRANSKN",{"$f":"VLOOKUP(S141,Import!A$1:B$20000,2,FALSE)","v":{"$error":"#N/A"}},"32211_S_L_SEK_TOT_U_M_X_H1_VALFRI_SEK",1000,null,"30674_D140_cmb146_",{"$f":"VLOOKUP(B141,Import!E$1:F$20000,2,FALSE)","v":{"$error":"#N/A"}}]
[{"$f":"IF(ISBLANK(Inm_30674_D141_cmb147_),\"\",$T$142 * Inm_30674_D141_cmb147_)","v":""},"30674_D141_cmb147_","Handel i sven, Lång , Utflöde","VP203'!Inm_30674_D141_cmb147_","32211","S","L","SEK","TOT","U","M","X","H1",{"$f":"VLOOKUP('VP203'!$B$150,FlexDimensioner!$C$1:$D$430,2,FALSE)","v":"VALFRI"},"SEK",{"$f":"VLOOKUP(B142,Import!A$1:B$20000,2,FALSE)","v":{"$error":"#N/A"}},"EJ_GRANSKN",{"$f":"VLOOKUP(S142,Import!A$1:B$20000,2,FALSE)","v":{"$error":"#N/A"}},"32211_S_L_SEK_TOT_U_M_X_H1_VALFRI_SEK",1000,null,"30674_D141_cmb147_",{"$f":"VLOOKUP(B142,Import!E$1:F$20000,2,FALSE)","v":{"$error":"#N/A"}}]
[{"$f":"IF(ISBLANK(Inm_30674_D142_cmb148_),\"\",$T$143 * Inm_30674_D142_cmb148_)","v":""},"30674_D142_cmb148_","Handel i sven, Lång , Utflöde","VP203'!Inm_30674_D142_cmb148_","32211","S","L","SEK","TOT","U","M","X","H1",{"$f":"VLOOKUP('VP203'!$B$151,FlexDimensioner!$C$1:$D$430,2,FALSE)","v":"VALFRI"},"SEK",{"$f":"VLOOKUP(B143,Import!A$1:B$20000,2,FALSE)","v":{"$error":"#N/A"}},"EJ_GRANSKN",{"$f":"VLOOKUP(S143,Import!A$1:B$20000,2,FALSE)","v":{"$error":"#N/A"}},"32211_S_L_SEK_TOT_U_M_X_H1_VALFRI_SEK",1000,null,"30674_D142_cmb148_",{"$f":"VLOOKUP(B143,Import!E$1:F$20000,2,FALSE)","v":{"$error":"#N/A"}}]
[{"$f":"IF(ISBLANK(Inm_30674_D143_cmb149_),\"\",$T$144 * Inm_30674_D143_cmb149_)","v":""},"30674_D143_cmb149_","Handel i sven, Lång , Utflöde","VP203'!Inm_30674_D143_cmb149_","32211","S","L","SEK","TOT","U","M","X","H1",{"$f":"VLOOKUP('VP203'!$B$152,FlexDimensioner!$C$1:$D$430,2,FALSE)","v":"VALFRI"},"SEK",{"$f":"VLOOKUP(B144,Import!A$1:B$20000,2,FALSE)","v":{"$error":"#N/A"}},"EJ_GRANSKN",{"$f":"VLOOKUP(S144,Import!A$1:B$20000,2,FALSE)","v":{"$error":"#N/A"}},"32211_S_L_SEK_TOT_U_M_X_H1_VALFRI_SEK",1000,null,"30674_D143_cmb149_",{"$f":"VLOOKUP(B144,Import!E$1:F$20000,2,FALSE)","v":{"$error":"#N/A"}}]
[{"$f":"IF(ISBLANK(Inm_30674_D144_cmb150_),\"\",$T$145 * Inm_30674_D144_cmb150_)","v":""},"30674_D144_cmb150_","Handel i sven, Lång , Utflöde","VP203'!Inm_30674_D144_cmb150_","32211","S","L","SEK","TOT","U","M","X","H1",{"$f":"VLOOKUP('VP203'!$B$153,FlexDimensioner!$C$1:$D$430,2,FALSE)","v":"VALFRI"},"SEK",{"$f":"VLOOKUP(B145,Import!A$1:B$20000,2,FALSE)","v":{"$error":"#N/A"}},"EJ_GRANSKN",{"$f":"VLOOKUP(S145,Import!A$1:B$20000,2,FALSE)","v":{"$error":"#N/A"}},"32211_S_L_SEK_TOT_U_M_X_H1_VALFRI_SEK",1000,null,"30674_D144_cmb150_",{"$f":"VLOOKUP(B145,Import!E$1:F$20000,2,FALSE)","v":{"$error":"#N/A"}}]
[{"$f":"IF(ISBLANK(Inm_30674_D145_cmb151_),\"\",$T$146 * Inm_30674_D145_cmb151_)","v":""},"30674_D145_cmb151_","Handel i sven, Lång , Utflöde","VP203'!Inm_30674_D145_cmb151_","32211","S","L","SEK","TOT","U","M","X","H1",{"$f":"VLOOKUP('VP203'!$B$154,FlexDimensioner!$C$1:$D$430,2,FALSE)","v":"VALFRI"},"SEK",{"$f":"VLOOKUP(B146,Import!A$1:B$20000,2,FALSE)","v":{"$error":"#N/A"}},"EJ_GRANSKN",{"$f":"VLOOKUP(S146,Import!A$1:B$20000,2,FALSE)","v":{"$error":"#N/A"}},"32211_S_L_SEK_TOT_U_M_X_H1_VALFRI_SEK",1000,null,"30674_D145_cmb151_",{"$f":"VLOOKUP(B146,Import!E$1:F$20000,2,FALSE)","v":{"$error":"#N/A"}}]
[{"$f":"IF(ISBLANK(Inm_30674_D146_cmb152_),\"\",$T$147 * Inm_30674_D146_cmb152_)","v":""},"30674_D146_cmb152_","Handel i sven, Lång , Utflöde","VP203'!Inm_30674_D146_cmb152_","32211","S","L","SEK","TOT","U","M","X","H1",{"$f":"VLOOKUP('VP203'!$B$155,FlexDimensioner!$C$1:$D$430,2,FALSE)","v":"VALFRI"},"SEK",{"$f":"VLOOKUP(B147,Import!A$1:B$20000,2,FALSE)","v":{"$error":"#N/A"}},"EJ_GRANSKN",{"$f":"VLOOKUP(S147,Import!A$1:B$20000,2,FALSE)","v":{"$error":"#N/A"}},"32211_S_L_SEK_TOT_U_M_X_H1_VALFRI_SEK",1000,null,"30674_D146_cmb152_",{"$f":"VLOOKUP(B147,Import!E$1:F$20000,2,FALSE)","v":{"$error":"#N/A"}}]
[{"$f":"IF(ISBLANK(Inm_30674_D147_cmb153_),\"\",$T$148 * Inm_30674_D147_cmb153_)","v":""},"30674_D147_cmb153_","Handel i sven, Lång , Utflöde","VP203'!Inm_30674_D147_cmb153_","32211","S","L","SEK","TOT","U","M","X","H1",{"$f":"VLOOKUP('VP203'!$B$156,FlexDimensioner!$C$1:$D$430,2,FALSE)","v":"VALFRI"},"SEK",{"$f":"VLOOKUP(B148,Import!A$1:B$20000,2,FALSE)","v":{"$error":"#N/A"}},"EJ_GRANSKN",{"$f":"VLOOKUP(S148,Import!A$1:B$20000,2,FALSE)","v":{"$error":"#N/A"}},"32211_S_L_SEK_TOT_U_M_X_H1_VALFRI_SEK",1000,null,"30674_D147_cmb153_",{"$f":"VLOOKUP(B148,Import!E$1:F$20000,2,FALSE)","v":{"$error":"#N/A"}}]
[{"$f":"IF(ISBLANK(Inm_30674_D148_cmb154_),\"\",$T$149 * Inm_30674_D148_cmb154_)","v":""},"30674_D148_cmb154_","Handel i sven, Lång , Utflöde","VP203'!Inm_30674_D148_cmb154_","32211","S","L","SEK","TOT","U","M","X","H1",{"$f":"VLOOKUP('VP203'!$B$157,FlexDimensioner!$C$1:$D$430,2,FALSE)","v":"VALFRI"},"SEK",{"$f":"VLOOKUP(B149,Import!A$1:B$20000,2,FALSE)","v":{"$error":"#N/A"}},"EJ_GRANSKN",{"$f":"VLOOKUP(S149,Import!A$1:B$20000,2,FALSE)","v":{"$error":"#N/A"}},"32211_S_L_SEK_TOT_U_M_X_H1_VALFRI_SEK",1000,null,"30674_D148_cmb154_",{"$f":"VLOOKUP(B149,Import!E$1:F$20000,2,FALSE)","v":{"$error":"#N/A"}}]
[{"$f":"IF(ISBLANK(Inm_30674_D149_cmb155_),\"\",$T$150 * Inm_30674_D149_cmb155_)","v":""},"30674_D149_cmb155_","Handel i sven, Lång , Utflöde","VP203'!Inm_30674_D149_cmb155_","32211","S","L","SEK","TOT","U","M","X","H1",{"$f":"VLOOKUP('VP203'!$B$158,FlexDimensioner!$C$1:$D$430,2,FALSE)","v":"VALFRI"},"SEK",{"$f":"VLOOKUP(B150,Import!A$1:B$20000,2,FALSE)","v":{"$error":"#N/A"}},"EJ_GRANSKN",{"$f":"VLOOKUP(S150,Import!A$1:B$20000,2,FALSE)","v":{"$error":"#N/A"}},"32211_S_L_SEK_TOT_U_M_X_H1_VALFRI_SEK",1000,null,"30674_D149_cmb155_",{"$f":"VLOOKUP(B150,Import!E$1:F$20000,2,FALSE)","v":{"$error":"#N/A"}}]
[{"$f":"IF(ISBLANK(Inm_30674_D150_cmb156_),\"\",$T$151 * Inm_30674_D150_cmb156_)","v":""},"30674_D150_cmb156_","Handel i sven, Lång , Utflöde","VP203'!Inm_30674_D150_cmb156_","32211","S","L","SEK","TOT","U","M","X","H1",{"$f":"VLOOKUP('VP203'!$B$159,FlexDimensioner!$C$1:$D$430,2,FALSE)","v":"VALFRI"},"SEK",{"$f":"VLOOKUP(B151,Import!A$1:B$20000,2,FALSE)","v":{"$error":"#N/A"}},"EJ_GRANSKN",{"$f":"VLOOKUP(S151,Import!A$1:B$20000,2,FALSE)","v":{"$error":"#N/A"}},"32211_S_L_SEK_TOT_U_M_X_H1_VALFRI_SEK",1000,null,"30674_D150_cmb156_",{"$f":"VLOOKUP(B151,Import!E$1:F$20000,2,FALSE)","v":{"$error":"#N/A"}}]
[{"$f":"IF(ISBLANK(Inm_30674_D151_cmb157_),\"\",$T$152 * Inm_30674_D151_cmb157_)","v":""},"30674_D151_cmb157_","Handel i sven, Lång , Utflöde","VP203'!Inm_30674_D151_cmb157_","32211","S","L","SEK","TOT","U","M","X","H1",{"$f":"VLOOKUP('VP203'!$B$160,FlexDimensioner!$C$1:$D$430,2,FALSE)","v":"VALFRI"},"SEK",{"$f":"VLOOKUP(B152,Import!A$1:B$20000,2,FALSE)","v":{"$error":"#N/A"}},"EJ_GRANSKN",{"$f":"VLOOKUP(S152,Import!A$1:B$20000,2,FALSE)","v":{"$error":"#N/A"}},"32211_S_L_SEK_TOT_U_M_X_H1_VALFRI_SEK",1000,null,"30674_D151_cmb157_",{"$f":"VLOOKUP(B152,Import!E$1:F$20000,2,FALSE)","v":{"$error":"#N/A"}}]
[{"$f":"IF(ISBLANK(Inm_30674_D152_cmb158_),\"\",$T$153 * Inm_30674_D152_cmb158_)","v":""},"30674_D152_cmb158_","Handel i sven, Lång , Utflöde","VP203'!Inm_30674_D152_cmb158_","32211","S","L","SEK","TOT","U","M","X","H1",{"$f":"VLOOKUP('VP203'!$B$161,FlexDimensioner!$C$1:$D$430,2,FALSE)","v":"VALFRI"},"SEK",{"$f":"VLOOKUP(B153,Import!A$1:B$20000,2,FALSE)","v":{"$error":"#N/A"}},"EJ_GRANSKN",{"$f":"VLOOKUP(S153,Import!A$1:B$20000,2,FALSE)","v":{"$error":"#N/A"}},"32211_S_L_SEK_TOT_U_M_X_H1_VALFRI_SEK",1000,null,"30674_D152_cmb158_",{"$f":"VLOOKUP(B153,Import!E$1:F$20000,2,FALSE)","v":{"$error":"#N/A"}}]
[{"$f":"IF(ISBLANK(Inm_30674_D153_cmb159_),\"\",$T$154 * Inm_30674_D153_cmb159_)","v":""},"30674_D153_cmb159_","Handel i sven, Lång , Utflöde","VP203'!Inm_30674_D153_cmb159_","32211","S","L","SEK","TOT","U","M","X","H1",{"$f":"VLOOKUP('VP203'!$B$162,FlexDimensioner!$C$1:$D$430,2,FALSE)","v":"VALFRI"},"SEK",{"$f":"VLOOKUP(B154,Import!A$1:B$20000,2,FALSE)","v":{"$error":"#N/A"}},"EJ_GRANSKN",{"$f":"VLOOKUP(S154,Import!A$1:B$20000,2,FALSE)","v":{"$error":"#N/A"}},"32211_S_L_SEK_TOT_U_M_X_H1_VALFRI_SEK",1000,null,"30674_D153_cmb159_",{"$f":"VLOOKUP(B154,Import!E$1:F$20000,2,FALSE)","v":{"$error":"#N/A"}}]
[{"$f":"IF(ISBLANK(Inm_30674_D154_cmb160_),\"\",$T$155 * Inm_30674_D154_cmb160_)","v":""},"30674_D154_cmb160_","Handel i sven, Lång , Utflöde","VP203'!Inm_30674_D154_cmb160_","32211","S","L","SEK","TOT","U","M","X","H1",{"$f":"VLOOKUP('VP203'!$B$163,FlexDimensioner!$C$1:$D$430,2,FALSE)","v":"VALFRI"},"SEK",{"$f":"VLOOKUP(B155,Import!A$1:B$20000,2,FALSE)","v":{"$error":"#N/A"}},"EJ_GRANSKN",{"$f":"VLOOKUP(S155,Import!A$1:B$20000,2,FALSE)","v":{"$error":"#N/A"}},"32211_S_L_SEK_TOT_U_M_X_H1_VALFRI_SEK",1000,null,"30674_D154_cmb160_",{"$f":"VLOOKUP(B155,Import!E$1:F$20000,2,FALSE)","v":{"$error":"#N/A"}}]
[{"$f":"IF(ISBLANK(Inm_30674_D155_cmb161_),\"\",$T$156 * Inm_30674_D155_cmb161_)","v":""},"30674_D155_cmb161_","Handel i sven, Lång , Utflöde","VP203'!Inm_30674_D155_cmb161_","32211","S","L","SEK","TOT","U","M","X","H1",{"$f":"VLOOKUP('VP203'!$B$164,FlexDimensioner!$C$1:$D$430,2,FALSE)","v":"VALFRI"},"SEK",{"$f":"VLOOKUP(B156,Import!A$1:B$20000,2,FALSE)","v":{"$error":"#N/A"}},"EJ_GRANSKN",{"$f":"VLOOKUP(S156,Import!A$1:B$20000,2,FALSE)","v":{"$error":"#N/A"}},"32211_S_L_SEK_TOT_U_M_X_H1_VALFRI_SEK",1000,null,"30674_D155_cmb161_",{"$f":"VLOOKUP(B156,Import!E$1:F$20000,2,FALSE)","v":{"$error":"#N/A"}}]
[{"$f":"IF(ISBLANK(Inm_30674_D156_cmb162_),\"\",$T$157 * Inm_30674_D156_cmb162_)","v":""},"30674_D156_cmb162_","Handel i sven, Lång , Utflöde","VP203'!Inm_30674_D156_cmb162_","32211","S","L","SEK","TOT","U","M","X","H1",{"$f":"VLOOKUP('VP203'!$B$165,FlexDimensioner!$C$1:$D$430,2,FALSE)","v":"VALFRI"},"SEK",{"$f":"VLOOKUP(B157,Import!A$1:B$20000,2,FALSE)","v":{"$error":"#N/A"}},"EJ_GRANSKN",{"$f":"VLOOKUP(S157,Import!A$1:B$20000,2,FALSE)","v":{"$error":"#N/A"}},"32211_S_L_SEK_TOT_U_M_X_H1_VALFRI_SEK",1000,null,"30674_D156_cmb162_",{"$f":"VLOOKUP(B157,Import!E$1:F$20000,2,FALSE)","v":{"$error":"#N/A"}}]
[{"$f":"IF(ISBLANK(Inm_30674_D157_cmb163_),\"\",$T$158 * Inm_30674_D157_cmb163_)","v":""},"30674_D157_cmb163_","Handel i sven, Lång , Utflöde","VP203'!Inm_30674_D157_cmb163_","32211","S","L","SEK","TOT","U","M","X","H1",{"$f":"VLOOKUP('VP203'!$B$166,FlexDimensioner!$C$1:$D$430,2,FALSE)","v":"VALFRI"},"SEK",{"$f":"VLOOKUP(B158,Import!A$1:B$20000,2,FALSE)","v":{"$error":"#N/A"}},"EJ_GRANSKN",{"$f":"VLOOKUP(S158,Import!A$1:B$20000,2,FALSE)","v":{"$error":"#N/A"}},"32211_S_L_SEK_TOT_U_M_X_H1_VALFRI_SEK",1000,null,"30674_D157_cmb163_",{"$f":"VLOOKUP(B158,Import!E$1:F$20000,2,FALSE)","v":{"$error":"#N/A"}}]
[{"$f":"IF(ISBLANK(Inm_30674_D158_cmb164_),\"\",$T$159 * Inm_30674_D158_cmb164_)","v":""},"30674_D158_cmb164_","Handel i sven, Lång , Utflöde","VP203'!Inm_30674_D158_cmb164_","32211","S","L","SEK","TOT","U","M","X","H1",{"$f":"VLOOKUP('VP203'!$B$167,FlexDimensioner!$C$1:$D$430,2,FALSE)","v":"VALFRI"},"SEK",{"$f":"VLOOKUP(B159,Import!A$1:B$20000,2,FALSE)","v":{"$error":"#N/A"}},"EJ_GRANSKN",{"$f":"VLOOKUP(S159,Import!A$1:B$20000,2,FALSE)","v":{"$error":"#N/A"}},"32211_S_L_SEK_TOT_U_M_X_H1_VALFRI_SEK",1000,null,"30674_D158_cmb164_",{"$f":"VLOOKUP(B159,Import!E$1:F$20000,2,FALSE)","v":{"$error":"#N/A"}}]
[{"$f":"IF(ISBLANK(Inm_30674_D159_cmb165_),\"\",$T$160 * Inm_30674_D159_cmb165_)","v":""},"30674_D159_cmb165_","Handel i sven, Lång , Utflöde","VP203'!Inm_30674_D159_cmb165_","32211","S","L","SEK","TOT","U","M","X","H1",{"$f":"VLOOKUP('VP203'!$B$168,FlexDimensioner!$C$1:$D$430,2,FALSE)","v":"VALFRI"},"SEK",{"$f":"VLOOKUP(B160,Import!A$1:B$20000,2,FALSE)","v":{"$error":"#N/A"}},"EJ_GRANSKN",{"$f":"VLOOKUP(S160,Import!A$1:B$20000,2,FALSE)","v":{"$error":"#N/A"}},"32211_S_L_SEK_TOT_U_M_X_H1_VALFRI_SEK",1000,null,"30674_D159_cmb165_",{"$f":"VLOOKUP(B160,Import!E$1:F$20000,2,FALSE)","v":{"$error":"#N/A"}}]
[{"$f":"IF(ISBLANK(Inm_30674_D160_cmb166_),\"\",$T$161 * Inm_30674_D160_cmb166_)","v":""},"30674_D160_cmb166_","Handel i sven, Lång , Utflöde","VP203'!Inm_30674_D160_cmb166_","32211","S","L","SEK","TOT","U","M","X","H1",{"$f":"VLOOKUP('VP203'!$B$169,FlexDimensioner!$C$1:$D$430,2,FALSE)","v":"VALFRI"},"SEK",{"$f":"VLOOKUP(B161,Import!A$1:B$20000,2,FALSE)","v":{"$error":"#N/A"}},"EJ_GRANSKN",{"$f":"VLOOKUP(S161,Import!A$1:B$20000,2,FALSE)","v":{"$error":"#N/A"}},"32211_S_L_SEK_TOT_U_M_X_H1_VALFRI_SEK",1000,null,"30674_D160_cmb166_",{"$f":"VLOOKUP(B161,Import!E$1:F$20000,2,FALSE)","v":{"$error":"#N/A"}}]
[{"$f":"IF(ISBLANK(Inm_30674_D161_cmb167_),\"\",$T$162 * Inm_30674_D161_cmb167_)","v":""},"30674_D161_cmb167_","Handel i sven, Lång , Utflöde","VP203'!Inm_30674_D161_cmb167_","32211","S","L","SEK","TOT","U","M","X","H1",{"$f":"VLOOKUP('VP203'!$B$170,FlexDimensioner!$C$1:$D$430,2,FALSE)","v":"VALFRI"},"SEK",{"$f":"VLOOKUP(B162,Import!A$1:B$20000,2,FALSE)","v":{"$error":"#N/A"}},"EJ_GRANSKN",{"$f":"VLOOKUP(S162,Import!A$1:B$20000,2,FALSE)","v":{"$error":"#N/A"}},"32211_S_L_SEK_TOT_U_M_X_H1_VALFRI_SEK",1000,null,"30674_D161_cmb167_",{"$f":"VLOOKUP(B162,Import!E$1:F$20000,2,FALSE)","v":{"$error":"#N/A"}}]
[{"$f":"IF(ISBLANK(Inm_30674_D162_cmb168_),\"\",$T$163 * Inm_30674_D162_cmb168_)","v":""},"30674_D162_cmb168_","Handel i sven, Lång , Utflöde","VP203'!Inm_30674_D162_cmb168_","32211","S","L","SEK","TOT","U","M","X","H1",{"$f":"VLOOKUP('VP203'!$B$171,FlexDimensioner!$C$1:$D$430,2,FALSE)","v":"VALFRI"},"SEK",{"$f":"VLOOKUP(B163,Import!A$1:B$20000,2,FALSE)","v":{"$error":"#N/A"}},"EJ_GRANSKN",{"$f":"VLOOKUP(S163,Import!A$1:B$20000,2,FALSE)","v":{"$error":"#N/A"}},"32211_S_L_SEK_TOT_U_M_X_H1_VALFRI_SEK",1000,null,"30674_D162_cmb168_",{"$f":"VLOOKUP(B163,Import!E$1:F$20000,2,FALSE)","v":{"$error":"#N/A"}}]
[{"$f":"IF(ISBLANK(Inm_30674_D163_cmb169_),\"\",$T$164 * Inm_30674_D163_cmb169_)","v":""},"30674_D163_cmb169_","Handel i sven, Lång , Utflöde","VP203'!Inm_30674_D163_cmb169_","32211","S","L","SEK","TOT","U","M","X","H1",{"$f":"VLOOKUP('VP203'!$B$172,FlexDimensioner!$C$1:$D$430,2,FALSE)","v":"VALFRI"},"SEK",{"$f":"VLOOKUP(B164,Import!A$1:B$20000,2,FALSE)","v":{"$error":"#N/A"}},"EJ_GRANSKN",{"$f":"VLOOKUP(S164,Import!A$1:B$20000,2,FALSE)","v":{"$error":"#N/A"}},"32211_S_L_SEK_TOT_U_M_X_H1_VALFRI_SEK",1000,null,"30674_D163_cmb169_",{"$f":"VLOOKUP(B164,Import!E$1:F$20000,2,FALSE)","v":{"$error":"#N/A"}}]
[{"$f":"IF(ISBLANK(Inm_30674_D164_cmb170_),\"\",$T$165 * Inm_30674_D164_cmb170_)","v":""},"30674_D164_cmb170_","Handel i sven, Lång , Utflöde","VP203'!Inm_30674_D164_cmb170_","32211","S","L","SEK","TOT","U","M","X","H1",{"$f":"VLOOKUP('VP203'!$B$173,FlexDimensioner!$C$1:$D$430,2,FALSE)","v":"VALFRI"},"SEK",{"$f":"VLOOKUP(B165,Import!A$1:B$20000,2,FALSE)","v":{"$error":"#N/A"}},"EJ_GRANSKN",{"$f":"VLOOKUP(S165,Import!A$1:B$20000,2,FALSE)","v":{"$error":"#N/A"}},"32211_S_L_SEK_TOT_U_M_X_H1_VALFRI_SEK",1000,null,"30674_D164_cmb170_",{"$f":"VLOOKUP(B165,Import!E$1:F$20000,2,FALSE)","v":{"$error":"#N/A"}}]
[{"$f":"IF(ISBLANK(Inm_30674_D165_cmb171_),\"\",$T$166 * Inm_30674_D165_cmb171_)","v":""},"30674_D165_cmb171_","Handel i sven, Lång , Utflöde","VP203'!Inm_30674_D165_cmb171_","32211","S","L","SEK","TOT","U","M","X","H1",{"$f":"VLOOKUP('VP203'!$B$174,FlexDimensioner!$C$1:$D$430,2,FALSE)","v":"VALFRI"},"SEK",{"$f":"VLOOKUP(B166,Import!A$1:B$20000,2,FALSE)","v":{"$error":"#N/A"}},"EJ_GRANSKN",{"$f":"VLOOKUP(S166,Import!A$1:B$20000,2,FALSE)","v":{"$error":"#N/A"}},"32211_S_L_SEK_TOT_U_M_X_H1_VALFRI_SEK",1000,null,"30674_D165_cmb171_",{"$f":"VLOOKUP(B166,Import!E$1:F$20000,2,FALSE)","v":{"$error":"#N/A"}}]
[{"$f":"IF(ISBLANK(Inm_30674_D166_cmb172_),\"\",$T$167 * Inm_30674_D166_cmb172_)","v":""},"30674_D166_cmb172_","Handel i sven, Lång , Utflöde","VP203'!Inm_30674_D166_cmb172_","32211","S","L","SEK","TOT","U","M","X","H1",{"$f":"VLOOKUP('VP203'!$B$175,FlexDimensioner!$C$1:$D$430,2,FALSE)","v":"VALFRI"},"SEK",{"$f":"VLOOKUP(B167,Import!A$1:B$20000,2,FALSE)","v":{"$error":"#N/A"}},"EJ_GRANSKN",{"$f":"VLOOKUP(S167,Import!A$1:B$20000,2,FALSE)","v":{"$error":"#N/A"}},"32211_S_L_SEK_TOT_U_M_X_H1_VALFRI_SEK",1000,null,"30674_D166_cmb172_",{"$f":"VLOOKUP(B167,Import!E$1:F$20000,2,FALSE)","v":{"$error":"#N/A"}}]
[{"$f":"IF(ISBLANK(Inm_30674_D167_cmb173_),\"\",$T$168 * Inm_30674_D167_cmb173_)","v":""},"30674_D167_cmb173_","Handel i sven, Lång , Utflöde","VP203'!Inm_30674_D167_cmb173_","32211","S","L","SEK","TOT","U","M","X","H1",{"$f":"VLOOKUP('VP203'!$B$176,FlexDimensioner!$C$1:$D$430,2,FALSE)","v":"VALFRI"},"SEK",{"$f":"VLOOKUP(B168,Import!A$1:B$20000,2,FALSE)","v":{"$error":"#N/A"}},"EJ_GRANSKN",{"$f":"VLOOKUP(S168,Import!A$1:B$20000,2,FALSE)","v":{"$error":"#N/A"}},"32211_S_L_SEK_TOT_U_M_X_H1_VALFRI_SEK",1000,null,"30674_D167_cmb173_",{"$f":"VLOOKUP(B168,Import!E$1:F$20000,2,FALSE)","v":{"$error":"#N/A"}}]
[{"$f":"IF(ISBLANK(Inm_30674_D168_cmb174_),\"\",$T$169 * Inm_30674_D168_cmb174_)","v":""},"30674_D168_cmb174_","Handel i sven, Lång , Utflöde","VP203'!Inm_30674_D168_cmb174_","32211","S","L","SEK","TOT","U","M","X","H1",{"$f":"VLOOKUP('VP203'!$B$177,FlexDimensioner!$C$1:$D$430,2,FALSE)","v":"VALFRI"},"SEK",{"$f":"VLOOKUP(B169,Import!A$1:B$20000,2,FALSE)","v":{"$error":"#N/A"}},"EJ_GRANSKN",{"$f":"VLOOKUP(S169,Import!A$1:B$20000,2,FALSE)","v":{"$error":"#N/A"}},"32211_S_L_SEK_TOT_U_M_X_H1_VALFRI_SEK",1000,null,"30674_D168_cmb174_",{"$f":"VLOOKUP(B169,Import!E$1:F$20000,2,FALSE)","v":{"$error":"#N/A"}}]
[{"$f":"IF(ISBLANK(Inm_30674_D169_cmb175_),\"\",$T$170 * Inm_30674_D169_cmb175_)","v":""},"30674_D169_cmb175_","Handel i sven, Lång , Utflöde","VP203'!Inm_30674_D169_cmb175_","32211","S","L","SEK","TOT","U","M","X","H1",{"$f":"VLOOKUP('VP203'!$B$178,FlexDimensioner!$C$1:$D$430,2,FALSE)","v":"VALFRI"},"SEK",{"$f":"VLOOKUP(B170,Import!A$1:B$20000,2,FALSE)","v":{"$error":"#N/A"}},"EJ_GRANSKN",{"$f":"VLOOKUP(S170,Import!A$1:B$20000,2,FALSE)","v":{"$error":"#N/A"}},"32211_S_L_SEK_TOT_U_M_X_H1_VALFRI_SEK",1000,null,"30674_D169_cmb175_",{"$f":"VLOOKUP(B170,Import!E$1:F$20000,2,FALSE)","v":{"$error":"#N/A"}}]
[{"$f":"IF(ISBLANK(Inm_30674_D170_cmb176_),\"\",$T$171 * Inm_30674_D170_cmb176_)","v":""},"30674_D170_cmb176_","Handel i sven, Lång , Utflöde","VP203'!Inm_30674_D170_cmb176_","32211","S","L","SEK","TOT","U","M","X","H1",{"$f":"VLOOKUP('VP203'!$B$179,FlexDimensioner!$C$1:$D$430,2,FALSE)","v":"VALFRI"},"SEK",{"$f":"VLOOKUP(B171,Import!A$1:B$20000,2,FALSE)","v":{"$error":"#N/A"}},"EJ_GRANSKN",{"$f":"VLOOKUP(S171,Import!A$1:B$20000,2,FALSE)","v":{"$error":"#N/A"}},"32211_S_L_SEK_TOT_U_M_X_H1_VALFRI_SEK",1000,null,"30674_D170_cmb176_",{"$f":"VLOOKUP(B171,Import!E$1:F$20000,2,FALSE)","v":{"$error":"#N/A"}}]
[{"$f":"IF(ISBLANK(Inm_30674_D171_cmb177_),\"\",$T$172 * Inm_30674_D171_cmb177_)","v":""},"30674_D171_cmb177_","Handel i sven, Lång , Utflöde","VP203'!Inm_30674_D171_cmb177_","32211","S","L","SEK","TOT","U","M","X","H1",{"$f":"VLOOKUP('VP203'!$B$180,FlexDimensioner!$C$1:$D$430,2,FALSE)","v":"VALFRI"},"SEK",{"$f":"VLOOKUP(B172,Import!A$1:B$20000,2,FALSE)","v":{"$error":"#N/A"}},"EJ_GRANSKN",{"$f":"VLOOKUP(S172,Import!A$1:B$20000,2,FALSE)","v":{"$error":"#N/A"}},"32211_S_L_SEK_TOT_U_M_X_H1_VALFRI_SEK",1000,null,"30674_D171_cmb177_",{"$f":"VLOOKUP(B172,Import!E$1:F$20000,2,FALSE)","v":{"$error":"#N/A"}}]
[{"$f":"IF(ISBLANK(Inm_30674_D172_cmb178_),\"\",$T$173 * Inm_30674_D172_cmb178_)","v":""},"30674_D172_cmb178_","Handel i sven, Lång , Utflöde","VP203'!Inm_30674_D172_cmb178_","32211","S","L","SEK","TOT","U","M","X","H1",{"$f":"VLOOKUP('VP203'!$B$181,FlexDimensioner!$C$1:$D$430,2,FALSE)","v":"VALFRI"},"SEK",{"$f":"VLOOKUP(B173,Import!A$1:B$20000,2,FALSE)","v":{"$error":"#N/A"}},"EJ_GRANSKN",{"$f":"VLOOKUP(S173,Import!A$1:B$20000,2,FALSE)","v":{"$error":"#N/A"}},"32211_S_L_SEK_TOT_U_M_X_H1_VALFRI_SEK",1000,null,"30674_D172_cmb178_",{"$f":"VLOOKUP(B173,Import!E$1:F$20000,2,FALSE)","v":{"$error":"#N/A"}}]
[{"$f":"IF(ISBLANK(Inm_30674_D173_cmb179_),\"\",$T$174 * Inm_30674_D173_cmb179_)","v":""},"30674_D173_cmb179_","Handel i sven, Lång , Utflöde","VP203'!Inm_30674_D173_cmb179_","32211","S","L","SEK","TOT","U","M","X","H1",{"$f":"VLOOKUP('VP203'!$B$182,FlexDimensioner!$C$1:$D$430,2,FALSE)","v":"VALFRI"},"SEK",{"$f":"VLOOKUP(B174,Import!A$1:B$20000,2,FALSE)","v":{"$error":"#N/A"}},"EJ_GRANSKN",{"$f":"VLOOKUP(S174,Import!A$1:B$20000,2,FALSE)","v":{"$error":"#N/A"}},"32211_S_L_SEK_TOT_U_M_X_H1_VALFRI_SEK",1000,null,"30674_D173_cmb179_",{"$f":"VLOOKUP(B174,Import!E$1:F$20000,2,FALSE)","v":{"$error":"#N/A"}}]
[{"$f":"IF(ISBLANK(Inm_30674_D174_cmb180_),\"\",$T$175 * Inm_30674_D174_cmb180_)","v":""},"30674_D174_cmb180_","Handel i sven, Lång , Utflöde","VP203'!Inm_30674_D174_cmb180_","32211","S","L","SEK","TOT","U","M","X","H1",{"$f":"VLOOKUP('VP203'!$B$183,FlexDimensioner!$C$1:$D$430,2,FALSE)","v":"VALFRI"},"SEK",{"$f":"VLOOKUP(B175,Import!A$1:B$20000,2,FALSE)","v":{"$error":"#N/A"}},"EJ_GRANSKN",{"$f":"VLOOKUP(S175,Import!A$1:B$20000,2,FALSE)","v":{"$error":"#N/A"}},"32211_S_L_SEK_TOT_U_M_X_H1_VALFRI_SEK",1000,null,"30674_D174_cmb180_",{"$f":"VLOOKUP(B175,Import!E$1:F$20000,2,FALSE)","v":{"$error":"#N/A"}}]
[{"$f":"IF(ISBLANK(Inm_30674_D175_cmb181_),\"\",$T$176 * Inm_30674_D175_cmb181_)","v":""},"30674_D175_cmb181_","Handel i sven, Lång , Utflöde","VP203'!Inm_30674_D175_cmb181_","32211","S","L","SEK","TOT","U","M","X","H1",{"$f":"VLOOKUP('VP203'!$B$184,FlexDimensioner!$C$1:$D$430,2,FALSE)","v":"VALFRI"},"SEK",{"$f":"VLOOKUP(B176,Import!A$1:B$20000,2,FALSE)","v":{"$error":"#N/A"}},"EJ_GRANSKN",{"$f":"VLOOKUP(S176,Import!A$1:B$20000,2,FALSE)","v":{"$error":"#N/A"}},"32211_S_L_SEK_TOT_U_M_X_H1_VALFRI_SEK",1000,null,"30674_D175_cmb181_",{"$f":"VLOOKUP(B176,Import!E$1:F$20000,2,FALSE)","v":{"$error":"#N/A"}}]
[{"$f":"IF(ISBLANK(Inm_30674_D176_cmb182_),\"\",$T$177 * Inm_30674_D176_cmb182_)","v":""},"30674_D176_cmb182_","Handel i sven, Lång , Utflöde","VP203'!Inm_30674_D176_cmb182_","32211","S","L","SEK","TOT","U","M","X","H1",{"$f":"VLOOKUP('VP203'!$B$185,FlexDimensioner!$C$1:$D$430,2,FALSE)","v":"VALFRI"},"SEK",{"$f":"VLOOKUP(B177,Import!A$1:B$20000,2,FALSE)","v":{"$error":"#N/A"}},"EJ_GRANSKN",{"$f":"VLOOKUP(S177,Import!A$1:B$20000,2,FALSE)","v":{"$error":"#N/A"}},"32211_S_L_SEK_TOT_U_M_X_H1_VALFRI_SEK",1000,null,"30674_D176_cmb182_",{"$f":"VLOOKUP(B177,Import!E$1:F$20000,2,FALSE)","v":{"$error":"#N/A"}}]
[{"$f":"IF(ISBLANK(Inm_30674_D177_cmb183_),\"\",$T$178 * Inm_30674_D177_cmb183_)","v":""},"30674_D177_cmb183_","Handel i sven, Lång , Utflöde","VP203'!Inm_30674_D177_cmb183_","32211","S","L","SEK","TOT","U","M","X","H1",{"$f":"VLOOKUP('VP203'!$B$186,FlexDimensioner!$C$1:$D$430,2,FALSE)","v":"VALFRI"},"SEK",{"$f":"VLOOKUP(B178,Import!A$1:B$20000,2,FALSE)","v":{"$error":"#N/A"}},"EJ_GRANSKN",{"$f":"VLOOKUP(S178,Import!A$1:B$20000,2,FALSE)","v":{"$error":"#N/A"}},"32211_S_L_SEK_TOT_U_M_X_H1_VALFRI_SEK",1000,null,"30674_D177_cmb183_",{"$f":"VLOOKUP(B178,Import!E$1:F$20000,2,FALSE)","v":{"$error":"#N/A"}}]
[{"$f":"IF(ISBLANK(Inm_30674_D178_cmb184_),\"\",$T$179 * Inm_30674_D178_cmb184_)","v":""},"30674_D178_cmb184_","Handel i sven, Lång , Utflöde","VP203'!Inm_30674_D178_cmb184_","32211","S","L","SEK","TOT","U","M","X","H1",{"$f":"VLOOKUP('VP203'!$B$187,FlexDimensioner!$C$1:$D$430,2,FALSE)","v":"VALFRI"},"SEK",{"$f":"VLOOKUP(B179,Import!A$1:B$20000,2,FALSE)","v":{"$error":"#N/A"}},"EJ_GRANSKN",{"$f":"VLOOKUP(S179,Import!A$1:B$20000,2,FALSE)","v":{"$error":"#N/A"}},"32211_S_L_SEK_TOT_U_M_X_H1_VALFRI_SEK",1000,null,"30674_D178_cmb184_",{"$f":"VLOOKUP(B179,Import!E$1:F$20000,2,FALSE)","v":{"$error":"#N/A"}}]
[{"$f":"IF(ISBLANK(Inm_30674_D179_cmb185_),\"\",$T$180 * Inm_30674_D179_cmb185_)","v":""},"30674_D179_cmb185_","Handel i sven, Lång , Utflöde","VP203'!Inm_30674_D179_cmb185_","32211","S","L","SEK","TOT","U","M","X","H1",{"$f":"VLOOKUP('VP203'!$B$188,FlexDimensioner!$C$1:$D$430,2,FALSE)","v":"VALFRI"},"SEK",{"$f":"VLOOKUP(B180,Import!A$1:B$20000,2,FALSE)","v":{"$error":"#N/A"}},"EJ_GRANSKN",{"$f":"VLOOKUP(S180,Import!A$1:B$20000,2,FALSE)","v":{"$error":"#N/A"}},"32211_S_L_SEK_TOT_U_M_X_H1_VALFRI_SEK",1000,null,"30674_D179_cmb185_",{"$f":"VLOOKUP(B180,Import!E$1:F$20000,2,FALSE)","v":{"$error":"#N/A"}}]
[{"$f":"IF(ISBLANK(Inm_30674_D180_cmb186_),\"\",$T$181 * Inm_30674_D180_cmb186_)","v":""},"30674_D180_cmb186_","Handel i sven, Lång , Utflöde","VP203'!Inm_30674_D180_cmb186_","32211","S","L","SEK","TOT","U","M","X","H1",{"$f":"VLOOKUP('VP203'!$B$189,FlexDimensioner!$C$1:$D$430,2,FALSE)","v":"VALFRI"},"SEK",{"$f":"VLOOKUP(B181,Import!A$1:B$20000,2,FALSE)","v":{"$error":"#N/A"}},"EJ_GRANSKN",{"$f":"VLOOKUP(S181,Import!A$1:B$20000,2,FALSE)","v":{"$error":"#N/A"}},"32211_S_L_SEK_TOT_U_M_X_H1_VALFRI_SEK",1000,null,"30674_D180_cmb186_",{"$f":"VLOOKUP(B181,Import!E$1:F$20000,2,FALSE)","v":{"$error":"#N/A"}}]
[{"$f":"IF(ISBLANK(Inm_30674_D181_cmb187_),\"\",$T$182 * Inm_30674_D181_cmb187_)","v":""},"30674_D181_cmb187_","Handel i sven, Lång , Utflöde","VP203'!Inm_30674_D181_cmb187_","32211","S","L","SEK","TOT","U","M","X","H1",{"$f":"VLOOKUP('VP203'!$B$190,FlexDimensioner!$C$1:$D$430,2,FALSE)","v":"VALFRI"},"SEK",{"$f":"VLOOKUP(B182,Import!A$1:B$20000,2,FALSE)","v":{"$error":"#N/A"}},"EJ_GRANSKN",{"$f":"VLOOKUP(S182,Import!A$1:B$20000,2,FALSE)","v":{"$error":"#N/A"}},"32211_S_L_SEK_TOT_U_M_X_H1_VALFRI_SEK",1000,null,"30674_D181_cmb187_",{"$f":"VLOOKUP(B182,Import!E$1:F$20000,2,FALSE)","v":{"$error":"#N/A"}}]
[{"$f":"IF(ISBLANK(Inm_30674_D182_cmb188_),\"\",$T$183 * Inm_30674_D182_cmb188_)","v":""},"30674_D182_cmb188_","Handel i sven, Lång , Utflöde","VP203'!Inm_30674_D182_cmb188_","32211","S","L","SEK","TOT","U","M","X","H1",{"$f":"VLOOKUP('VP203'!$B$191,FlexDimensioner!$C$1:$D$430,2,FALSE)","v":"VALFRI"},"SEK",{"$f":"VLOOKUP(B183,Import!A$1:B$20000,2,FALSE)","v":{"$error":"#N/A"}},"EJ_GRANSKN",{"$f":"VLOOKUP(S183,Import!A$1:B$20000,2,FALSE)","v":{"$error":"#N/A"}},"32211_S_L_SEK_TOT_U_M_X_H1_VALFRI_SEK",1000,null,"30674_D182_cmb188_",{"$f":"VLOOKUP(B183,Import!E$1:F$20000,2,FALSE)","v":{"$error":"#N/A"}}]
[{"$f":"IF(ISBLANK(Inm_30674_D183_cmb189_),\"\",$T$184 * Inm_30674_D183_cmb189_)","v":""},"30674_D183_cmb189_","Handel i sven, Lång , Utflöde","VP203'!Inm_30674_D183_cmb189_","32211","S","L","SEK","TOT","U","M","X","H1",{"$f":"VLOOKUP('VP203'!$B$192,FlexDimensioner!$C$1:$D$430,2,FALSE)","v":"VALFRI"},"SEK",{"$f":"VLOOKUP(B184,Import!A$1:B$20000,2,FALSE)","v":{"$error":"#N/A"}},"EJ_GRANSKN",{"$f":"VLOOKUP(S184,Import!A$1:B$20000,2,FALSE)","v":{"$error":"#N/A"}},"32211_S_L_SEK_TOT_U_M_X_H1_VALFRI_SEK",1000,null,"30674_D183_cmb189_",{"$f":"VLOOKUP(B184,Import!E$1:F$20000,2,FALSE)","v":{"$error":"#N/A"}}]
[{"$f":"IF(ISBLANK(Inm_30674_D184_cmb190_),\"\",$T$185 * Inm_30674_D184_cmb190_)","v":""},"30674_D184_cmb190_","Handel i sven, Lång , Utflöde","VP203'!Inm_30674_D184_cmb190_","32211","S","L","SEK","TOT","U","M","X","H1",{"$f":"VLOOKUP('VP203'!$B$193,FlexDimensioner!$C$1:$D$430,2,FALSE)","v":"VALFRI"},"SEK",{"$f":"VLOOKUP(B185,Import!A$1:B$20000,2,FALSE)","v":{"$error":"#N/A"}},"EJ_GRANSKN",{"$f":"VLOOKUP(S185,Import!A$1:B$20000,2,FALSE)","v":{"$error":"#N/A"}},"32211_S_L_SEK_TOT_U_M_X_H1_VALFRI_SEK",1000,null,"30674_D184_cmb190_",{"$f":"VLOOKUP(B185,Import!E$1:F$20000,2,FALSE)","v":{"$error":"#N/A"}}]
[{"$f":"IF(ISBLANK(Inm_30674_D185_cmb191_),\"\",$T$186 * Inm_30674_D185_cmb191_)","v":""},"30674_D185_cmb191_","Handel i sven, Lång , Utflöde","VP203'!Inm_30674_D185_cmb191_","32211","S","L","SEK","TOT","U","M","X","H1",{"$f":"VLOOKUP('VP203'!$B$194,FlexDimensioner!$C$1:$D$430,2,FALSE)","v":"VALFRI"},"SEK",{"$f":"VLOOKUP(B186,Import!A$1:B$20000,2,FALSE)","v":{"$error":"#N/A"}},"EJ_GRANSKN",{"$f":"VLOOKUP(S186,Import!A$1:B$20000,2,FALSE)","v":{"$error":"#N/A"}},"32211_S_L_SEK_TOT_U_M_X_H1_VALFRI_SEK",1000,null,"30674_D185_cmb191_",{"$f":"VLOOKUP(B186,Import!E$1:F$20000,2,FALSE)","v":{"$error":"#N/A"}}]
[{"$f":"IF(ISBLANK(Inm_30674_D186_cmb192_),\"\",$T$187 * Inm_30674_D186_cmb192_)","v":""},"30674_D186_cmb192_","Handel i sven, Lång , Utflöde","VP203'!Inm_30674_D186_cmb192_","32211","S","L","SEK","TOT","U","M","X","H1",{"$f":"VLOOKUP('VP203'!$B$195,FlexDimensioner!$C$1:$D$430,2,FALSE)","v":"VALFRI"},"SEK",{"$f":"VLOOKUP(B187,Import!A$1:B$20000,2,FALSE)","v":{"$error":"#N/A"}},"EJ_GRANSKN",{"$f":"VLOOKUP(S187,Import!A$1:B$20000,2,FALSE)","v":{"$error":"#N/A"}},"32211_S_L_SEK_TOT_U_M_X_H1_VALFRI_SEK",1000,null,"30674_D186_cmb192_",{"$f":"VLOOKUP(B187,Import!E$1:F$20000,2,FALSE)","v":{"$error":"#N/A"}}]
[{"$f":"IF(ISBLANK(Inm_30674_D187_cmb193_),\"\",$T$188 * Inm_30674_D187_cmb193_)","v":""},"30674_D187_cmb193_","Handel i sven, Lång , Utflöde","VP203'!Inm_30674_D187_cmb193_","32211","S","L","SEK","TOT","U","M","X","H1",{"$f":"VLOOKUP('VP203'!$B$196,FlexDimensioner!$C$1:$D$430,2,FALSE)","v":"VALFRI"},"SEK",{"$f":"VLOOKUP(B188,Import!A$1:B$20000,2,FALSE)","v":{"$error":"#N/A"}},"EJ_GRANSKN",{"$f":"VLOOKUP(S188,Import!A$1:B$20000,2,FALSE)","v":{"$error":"#N/A"}},"32211_S_L_SEK_TOT_U_M_X_H1_VALFRI_SEK",1000,null,"30674_D187_cmb193_",{"$f":"VLOOKUP(B188,Import!E$1:F$20000,2,FALSE)","v":{"$error":"#N/A"}}]
[{"$f":"IF(ISBLANK(Inm_30674_D188_cmb194_),\"\",$T$189 * Inm_30674_D188_cmb194_)","v":""},"30674_D188_cmb194_","Handel i sven, Lång , Utflöde","VP203'!Inm_30674_D188_cmb194_","32211","S","L","SEK","TOT","U","M","X","H1",{"$f":"VLOOKUP('VP203'!$B$197,FlexDimensioner!$C$1:$D$430,2,FALSE)","v":"VALFRI"},"SEK",{"$f":"VLOOKUP(B189,Import!A$1:B$20000,2,FALSE)","v":{"$error":"#N/A"}},"EJ_GRANSKN",{"$f":"VLOOKUP(S189,Import!A$1:B$20000,2,FALSE)","v":{"$error":"#N/A"}},"32211_S_L_SEK_TOT_U_M_X_H1_VALFRI_SEK",1000,null,"30674_D188_cmb194_",{"$f":"VLOOKUP(B189,Import!E$1:F$20000,2,FALSE)","v":{"$error":"#N/A"}}]
[{"$f":"IF(ISBLANK(Inm_30674_D189_cmb195_),\"\",$T$190 * Inm_30674_D189_cmb195_)","v":""},"30674_D189_cmb195_","Handel i sven, Lång , Utflöde","VP203'!Inm_30674_D189_cmb195_","32211","S","L","SEK","TOT","U","M","X","H1",{"$f":"VLOOKUP('VP203'!$B$198,FlexDimensioner!$C$1:$D$430,2,FALSE)","v":"VALFRI"},"SEK",{"$f":"VLOOKUP(B190,Import!A$1:B$20000,2,FALSE)","v":{"$error":"#N/A"}},"EJ_GRANSKN",{"$f":"VLOOKUP(S190,Import!A$1:B$20000,2,FALSE)","v":{"$error":"#N/A"}},"32211_S_L_SEK_TOT_U_M_X_H1_VALFRI_SEK",1000,null,"30674_D189_cmb195_",{"$f":"VLOOKUP(B190,Import!E$1:F$20000,2,FALSE)","v":{"$error":"#N/A"}}]
[{"$f":"IF(ISBLANK(Inm_30674_D190_cmb196_),\"\",$T$191 * Inm_30674_D190_cmb196_)","v":""},"30674_D190_cmb196_","Handel i sven, Lång , Utflöde","VP203'!Inm_30674_D190_cmb196_","32211","S","L","SEK","TOT","U","M","X","H1",{"$f":"VLOOKUP('VP203'!$B$199,FlexDimensioner!$C$1:$D$430,2,FALSE)","v":"VALFRI"},"SEK",{"$f":"VLOOKUP(B191,Import!A$1:B$20000,2,FALSE)","v":{"$error":"#N/A"}},"EJ_GRANSKN",{"$f":"VLOOKUP(S191,Import!A$1:B$20000,2,FALSE)","v":{"$error":"#N/A"}},"32211_S_L_SEK_TOT_U_M_X_H1_VALFRI_SEK",1000,null,"30674_D190_cmb196_",{"$f":"VLOOKUP(B191,Import!E$1:F$20000,2,FALSE)","v":{"$error":"#N/A"}}]
[{"$f":"IF(ISBLANK(Inm_30674_D191_cmb197_),\"\",$T$192 * Inm_30674_D191_cmb197_)","v":""},"30674_D191_cmb197_","Handel i sven, Lång , Utflöde","VP203'!Inm_30674_D191_cmb197_","32211","S","L","SEK","TOT","U","M","X","H1",{"$f":"VLOOKUP('VP203'!$B$200,FlexDimensioner!$C$1:$D$430,2,FALSE)","v":"VALFRI"},"SEK",{"$f":"VLOOKUP(B192,Import!A$1:B$20000,2,FALSE)","v":{"$error":"#N/A"}},"EJ_GRANSKN",{"$f":"VLOOKUP(S192,Import!A$1:B$20000,2,FALSE)","v":{"$error":"#N/A"}},"32211_S_L_SEK_TOT_U_M_X_H1_VALFRI_SEK",1000,null,"30674_D191_cmb197_",{"$f":"VLOOKUP(B192,Import!E$1:F$20000,2,FALSE)","v":{"$error":"#N/A"}}]
[{"$f":"IF(ISBLANK(Inm_30674_D192_cmb198_),\"\",$T$193 * Inm_30674_D192_cmb198_)","v":""},"30674_D192_cmb198_","Handel i sven, Lång , Utflöde","VP203'!Inm_30674_D192_cmb198_","32211","S","L","SEK","TOT","U","M","X","H1",{"$f":"VLOOKUP('VP203'!$B$201,FlexDimensioner!$C$1:$D$430,2,FALSE)","v":"VALFRI"},"SEK",{"$f":"VLOOKUP(B193,Import!A$1:B$20000,2,FALSE)","v":{"$error":"#N/A"}},"EJ_GRANSKN",{"$f":"VLOOKUP(S193,Import!A$1:B$20000,2,FALSE)","v":{"$error":"#N/A"}},{"$f":"CONCATENATE(E193,\"_\",F193,\"_\",G193,\"_\",H193,\"_\",I193,\"_\",J193,\"_\",K193,\"_\",L193,\"_\",M193,\"_\",N193,\"_\",O193)","v":"32211_S_L_SEK_TOT_U_M_X_H1_VALFRI_SEK"},1000,null,"30674_D192_cmb198_",{"$f":"VLOOKUP(B193,Import!E$1:F$20000,2,FALSE)","v":{"$error":"#N/A"}}]
[{"$f":"IF(ISBLANK(Inm_30674_D193_cmb199_),\"\",$T$194 * Inm_30674_D193_cmb199_)","v":""},"30674_D193_cmb199_","Handel i sven, Lång , Utflöde","VP203'!Inm_30674_D193_cmb199_","32211","S","L","SEK","TOT","U","M","X","H1",{"$f":"VLOOKUP('VP203'!$B$202,FlexDimensioner!$C$1:$D$430,2,FALSE)","v":"VALFRI"},"SEK",{"$f":"VLOOKUP(B194,Import!A$1:B$20000,2,FALSE)","v":{"$error":"#N/A"}},"EJ_GRANSKN",{"$f":"VLOOKUP(S194,Import!A$1:B$20000,2,FALSE)","v":{"$error":"#N/A"}},"32211_S_L_SEK_TOT_U_M_X_H1_VALFRI_SEK",1000,null,"30674_D193_cmb199_",{"$f":"VLOOKUP(B194,Import!E$1:F$20000,2,FALSE)","v":{"$error":"#N/A"}}]
[{"$f":"IF(ISBLANK(Inm_30674_D194_cmb200_),\"\",$T$195 * Inm_30674_D194_cmb200_)","v":""},"30674_D194_cmb200_","Handel i sven, Lång , Utflöde","VP203'!Inm_30674_D194_cmb200_","32211","S","L","SEK","TOT","U","M","X","H1",{"$f":"VLOOKUP('VP203'!$B$203,FlexDimensioner!$C$1:$D$430,2,FALSE)","v":"VALFRI"},"SEK",{"$f":"VLOOKUP(B195,Import!A$1:B$20000,2,FALSE)","v":{"$error":"#N/A"}},"EJ_GRANSKN",{"$f":"VLOOKUP(S195,Import!A$1:B$20000,2,FALSE)","v":{"$error":"#N/A"}},"32211_S_L_SEK_TOT_U_M_X_H1_VALFRI_SEK",1000,null,"30674_D194_cmb200_",{"$f":"VLOOKUP(B195,Import!E$1:F$20000,2,FALSE)","v":{"$error":"#N/A"}}]
[{"$f":"IF(ISBLANK(Inm_30674_D195_cmb201_),\"\",$T$196 * Inm_30674_D195_cmb201_)","v":""},"30674_D195_cmb201_","Handel i sven, Lång , Utflöde","VP203'!Inm_30674_D195_cmb201_","32211","S","L","SEK","TOT","U","M","X","H1",{"$f":"VLOOKUP('VP203'!$B$204,FlexDimensioner!$C$1:$D$430,2,FALSE)","v":"VALFRI"},"SEK",{"$f":"VLOOKUP(B196,Import!A$1:B$20000,2,FALSE)","v":{"$error":"#N/A"}},"EJ_GRANSKN",{"$f":"VLOOKUP(S196,Import!A$1:B$20000,2,FALSE)","v":{"$error":"#N/A"}},"32211_S_L_SEK_TOT_U_M_X_H1_VALFRI_SEK",1000,null,"30674_D195_cmb201_",{"$f":"VLOOKUP(B196,Import!E$1:F$20000,2,FALSE)","v":{"$error":"#N/A"}}]
[{"$f":"IF(ISBLANK(Inm_30674_D196_cmb202_),\"\",$T$197 * Inm_30674_D196_cmb202_)","v":""},"30674_D196_cmb202_","Handel i sven, Lång , Utflöde","VP203'!Inm_30674_D196_cmb202_","32211","S","L","SEK","TOT","U","M","X","H1",{"$f":"VLOOKUP('VP203'!$B$205,FlexDimensioner!$C$1:$D$430,2,FALSE)","v":"VALFRI"},"SEK",{"$f":"VLOOKUP(B197,Import!A$1:B$20000,2,FALSE)","v":{"$error":"#N/A"}},"EJ_GRANSKN",{"$f":"VLOOKUP(S197,Import!A$1:B$20000,2,FALSE)","v":{"$error":"#N/A"}},"32211_S_L_SEK_TOT_U_M_X_H1_VALFRI_SEK",1000,null,"30674_D196_cmb202_",{"$f":"VLOOKUP(B197,Import!E$1:F$20000,2,FALSE)","v":{"$error":"#N/A"}}]
[{"$f":"IF(ISBLANK(Inm_30674_D197_cmb203_),\"\",$T$198 * Inm_30674_D197_cmb203_)","v":""},"30674_D197_cmb203_","Handel i sven, Lång , Utflöde","VP203'!Inm_30674_D197_cmb203_","32211","S","L","SEK","TOT","U","M","X","H1",{"$f":"VLOOKUP('VP203'!$B$206,FlexDimensioner!$C$1:$D$430,2,FALSE)","v":"VALFRI"},"SEK",{"$f":"VLOOKUP(B198,Import!A$1:B$20000,2,FALSE)","v":{"$error":"#N/A"}},"EJ_GRANSKN",{"$f":"VLOOKUP(S198,Import!A$1:B$20000,2,FALSE)","v":{"$error":"#N/A"}},"32211_S_L_SEK_TOT_U_M_X_H1_VALFRI_SEK",1000,null,"30674_D197_cmb203_",{"$f":"VLOOKUP(B198,Import!E$1:F$20000,2,FALSE)","v":{"$error":"#N/A"}}]
[{"$f":"IF(ISBLANK(Inm_30674_D198_cmb206_),\"\",$T$199 * Inm_30674_D198_cmb206_)","v":""},"30674_D198_cmb206_","Handel i sven, Lång , Utflöde","VP203'!Inm_30674_D198_cmb206_","32211","S","L","SEK","TOT","U","M","X","H1",{"$f":"VLOOKUP('VP203'!$B$207,FlexDimensioner!$C$1:$D$430,2,FALSE)","v":"VALFRI"},"SEK",{"$f":"VLOOKUP(B199,Import!A$1:B$20000,2,FALSE)","v":{"$error":"#N/A"}},"EJ_GRANSKN",{"$f":"VLOOKUP(S199,Import!A$1:B$20000,2,FALSE)","v":{"$error":"#N/A"}},"32211_S_L_SEK_TOT_U_M_X_H1_VALFRI_SEK",1000,null,"30674_D198_cmb206_",{"$f":"VLOOKUP(B199,Import!E$1:F$20000,2,FALSE)","v":{"$error":"#N/A"}}]
[{"$f":"IF(ISBLANK(Inm_30674_D199_cmb207_),\"\",$T$200 * Inm_30674_D199_cmb207_)","v":""},"30674_D199_cmb207_","Handel i sven, Lång , Utflöde","VP203'!Inm_30674_D199_cmb207_","32211","S","L","SEK","TOT","U","M","X","H1",{"$f":"VLOOKUP('VP203'!$B$208,FlexDimensioner!$C$1:$D$430,2,FALSE)","v":"VALFRI"},"SEK",{"$f":"VLOOKUP(B200,Import!A$1:B$20000,2,FALSE)","v":{"$error":"#N/A"}},"EJ_GRANSKN",{"$f":"VLOOKUP(S200,Import!A$1:B$20000,2,FALSE)","v":{"$error":"#N/A"}},"32211_S_L_SEK_TOT_U_M_X_H1_VALFRI_SEK",1000,null,"30674_D199_cmb207_",{"$f":"VLOOKUP(B200,Import!E$1:F$20000,2,FALSE)","v":{"$error":"#N/A"}}]
[{"$f":"IF(ISBLANK(Inm_30674_D200_cmb208_),\"\",$T$201 * Inm_30674_D200_cmb208_)","v":""},"30674_D200_cmb208_","Handel i sven, Lång , Utflöde","VP203'!Inm_30674_D200_cmb208_","32211","S","L","SEK","TOT","U","M","X","H1",{"$f":"VLOOKUP('VP203'!$B$209,FlexDimensioner!$C$1:$D$430,2,FALSE)","v":"VALFRI"},"SEK",{"$f":"VLOOKUP(B201,Import!A$1:B$20000,2,FALSE)","v":{"$error":"#N/A"}},"EJ_GRANSKN",{"$f":"VLOOKUP(S201,Import!A$1:B$20000,2,FALSE)","v":{"$error":"#N/A"}},"32211_S_L_SEK_TOT_U_M_X_H1_VALFRI_SEK",1000,null,"30674_D200_cmb208_",{"$f":"VLOOKUP(B201,Import!E$1:F$20000,2,FALSE)","v":{"$error":"#N/A"}}]
[{"$f":"IF(ISBLANK(Inm_30674_D201_cmb209_),\"\",$T$202 * Inm_30674_D201_cmb209_)","v":""},"30674_D201_cmb209_","Handel i sven, Lång , Utflöde","VP203'!Inm_30674_D201_cmb209_","32211","S","L","SEK","TOT","U","M","X","H1",{"$f":"VLOOKUP('VP203'!$B$210,FlexDimensioner!$C$1:$D$430,2,FALSE)","v":"VALFRI"},"SEK",{"$f":"VLOOKUP(B202,Import!A$1:B$20000,2,FALSE)","v":{"$error":"#N/A"}},"EJ_GRANSKN",{"$f":"VLOOKUP(S202,Import!A$1:B$20000,2,FALSE)","v":{"$error":"#N/A"}},"32211_S_L_SEK_TOT_U_M_X_H1_VALFRI_SEK",1000,null,"30674_D201_cmb209_",{"$f":"VLOOKUP(B202,Import!E$1:F$20000,2,FALSE)","v":{"$error":"#N/A"}}]
[{"$f":"IF(ISBLANK(Inm_30674_D202_cmb210_),\"\",$T$203 * Inm_30674_D202_cmb210_)","v":""},"30674_D202_cmb210_","Handel i sven, Lång , Utflöde","VP203'!Inm_30674_D202_cmb210_","32211","S","L","SEK","TOT","U","M","X","H1",{"$f":"VLOOKUP('VP203'!$B$211,FlexDimensioner!$C$1:$D$430,2,FALSE)","v":"VALFRI"},"SEK",{"$f":"VLOOKUP(B203,Import!A$1:B$20000,2,FALSE)","v":{"$error":"#N/A"}},"EJ_GRANSKN",{"$f":"VLOOKUP(S203,Import!A$1:B$20000,2,FALSE)","v":{"$error":"#N/A"}},"32211_S_L_SEK_TOT_U_M_X_H1_VALFRI_SEK",1000,null,"30674_D202_cmb210_",{"$f":"VLOOKUP(B203,Import!E$1:F$20000,2,FALSE)","v":{"$error":"#N/A"}}]
[{"$f":"IF(ISBLANK(Inm_30674_D203_cmb211_),\"\",$T$204 * Inm_30674_D203_cmb211_)","v":""},"30674_D203_cmb211_","Handel i sven, Lång , Utflöde","VP203'!Inm_30674_D203_cmb211_","32211","S","L","SEK","TOT","U","M","X","H1",{"$f":"VLOOKUP('VP203'!$B$212,FlexDimensioner!$C$1:$D$430,2,FALSE)","v":"VALFRI"},"SEK",{"$f":"VLOOKUP(B204,Import!A$1:B$20000,2,FALSE)","v":{"$error":"#N/A"}},"EJ_GRANSKN",{"$f":"VLOOKUP(S204,Import!A$1:B$20000,2,FALSE)","v":{"$error":"#N/A"}},"32211_S_L_SEK_TOT_U_M_X_H1_VALFRI_SEK",1000,null,"30674_D203_cmb211_",{"$f":"VLOOKUP(B204,Import!E$1:F$20000,2,FALSE)","v":{"$error":"#N/A"}}]
[{"$f":"IF(ISBLANK(Inm_30674_D204_cmb212_),\"\",$T$205 * Inm_30674_D204_cmb212_)","v":""},"30674_D204_cmb212_","Handel i sven, Lång , Utflöde","VP203'!Inm_30674_D204_cmb212_","32211","S","L","SEK","TOT","U","M","X","H1",{"$f":"VLOOKUP('VP203'!$B$213,FlexDimensioner!$C$1:$D$430,2,FALSE)","v":"VALFRI"},"SEK",{"$f":"VLOOKUP(B205,Import!A$1:B$20000,2,FALSE)","v":{"$error":"#N/A"}},"EJ_GRANSKN",{"$f":"VLOOKUP(S205,Import!A$1:B$20000,2,FALSE)","v":{"$error":"#N/A"}},"32211_S_L_SEK_TOT_U_M_X_H1_VALFRI_SEK",1000,null,"30674_D204_cmb212_",{"$f":"VLOOKUP(B205,Import!E$1:F$20000,2,FALSE)","v":{"$error":"#N/A"}}]
[{"$f":"IF(ISBLANK(Inm_30674_D205_cmb213_),\"\",$T$206 * Inm_30674_D205_cmb213_)","v":""},"30674_D205_cmb213_","Handel i sven, Lång , Utflöde","VP203'!Inm_30674_D205_cmb213_","32211","S","L","SEK","TOT","U","M","X","H1",{"$f":"VLOOKUP('VP203'!$B$214,FlexDimensioner!$C$1:$D$430,2,FALSE)","v":"VALFRI"},"SEK",{"$f":"VLOOKUP(B206,Import!A$1:B$20000,2,FALSE)","v":{"$error":"#N/A"}},"EJ_GRANSKN",{"$f":"VLOOKUP(S206,Import!A$1:B$20000,2,FALSE)","v":{"$error":"#N/A"}},"32211_S_L_SEK_TOT_U_M_X_H1_VALFRI_SEK",1000,null,"30674_D205_cmb213_",{"$f":"VLOOKUP(B206,Import!E$1:F$20000,2,FALSE)","v":{"$error":"#N/A"}}]
[{"$f":"IF(ISBLANK(Inm_30674_D206_cmb214_),\"\",$T$207 * Inm_30674_D206_cmb214_)","v":""},"30674_D206_cmb214_","Handel i sven, Lång , Utflöde","VP203'!Inm_30674_D206_cmb214_","32211","S","L","SEK","TOT","U","M","X","H1",{"$f":"VLOOKUP('VP203'!$B$215,FlexDimensioner!$C$1:$D$430,2,FALSE)","v":"VALFRI"},"SEK",{"$f":"VLOOKUP(B207,Import!A$1:B$20000,2,FALSE)","v":{"$error":"#N/A"}},"EJ_GRANSKN",{"$f":"VLOOKUP(S207,Import!A$1:B$20000,2,FALSE)","v":{"$error":"#N/A"}},"32211_S_L_SEK_TOT_U_M_X_H1_VALFRI_SEK",1000,null,"30674_D206_cmb214_",{"$f":"VLOOKUP(B207,Import!E$1:F$20000,2,FALSE)","v":{"$error":"#N/A"}}]
[{"$f":"IF(ISBLANK(Inm_30674_D207_cmb215_),\"\",$T$208 * Inm_30674_D207_cmb215_)","v":""},"30674_D207_cmb215_","Handel i sven, Lång , Utflöde","VP203'!Inm_30674_D207_cmb215_","32211","S","L","SEK","TOT","U","M","X","H1",{"$f":"VLOOKUP('VP203'!$B$216,FlexDimensioner!$C$1:$D$430,2,FALSE)","v":"VALFRI"},"SEK",{"$f":"VLOOKUP(B208,Import!A$1:B$20000,2,FALSE)","v":{"$error":"#N/A"}},"EJ_GRANSKN",{"$f":"VLOOKUP(S208,Import!A$1:B$20000,2,FALSE)","v":{"$error":"#N/A"}},"32211_S_L_SEK_TOT_U_M_X_H1_VALFRI_SEK",1000,null,"30674_D207_cmb215_",{"$f":"VLOOKUP(B208,Import!E$1:F$20000,2,FALSE)","v":{"$error":"#N/A"}}]
[{"$f":"IF(ISBLANK(Inm_30674_D208_cmb216_),\"\",$T$209 * Inm_30674_D208_cmb216_)","v":""},"30674_D208_cmb216_","Handel i sven, Lång , Utflöde","VP203'!Inm_30674_D208_cmb216_","32211","S","L","SEK","TOT","U","M","X","H1",{"$f":"VLOOKUP('VP203'!$B$217,FlexDimensioner!$C$1:$D$430,2,FALSE)","v":"VALFRI"},"SEK",{"$f":"VLOOKUP(B209,Import!A$1:B$20000,2,FALSE)","v":{"$error":"#N/A"}},"EJ_GRANSKN",{"$f":"VLOOKUP(S209,Import!A$1:B$20000,2,FALSE)","v":{"$error":"#N/A"}},"32211_S_L_SEK_TOT_U_M_X_H1_VALFRI_SEK",1000,null,"30674_D208_cmb216_",{"$f":"VLOOKUP(B209,Import!E$1:F$20000,2,FALSE)","v":{"$error":"#N/A"}}]
[{"$f":"IF(ISBLANK(Inm_30674_D209_cmb217_),\"\",$T$210 * Inm_30674_D209_cmb217_)","v":""},"30674_D209_cmb217_","Handel i sven, Lång , Utflöde","VP203'!Inm_30674_D209_cmb217_","32211","S","L","SEK","TOT","U","M","X","H1",{"$f":"VLOOKUP('VP203'!$B$218,FlexDimensioner!$C$1:$D$430,2,FALSE)","v":"VALFRI"},"SEK",{"$f":"VLOOKUP(B210,Import!A$1:B$20000,2,FALSE)","v":{"$error":"#N/A"}},"EJ_GRANSKN",{"$f":"VLOOKUP(S210,Import!A$1:B$20000,2,FALSE)","v":{"$error":"#N/A"}},"32211_S_L_SEK_TOT_U_M_X_H1_VALFRI_SEK",1000,null,"30674_D209_cmb217_",{"$f":"VLOOKUP(B210,Import!E$1:F$20000,2,FALSE)","v":{"$error":"#N/A"}}]
[{"$f":"IF(ISBLANK(Inm_30674_D210_cmb218_),\"\",$T$211 * Inm_30674_D210_cmb218_)","v":""},"30674_D210_cmb218_","Handel i sven, Lång , Utflöde","VP203'!Inm_30674_D210_cmb218_","32211","S","L","SEK","TOT","U","M","X","H1",{"$f":"VLOOKUP('VP203'!$B$219,FlexDimensioner!$C$1:$D$430,2,FALSE)","v":"VALFRI"},"SEK",{"$f":"VLOOKUP(B211,Import!A$1:B$20000,2,FALSE)","v":{"$error":"#N/A"}},"EJ_GRANSKN",{"$f":"VLOOKUP(S211,Import!A$1:B$20000,2,FALSE)","v":{"$error":"#N/A"}},"32211_S_L_SEK_TOT_U_M_X_H1_VALFRI_SEK",1000,null,"30674_D210_cmb218_",{"$f":"VLOOKUP(B211,Import!E$1:F$20000,2,FALSE)","v":{"$error":"#N/A"}}]
[{"$f":"IF(ISBLANK(Inm_30674_D211_cmb219_),\"\",$T$212 * Inm_30674_D211_cmb219_)","v":""},"30674_D211_cmb219_","Handel i sven, Lång , Utflöde","VP203'!Inm_30674_D211_cmb219_","32211","S","L","SEK","TOT","U","M","X","H1",{"$f":"VLOOKUP('VP203'!$B$220,FlexDimensioner!$C$1:$D$430,2,FALSE)","v":"VALFRI"},"SEK",{"$f":"VLOOKUP(B212,Import!A$1:B$20000,2,FALSE)","v":{"$error":"#N/A"}},"EJ_GRANSKN",{"$f":"VLOOKUP(S212,Import!A$1:B$20000,2,FALSE)","v":{"$error":"#N/A"}},"32211_S_L_SEK_TOT_U_M_X_H1_VALFRI_SEK",1000,null,"30674_D211_cmb219_",{"$f":"VLOOKUP(B212,Import!E$1:F$20000,2,FALSE)","v":{"$error":"#N/A"}}]
[{"$f":"IF(ISBLANK(Inm_30674_D212_cmb220_),\"\",$T$213 * Inm_30674_D212_cmb220_)","v":""},"30674_D212_cmb220_","Handel i sven, Lång , Utflöde","VP203'!Inm_30674_D212_cmb220_","32211","S","L","SEK","TOT","U","M","X","H1",{"$f":"VLOOKUP('VP203'!$B$221,FlexDimensioner!$C$1:$D$430,2,FALSE)","v":"VALFRI"},"SEK",{"$f":"VLOOKUP(B213,Import!A$1:B$20000,2,FALSE)","v":{"$error":"#N/A"}},"EJ_GRANSKN",{"$f":"VLOOKUP(S213,Import!A$1:B$20000,2,FALSE)","v":{"$error":"#N/A"}},"32211_S_L_SEK_TOT_U_M_X_H1_VALFRI_SEK",1000,null,"30674_D212_cmb220_",{"$f":"VLOOKUP(B213,Import!E$1:F$20000,2,FALSE)","v":{"$error":"#N/A"}}]
[{"$f":"IF(ISBLANK(Inm_30674_D213_cmb221_),\"\",$T$214 * Inm_30674_D213_cmb221_)","v":""},"30674_D213_cmb221_","Handel i sven, Lång , Utflöde","VP203'!Inm_30674_D213_cmb221_","32211","S","L","SEK","TOT","U","M","X","H1",{"$f":"VLOOKUP('VP203'!$B$222,FlexDimensioner!$C$1:$D$430,2,FALSE)","v":"VALFRI"},"SEK",{"$f":"VLOOKUP(B214,Import!A$1:B$20000,2,FALSE)","v":{"$error":"#N/A"}},"EJ_GRANSKN",{"$f":"VLOOKUP(S214,Import!A$1:B$20000,2,FALSE)","v":{"$error":"#N/A"}},"32211_S_L_SEK_TOT_U_M_X_H1_VALFRI_SEK",1000,null,"30674_D213_cmb221_",{"$f":"VLOOKUP(B214,Import!E$1:F$20000,2,FALSE)","v":{"$error":"#N/A"}}]
[{"$f":"IF(ISBLANK(Inm_30674_D214_cmb222_),\"\",$T$215 * Inm_30674_D214_cmb222_)","v":""},"30674_D214_cmb222_","Handel i sven, Lång , Utflöde","VP203'!Inm_30674_D214_cmb222_","32211","S","L","SEK","TOT","U","M","X","H1",{"$f":"VLOOKUP('VP203'!$B$223,FlexDimensioner!$C$1:$D$430,2,FALSE)","v":"VALFRI"},"SEK",{"$f":"VLOOKUP(B215,Import!A$1:B$20000,2,FALSE)","v":{"$error":"#N/A"}},"EJ_GRANSKN",{"$f":"VLOOKUP(S215,Import!A$1:B$20000,2,FALSE)","v":{"$error":"#N/A"}},"32211_S_L_SEK_TOT_U_M_X_H1_VALFRI_SEK",1000,null,"30674_D214_cmb222_",{"$f":"VLOOKUP(B215,Import!E$1:F$20000,2,FALSE)","v":{"$error":"#N/A"}}]
[{"$f":"IF(ISBLANK(Inm_30674_D215_cmb223_),\"\",$T$216 * Inm_30674_D215_cmb223_)","v":""},"30674_D215_cmb223_","Handel i sven, Lång , Utflöde","VP203'!Inm_30674_D215_cmb223_","32211","S","L","SEK","TOT","U","M","X","H1",{"$f":"VLOOKUP('VP203'!$B$224,FlexDimensioner!$C$1:$D$430,2,FALSE)","v":"VALFRI"},"SEK",{"$f":"VLOOKUP(B216,Import!A$1:B$20000,2,FALSE)","v":{"$error":"#N/A"}},"EJ_GRANSKN",{"$f":"VLOOKUP(S216,Import!A$1:B$20000,2,FALSE)","v":{"$error":"#N/A"}},"32211_S_L_SEK_TOT_U_M_X_H1_VALFRI_SEK",1000,null,"30674_D215_cmb223_",{"$f":"VLOOKUP(B216,Import!E$1:F$20000,2,FALSE)","v":{"$error":"#N/A"}}]
[{"$f":"IF(ISBLANK(Inm_30674_D216_cmb224_),\"\",$T$217 * Inm_30674_D216_cmb224_)","v":""},"30674_D216_cmb224_","Handel i sven, Lång , Utflöde","VP203'!Inm_30674_D216_cmb224_","32211","S","L","SEK","TOT","U","M","X","H1",{"$f":"VLOOKUP('VP203'!$B$225,FlexDimensioner!$C$1:$D$430,2,FALSE)","v":"VALFRI"},"SEK",{"$f":"VLOOKUP(B217,Import!A$1:B$20000,2,FALSE)","v":{"$error":"#N/A"}},"EJ_GRANSKN",{"$f":"VLOOKUP(S217,Import!A$1:B$20000,2,FALSE)","v":{"$error":"#N/A"}},"32211_S_L_SEK_TOT_U_M_X_H1_VALFRI_SEK",1000,null,"30674_D216_cmb224_",{"$f":"VLOOKUP(B217,Import!E$1:F$20000,2,FALSE)","v":{"$error":"#N/A"}}]
[{"$f":"IF(ISBLANK(Inm_30674_D217_cmb225_),\"\",$T$218 * Inm_30674_D217_cmb225_)","v":""},"30674_D217_cmb225_","Handel i sven, Lång , Utflöde","VP203'!Inm_30674_D217_cmb225_","32211","S","L","SEK","TOT","U","M","X","H1",{"$f":"VLOOKUP('VP203'!$B$226,FlexDimensioner!$C$1:$D$430,2,FALSE)","v":"VALFRI"},"SEK",{"$f":"VLOOKUP(B218,Import!A$1:B$20000,2,FALSE)","v":{"$error":"#N/A"}},"EJ_GRANSKN",{"$f":"VLOOKUP(S218,Import!A$1:B$20000,2,FALSE)","v":{"$error":"#N/A"}},"32211_S_L_SEK_TOT_U_M_X_H1_VALFRI_SEK",1000,null,"30674_D217_cmb225_",{"$f":"VLOOKUP(B218,Import!E$1:F$20000,2,FALSE)","v":{"$error":"#N/A"}}]
[{"$f":"IF(ISBLANK(Inm_30674_D218_cmb226_),\"\",$T$219 * Inm_30674_D218_cmb226_)","v":""},"30674_D218_cmb226_","Handel i sven, Lång , Utflöde","VP203'!Inm_30674_D218_cmb226_","32211","S","L","SEK","TOT","U","M","X","H1",{"$f":"VLOOKUP('VP203'!$B$227,FlexDimensioner!$C$1:$D$430,2,FALSE)","v":"VALFRI"},"SEK",{"$f":"VLOOKUP(B219,Import!A$1:B$20000,2,FALSE)","v":{"$error":"#N/A"}},"EJ_GRANSKN",{"$f":"VLOOKUP(S219,Import!A$1:B$20000,2,FALSE)","v":{"$error":"#N/A"}},"32211_S_L_SEK_TOT_U_M_X_H1_VALFRI_SEK",1000,null,"30674_D218_cmb226_",{"$f":"VLOOKUP(B219,Import!E$1:F$20000,2,FALSE)","v":{"$error":"#N/A"}}]
[{"$f":"IF(ISBLANK(Inm_30674_D219_cmb227_),\"\",$T$220 * Inm_30674_D219_cmb227_)","v":""},"30674_D219_cmb227_","Handel i sven, Lång , Utflöde","VP203'!Inm_30674_D219_cmb227_","32211","S","L","SEK","TOT","U","M","X","H1",{"$f":"VLOOKUP('VP203'!$B$228,FlexDimensioner!$C$1:$D$430,2,FALSE)","v":"VALFRI"},"SEK",{"$f":"VLOOKUP(B220,Import!A$1:B$20000,2,FALSE)","v":{"$error":"#N/A"}},"EJ_GRANSKN",{"$f":"VLOOKUP(S220,Import!A$1:B$20000,2,FALSE)","v":{"$error":"#N/A"}},"32211_S_L_SEK_TOT_U_M_X_H1_VALFRI_SEK",1000,null,"30674_D219_cmb227_",{"$f":"VLOOKUP(B220,Import!E$1:F$20000,2,FALSE)","v":{"$error":"#N/A"}}]
[{"$f":"IF(ISBLANK(Inm_30674_D220_cmb228_),\"\",$T$221 * Inm_30674_D220_cmb228_)","v":""},"30674_D220_cmb228_","Handel i sven, Lång , Utflöde","VP203'!Inm_30674_D220_cmb228_","32211","S","L","SEK","TOT","U","M","X","H1",{"$f":"VLOOKUP('VP203'!$B$229,FlexDimensioner!$C$1:$D$430,2,FALSE)","v":"VALFRI"},"SEK",{"$f":"VLOOKUP(B221,Import!A$1:B$20000,2,FALSE)","v":{"$error":"#N/A"}},"EJ_GRANSKN",{"$f":"VLOOKUP(S221,Import!A$1:B$20000,2,FALSE)","v":{"$error":"#N/A"}},"32211_S_L_SEK_TOT_U_M_X_H1_VALFRI_SEK",1000,null,"30674_D220_cmb228_",{"$f":"VLOOKUP(B221,Import!E$1:F$20000,2,FALSE)","v":{"$error":"#N/A"}}]
[{"$f":"IF(ISBLANK(Inm_30674_D221_cmb229_),\"\",$T$222 * Inm_30674_D221_cmb229_)","v":""},"30674_D221_cmb229_","Handel i sven, Lång , Utflöde","VP203'!Inm_30674_D221_cmb229_","32211","S","L","SEK","TOT","U","M","X","H1",{"$f":"VLOOKUP('VP203'!$B$230,FlexDimensioner!$C$1:$D$430,2,FALSE)","v":"VALFRI"},"SEK",{"$f":"VLOOKUP(B222,Import!A$1:B$20000,2,FALSE)","v":{"$error":"#N/A"}},"EJ_GRANSKN",{"$f":"VLOOKUP(S222,Import!A$1:B$20000,2,FALSE)","v":{"$error":"#N/A"}},"32211_S_L_SEK_TOT_U_M_X_H1_VALFRI_SEK",1000,null,"30674_D221_cmb229_",{"$f":"VLOOKUP(B222,Import!E$1:F$20000,2,FALSE)","v":{"$error":"#N/A"}}]
[{"$f":"IF(ISBLANK(Inm_30674_D222_cmb230_),\"\",$T$223 * Inm_30674_D222_cmb230_)","v":""},"30674_D222_cmb230_","Handel i sven, Lång , Utflöde","VP203'!Inm_30674_D222_cmb230_","32211","S","L","SEK","TOT","U","M","X","H1",{"$f":"VLOOKUP('VP203'!$B$231,FlexDimensioner!$C$1:$D$430,2,FALSE)","v":"VALFRI"},"SEK",{"$f":"VLOOKUP(B223,Import!A$1:B$20000,2,FALSE)","v":{"$error":"#N/A"}},"EJ_GRANSKN",{"$f":"VLOOKUP(S223,Import!A$1:B$20000,2,FALSE)","v":{"$error":"#N/A"}},"32211_S_L_SEK_TOT_U_M_X_H1_VALFRI_SEK",1000,null,"30674_D222_cmb230_",{"$f":"VLOOKUP(B223,Import!E$1:F$20000,2,FALSE)","v":{"$error":"#N/A"}}]
[{"$f":"IF(ISBLANK(Inm_30674_D223_cmb231_),\"\",$T$224 * Inm_30674_D223_cmb231_)","v":""},"30674_D223_cmb231_","Handel i sven, Lång , Utflöde","VP203'!Inm_30674_D223_cmb231_","32211","S","L","SEK","TOT","U","M","X","H1",{"$f":"VLOOKUP('VP203'!$B$232,FlexDimensioner!$C$1:$D$430,2,FALSE)","v":"VALFRI"},"SEK",{"$f":"VLOOKUP(B224,Import!A$1:B$20000,2,FALSE)","v":{"$error":"#N/A"}},"EJ_GRANSKN",{"$f":"VLOOKUP(S224,Import!A$1:B$20000,2,FALSE)","v":{"$error":"#N/A"}},"32211_S_L_SEK_TOT_U_M_X_H1_VALFRI_SEK",1000,null,"30674_D223_cmb231_",{"$f":"VLOOKUP(B224,Import!E$1:F$20000,2,FALSE)","v":{"$error":"#N/A"}}]
[{"$f":"IF(ISBLANK(Inm_30674_D224_cmb233_),\"\",$T$225 * Inm_30674_D224_cmb233_)","v":""},"30674_D224_cmb233_","Handel i sven, Lång , Utflöde","VP203'!Inm_30674_D224_cmb233_","32211","S","L","SEK","TOT","U","M","X","H1",{"$f":"VLOOKUP('VP203'!$B$233,FlexDimensioner!$C$1:$D$430,2,FALSE)","v":"VALFRI"},"SEK",{"$f":"VLOOKUP(B225,Import!A$1:B$20000,2,FALSE)","v":{"$error":"#N/A"}},"EJ_GRANSKN",{"$f":"VLOOKUP(S225,Import!A$1:B$20000,2,FALSE)","v":{"$error":"#N/A"}},"32211_S_L_SEK_TOT_U_M_X_H1_VALFRI_SEK",1000,null,"30674_D224_cmb233_",{"$f":"VLOOKUP(B225,Import!E$1:F$20000,2,FALSE)","v":{"$error":"#N/A"}}]
[{"$f":"IF(ISBLANK(Inm_30674_D225_cmb234_),\"\",$T$226 * Inm_30674_D225_cmb234_)","v":""},"30674_D225_cmb234_","Handel i sven, Lång , Utflöde","VP203'!Inm_30674_D225_cmb234_","32211","S","L","SEK","TOT","U","M","X","H1",{"$f":"VLOOKUP('VP203'!$B$234,FlexDimensioner!$C$1:$D$430,2,FALSE)","v":"VALFRI"},"SEK",{"$f":"VLOOKUP(B226,Import!A$1:B$20000,2,FALSE)","v":{"$error":"#N/A"}},"EJ_GRANSKN",{"$f":"VLOOKUP(S226,Import!A$1:B$20000,2,FALSE)","v":{"$error":"#N/A"}},"32211_S_L_SEK_TOT_U_M_X_H1_VALFRI_SEK",1000,null,"30674_D225_cmb234_",{"$f":"VLOOKUP(B226,Import!E$1:F$20000,2,FALSE)","v":{"$error":"#N/A"}}]
[{"$f":"IF(ISBLANK(Inm_30674_D226_cmb235_),\"\",$T$227 * Inm_30674_D226_cmb235_)","v":""},"30674_D226_cmb235_","Handel i sven, Lång , Utflöde","VP203'!Inm_30674_D226_cmb235_","32211","S","L","SEK","TOT","U","M","X","H1",{"$f":"VLOOKUP('VP203'!$B$235,FlexDimensioner!$C$1:$D$430,2,FALSE)","v":"VALFRI"},"SEK",{"$f":"VLOOKUP(B227,Import!A$1:B$20000,2,FALSE)","v":{"$error":"#N/A"}},"EJ_GRANSKN",{"$f":"VLOOKUP(S227,Import!A$1:B$20000,2,FALSE)","v":{"$error":"#N/A"}},"32211_S_L_SEK_TOT_U_M_X_H1_VALFRI_SEK",1000,null,"30674_D226_cmb235_",{"$f":"VLOOKUP(B227,Import!E$1:F$20000,2,FALSE)","v":{"$error":"#N/A"}}]
[{"$f":"IF(ISBLANK(Inm_30674_D227_cmb236_),\"\",$T$228 * Inm_30674_D227_cmb236_)","v":""},"30674_D227_cmb236_","Handel i sven, Lång , Utflöde","VP203'!Inm_30674_D227_cmb236_","32211","S","L","SEK","TOT","U","M","X","H1",{"$f":"VLOOKUP('VP203'!$B$236,FlexDimensioner!$C$1:$D$430,2,FALSE)","v":"VALFRI"},"SEK",{"$f":"VLOOKUP(B228,Import!A$1:B$20000,2,FALSE)","v":{"$error":"#N/A"}},"EJ_GRANSKN",{"$f":"VLOOKUP(S228,Import!A$1:B$20000,2,FALSE)","v":{"$error":"#N/A"}},"32211_S_L_SEK_TOT_U_M_X_H1_VALFRI_SEK",1000,null,"30674_D227_cmb236_",{"$f":"VLOOKUP(B228,Import!E$1:F$20000,2,FALSE)","v":{"$error":"#N/A"}}]
[{"$f":"IF(ISBLANK(Inm_30674_D228_cmb237_),\"\",$T$229 * Inm_30674_D228_cmb237_)","v":""},"30674_D228_cmb237_","Handel i sven, Lång , Utflöde","VP203'!Inm_30674_D228_cmb237_","32211","S","L","SEK","TOT","U","M","X","H1",{"$f":"VLOOKUP('VP203'!$B$237,FlexDimensioner!$C$1:$D$430,2,FALSE)","v":"VALFRI"},"SEK",{"$f":"VLOOKUP(B229,Import!A$1:B$20000,2,FALSE)","v":{"$error":"#N/A"}},"EJ_GRANSKN",{"$f":"VLOOKUP(S229,Import!A$1:B$20000,2,FALSE)","v":{"$error":"#N/A"}},"32211_S_L_SEK_TOT_U_M_X_H1_VALFRI_SEK",1000,null,"30674_D228_cmb237_",{"$f":"VLOOKUP(B229,Import!E$1:F$20000,2,FALSE)","v":{"$error":"#N/A"}}]
[{"$f":"IF(ISBLANK(Inm_30674_D229_cmb238_),\"\",$T$230 * Inm_30674_D229_cmb238_)","v":""},"30674_D229_cmb238_","Handel i sven, Lång , Utflöde","VP203'!Inm_30674_D229_cmb238_","32211","S","L","SEK","TOT","U","M","X","H1",{"$f":"VLOOKUP('VP203'!$B$238,FlexDimensioner!$C$1:$D$430,2,FALSE)","v":"VALFRI"},"SEK",{"$f":"VLOOKUP(B230,Import!A$1:B$20000,2,FALSE)","v":{"$error":"#N/A"}},"EJ_GRANSKN",{"$f":"VLOOKUP(S230,Import!A$1:B$20000,2,FALSE)","v":{"$error":"#N/A"}},"32211_S_L_SEK_TOT_U_M_X_H1_VALFRI_SEK",1000,null,"30674_D229_cmb238_",{"$f":"VLOOKUP(B230,Import!E$1:F$20000,2,FALSE)","v":{"$error":"#N/A"}}]
[{"$f":"IF(ISBLANK(Inm_30674_D230_cmb239_),\"\",$T$231 * Inm_30674_D230_cmb239_)","v":""},"30674_D230_cmb239_","Handel i sven, Lång , Utflöde","VP203'!Inm_30674_D230_cmb239_","32211","S","L","SEK","TOT","U","M","X","H1",{"$f":"VLOOKUP('VP203'!$B$239,FlexDimensioner!$C$1:$D$430,2,FALSE)","v":"VALFRI"},"SEK",{"$f":"VLOOKUP(B231,Import!A$1:B$20000,2,FALSE)","v":{"$error":"#N/A"}},"EJ_GRANSKN",{"$f":"VLOOKUP(S231,Import!A$1:B$20000,2,FALSE)","v":{"$error":"#N/A"}},"32211_S_L_SEK_TOT_U_M_X_H1_VALFRI_SEK",1000,null,"30674_D230_cmb239_",{"$f":"VLOOKUP(B231,Import!E$1:F$20000,2,FALSE)","v":{"$error":"#N/A"}}]
[{"$f":"IF(ISBLANK(Inm_30674_D231_cmb240_),\"\",$T$232 * Inm_30674_D231_cmb240_)","v":""},"30674_D231_cmb240_","Handel i sven, Lång , Utflöde","VP203'!Inm_30674_D231_cmb240_","32211","S","L","SEK","TOT","U","M","X","H1",{"$f":"VLOOKUP('VP203'!$B$240,FlexDimensioner!$C$1:$D$430,2,FALSE)","v":"VALFRI"},"SEK",{"$f":"VLOOKUP(B232,Import!A$1:B$20000,2,FALSE)","v":{"$error":"#N/A"}},"EJ_GRANSKN",{"$f":"VLOOKUP(S232,Import!A$1:B$20000,2,FALSE)","v":{"$error":"#N/A"}},"32211_S_L_SEK_TOT_U_M_X_H1_VALFRI_SEK",1000,null,"30674_D231_cmb240_",{"$f":"VLOOKUP(B232,Import!E$1:F$20000,2,FALSE)","v":{"$error":"#N/A"}}]
[{"$f":"IF(ISBLANK(Inm_30674_D232_cmb241_),\"\",$T$233 * Inm_30674_D232_cmb241_)","v":""},"30674_D232_cmb241_","Handel i sven, Lång , Utflöde","VP203'!Inm_30674_D232_cmb241_","32211","S","L","SEK","TOT","U","M","X","H1",{"$f":"VLOOKUP('VP203'!$B$241,FlexDimensioner!$C$1:$D$430,2,FALSE)","v":"VALFRI"},"SEK",{"$f":"VLOOKUP(B233,Import!A$1:B$20000,2,FALSE)","v":{"$error":"#N/A"}},"EJ_GRANSKN",{"$f":"VLOOKUP(S233,Import!A$1:B$20000,2,FALSE)","v":{"$error":"#N/A"}},"32211_S_L_SEK_TOT_U_M_X_H1_VALFRI_SEK",1000,null,"30674_D232_cmb241_",{"$f":"VLOOKUP(B233,Import!E$1:F$20000,2,FALSE)","v":{"$error":"#N/A"}}]
[{"$f":"IF(ISBLANK(Inm_30674_D233_cmb242_),\"\",$T$234 * Inm_30674_D233_cmb242_)","v":""},"30674_D233_cmb242_","Handel i sven, Lång , Utflöde","VP203'!Inm_30674_D233_cmb242_","32211","S","L","SEK","TOT","U","M","X","H1",{"$f":"VLOOKUP('VP203'!$B$242,FlexDimensioner!$C$1:$D$430,2,FALSE)","v":"VALFRI"},"SEK",{"$f":"VLOOKUP(B234,Import!A$1:B$20000,2,FALSE)","v":{"$error":"#N/A"}},"EJ_GRANSKN",{"$f":"VLOOKUP(S234,Import!A$1:B$20000,2,FALSE)","v":{"$error":"#N/A"}},"32211_S_L_SEK_TOT_U_M_X_H1_VALFRI_SEK",1000,null,"30674_D233_cmb242_",{"$f":"VLOOKUP(B234,Import!E$1:F$20000,2,FALSE)","v":{"$error":"#N/A"}}]
[{"$f":"IF(ISBLANK(Inm_30674_D234_cmb243_),\"\",$T$235 * Inm_30674_D234_cmb243_)","v":""},"30674_D234_cmb243_","Handel i sven, Lång , Utflöde","VP203'!Inm_30674_D234_cmb243_","32211","S","L","SEK","TOT","U","M","X","H1",{"$f":"VLOOKUP('VP203'!$B$243,FlexDimensioner!$C$1:$D$430,2,FALSE)","v":"VALFRI"},"SEK",{"$f":"VLOOKUP(B235,Import!A$1:B$20000,2,FALSE)","v":{"$error":"#N/A"}},"EJ_GRANSKN",{"$f":"VLOOKUP(S235,Import!A$1:B$20000,2,FALSE)","v":{"$error":"#N/A"}},"32211_S_L_SEK_TOT_U_M_X_H1_VALFRI_SEK",1000,null,"30674_D234_cmb243_",{"$f":"VLOOKUP(B235,Import!E$1:F$20000,2,FALSE)","v":{"$error":"#N/A"}}]
[{"$f":"IF(ISBLANK(Inm_30674_D235_cmb244_),\"\",$T$236 * Inm_30674_D235_cmb244_)","v":""},"30674_D235_cmb244_","Handel i sven, Lång , Utflöde","VP203'!Inm_30674_D235_cmb244_","32211","S","L","SEK","TOT","U","M","X","H1",{"$f":"VLOOKUP('VP203'!$B$244,FlexDimensioner!$C$1:$D$430,2,FALSE)","v":"VALFRI"},"SEK",{"$f":"VLOOKUP(B236,Import!A$1:B$20000,2,FALSE)","v":{"$error":"#N/A"}},"EJ_GRANSKN",{"$f":"VLOOKUP(S236,Import!A$1:B$20000,2,FALSE)","v":{"$error":"#N/A"}},"32211_S_L_SEK_TOT_U_M_X_H1_VALFRI_SEK",1000,null,"30674_D235_cmb244_",{"$f":"VLOOKUP(B236,Import!E$1:F$20000,2,FALSE)","v":{"$error":"#N/A"}}]
[{"$f":"IF(ISBLANK(Inm_30674_D236_cmb245_),\"\",$T$237 * Inm_30674_D236_cmb245_)","v":""},"30674_D236_cmb245_","Handel i sven, Lång , Utflöde","VP203'!Inm_30674_D236_cmb245_","32211","S","L","SEK","TOT","U","M","X","H1",{"$f":"VLOOKUP('VP203'!$B$245,FlexDimensioner!$C$1:$D$430,2,FALSE)","v":"VALFRI"},"SEK",{"$f":"VLOOKUP(B237,Import!A$1:B$20000,2,FALSE)","v":{"$error":"#N/A"}},"EJ_GRANSKN",{"$f":"VLOOKUP(S237,Import!A$1:B$20000,2,FALSE)","v":{"$error":"#N/A"}},"32211_S_L_SEK_TOT_U_M_X_H1_VALFRI_SEK",1000,null,"30674_D236_cmb245_",{"$f":"VLOOKUP(B237,Import!E$1:F$20000,2,FALSE)","v":{"$error":"#N/A"}}]
[{"$f":"IF(ISBLANK(Inm_30674_D237_cmb246_),\"\",$T$238 * Inm_30674_D237_cmb246_)","v":""},"30674_D237_cmb246_","Handel i sven, Lång , Utflöde","VP203'!Inm_30674_D237_cmb246_","32211","S","L","SEK","TOT","U","M","X","H1",{"$f":"VLOOKUP('VP203'!$B$246,FlexDimensioner!$C$1:$D$430,2,FALSE)","v":"VALFRI"},"SEK",{"$f":"VLOOKUP(B238,Import!A$1:B$20000,2,FALSE)","v":{"$error":"#N/A"}},"EJ_GRANSKN",{"$f":"VLOOKUP(S238,Import!A$1:B$20000,2,FALSE)","v":{"$error":"#N/A"}},"32211_S_L_SEK_TOT_U_M_X_H1_VALFRI_SEK",1000,null,"30674_D237_cmb246_",{"$f":"VLOOKUP(B238,Import!E$1:F$20000,2,FALSE)","v":{"$error":"#N/A"}}]
[{"$f":"IF(ISBLANK(Inm_30674_D238_cmb247_),\"\",$T$239 * Inm_30674_D238_cmb247_)","v":""},"30674_D238_cmb247_","Handel i sven, Lång , Utflöde","VP203'!Inm_30674_D238_cmb247_","32211","S","L","SEK","TOT","U","M","X","H1",{"$f":"VLOOKUP('VP203'!$B$247,FlexDimensioner!$C$1:$D$430,2,FALSE)","v":"VALFRI"},"SEK",{"$f":"VLOOKUP(B239,Import!A$1:B$20000,2,FALSE)","v":{"$error":"#N/A"}},"EJ_GRANSKN",{"$f":"VLOOKUP(S239,Import!A$1:B$20000,2,FALSE)","v":{"$error":"#N/A"}},"32211_S_L_SEK_TOT_U_M_X_H1_VALFRI_SEK",1000,null,"30674_D238_cmb247_",{"$f":"VLOOKUP(B239,Import!E$1:F$20000,2,FALSE)","v":{"$error":"#N/A"}}]
[{"$f":"IF(ISBLANK(Inm_30674_D239_cmb248_),\"\",$T$240 * Inm_30674_D239_cmb248_)","v":""},"30674_D239_cmb248_","Handel i sven, Lång , Utflöde","VP203'!Inm_30674_D239_cmb248_","32211","S","L","SEK","TOT","U","M","X","H1",{"$f":"VLOOKUP('VP203'!$B$248,FlexDimensioner!$C$1:$D$430,2,FALSE)","v":"VALFRI"},"SEK",{"$f":"VLOOKUP(B240,Import!A$1:B$20000,2,FALSE)","v":{"$error":"#N/A"}},"EJ_GRANSKN",{"$f":"VLOOKUP(S240,Import!A$1:B$20000,2,FALSE)","v":{"$error":"#N/A"}},"32211_S_L_SEK_TOT_U_M_X_H1_VALFRI_SEK",1000,null,"30674_D239_cmb248_",{"$f":"VLOOKUP(B240,Import!E$1:F$20000,2,FALSE)","v":{"$error":"#N/A"}}]
[{"$f":"IF(ISBLANK(Inm_30674_D240_cmb249_),\"\",$T$241 * Inm_30674_D240_cmb249_)","v":""},"30674_D240_cmb249_","Handel i sven, Lång , Utflöde","VP203'!Inm_30674_D240_cmb249_","32211","S","L","SEK","TOT","U","M","X","H1",{"$f":"VLOOKUP('VP203'!$B$249,FlexDimensioner!$C$1:$D$430,2,FALSE)","v":"VALFRI"},"SEK",{"$f":"VLOOKUP(B241,Import!A$1:B$20000,2,FALSE)","v":{"$error":"#N/A"}},"EJ_GRANSKN",{"$f":"VLOOKUP(S241,Import!A$1:B$20000,2,FALSE)","v":{"$error":"#N/A"}},"32211_S_L_SEK_TOT_U_M_X_H1_VALFRI_SEK",1000,null,"30674_D240_cmb249_",{"$f":"VLOOKUP(B241,Import!E$1:F$20000,2,FALSE)","v":{"$error":"#N/A"}}]
[{"$f":"IF(ISBLANK(Inm_30674_D241_cmb250_),\"\",$T$242 * Inm_30674_D241_cmb250_)","v":""},"30674_D241_cmb250_","Handel i sven, Lång , Utflöde","VP203'!Inm_30674_D241_cmb250_","32211","S","L","SEK","TOT","U","M","X","H1",{"$f":"VLOOKUP('VP203'!$B$250,FlexDimensioner!$C$1:$D$430,2,FALSE)","v":"VALFRI"},"SEK",{"$f":"VLOOKUP(B242,Import!A$1:B$20000,2,FALSE)","v":{"$error":"#N/A"}},"EJ_GRANSKN",{"$f":"VLOOKUP(S242,Import!A$1:B$20000,2,FALSE)","v":{"$error":"#N/A"}},"32211_S_L_SEK_TOT_U_M_X_H1_VALFRI_SEK",1000,null,"30674_D241_cmb250_",{"$f":"VLOOKUP(B242,Import!E$1:F$20000,2,FALSE)","v":{"$error":"#N/A"}}]
[{"$f":"IF(ISBLANK(Inm_30674_D242_cmb251_),\"\",$T$243 * Inm_30674_D242_cmb251_)","v":""},"30674_D242_cmb251_","Handel i sven, Lång , Utflöde","VP203'!Inm_30674_D242_cmb251_","32211","S","L","SEK","TOT","U","M","X","H1",{"$f":"VLOOKUP('VP203'!$B$251,FlexDimensioner!$C$1:$D$430,2,FALSE)","v":"VALFRI"},"SEK",{"$f":"VLOOKUP(B243,Import!A$1:B$20000,2,FALSE)","v":{"$error":"#N/A"}},"EJ_GRANSKN",{"$f":"VLOOKUP(S243,Import!A$1:B$20000,2,FALSE)","v":{"$error":"#N/A"}},"32211_S_L_SEK_TOT_U_M_X_H1_VALFRI_SEK",1000,null,"30674_D242_cmb251_",{"$f":"VLOOKUP(B243,Import!E$1:F$20000,2,FALSE)","v":{"$error":"#N/A"}}]
[{"$f":"IF(ISBLANK(Inm_30674_D243_cmb252_),\"\",$T$244 * Inm_30674_D243_cmb252_)","v":""},"30674_D243_cmb252_","Handel i sven, Lång , Utflöde","VP203'!Inm_30674_D243_cmb252_","32211","S","L","SEK","TOT","U","M","X","H1",{"$f":"VLOOKUP('VP203'!$B$252,FlexDimensioner!$C$1:$D$430,2,FALSE)","v":"VALFRI"},"SEK",{"$f":"VLOOKUP(B244,Import!A$1:B$20000,2,FALSE)","v":{"$error":"#N/A"}},"EJ_GRANSKN",{"$f":"VLOOKUP(S244,Import!A$1:B$20000,2,FALSE)","v":{"$error":"#N/A"}},"32211_S_L_SEK_TOT_U_M_X_H1_VALFRI_SEK",1000,null,"30674_D243_cmb252_",{"$f":"VLOOKUP(B244,Import!E$1:F$20000,2,FALSE)","v":{"$error":"#N/A"}}]
[{"$f":"IF(ISBLANK(Inm_30674_D244_cmb253_),\"\",$T$245 * Inm_30674_D244_cmb253_)","v":""},"30674_D244_cmb253_","Handel i sven, Lång , Utflöde","VP203'!Inm_30674_D244_cmb253_","32211","S","L","SEK","TOT","U","M","X","H1",{"$f":"VLOOKUP('VP203'!$B$253,FlexDimensioner!$C$1:$D$430,2,FALSE)","v":"VALFRI"},"SEK",{"$f":"VLOOKUP(B245,Import!A$1:B$20000,2,FALSE)","v":{"$error":"#N/A"}},"EJ_GRANSKN",{"$f":"VLOOKUP(S245,Import!A$1:B$20000,2,FALSE)","v":{"$error":"#N/A"}},"32211_S_L_SEK_TOT_U_M_X_H1_VALFRI_SEK",1000,null,"30674_D244_cmb253_",{"$f":"VLOOKUP(B245,Import!E$1:F$20000,2,FALSE)","v":{"$error":"#N/A"}}]
[{"$f":"IF(ISBLANK(Inm_30674_D245_cmb254_),\"\",$T$246 * Inm_30674_D245_cmb254_)","v":""},"30674_D245_cmb254_","Handel i sven, Lång , Utflöde","VP203'!Inm_30674_D245_cmb254_","32211","S","L","SEK","TOT","U","M","X","H1",{"$f":"VLOOKUP('VP203'!$B$254,FlexDimensioner!$C$1:$D$430,2,FALSE)","v":"VALFRI"},"SEK",{"$f":"VLOOKUP(B246,Import!A$1:B$20000,2,FALSE)","v":{"$error":"#N/A"}},"EJ_GRANSKN",{"$f":"VLOOKUP(S246,Import!A$1:B$20000,2,FALSE)","v":{"$error":"#N/A"}},"32211_S_L_SEK_TOT_U_M_X_H1_VALFRI_SEK",1000,null,"30674_D245_cmb254_",{"$f":"VLOOKUP(B246,Import!E$1:F$20000,2,FALSE)","v":{"$error":"#N/A"}}]
[{"$f":"IF(ISBLANK(Inm_30674_D246_cmb255_),\"\",$T$247 * Inm_30674_D246_cmb255_)","v":""},"30674_D246_cmb255_","Handel i sven, Lång , Utflöde","VP203'!Inm_30674_D246_cmb255_","32211","S","L","SEK","TOT","U","M","X","H1",{"$f":"VLOOKUP('VP203'!$B$255,FlexDimensioner!$C$1:$D$430,2,FALSE)","v":"VALFRI"},"SEK",{"$f":"VLOOKUP(B247,Import!A$1:B$20000,2,FALSE)","v":{"$error":"#N/A"}},"EJ_GRANSKN",{"$f":"VLOOKUP(S247,Import!A$1:B$20000,2,FALSE)","v":{"$error":"#N/A"}},"32211_S_L_SEK_TOT_U_M_X_H1_VALFRI_SEK",1000,null,"30674_D246_cmb255_",{"$f":"VLOOKUP(B247,Import!E$1:F$20000,2,FALSE)","v":{"$error":"#N/A"}}]
[{"$f":"IF(ISBLANK(Inm_30674_D247_cmb256_),\"\",$T$248 * Inm_30674_D247_cmb256_)","v":""},"30674_D247_cmb256_","Handel i sven, Lång , Utflöde","VP203'!Inm_30674_D247_cmb256_","32211","S","L","SEK","TOT","U","M","X","H1",{"$f":"VLOOKUP('VP203'!$B$256,FlexDimensioner!$C$1:$D$430,2,FALSE)","v":"VALFRI"},"SEK",{"$f":"VLOOKUP(B248,Import!A$1:B$20000,2,FALSE)","v":{"$error":"#N/A"}},"EJ_GRANSKN",{"$f":"VLOOKUP(S248,Import!A$1:B$20000,2,FALSE)","v":{"$error":"#N/A"}},"32211_S_L_SEK_TOT_U_M_X_H1_VALFRI_SEK",1000,null,"30674_D247_cmb256_",{"$f":"VLOOKUP(B248,Import!E$1:F$20000,2,FALSE)","v":{"$error":"#N/A"}}]
[{"$f":"IF(ISBLANK(Inm_30674_D248_cmb257_),\"\",$T$249 * Inm_30674_D248_cmb257_)","v":""},"30674_D248_cmb257_","Handel i sven, Lång , Utflöde","VP203'!Inm_30674_D248_cmb257_","32211","S","L","SEK","TOT","U","M","X","H1",{"$f":"VLOOKUP('VP203'!$B$257,FlexDimensioner!$C$1:$D$430,2,FALSE)","v":"VALFRI"},"SEK",{"$f":"VLOOKUP(B249,Import!A$1:B$20000,2,FALSE)","v":{"$error":"#N/A"}},"EJ_GRANSKN",{"$f":"VLOOKUP(S249,Import!A$1:B$20000,2,FALSE)","v":{"$error":"#N/A"}},"32211_S_L_SEK_TOT_U_M_X_H1_VALFRI_SEK",1000,null,"30674_D248_cmb257_",{"$f":"VLOOKUP(B249,Import!E$1:F$20000,2,FALSE)","v":{"$error":"#N/A"}}]
[{"$f":"IF(ISBLANK(Inm_30674_D249_cmb258_),\"\",$T$250 * Inm_30674_D249_cmb258_)","v":""},"30674_D249_cmb258_","Handel i sven, Lång , Utflöde","VP203'!Inm_30674_D249_cmb258_","32211","S","L","SEK","TOT","U","M","X","H1",{"$f":"VLOOKUP('VP203'!$B$258,FlexDimensioner!$C$1:$D$430,2,FALSE)","v":"VALFRI"},"SEK",{"$f":"VLOOKUP(B250,Import!A$1:B$20000,2,FALSE)","v":{"$error":"#N/A"}},"EJ_GRANSKN",{"$f":"VLOOKUP(S250,Import!A$1:B$20000,2,FALSE)","v":{"$error":"#N/A"}},"32211_S_L_SEK_TOT_U_M_X_H1_VALFRI_SEK",1000,null,"30674_D249_cmb258_",{"$f":"VLOOKUP(B250,Import!E$1:F$20000,2,FALSE)","v":{"$error":"#N/A"}}]
[{"$f":"IF(ISBLANK(Inm_30674_D250_cmb259_),\"\",$T$251 * Inm_30674_D250_cmb259_)","v":""},"30674_D250_cmb259_","Handel i sven, Lång , Utflöde","VP203'!Inm_30674_D250_cmb259_","32211","S","L","SEK","TOT","U","M","X","H1",{"$f":"VLOOKUP('VP203'!$B$259,FlexDimensioner!$C$1:$D$430,2,FALSE)","v":"VALFRI"},"SEK",{"$f":"VLOOKUP(B251,Import!A$1:B$20000,2,FALSE)","v":{"$error":"#N/A"}},"EJ_GRANSKN",{"$f":"VLOOKUP(S251,Import!A$1:B$20000,2,FALSE)","v":{"$error":"#N/A"}},"32211_S_L_SEK_TOT_U_M_X_H1_VALFRI_SEK",1000,null,"30674_D250_cmb259_",{"$f":"VLOOKUP(B251,Import!E$1:F$20000,2,FALSE)","v":{"$error":"#N/A"}}]
[{"$f":"IF(ISBLANK(Inm_30674_D251_cmb260_),\"\",$T$252 * Inm_30674_D251_cmb260_)","v":""},"30674_D251_cmb260_","Handel i sven, Lång , Utflöde","VP203'!Inm_30674_D251_cmb260_","32211","S","L","SEK","TOT","U","M","X","H1",{"$f":"VLOOKUP('VP203'!$B$260,FlexDimensioner!$C$1:$D$430,2,FALSE)","v":"VALFRI"},"SEK",{"$f":"VLOOKUP(B252,Import!A$1:B$20000,2,FALSE)","v":{"$error":"#N/A"}},"EJ_GRANSKN",{"$f":"VLOOKUP(S252,Import!A$1:B$20000,2,FALSE)","v":{"$error":"#N/A"}},"32211_S_L_SEK_TOT_U_M_X_H1_VALFRI_SEK",1000,null,"30674_D251_cmb260_",{"$f":"VLOOKUP(B252,Import!E$1:F$20000,2,FALSE)","v":{"$error":"#N/A"}}]
[{"$f":"IF(ISBLANK(Inm_30674_D252_cmb261_),\"\",$T$253 * Inm_30674_D252_cmb261_)","v":""},"30674_D252_cmb261_","Handel i sven, Lång , Utflöde","VP203'!Inm_30674_D252_cmb261_","32211","S","L","SEK","TOT","U","M","X","H1",{"$f":"VLOOKUP('VP203'!$B$261,FlexDimensioner!$C$1:$D$430,2,FALSE)","v":"VALFRI"},"SEK",{"$f":"VLOOKUP(B253,Import!A$1:B$20000,2,FALSE)","v":{"$error":"#N/A"}},"EJ_GRANSKN",{"$f":"VLOOKUP(S253,Import!A$1:B$20000,2,FALSE)","v":{"$error":"#N/A"}},"32211_S_L_SEK_TOT_U_M_X_H1_VALFRI_SEK",1000,null,"30674_D252_cmb261_",{"$f":"VLOOKUP(B253,Import!E$1:F$20000,2,FALSE)","v":{"$error":"#N/A"}}]
[{"$f":"IF(ISBLANK(Inm_30674_D253_cmb262_),\"\",$T$254 * Inm_30674_D253_cmb262_)","v":""},"30674_D253_cmb262_","Handel i sven, Lång , Utflöde","VP203'!Inm_30674_D253_cmb262_","32211","S","L","SEK","TOT","U","M","X","H1",{"$f":"VLOOKUP('VP203'!$B$262,FlexDimensioner!$C$1:$D$430,2,FALSE)","v":"VALFRI"},"SEK",{"$f":"VLOOKUP(B254,Import!A$1:B$20000,2,FALSE)","v":{"$error":"#N/A"}},"EJ_GRANSKN",{"$f":"VLOOKUP(S254,Import!A$1:B$20000,2,FALSE)","v":{"$error":"#N/A"}},"32211_S_L_SEK_TOT_U_M_X_H1_VALFRI_SEK",1000,null,"30674_D253_cmb262_",{"$f":"VLOOKUP(B254,Import!E$1:F$20000,2,FALSE)","v":{"$error":"#N/A"}}]
[{"$f":"IF(ISBLANK(Inm_30674_D254_cmb263_),\"\",$T$255 * Inm_30674_D254_cmb263_)","v":""},"30674_D254_cmb263_","Handel i sven, Lång , Utflöde","VP203'!Inm_30674_D254_cmb263_","32211","S","L","SEK","TOT","U","M","X","H1",{"$f":"VLOOKUP('VP203'!$B$263,FlexDimensioner!$C$1:$D$430,2,FALSE)","v":"VALFRI"},"SEK",{"$f":"VLOOKUP(B255,Import!A$1:B$20000,2,FALSE)","v":{"$error":"#N/A"}},"EJ_GRANSKN",{"$f":"VLOOKUP(S255,Import!A$1:B$20000,2,FALSE)","v":{"$error":"#N/A"}},"32211_S_L_SEK_TOT_U_M_X_H1_VALFRI_SEK",1000,null,"30674_D254_cmb263_",{"$f":"VLOOKUP(B255,Import!E$1:F$20000,2,FALSE)","v":{"$error":"#N/A"}}]
[{"$f":"IF(ISBLANK(Inm_30674_D255_cmb264_),\"\",$T$256 * Inm_30674_D255_cmb264_)","v":""},"30674_D255_cmb264_","Handel i sven, Lång , Utflöde","VP203'!Inm_30674_D255_cmb264_","32211","S","L","SEK","TOT","U","M","X","H1",{"$f":"VLOOKUP('VP203'!$B$264,FlexDimensioner!$C$1:$D$430,2,FALSE)","v":"VALFRI"},"SEK",{"$f":"VLOOKUP(B256,Import!A$1:B$20000,2,FALSE)","v":{"$error":"#N/A"}},"EJ_GRANSKN",{"$f":"VLOOKUP(S256,Import!A$1:B$20000,2,FALSE)","v":{"$error":"#N/A"}},"32211_S_L_SEK_TOT_U_M_X_H1_VALFRI_SEK",1000,null,"30674_D255_cmb264_",{"$f":"VLOOKUP(B256,Import!E$1:F$20000,2,FALSE)","v":{"$error":"#N/A"}}]
[{"$f":"IF(ISBLANK(Inm_30674_D256_cmb265_),\"\",$T$257 * Inm_30674_D256_cmb265_)","v":""},"30674_D256_cmb265_","Handel i sven, Lång , Utflöde","VP203'!Inm_30674_D256_cmb265_","32211","S","L","SEK","TOT","U","M","X","H1",{"$f":"VLOOKUP('VP203'!$B$265,FlexDimensioner!$C$1:$D$430,2,FALSE)","v":"VALFRI"},"SEK",{"$f":"VLOOKUP(B257,Import!A$1:B$20000,2,FALSE)","v":{"$error":"#N/A"}},"EJ_GRANSKN",{"$f":"VLOOKUP(S257,Import!A$1:B$20000,2,FALSE)","v":{"$error":"#N/A"}},{"$f":"CONCATENATE(E257,\"_\",F257,\"_\",G257,\"_\",H257,\"_\",I257,\"_\",J257,\"_\",K257,\"_\",L257,\"_\",M257,\"_\",N257,\"_\",O257)","v":"32211_S_L_SEK_TOT_U_M_X_H1_VALFRI_SEK"},1000,null,"30674_D256_cmb265_",{"$f":"VLOOKUP(B257,Import!E$1:F$20000,2,FALSE)","v":{"$error":"#N/A"}}]
[{"$f":"IF(ISBLANK(Inm_30674_D257_cmb266_),\"\",$T$258 * Inm_30674_D257_cmb266_)","v":""},"30674_D257_cmb266_","Handel i sven, Lång , Utflöde","VP203'!Inm_30674_D257_cmb266_","32211","S","L","SEK","TOT","U","M","X","H1",{"$f":"VLOOKUP('VP203'!$B$266,FlexDimensioner!$C$1:$D$430,2,FALSE)","v":"VALFRI"},"SEK",{"$f":"VLOOKUP(B258,Import!A$1:B$20000,2,FALSE)","v":{"$error":"#N/A"}},"EJ_GRANSKN",{"$f":"VLOOKUP(S258,Import!A$1:B$20000,2,FALSE)","v":{"$error":"#N/A"}},"32211_S_L_SEK_TOT_U_M_X_H1_VALFRI_SEK",1000,null,"30674_D257_cmb266_",{"$f":"VLOOKUP(B258,Import!E$1:F$20000,2,FALSE)","v":{"$error":"#N/A"}}]
[{"$f":"IF(ISBLANK(Inm_30674_D258_cmb267_),\"\",$T$259 * Inm_30674_D258_cmb267_)","v":""},"30674_D258_cmb267_","Handel i sven, Lång , Utflöde","VP203'!Inm_30674_D258_cmb267_","32211","S","L","SEK","TOT","U","M","X","H1",{"$f":"VLOOKUP('VP203'!$B$267,FlexDimensioner!$C$1:$D$430,2,FALSE)","v":"VALFRI"},"SEK",{"$f":"VLOOKUP(B259,Import!A$1:B$20000,2,FALSE)","v":{"$error":"#N/A"}},"EJ_GRANSKN",{"$f":"VLOOKUP(S259,Import!A$1:B$20000,2,FALSE)","v":{"$error":"#N/A"}},"32211_S_L_SEK_TOT_U_M_X_H1_VALFRI_SEK",1000,null,"30674_D258_cmb267_",{"$f":"VLOOKUP(B259,Import!E$1:F$20000,2,FALSE)","v":{"$error":"#N/A"}}]
[{"$f":"IF(ISBLANK(Inm_30674_D259_cmb268_),\"\",$T$260 * Inm_30674_D259_cmb268_)","v":""},"30674_D259_cmb268_","Handel i sven, Lång , Utflöde","VP203'!Inm_30674_D259_cmb268_","32211","S","L","SEK","TOT","U","M","X","H1",{"$f":"VLOOKUP('VP203'!$B$268,FlexDimensioner!$C$1:$D$430,2,FALSE)","v":"VALFRI"},"SEK",{"$f":"VLOOKUP(B260,Import!A$1:B$20000,2,FALSE)","v":{"$error":"#N/A"}},"EJ_GRANSKN",{"$f":"VLOOKUP(S260,Import!A$1:B$20000,2,FALSE)","v":{"$error":"#N/A"}},"32211_S_L_SEK_TOT_U_M_X_H1_VALFRI_SEK",1000,null,"30674_D259_cmb268_",{"$f":"VLOOKUP(B260,Import!E$1:F$20000,2,FALSE)","v":{"$error":"#N/A"}}]
[{"$f":"IF(ISBLANK(Inm_30674_D260_cmb269_),\"\",$T$261 * Inm_30674_D260_cmb269_)","v":""},"30674_D260_cmb269_","Handel i sven, Lång , Utflöde","VP203'!Inm_30674_D260_cmb269_","32211","S","L","SEK","TOT","U","M","X","H1",{"$f":"VLOOKUP('VP203'!$B$269,FlexDimensioner!$C$1:$D$430,2,FALSE)","v":"VALFRI"},"SEK",{"$f":"VLOOKUP(B261,Import!A$1:B$20000,2,FALSE)","v":{"$error":"#N/A"}},"EJ_GRANSKN",{"$f":"VLOOKUP(S261,Import!A$1:B$20000,2,FALSE)","v":{"$error":"#N/A"}},"32211_S_L_SEK_TOT_U_M_X_H1_VALFRI_SEK",1000,null,"30674_D260_cmb269_",{"$f":"VLOOKUP(B261,Import!E$1:F$20000,2,FALSE)","v":{"$error":"#N/A"}}]
[{"$f":"IF(ISBLANK(Inm_30674_D261_cmb270_),\"\",$T$262 * Inm_30674_D261_cmb270_)","v":""},"30674_D261_cmb270_","Handel i sven, Lång , Utflöde","VP203'!Inm_30674_D261_cmb270_","32211","S","L","SEK","TOT","U","M","X","H1",{"$f":"VLOOKUP('VP203'!$B$270,FlexDimensioner!$C$1:$D$430,2,FALSE)","v":"VALFRI"},"SEK",{"$f":"VLOOKUP(B262,Import!A$1:B$20000,2,FALSE)","v":{"$error":"#N/A"}},"EJ_GRANSKN",{"$f":"VLOOKUP(S262,Import!A$1:B$20000,2,FALSE)","v":{"$error":"#N/A"}},"32211_S_L_SEK_TOT_U_M_X_H1_VALFRI_SEK",1000,null,"30674_D261_cmb270_",{"$f":"VLOOKUP(B262,Import!E$1:F$20000,2,FALSE)","v":{"$error":"#N/A"}}]
[{"$f":"IF(ISBLANK(Inm_30674_D262_cmb271_),\"\",$T$263 * Inm_30674_D262_cmb271_)","v":""},"30674_D262_cmb271_","Handel i sven, Lång , Utflöde","VP203'!Inm_30674_D262_cmb271_","32211","S","L","SEK","TOT","U","M","X","H1",{"$f":"VLOOKUP('VP203'!$B$271,FlexDimensioner!$C$1:$D$430,2,FALSE)","v":"VALFRI"},"SEK",{"$f":"VLOOKUP(B263,Import!A$1:B$20000,2,FALSE)","v":{"$error":"#N/A"}},"EJ_GRANSKN",{"$f":"VLOOKUP(S263,Import!A$1:B$20000,2,FALSE)","v":{"$error":"#N/A"}},"32211_S_L_SEK_TOT_U_M_X_H1_VALFRI_SEK",1000,null,"30674_D262_cmb271_",{"$f":"VLOOKUP(B263,Import!E$1:F$20000,2,FALSE)","v":{"$error":"#N/A"}}]
[{"$f":"IF(ISBLANK(Inm_30674_D263_cmb272_),\"\",$T$264 * Inm_30674_D263_cmb272_)","v":""},"30674_D263_cmb272_","Handel i sven, Lång , Utflöde","VP203'!Inm_30674_D263_cmb272_","32211","S","L","SEK","TOT","U","M","X","H1",{"$f":"VLOOKUP('VP203'!$B$272,FlexDimensioner!$C$1:$D$430,2,FALSE)","v":"VALFRI"},"SEK",{"$f":"VLOOKUP(B264,Import!A$1:B$20000,2,FALSE)","v":{"$error":"#N/A"}},"EJ_GRANSKN",{"$f":"VLOOKUP(S264,Import!A$1:B$20000,2,FALSE)","v":{"$error":"#N/A"}},"32211_S_L_SEK_TOT_U_M_X_H1_VALFRI_SEK",1000,null,"30674_D263_cmb272_",{"$f":"VLOOKUP(B264,Import!E$1:F$20000,2,FALSE)","v":{"$error":"#N/A"}}]
[{"$f":"IF(ISBLANK(Inm_30674_D264_cmb273_),\"\",$T$265 * Inm_30674_D264_cmb273_)","v":""},"30674_D264_cmb273_","Handel i sven, Lång , Utflöde","VP203'!Inm_30674_D264_cmb273_","32211","S","L","SEK","TOT","U","M","X","H1",{"$f":"VLOOKUP('VP203'!$B$273,FlexDimensioner!$C$1:$D$430,2,FALSE)","v":"VALFRI"},"SEK",{"$f":"VLOOKUP(B265,Import!A$1:B$20000,2,FALSE)","v":{"$error":"#N/A"}},"EJ_GRANSKN",{"$f":"VLOOKUP(S265,Import!A$1:B$20000,2,FALSE)","v":{"$error":"#N/A"}},"32211_S_L_SEK_TOT_U_M_X_H1_VALFRI_SEK",1000,null,"30674_D264_cmb273_",{"$f":"VLOOKUP(B265,Import!E$1:F$20000,2,FALSE)","v":{"$error":"#N/A"}}]
[{"$f":"IF(ISBLANK(Inm_30674_D265_cmb274_),\"\",$T$266 * Inm_30674_D265_cmb274_)","v":""},"30674_D265_cmb274_","Handel i sven, Lång , Utflöde","VP203'!Inm_30674_D265_cmb274_","32211","S","L","SEK","TOT","U","M","X","H1",{"$f":"VLOOKUP('VP203'!$B$274,FlexDimensioner!$C$1:$D$430,2,FALSE)","v":"VALFRI"},"SEK",{"$f":"VLOOKUP(B266,Import!A$1:B$20000,2,FALSE)","v":{"$error":"#N/A"}},"EJ_GRANSKN",{"$f":"VLOOKUP(S266,Import!A$1:B$20000,2,FALSE)","v":{"$error":"#N/A"}},"32211_S_L_SEK_TOT_U_M_X_H1_VALFRI_SEK",1000,null,"30674_D265_cmb274_",{"$f":"VLOOKUP(B266,Import!E$1:F$20000,2,FALSE)","v":{"$error":"#N/A"}}]
[{"$f":"IF(ISBLANK(Inm_30674_D266_cmb275_),\"\",$T$267 * Inm_30674_D266_cmb275_)","v":""},"30674_D266_cmb275_","Handel i sven, Lång , Utflöde","VP203'!Inm_30674_D266_cmb275_","32211","S","L","SEK","TOT","U","M","X","H1",{"$f":"VLOOKUP('VP203'!$B$275,FlexDimensioner!$C$1:$D$430,2,FALSE)","v":"VALFRI"},"SEK",{"$f":"VLOOKUP(B267,Import!A$1:B$20000,2,FALSE)","v":{"$error":"#N/A"}},"EJ_GRANSKN",{"$f":"VLOOKUP(S267,Import!A$1:B$20000,2,FALSE)","v":{"$error":"#N/A"}},"32211_S_L_SEK_TOT_U_M_X_H1_VALFRI_SEK",1000,null,"30674_D266_cmb275_",{"$f":"VLOOKUP(B267,Import!E$1:F$20000,2,FALSE)","v":{"$error":"#N/A"}}]
[{"$f":"IF(ISBLANK(Inm_30674_D267_cmb276_),\"\",$T$268 * Inm_30674_D267_cmb276_)","v":""},"30674_D267_cmb276_","Handel i sven, Lång , Utflöde","VP203'!Inm_30674_D267_cmb276_","32211","S","L","SEK","TOT","U","M","X","H1",{"$f":"VLOOKUP('VP203'!$B$276,FlexDimensioner!$C$1:$D$430,2,FALSE)","v":"VALFRI"},"SEK",{"$f":"VLOOKUP(B268,Import!A$1:B$20000,2,FALSE)","v":{"$error":"#N/A"}},"EJ_GRANSKN",{"$f":"VLOOKUP(S268,Import!A$1:B$20000,2,FALSE)","v":{"$error":"#N/A"}},"32211_S_L_SEK_TOT_U_M_X_H1_VALFRI_SEK",1000,null,"30674_D267_cmb276_",{"$f":"VLOOKUP(B268,Import!E$1:F$20000,2,FALSE)","v":{"$error":"#N/A"}}]
[{"$f":"IF(ISBLANK(Inm_30674_D268_cmb277_),\"\",$T$269 * Inm_30674_D268_cmb277_)","v":""},"30674_D268_cmb277_","Handel i sven, Lång , Utflöde","VP203'!Inm_30674_D268_cmb277_","32211","S","L","SEK","TOT","U","M","X","H1",{"$f":"VLOOKUP('VP203'!$B$277,FlexDimensioner!$C$1:$D$430,2,FALSE)","v":"VALFRI"},"SEK",{"$f":"VLOOKUP(B269,Import!A$1:B$20000,2,FALSE)","v":{"$error":"#N/A"}},"EJ_GRANSKN",{"$f":"VLOOKUP(S269,Import!A$1:B$20000,2,FALSE)","v":{"$error":"#N/A"}},"32211_S_L_SEK_TOT_U_M_X_H1_VALFRI_SEK",1000,null,"30674_D268_cmb277_",{"$f":"VLOOKUP(B269,Import!E$1:F$20000,2,FALSE)","v":{"$error":"#N/A"}}]
[{"$f":"IF(ISBLANK(Inm_30674_D269_cmb278_),\"\",$T$270 * Inm_30674_D269_cmb278_)","v":""},"30674_D269_cmb278_","Handel i sven, Lång , Utflöde","VP203'!Inm_30674_D269_cmb278_","32211","S","L","SEK","TOT","U","M","X","H1",{"$f":"VLOOKUP('VP203'!$B$278,FlexDimensioner!$C$1:$D$430,2,FALSE)","v":"VALFRI"},"SEK",{"$f":"VLOOKUP(B270,Import!A$1:B$20000,2,FALSE)","v":{"$error":"#N/A"}},"EJ_GRANSKN",{"$f":"VLOOKUP(S270,Import!A$1:B$20000,2,FALSE)","v":{"$error":"#N/A"}},"32211_S_L_SEK_TOT_U_M_X_H1_VALFRI_SEK",1000,null,"30674_D269_cmb278_",{"$f":"VLOOKUP(B270,Import!E$1:F$20000,2,FALSE)","v":{"$error":"#N/A"}}]
[{"$f":"IF(ISBLANK(Inm_30674_D270_cmb279_),\"\",$T$271 * Inm_30674_D270_cmb279_)","v":""},"30674_D270_cmb279_","Handel i sven, Lång , Utflöde","VP203'!Inm_30674_D270_cmb279_","32211","S","L","SEK","TOT","U","M","X","H1",{"$f":"VLOOKUP('VP203'!$B$279,FlexDimensioner!$C$1:$D$430,2,FALSE)","v":"VALFRI"},"SEK",{"$f":"VLOOKUP(B271,Import!A$1:B$20000,2,FALSE)","v":{"$error":"#N/A"}},"EJ_GRANSKN",{"$f":"VLOOKUP(S271,Import!A$1:B$20000,2,FALSE)","v":{"$error":"#N/A"}},"32211_S_L_SEK_TOT_U_M_X_H1_VALFRI_SEK",1000,null,"30674_D270_cmb279_",{"$f":"VLOOKUP(B271,Import!E$1:F$20000,2,FALSE)","v":{"$error":"#N/A"}}]
[{"$f":"IF(ISBLANK(Inm_30674_D271_cmb280_),\"\",$T$272 * Inm_30674_D271_cmb280_)","v":""},"30674_D271_cmb280_","Handel i sven, Lång , Utflöde","VP203'!Inm_30674_D271_cmb280_","32211","S","L","SEK","TOT","U","M","X","H1",{"$f":"VLOOKUP('VP203'!$B$280,FlexDimensioner!$C$1:$D$430,2,FALSE)","v":"VALFRI"},"SEK",{"$f":"VLOOKUP(B272,Import!A$1:B$20000,2,FALSE)","v":{"$error":"#N/A"}},"EJ_GRANSKN",{"$f":"VLOOKUP(S272,Import!A$1:B$20000,2,FALSE)","v":{"$error":"#N/A"}},"32211_S_L_SEK_TOT_U_M_X_H1_VALFRI_SEK",1000,null,"30674_D271_cmb280_",{"$f":"VLOOKUP(B272,Import!E$1:F$20000,2,FALSE)","v":{"$error":"#N/A"}}]
[{"$f":"IF(ISBLANK(Inm_30674_D272_cmb281_),\"\",$T$273 * Inm_30674_D272_cmb281_)","v":""},"30674_D272_cmb281_","Handel i sven, Lång , Utflöde","VP203'!Inm_30674_D272_cmb281_","32211","S","L","SEK","TOT","U","M","X","H1",{"$f":"VLOOKUP('VP203'!$B$281,FlexDimensioner!$C$1:$D$430,2,FALSE)","v":"VALFRI"},"SEK",{"$f":"VLOOKUP(B273,Import!A$1:B$20000,2,FALSE)","v":{"$error":"#N/A"}},"EJ_GRANSKN",{"$f":"VLOOKUP(S273,Import!A$1:B$20000,2,FALSE)","v":{"$error":"#N/A"}},"32211_S_L_SEK_TOT_U_M_X_H1_VALFRI_SEK",1000,null,"30674_D272_cmb281_",{"$f":"VLOOKUP(B273,Import!E$1:F$20000,2,FALSE)","v":{"$error":"#N/A"}}]
[{"$f":"IF(ISBLANK(Inm_30674_D273_cmb282_),\"\",$T$274 * Inm_30674_D273_cmb282_)","v":""},"30674_D273_cmb282_","Handel i sven, Lång , Utflöde","VP203'!Inm_30674_D273_cmb282_","32211","S","L","SEK","TOT","U","M","X","H1",{"$f":"VLOOKUP('VP203'!$B$282,FlexDimensioner!$C$1:$D$430,2,FALSE)","v":"VALFRI"},"SEK",{"$f":"VLOOKUP(B274,Import!A$1:B$20000,2,FALSE)","v":{"$error":"#N/A"}},"EJ_GRANSKN",{"$f":"VLOOKUP(S274,Import!A$1:B$20000,2,FALSE)","v":{"$error":"#N/A"}},"32211_S_L_SEK_TOT_U_M_X_H1_VALFRI_SEK",1000,null,"30674_D273_cmb282_",{"$f":"VLOOKUP(B274,Import!E$1:F$20000,2,FALSE)","v":{"$error":"#N/A"}}]
[{"$f":"IF(ISBLANK(Inm_30674_D274_cmb283_),\"\",$T$275 * Inm_30674_D274_cmb283_)","v":""},"30674_D274_cmb283_","Handel i sven, Lång , Utflöde","VP203'!Inm_30674_D274_cmb283_","32211","S","L","SEK","TOT","U","M","X","H1",{"$f":"VLOOKUP('VP203'!$B$283,FlexDimensioner!$C$1:$D$430,2,FALSE)","v":"VALFRI"},"SEK",{"$f":"VLOOKUP(B275,Import!A$1:B$20000,2,FALSE)","v":{"$error":"#N/A"}},"EJ_GRANSKN",{"$f":"VLOOKUP(S275,Import!A$1:B$20000,2,FALSE)","v":{"$error":"#N/A"}},"32211_S_L_SEK_TOT_U_M_X_H1_VALFRI_SEK",1000,null,"30674_D274_cmb283_",{"$f":"VLOOKUP(B275,Import!E$1:F$20000,2,FALSE)","v":{"$error":"#N/A"}}]
[{"$f":"IF(ISBLANK(Inm_30674_D275_cmb284_),\"\",$T$276 * Inm_30674_D275_cmb284_)","v":""},"30674_D275_cmb284_","Handel i sven, Lång , Utflöde","VP203'!Inm_30674_D275_cmb284_","32211","S","L","SEK","TOT","U","M","X","H1",{"$f":"VLOOKUP('VP203'!$B$284,FlexDimensioner!$C$1:$D$430,2,FALSE)","v":"VALFRI"},"SEK",{"$f":"VLOOKUP(B276,Import!A$1:B$20000,2,FALSE)","v":{"$error":"#N/A"}},"EJ_GRANSKN",{"$f":"VLOOKUP(S276,Import!A$1:B$20000,2,FALSE)","v":{"$error":"#N/A"}},"32211_S_L_SEK_TOT_U_M_X_H1_VALFRI_SEK",1000,null,"30674_D275_cmb284_",{"$f":"VLOOKUP(B276,Import!E$1:F$20000,2,FALSE)","v":{"$error":"#N/A"}}]
[{"$f":"IF(ISBLANK(Inm_30674_D276_cmb285_),\"\",$T$277 * Inm_30674_D276_cmb285_)","v":""},"30674_D276_cmb285_","Handel i sven, Lång , Utflöde","VP203'!Inm_30674_D276_cmb285_","32211","S","L","SEK","TOT","U","M","X","H1",{"$f":"VLOOKUP('VP203'!$B$285,FlexDimensioner!$C$1:$D$430,2,FALSE)","v":"VALFRI"},"SEK",{"$f":"VLOOKUP(B277,Import!A$1:B$20000,2,FALSE)","v":{"$error":"#N/A"}},"EJ_GRANSKN",{"$f":"VLOOKUP(S277,Import!A$1:B$20000,2,FALSE)","v":{"$error":"#N/A"}},"32211_S_L_SEK_TOT_U_M_X_H1_VALFRI_SEK",1000,null,"30674_D276_cmb285_",{"$f":"VLOOKUP(B277,Import!E$1:F$20000,2,FALSE)","v":{"$error":"#N/A"}}]
[{"$f":"IF(ISBLANK(Inm_30674_D277_cmb286_),\"\",$T$278 * Inm_30674_D277_cmb286_)","v":""},"30674_D277_cmb286_","Handel i sven, Lång , Utflöde","VP203'!Inm_30674_D277_cmb286_","32211","S","L","SEK","TOT","U","M","X","H1",{"$f":"VLOOKUP('VP203'!$B$286,FlexDimensioner!$C$1:$D$430,2,FALSE)","v":"VALFRI"},"SEK",{"$f":"VLOOKUP(B278,Import!A$1:B$20000,2,FALSE)","v":{"$error":"#N/A"}},"EJ_GRANSKN",{"$f":"VLOOKUP(S278,Import!A$1:B$20000,2,FALSE)","v":{"$error":"#N/A"}},"32211_S_L_SEK_TOT_U_M_X_H1_VALFRI_SEK",1000,null,"30674_D277_cmb286_",{"$f":"VLOOKUP(B278,Import!E$1:F$20000,2,FALSE)","v":{"$error":"#N/A"}}]
[{"$f":"IF(ISBLANK(Inm_30674_D278_cmb287_),\"\",$T$279 * Inm_30674_D278_cmb287_)","v":""},"30674_D278_cmb287_","Handel i sven, Lång , Utflöde","VP203'!Inm_30674_D278_cmb287_","32211","S","L","SEK","TOT","U","M","X","H1",{"$f":"VLOOKUP('VP203'!$B$287,FlexDimensioner!$C$1:$D$430,2,FALSE)","v":"VALFRI"},"SEK",{"$f":"VLOOKUP(B279,Import!A$1:B$20000,2,FALSE)","v":{"$error":"#N/A"}},"EJ_GRANSKN",{"$f":"VLOOKUP(S279,Import!A$1:B$20000,2,FALSE)","v":{"$error":"#N/A"}},"32211_S_L_SEK_TOT_U_M_X_H1_VALFRI_SEK",1000,null,"30674_D278_cmb287_",{"$f":"VLOOKUP(B279,Import!E$1:F$20000,2,FALSE)","v":{"$error":"#N/A"}}]
[{"$f":"IF(ISBLANK(Inm_30674_D279_cmb288_),\"\",$T$280 * Inm_30674_D279_cmb288_)","v":""},"30674_D279_cmb288_","Handel i sven, Lång , Utflöde","VP203'!Inm_30674_D279_cmb288_","32211","S","L","SEK","TOT","U","M","X","H1",{"$f":"VLOOKUP('VP203'!$B$288,FlexDimensioner!$C$1:$D$430,2,FALSE)","v":"VALFRI"},"SEK",{"$f":"VLOOKUP(B280,Import!A$1:B$20000,2,FALSE)","v":{"$error":"#N/A"}},"EJ_GRANSKN",{"$f":"VLOOKUP(S280,Import!A$1:B$20000,2,FALSE)","v":{"$error":"#N/A"}},"32211_S_L_SEK_TOT_U_M_X_H1_VALFRI_SEK",1000,null,"30674_D279_cmb288_",{"$f":"VLOOKUP(B280,Import!E$1:F$20000,2,FALSE)","v":{"$error":"#N/A"}}]
[{"$f":"IF(ISBLANK(Inm_30674_D280_cmb289_),\"\",$T$281 * Inm_30674_D280_cmb289_)","v":""},"30674_D280_cmb289_","Handel i sven, Lång , Utflöde","VP203'!Inm_30674_D280_cmb289_","32211","S","L","SEK","TOT","U","M","X","H1",{"$f":"VLOOKUP('VP203'!$B$289,FlexDimensioner!$C$1:$D$430,2,FALSE)","v":"VALFRI"},"SEK",{"$f":"VLOOKUP(B281,Import!A$1:B$20000,2,FALSE)","v":{"$error":"#N/A"}},"EJ_GRANSKN",{"$f":"VLOOKUP(S281,Import!A$1:B$20000,2,FALSE)","v":{"$error":"#N/A"}},"32211_S_L_SEK_TOT_U_M_X_H1_VALFRI_SEK",1000,null,"30674_D280_cmb289_",{"$f":"VLOOKUP(B281,Import!E$1:F$20000,2,FALSE)","v":{"$error":"#N/A"}}]
[{"$f":"IF(ISBLANK(Inm_30674_D281_cmb290_),\"\",$T$282 * Inm_30674_D281_cmb290_)","v":""},"30674_D281_cmb290_","Handel i sven, Lång , Utflöde","VP203'!Inm_30674_D281_cmb290_","32211","S","L","SEK","TOT","U","M","X","H1",{"$f":"VLOOKUP('VP203'!$B$290,FlexDimensioner!$C$1:$D$430,2,FALSE)","v":"VALFRI"},"SEK",{"$f":"VLOOKUP(B282,Import!A$1:B$20000,2,FALSE)","v":{"$error":"#N/A"}},"EJ_GRANSKN",{"$f":"VLOOKUP(S282,Import!A$1:B$20000,2,FALSE)","v":{"$error":"#N/A"}},"32211_S_L_SEK_TOT_U_M_X_H1_VALFRI_SEK",1000,null,"30674_D281_cmb290_",{"$f":"VLOOKUP(B282,Import!E$1:F$20000,2,FALSE)","v":{"$error":"#N/A"}}]
[{"$f":"IF(ISBLANK(Inm_30674_D282_cmb291_),\"\",$T$283 * Inm_30674_D282_cmb291_)","v":""},"30674_D282_cmb291_","Handel i sven, Lång , Utflöde","VP203'!Inm_30674_D282_cmb291_","32211","S","L","SEK","TOT","U","M","X","H1",{"$f":"VLOOKUP('VP203'!$B$291,FlexDimensioner!$C$1:$D$430,2,FALSE)","v":"VALFRI"},"SEK",{"$f":"VLOOKUP(B283,Import!A$1:B$20000,2,FALSE)","v":{"$error":"#N/A"}},"EJ_GRANSKN",{"$f":"VLOOKUP(S283,Import!A$1:B$20000,2,FALSE)","v":{"$error":"#N/A"}},"32211_S_L_SEK_TOT_U_M_X_H1_VALFRI_SEK",1000,null,"30674_D282_cmb291_",{"$f":"VLOOKUP(B283,Import!E$1:F$20000,2,FALSE)","v":{"$error":"#N/A"}}]
[{"$f":"IF(ISBLANK(Inm_30673_D283_cmb291_),\"\",$T$284 * Inm_30673_D283_cmb291_)","v":""},"30673_D283_cmb291_","Handel i sven, Lång , Inflöde","VP203'!Inm_30673_D283_cmb291_","32211","S","L","SEK","TOT","I","M","X","H1",{"$f":"VLOOKUP('VP203'!$B$291,FlexDimensioner!$C$1:$D$430,2,FALSE)","v":"VALFRI"},"SEK",{"$f":"VLOOKUP(B284,Import!A$1:B$20000,2,FALSE)","v":{"$error":"#N/A"}},"EJ_GRANSKN",{"$f":"VLOOKUP(S284,Import!A$1:B$20000,2,FALSE)","v":{"$error":"#N/A"}},"32211_S_L_SEK_TOT_I_M_X_H1_VALFRI_SEK",1000,null,"30673_D283_cmb291_",{"$f":"VLOOKUP(B284,Import!E$1:F$20000,2,FALSE)","v":{"$error":"#N/A"}}]
[{"$f":"IF(ISBLANK(Inm_30673_D284_cmb290_),\"\",$T$285 * Inm_30673_D284_cmb290_)","v":""},"30673_D284_cmb290_","Handel i sven, Lång , Inflöde","VP203'!Inm_30673_D284_cmb290_","32211","S","L","SEK","TOT","I","M","X","H1",{"$f":"VLOOKUP('VP203'!$B$290,FlexDimensioner!$C$1:$D$430,2,FALSE)","v":"VALFRI"},"SEK",{"$f":"VLOOKUP(B285,Import!A$1:B$20000,2,FALSE)","v":{"$error":"#N/A"}},"EJ_GRANSKN",{"$f":"VLOOKUP(S285,Import!A$1:B$20000,2,FALSE)","v":{"$error":"#N/A"}},"32211_S_L_SEK_TOT_I_M_X_H1_VALFRI_SEK",1000,null,"30673_D284_cmb290_",{"$f":"VLOOKUP(B285,Import!E$1:F$20000,2,FALSE)","v":{"$error":"#N/A"}}]
[{"$f":"IF(ISBLANK(Inm_30673_D285_cmb289_),\"\",$T$286 * Inm_30673_D285_cmb289_)","v":""},"30673_D285_cmb289_","Handel i sven, Lång , Inflöde","VP203'!Inm_30673_D285_cmb289_","32211","S","L","SEK","TOT","I","M","X","H1",{"$f":"VLOOKUP('VP203'!$B$289,FlexDimensioner!$C$1:$D$430,2,FALSE)","v":"VALFRI"},"SEK",{"$f":"VLOOKUP(B286,Import!A$1:B$20000,2,FALSE)","v":{"$error":"#N/A"}},"EJ_GRANSKN",{"$f":"VLOOKUP(S286,Import!A$1:B$20000,2,FALSE)","v":{"$error":"#N/A"}},"32211_S_L_SEK_TOT_I_M_X_H1_VALFRI_SEK",1000,null,"30673_D285_cmb289_",{"$f":"VLOOKUP(B286,Import!E$1:F$20000,2,FALSE)","v":{"$error":"#N/A"}}]
[{"$f":"IF(ISBLANK(Inm_30673_D286_cmb288_),\"\",$T$287 * Inm_30673_D286_cmb288_)","v":""},"30673_D286_cmb288_","Handel i sven, Lång , Inflöde","VP203'!Inm_30673_D286_cmb288_","32211","S","L","SEK","TOT","I","M","X","H1",{"$f":"VLOOKUP('VP203'!$B$288,FlexDimensioner!$C$1:$D$430,2,FALSE)","v":"VALFRI"},"SEK",{"$f":"VLOOKUP(B287,Import!A$1:B$20000,2,FALSE)","v":{"$error":"#N/A"}},"EJ_GRANSKN",{"$f":"VLOOKUP(S287,Import!A$1:B$20000,2,FALSE)","v":{"$error":"#N/A"}},"32211_S_L_SEK_TOT_I_M_X_H1_VALFRI_SEK",1000,null,"30673_D286_cmb288_",{"$f":"VLOOKUP(B287,Import!E$1:F$20000,2,FALSE)","v":{"$error":"#N/A"}}]
[{"$f":"IF(ISBLANK(Inm_30673_D287_cmb287_),\"\",$T$288 * Inm_30673_D287_cmb287_)","v":""},"30673_D287_cmb287_","Handel i sven, Lång , Inflöde","VP203'!Inm_30673_D287_cmb287_","32211","S","L","SEK","TOT","I","M","X","H1",{"$f":"VLOOKUP('VP203'!$B$287,FlexDimensioner!$C$1:$D$430,2,FALSE)","v":"VALFRI"},"SEK",{"$f":"VLOOKUP(B288,Import!A$1:B$20000,2,FALSE)","v":{"$error":"#N/A"}},"EJ_GRANSKN",{"$f":"VLOOKUP(S288,Import!A$1:B$20000,2,FALSE)","v":{"$error":"#N/A"}},"32211_S_L_SEK_TOT_I_M_X_H1_VALFRI_SEK",1000,null,"30673_D287_cmb287_",{"$f":"VLOOKUP(B288,Import!E$1:F$20000,2,FALSE)","v":{"$error":"#N/A"}}]
[{"$f":"IF(ISBLANK(Inm_30673_D288_cmb286_),\"\",$T$289 * Inm_30673_D288_cmb286_)","v":""},"30673_D288_cmb286_","Handel i sven, Lång , Inflöde","VP203'!Inm_30673_D288_cmb286_","32211","S","L","SEK","TOT","I","M","X","H1",{"$f":"VLOOKUP('VP203'!$B$286,FlexDimensioner!$C$1:$D$430,2,FALSE)","v":"VALFRI"},"SEK",{"$f":"VLOOKUP(B289,Import!A$1:B$20000,2,FALSE)","v":{"$error":"#N/A"}},"EJ_GRANSKN",{"$f":"VLOOKUP(S289,Import!A$1:B$20000,2,FALSE)","v":{"$error":"#N/A"}},"32211_S_L_SEK_TOT_I_M_X_H1_VALFRI_SEK",1000,null,"30673_D288_cmb286_",{"$f":"VLOOKUP(B289,Import!E$1:F$20000,2,FALSE)","v":{"$error":"#N/A"}}]
[{"$f":"IF(ISBLANK(Inm_30673_D289_cmb285_),\"\",$T$290 * Inm_30673_D289_cmb285_)","v":""},"30673_D289_cmb285_","Handel i sven, Lång , Inflöde","VP203'!Inm_30673_D289_cmb285_","32211","S","L","SEK","TOT","I","M","X","H1",{"$f":"VLOOKUP('VP203'!$B$285,FlexDimensioner!$C$1:$D$430,2,FALSE)","v":"VALFRI"},"SEK",{"$f":"VLOOKUP(B290,Import!A$1:B$20000,2,FALSE)","v":{"$error":"#N/A"}},"EJ_GRANSKN",{"$f":"VLOOKUP(S290,Import!A$1:B$20000,2,FALSE)","v":{"$error":"#N/A"}},"32211_S_L_SEK_TOT_I_M_X_H1_VALFRI_SEK",1000,null,"30673_D289_cmb285_",{"$f":"VLOOKUP(B290,Import!E$1:F$20000,2,FALSE)","v":{"$error":"#N/A"}}]
[{"$f":"IF(ISBLANK(Inm_30673_D290_cmb284_),\"\",$T$291 * Inm_30673_D290_cmb284_)","v":""},"30673_D290_cmb284_","Handel i sven, Lång , Inflöde","VP203'!Inm_30673_D290_cmb284_","32211","S","L","SEK","TOT","I","M","X","H1",{"$f":"VLOOKUP('VP203'!$B$284,FlexDimensioner!$C$1:$D$430,2,FALSE)","v":"VALFRI"},"SEK",{"$f":"VLOOKUP(B291,Import!A$1:B$20000,2,FALSE)","v":{"$error":"#N/A"}},"EJ_GRANSKN",{"$f":"VLOOKUP(S291,Import!A$1:B$20000,2,FALSE)","v":{"$error":"#N/A"}},"32211_S_L_SEK_TOT_I_M_X_H1_VALFRI_SEK",1000,null,"30673_D290_cmb284_",{"$f":"VLOOKUP(B291,Import!E$1:F$20000,2,FALSE)","v":{"$error":"#N/A"}}]
[{"$f":"IF(ISBLANK(Inm_30673_D291_cmb283_),\"\",$T$292 * Inm_30673_D291_cmb283_)","v":""},"30673_D291_cmb283_","Handel i sven, Lång , Inflöde","VP203'!Inm_30673_D291_cmb283_","32211","S","L","SEK","TOT","I","M","X","H1",{"$f":"VLOOKUP('VP203'!$B$283,FlexDimensioner!$C$1:$D$430,2,FALSE)","v":"VALFRI"},"SEK",{"$f":"VLOOKUP(B292,Import!A$1:B$20000,2,FALSE)","v":{"$error":"#N/A"}},"EJ_GRANSKN",{"$f":"VLOOKUP(S292,Import!A$1:B$20000,2,FALSE)","v":{"$error":"#N/A"}},"32211_S_L_SEK_TOT_I_M_X_H1_VALFRI_SEK",1000,null,"30673_D291_cmb283_",{"$f":"VLOOKUP(B292,Import!E$1:F$20000,2,FALSE)","v":{"$error":"#N/A"}}]
[{"$f":"IF(ISBLANK(Inm_30673_D292_cmb282_),\"\",$T$293 * Inm_30673_D292_cmb282_)","v":""},"30673_D292_cmb282_","Handel i sven, Lång , Inflöde","VP203'!Inm_30673_D292_cmb282_","32211","S","L","SEK","TOT","I","M","X","H1",{"$f":"VLOOKUP('VP203'!$B$282,FlexDimensioner!$C$1:$D$430,2,FALSE)","v":"VALFRI"},"SEK",{"$f":"VLOOKUP(B293,Import!A$1:B$20000,2,FALSE)","v":{"$error":"#N/A"}},"EJ_GRANSKN",{"$f":"VLOOKUP(S293,Import!A$1:B$20000,2,FALSE)","v":{"$error":"#N/A"}},"32211_S_L_SEK_TOT_I_M_X_H1_VALFRI_SEK",1000,null,"30673_D292_cmb282_",{"$f":"VLOOKUP(B293,Import!E$1:F$20000,2,FALSE)","v":{"$error":"#N/A"}}]
[{"$f":"IF(ISBLANK(Inm_30673_D293_cmb281_),\"\",$T$294 * Inm_30673_D293_cmb281_)","v":""},"30673_D293_cmb281_","Handel i sven, Lång , Inflöde","VP203'!Inm_30673_D293_cmb281_","32211","S","L","SEK","TOT","I","M","X","H1",{"$f":"VLOOKUP('VP203'!$B$281,FlexDimensioner!$C$1:$D$430,2,FALSE)","v":"VALFRI"},"SEK",{"$f":"VLOOKUP(B294,Import!A$1:B$20000,2,FALSE)","v":{"$error":"#N/A"}},"EJ_GRANSKN",{"$f":"VLOOKUP(S294,Import!A$1:B$20000,2,FALSE)","v":{"$error":"#N/A"}},"32211_S_L_SEK_TOT_I_M_X_H1_VALFRI_SEK",1000,null,"30673_D293_cmb281_",{"$f":"VLOOKUP(B294,Import!E$1:F$20000,2,FALSE)","v":{"$error":"#N/A"}}]
[{"$f":"IF(ISBLANK(Inm_30673_D294_cmb280_),\"\",$T$295 * Inm_30673_D294_cmb280_)","v":""},"30673_D294_cmb280_","Handel i sven, Lång , Inflöde","VP203'!Inm_30673_D294_cmb280_","32211","S","L","SEK","TOT","I","M","X","H1",{"$f":"VLOOKUP('VP203'!$B$280,FlexDimensioner!$C$1:$D$430,2,FALSE)","v":"VALFRI"},"SEK",{"$f":"VLOOKUP(B295,Import!A$1:B$20000,2,FALSE)","v":{"$error":"#N/A"}},"EJ_GRANSKN",{"$f":"VLOOKUP(S295,Import!A$1:B$20000,2,FALSE)","v":{"$error":"#N/A"}},"32211_S_L_SEK_TOT_I_M_X_H1_VALFRI_SEK",1000,null,"30673_D294_cmb280_",{"$f":"VLOOKUP(B295,Import!E$1:F$20000,2,FALSE)","v":{"$error":"#N/A"}}]
[{"$f":"IF(ISBLANK(Inm_30673_D295_cmb279_),\"\",$T$296 * Inm_30673_D295_cmb279_)","v":""},"30673_D295_cmb279_","Handel i sven, Lång , Inflöde","VP203'!Inm_30673_D295_cmb279_","32211","S","L","SEK","TOT","I","M","X","H1",{"$f":"VLOOKUP('VP203'!$B$279,FlexDimensioner!$C$1:$D$430,2,FALSE)","v":"VALFRI"},"SEK",{"$f":"VLOOKUP(B296,Import!A$1:B$20000,2,FALSE)","v":{"$error":"#N/A"}},"EJ_GRANSKN",{"$f":"VLOOKUP(S296,Import!A$1:B$20000,2,FALSE)","v":{"$error":"#N/A"}},"32211_S_L_SEK_TOT_I_M_X_H1_VALFRI_SEK",1000,null,"30673_D295_cmb279_",{"$f":"VLOOKUP(B296,Import!E$1:F$20000,2,FALSE)","v":{"$error":"#N/A"}}]
[{"$f":"IF(ISBLANK(Inm_30673_D296_cmb278_),\"\",$T$297 * Inm_30673_D296_cmb278_)","v":""},"30673_D296_cmb278_","Handel i sven, Lång , Inflöde","VP203'!Inm_30673_D296_cmb278_","32211","S","L","SEK","TOT","I","M","X","H1",{"$f":"VLOOKUP('VP203'!$B$278,FlexDimensioner!$C$1:$D$430,2,FALSE)","v":"VALFRI"},"SEK",{"$f":"VLOOKUP(B297,Import!A$1:B$20000,2,FALSE)","v":{"$error":"#N/A"}},"EJ_GRANSKN",{"$f":"VLOOKUP(S297,Import!A$1:B$20000,2,FALSE)","v":{"$error":"#N/A"}},"32211_S_L_SEK_TOT_I_M_X_H1_VALFRI_SEK",1000,null,"30673_D296_cmb278_",{"$f":"VLOOKUP(B297,Import!E$1:F$20000,2,FALSE)","v":{"$error":"#N/A"}}]
[{"$f":"IF(ISBLANK(Inm_30673_D297_cmb277_),\"\",$T$298 * Inm_30673_D297_cmb277_)","v":""},"30673_D297_cmb277_","Handel i sven, Lång , Inflöde","VP203'!Inm_30673_D297_cmb277_","32211","S","L","SEK","TOT","I","M","X","H1",{"$f":"VLOOKUP('VP203'!$B$277,FlexDimensioner!$C$1:$D$430,2,FALSE)","v":"VALFRI"},"SEK",{"$f":"VLOOKUP(B298,Import!A$1:B$20000,2,FALSE)","v":{"$error":"#N/A"}},"EJ_GRANSKN",{"$f":"VLOOKUP(S298,Import!A$1:B$20000,2,FALSE)","v":{"$error":"#N/A"}},"32211_S_L_SEK_TOT_I_M_X_H1_VALFRI_SEK",1000,null,"30673_D297_cmb277_",{"$f":"VLOOKUP(B298,Import!E$1:F$20000,2,FALSE)","v":{"$error":"#N/A"}}]
[{"$f":"IF(ISBLANK(Inm_30673_D298_cmb276_),\"\",$T$299 * Inm_30673_D298_cmb276_)","v":""},"30673_D298_cmb276_","Handel i sven, Lång , Inflöde","VP203'!Inm_30673_D298_cmb276_","32211","S","L","SEK","TOT","I","M","X","H1",{"$f":"VLOOKUP('VP203'!$B$276,FlexDimensioner!$C$1:$D$430,2,FALSE)","v":"VALFRI"},"SEK",{"$f":"VLOOKUP(B299,Import!A$1:B$20000,2,FALSE)","v":{"$error":"#N/A"}},"EJ_GRANSKN",{"$f":"VLOOKUP(S299,Import!A$1:B$20000,2,FALSE)","v":{"$error":"#N/A"}},"32211_S_L_SEK_TOT_I_M_X_H1_VALFRI_SEK",1000,null,"30673_D298_cmb276_",{"$f":"VLOOKUP(B299,Import!E$1:F$20000,2,FALSE)","v":{"$error":"#N/A"}}]
[{"$f":"IF(ISBLANK(Inm_30673_D299_cmb275_),\"\",$T$300 * Inm_30673_D299_cmb275_)","v":""},"30673_D299_cmb275_","Handel i sven, Lång , Inflöde","VP203'!Inm_30673_D299_cmb275_","32211","S","L","SEK","TOT","I","M","X","H1",{"$f":"VLOOKUP('VP203'!$B$275,FlexDimensioner!$C$1:$D$430,2,FALSE)","v":"VALFRI"},"SEK",{"$f":"VLOOKUP(B300,Import!A$1:B$20000,2,FALSE)","v":{"$error":"#N/A"}},"EJ_GRANSKN",{"$f":"VLOOKUP(S300,Import!A$1:B$20000,2,FALSE)","v":{"$error":"#N/A"}},"32211_S_L_SEK_TOT_I_M_X_H1_VALFRI_SEK",1000,null,"30673_D299_cmb275_",{"$f":"VLOOKUP(B300,Import!E$1:F$20000,2,FALSE)","v":{"$error":"#N/A"}}]
[{"$f":"IF(ISBLANK(Inm_30673_D300_cmb274_),\"\",$T$301 * Inm_30673_D300_cmb274_)","v":""},"30673_D300_cmb274_","Handel i sven, Lång , Inflöde","VP203'!Inm_30673_D300_cmb274_","32211","S","L","SEK","TOT","I","M","X","H1",{"$f":"VLOOKUP('VP203'!$B$274,FlexDimensioner!$C$1:$D$430,2,FALSE)","v":"VALFRI"},"SEK",{"$f":"VLOOKUP(B301,Import!A$1:B$20000,2,FALSE)","v":{"$error":"#N/A"}},"EJ_GRANSKN",{"$f":"VLOOKUP(S301,Import!A$1:B$20000,2,FALSE)","v":{"$error":"#N/A"}},"32211_S_L_SEK_TOT_I_M_X_H1_VALFRI_SEK",1000,null,"30673_D300_cmb274_",{"$f":"VLOOKUP(B301,Import!E$1:F$20000,2,FALSE)","v":{"$error":"#N/A"}}]
[{"$f":"IF(ISBLANK(Inm_30673_D301_cmb273_),\"\",$T$302 * Inm_30673_D301_cmb273_)","v":""},"30673_D301_cmb273_","Handel i sven, Lång , Inflöde","VP203'!Inm_30673_D301_cmb273_","32211","S","L","SEK","TOT","I","M","X","H1",{"$f":"VLOOKUP('VP203'!$B$273,FlexDimensioner!$C$1:$D$430,2,FALSE)","v":"VALFRI"},"SEK",{"$f":"VLOOKUP(B302,Import!A$1:B$20000,2,FALSE)","v":{"$error":"#N/A"}},"EJ_GRANSKN",{"$f":"VLOOKUP(S302,Import!A$1:B$20000,2,FALSE)","v":{"$error":"#N/A"}},"32211_S_L_SEK_TOT_I_M_X_H1_VALFRI_SEK",1000,null,"30673_D301_cmb273_",{"$f":"VLOOKUP(B302,Import!E$1:F$20000,2,FALSE)","v":{"$error":"#N/A"}}]
[{"$f":"IF(ISBLANK(Inm_30673_D302_cmb272_),\"\",$T$303 * Inm_30673_D302_cmb272_)","v":""},"30673_D302_cmb272_","Handel i sven, Lång , Inflöde","VP203'!Inm_30673_D302_cmb272_","32211","S","L","SEK","TOT","I","M","X","H1",{"$f":"VLOOKUP('VP203'!$B$272,FlexDimensioner!$C$1:$D$430,2,FALSE)","v":"VALFRI"},"SEK",{"$f":"VLOOKUP(B303,Import!A$1:B$20000,2,FALSE)","v":{"$error":"#N/A"}},"EJ_GRANSKN",{"$f":"VLOOKUP(S303,Import!A$1:B$20000,2,FALSE)","v":{"$error":"#N/A"}},"32211_S_L_SEK_TOT_I_M_X_H1_VALFRI_SEK",1000,null,"30673_D302_cmb272_",{"$f":"VLOOKUP(B303,Import!E$1:F$20000,2,FALSE)","v":{"$error":"#N/A"}}]
[{"$f":"IF(ISBLANK(Inm_30673_D303_cmb271_),\"\",$T$304 * Inm_30673_D303_cmb271_)","v":""},"30673_D303_cmb271_","Handel i sven, Lång , Inflöde","VP203'!Inm_30673_D303_cmb271_","32211","S","L","SEK","TOT","I","M","X","H1",{"$f":"VLOOKUP('VP203'!$B$271,FlexDimensioner!$C$1:$D$430,2,FALSE)","v":"VALFRI"},"SEK",{"$f":"VLOOKUP(B304,Import!A$1:B$20000,2,FALSE)","v":{"$error":"#N/A"}},"EJ_GRANSKN",{"$f":"VLOOKUP(S304,Import!A$1:B$20000,2,FALSE)","v":{"$error":"#N/A"}},"32211_S_L_SEK_TOT_I_M_X_H1_VALFRI_SEK",1000,null,"30673_D303_cmb271_",{"$f":"VLOOKUP(B304,Import!E$1:F$20000,2,FALSE)","v":{"$error":"#N/A"}}]
[{"$f":"IF(ISBLANK(Inm_30673_D304_cmb270_),\"\",$T$305 * Inm_30673_D304_cmb270_)","v":""},"30673_D304_cmb270_","Handel i sven, Lång , Inflöde","VP203'!Inm_30673_D304_cmb270_","32211","S","L","SEK","TOT","I","M","X","H1",{"$f":"VLOOKUP('VP203'!$B$270,FlexDimensioner!$C$1:$D$430,2,FALSE)","v":"VALFRI"},"SEK",{"$f":"VLOOKUP(B305,Import!A$1:B$20000,2,FALSE)","v":{"$error":"#N/A"}},"EJ_GRANSKN",{"$f":"VLOOKUP(S305,Import!A$1:B$20000,2,FALSE)","v":{"$error":"#N/A"}},"32211_S_L_SEK_TOT_I_M_X_H1_VALFRI_SEK",1000,null,"30673_D304_cmb270_",{"$f":"VLOOKUP(B305,Import!E$1:F$20000,2,FALSE)","v":{"$error":"#N/A"}}]
[{"$f":"IF(ISBLANK(Inm_30673_D305_cmb269_),\"\",$T$306 * Inm_30673_D305_cmb269_)","v":""},"30673_D305_cmb269_","Handel i sven, Lång , Inflöde","VP203'!Inm_30673_D305_cmb269_","32211","S","L","SEK","TOT","I","M","X","H1",{"$f":"VLOOKUP('VP203'!$B$269,FlexDimensioner!$C$1:$D$430,2,FALSE)","v":"VALFRI"},"SEK",{"$f":"VLOOKUP(B306,Import!A$1:B$20000,2,FALSE)","v":{"$error":"#N/A"}},"EJ_GRANSKN",{"$f":"VLOOKUP(S306,Import!A$1:B$20000,2,FALSE)","v":{"$error":"#N/A"}},"32211_S_L_SEK_TOT_I_M_X_H1_VALFRI_SEK",1000,null,"30673_D305_cmb269_",{"$f":"VLOOKUP(B306,Import!E$1:F$20000,2,FALSE)","v":{"$error":"#N/A"}}]
[{"$f":"IF(ISBLANK(Inm_30673_D306_cmb268_),\"\",$T$307 * Inm_30673_D306_cmb268_)","v":""},"30673_D306_cmb268_","Handel i sven, Lång , Inflöde","VP203'!Inm_30673_D306_cmb268_","32211","S","L","SEK","TOT","I","M","X","H1",{"$f":"VLOOKUP('VP203'!$B$268,FlexDimensioner!$C$1:$D$430,2,FALSE)","v":"VALFRI"},"SEK",{"$f":"VLOOKUP(B307,Import!A$1:B$20000,2,FALSE)","v":{"$error":"#N/A"}},"EJ_GRANSKN",{"$f":"VLOOKUP(S307,Import!A$1:B$20000,2,FALSE)","v":{"$error":"#N/A"}},"32211_S_L_SEK_TOT_I_M_X_H1_VALFRI_SEK",1000,null,"30673_D306_cmb268_",{"$f":"VLOOKUP(B307,Import!E$1:F$20000,2,FALSE)","v":{"$error":"#N/A"}}]
[{"$f":"IF(ISBLANK(Inm_30673_D307_cmb267_),\"\",$T$308 * Inm_30673_D307_cmb267_)","v":""},"30673_D307_cmb267_","Handel i sven, Lång , Inflöde","VP203'!Inm_30673_D307_cmb267_","32211","S","L","SEK","TOT","I","M","X","H1",{"$f":"VLOOKUP('VP203'!$B$267,FlexDimensioner!$C$1:$D$430,2,FALSE)","v":"VALFRI"},"SEK",{"$f":"VLOOKUP(B308,Import!A$1:B$20000,2,FALSE)","v":{"$error":"#N/A"}},"EJ_GRANSKN",{"$f":"VLOOKUP(S308,Import!A$1:B$20000,2,FALSE)","v":{"$error":"#N/A"}},"32211_S_L_SEK_TOT_I_M_X_H1_VALFRI_SEK",1000,null,"30673_D307_cmb267_",{"$f":"VLOOKUP(B308,Import!E$1:F$20000,2,FALSE)","v":{"$error":"#N/A"}}]
[{"$f":"IF(ISBLANK(Inm_30673_D308_cmb266_),\"\",$T$309 * Inm_30673_D308_cmb266_)","v":""},"30673_D308_cmb266_","Handel i sven, Lång , Inflöde","VP203'!Inm_30673_D308_cmb266_","32211","S","L","SEK","TOT","I","M","X","H1",{"$f":"VLOOKUP('VP203'!$B$266,FlexDimensioner!$C$1:$D$430,2,FALSE)","v":"VALFRI"},"SEK",{"$f":"VLOOKUP(B309,Import!A$1:B$20000,2,FALSE)","v":{"$error":"#N/A"}},"EJ_GRANSKN",{"$f":"VLOOKUP(S309,Import!A$1:B$20000,2,FALSE)","v":{"$error":"#N/A"}},"32211_S_L_SEK_TOT_I_M_X_H1_VALFRI_SEK",1000,null,"30673_D308_cmb266_",{"$f":"VLOOKUP(B309,Import!E$1:F$20000,2,FALSE)","v":{"$error":"#N/A"}}]
[{"$f":"IF(ISBLANK(Inm_30673_D309_cmb265_),\"\",$T$310 * Inm_30673_D309_cmb265_)","v":""},"30673_D309_cmb265_","Handel i sven, Lång , Inflöde","VP203'!Inm_30673_D309_cmb265_","32211","S","L","SEK","TOT","I","M","X","H1",{"$f":"VLOOKUP('VP203'!$B$265,FlexDimensioner!$C$1:$D$430,2,FALSE)","v":"VALFRI"},"SEK",{"$f":"VLOOKUP(B310,Import!A$1:B$20000,2,FALSE)","v":{"$error":"#N/A"}},"EJ_GRANSKN",{"$f":"VLOOKUP(S310,Import!A$1:B$20000,2,FALSE)","v":{"$error":"#N/A"}},"32211_S_L_SEK_TOT_I_M_X_H1_VALFRI_SEK",1000,null,"30673_D309_cmb265_",{"$f":"VLOOKUP(B310,Import!E$1:F$20000,2,FALSE)","v":{"$error":"#N/A"}}]
[{"$f":"IF(ISBLANK(Inm_30673_D310_cmb264_),\"\",$T$311 * Inm_30673_D310_cmb264_)","v":""},"30673_D310_cmb264_","Handel i sven, Lång , Inflöde","VP203'!Inm_30673_D310_cmb264_","32211","S","L","SEK","TOT","I","M","X","H1",{"$f":"VLOOKUP('VP203'!$B$264,FlexDimensioner!$C$1:$D$430,2,FALSE)","v":"VALFRI"},"SEK",{"$f":"VLOOKUP(B311,Import!A$1:B$20000,2,FALSE)","v":{"$error":"#N/A"}},"EJ_GRANSKN",{"$f":"VLOOKUP(S311,Import!A$1:B$20000,2,FALSE)","v":{"$error":"#N/A"}},"32211_S_L_SEK_TOT_I_M_X_H1_VALFRI_SEK",1000,null,"30673_D310_cmb264_",{"$f":"VLOOKUP(B311,Import!E$1:F$20000,2,FALSE)","v":{"$error":"#N/A"}}]
[{"$f":"IF(ISBLANK(Inm_30673_D311_cmb263_),\"\",$T$312 * Inm_30673_D311_cmb263_)","v":""},"30673_D311_cmb263_","Handel i sven, Lång , Inflöde","VP203'!Inm_30673_D311_cmb263_","32211","S","L","SEK","TOT","I","M","X","H1",{"$f":"VLOOKUP('VP203'!$B$263,FlexDimensioner!$C$1:$D$430,2,FALSE)","v":"VALFRI"},"SEK",{"$f":"VLOOKUP(B312,Import!A$1:B$20000,2,FALSE)","v":{"$error":"#N/A"}},"EJ_GRANSKN",{"$f":"VLOOKUP(S312,Import!A$1:B$20000,2,FALSE)","v":{"$error":"#N/A"}},"32211_S_L_SEK_TOT_I_M_X_H1_VALFRI_SEK",1000,null,"30673_D311_cmb263_",{"$f":"VLOOKUP(B312,Import!E$1:F$20000,2,FALSE)","v":{"$error":"#N/A"}}]
[{"$f":"IF(ISBLANK(Inm_30673_D312_cmb262_),\"\",$T$313 * Inm_30673_D312_cmb262_)","v":""},"30673_D312_cmb262_","Handel i sven, Lång , Inflöde","VP203'!Inm_30673_D312_cmb262_","32211","S","L","SEK","TOT","I","M","X","H1",{"$f":"VLOOKUP('VP203'!$B$262,FlexDimensioner!$C$1:$D$430,2,FALSE)","v":"VALFRI"},"SEK",{"$f":"VLOOKUP(B313,Import!A$1:B$20000,2,FALSE)","v":{"$error":"#N/A"}},"EJ_GRANSKN",{"$f":"VLOOKUP(S313,Import!A$1:B$20000,2,FALSE)","v":{"$error":"#N/A"}},"32211_S_L_SEK_TOT_I_M_X_H1_VALFRI_SEK",1000,null,"30673_D312_cmb262_",{"$f":"VLOOKUP(B313,Import!E$1:F$20000,2,FALSE)","v":{"$error":"#N/A"}}]
[{"$f":"IF(ISBLANK(Inm_30673_D313_cmb261_),\"\",$T$314 * Inm_30673_D313_cmb261_)","v":""},"30673_D313_cmb261_","Handel i sven, Lång , Inflöde","VP203'!Inm_30673_D313_cmb261_","32211","S","L","SEK","TOT","I","M","X","H1",{"$f":"VLOOKUP('VP203'!$B$261,FlexDimensioner!$C$1:$D$430,2,FALSE)","v":"VALFRI"},"SEK",{"$f":"VLOOKUP(B314,Import!A$1:B$20000,2,FALSE)","v":{"$error":"#N/A"}},"EJ_GRANSKN",{"$f":"VLOOKUP(S314,Import!A$1:B$20000,2,FALSE)","v":{"$error":"#N/A"}},"32211_S_L_SEK_TOT_I_M_X_H1_VALFRI_SEK",1000,null,"30673_D313_cmb261_",{"$f":"VLOOKUP(B314,Import!E$1:F$20000,2,FALSE)","v":{"$error":"#N/A"}}]
[{"$f":"IF(ISBLANK(Inm_30673_D314_cmb260_),\"\",$T$315 * Inm_30673_D314_cmb260_)","v":""},"30673_D314_cmb260_","Handel i sven, Lång , Inflöde","VP203'!Inm_30673_D314_cmb260_","32211","S","L","SEK","TOT","I","M","X","H1",{"$f":"VLOOKUP('VP203'!$B$260,FlexDimensioner!$C$1:$D$430,2,FALSE)","v":"VALFRI"},"SEK",{"$f":"VLOOKUP(B315,Import!A$1:B$20000,2,FALSE)","v":{"$error":"#N/A"}},"EJ_GRANSKN",{"$f":"VLOOKUP(S315,Import!A$1:B$20000,2,FALSE)","v":{"$error":"#N/A"}},"32211_S_L_SEK_TOT_I_M_X_H1_VALFRI_SEK",1000,null,"30673_D314_cmb260_",{"$f":"VLOOKUP(B315,Import!E$1:F$20000,2,FALSE)","v":{"$error":"#N/A"}}]
[{"$f":"IF(ISBLANK(Inm_30673_D315_cmb259_),\"\",$T$316 * Inm_30673_D315_cmb259_)","v":""},"30673_D315_cmb259_","Handel i sven, Lång , Inflöde","VP203'!Inm_30673_D315_cmb259_","32211","S","L","SEK","TOT","I","M","X","H1",{"$f":"VLOOKUP('VP203'!$B$259,FlexDimensioner!$C$1:$D$430,2,FALSE)","v":"VALFRI"},"SEK",{"$f":"VLOOKUP(B316,Import!A$1:B$20000,2,FALSE)","v":{"$error":"#N/A"}},"EJ_GRANSKN",{"$f":"VLOOKUP(S316,Import!A$1:B$20000,2,FALSE)","v":{"$error":"#N/A"}},"32211_S_L_SEK_TOT_I_M_X_H1_VALFRI_SEK",1000,null,"30673_D315_cmb259_",{"$f":"VLOOKUP(B316,Import!E$1:F$20000,2,FALSE)","v":{"$error":"#N/A"}}]
[{"$f":"IF(ISBLANK(Inm_30673_D316_cmb258_),\"\",$T$317 * Inm_30673_D316_cmb258_)","v":""},"30673_D316_cmb258_","Handel i sven, Lång , Inflöde","VP203'!Inm_30673_D316_cmb258_","32211","S","L","SEK","TOT","I","M","X","H1",{"$f":"VLOOKUP('VP203'!$B$258,FlexDimensioner!$C$1:$D$430,2,FALSE)","v":"VALFRI"},"SEK",{"$f":"VLOOKUP(B317,Import!A$1:B$20000,2,FALSE)","v":{"$error":"#N/A"}},"EJ_GRANSKN",{"$f":"VLOOKUP(S317,Import!A$1:B$20000,2,FALSE)","v":{"$error":"#N/A"}},"32211_S_L_SEK_TOT_I_M_X_H1_VALFRI_SEK",1000,null,"30673_D316_cmb258_",{"$f":"VLOOKUP(B317,Import!E$1:F$20000,2,FALSE)","v":{"$error":"#N/A"}}]
[{"$f":"IF(ISBLANK(Inm_30673_D317_cmb257_),\"\",$T$318 * Inm_30673_D317_cmb257_)","v":""},"30673_D317_cmb257_","Handel i sven, Lång , Inflöde","VP203'!Inm_30673_D317_cmb257_","32211","S","L","SEK","TOT","I","M","X","H1",{"$f":"VLOOKUP('VP203'!$B$257,FlexDimensioner!$C$1:$D$430,2,FALSE)","v":"VALFRI"},"SEK",{"$f":"VLOOKUP(B318,Import!A$1:B$20000,2,FALSE)","v":{"$error":"#N/A"}},"EJ_GRANSKN",{"$f":"VLOOKUP(S318,Import!A$1:B$20000,2,FALSE)","v":{"$error":"#N/A"}},"32211_S_L_SEK_TOT_I_M_X_H1_VALFRI_SEK",1000,null,"30673_D317_cmb257_",{"$f":"VLOOKUP(B318,Import!E$1:F$20000,2,FALSE)","v":{"$error":"#N/A"}}]
[{"$f":"IF(ISBLANK(Inm_30673_D318_cmb256_),\"\",$T$319 * Inm_30673_D318_cmb256_)","v":""},"30673_D318_cmb256_","Handel i sven, Lång , Inflöde","VP203'!Inm_30673_D318_cmb256_","32211","S","L","SEK","TOT","I","M","X","H1",{"$f":"VLOOKUP('VP203'!$B$256,FlexDimensioner!$C$1:$D$430,2,FALSE)","v":"VALFRI"},"SEK",{"$f":"VLOOKUP(B319,Import!A$1:B$20000,2,FALSE)","v":{"$error":"#N/A"}},"EJ_GRANSKN",{"$f":"VLOOKUP(S319,Import!A$1:B$20000,2,FALSE)","v":{"$error":"#N/A"}},"32211_S_L_SEK_TOT_I_M_X_H1_VALFRI_SEK",1000,null,"30673_D318_cmb256_",{"$f":"VLOOKUP(B319,Import!E$1:F$20000,2,FALSE)","v":{"$error":"#N/A"}}]
[{"$f":"IF(ISBLANK(Inm_30673_D319_cmb255_),\"\",$T$320 * Inm_30673_D319_cmb255_)","v":""},"30673_D319_cmb255_","Handel i sven, Lång , Inflöde","VP203'!Inm_30673_D319_cmb255_","32211","S","L","SEK","TOT","I","M","X","H1",{"$f":"VLOOKUP('VP203'!$B$255,FlexDimensioner!$C$1:$D$430,2,FALSE)","v":"VALFRI"},"SEK",{"$f":"VLOOKUP(B320,Import!A$1:B$20000,2,FALSE)","v":{"$error":"#N/A"}},"EJ_GRANSKN",{"$f":"VLOOKUP(S320,Import!A$1:B$20000,2,FALSE)","v":{"$error":"#N/A"}},"32211_S_L_SEK_TOT_I_M_X_H1_VALFRI_SEK",1000,null,"30673_D319_cmb255_",{"$f":"VLOOKUP(B320,Import!E$1:F$20000,2,FALSE)","v":{"$error":"#N/A"}}]
[{"$f":"IF(ISBLANK(Inm_30673_D320_cmb254_),\"\",$T$321 * Inm_30673_D320_cmb254_)","v":""},"30673_D320_cmb254_","Handel i sven, Lång , Inflöde","VP203'!Inm_30673_D320_cmb254_","32211","S","L","SEK","TOT","I","M","X","H1",{"$f":"VLOOKUP('VP203'!$B$254,FlexDimensioner!$C$1:$D$430,2,FALSE)","v":"VALFRI"},"SEK",{"$f":"VLOOKUP(B321,Import!A$1:B$20000,2,FALSE)","v":{"$error":"#N/A"}},"EJ_GRANSKN",{"$f":"VLOOKUP(S321,Import!A$1:B$20000,2,FALSE)","v":{"$error":"#N/A"}},{"$f":"CONCATENATE(E321,\"_\",F321,\"_\",G321,\"_\",H321,\"_\",I321,\"_\",J321,\"_\",K321,\"_\",L321,\"_\",M321,\"_\",N321,\"_\",O321)","v":"32211_S_L_SEK_TOT_I_M_X_H1_VALFRI_SEK"},1000,null,"30673_D320_cmb254_",{"$f":"VLOOKUP(B321,Import!E$1:F$20000,2,FALSE)","v":{"$error":"#N/A"}}]
[{"$f":"IF(ISBLANK(Inm_30673_D321_cmb253_),\"\",$T$322 * Inm_30673_D321_cmb253_)","v":""},"30673_D321_cmb253_","Handel i sven, Lång , Inflöde","VP203'!Inm_30673_D321_cmb253_","32211","S","L","SEK","TOT","I","M","X","H1",{"$f":"VLOOKUP('VP203'!$B$253,FlexDimensioner!$C$1:$D$430,2,FALSE)","v":"VALFRI"},"SEK",{"$f":"VLOOKUP(B322,Import!A$1:B$20000,2,FALSE)","v":{"$error":"#N/A"}},"EJ_GRANSKN",{"$f":"VLOOKUP(S322,Import!A$1:B$20000,2,FALSE)","v":{"$error":"#N/A"}},"32211_S_L_SEK_TOT_I_M_X_H1_VALFRI_SEK",1000,null,"30673_D321_cmb253_",{"$f":"VLOOKUP(B322,Import!E$1:F$20000,2,FALSE)","v":{"$error":"#N/A"}}]
[{"$f":"IF(ISBLANK(Inm_30673_D322_cmb252_),\"\",$T$323 * Inm_30673_D322_cmb252_)","v":""},"30673_D322_cmb252_","Handel i sven, Lång , Inflöde","VP203'!Inm_30673_D322_cmb252_","32211","S","L","SEK","TOT","I","M","X","H1",{"$f":"VLOOKUP('VP203'!$B$252,FlexDimensioner!$C$1:$D$430,2,FALSE)","v":"VALFRI"},"SEK",{"$f":"VLOOKUP(B323,Import!A$1:B$20000,2,FALSE)","v":{"$error":"#N/A"}},"EJ_GRANSKN",{"$f":"VLOOKUP(S323,Import!A$1:B$20000,2,FALSE)","v":{"$error":"#N/A"}},"32211_S_L_SEK_TOT_I_M_X_H1_VALFRI_SEK",1000,null,"30673_D322_cmb252_",{"$f":"VLOOKUP(B323,Import!E$1:F$20000,2,FALSE)","v":{"$error":"#N/A"}}]
[{"$f":"IF(ISBLANK(Inm_30673_D323_cmb251_),\"\",$T$324 * Inm_30673_D323_cmb251_)","v":""},"30673_D323_cmb251_","Handel i sven, Lång , Inflöde","VP203'!Inm_30673_D323_cmb251_","32211","S","L","SEK","TOT","I","M","X","H1",{"$f":"VLOOKUP('VP203'!$B$251,FlexDimensioner!$C$1:$D$430,2,FALSE)","v":"VALFRI"},"SEK",{"$f":"VLOOKUP(B324,Import!A$1:B$20000,2,FALSE)","v":{"$error":"#N/A"}},"EJ_GRANSKN",{"$f":"VLOOKUP(S324,Import!A$1:B$20000,2,FALSE)","v":{"$error":"#N/A"}},"32211_S_L_SEK_TOT_I_M_X_H1_VALFRI_SEK",1000,null,"30673_D323_cmb251_",{"$f":"VLOOKUP(B324,Import!E$1:F$20000,2,FALSE)","v":{"$error":"#N/A"}}]
[{"$f":"IF(ISBLANK(Inm_30673_D324_cmb250_),\"\",$T$325 * Inm_30673_D324_cmb250_)","v":""},"30673_D324_cmb250_","Handel i sven, Lång , Inflöde","VP203'!Inm_30673_D324_cmb250_","32211","S","L","SEK","TOT","I","M","X","H1",{"$f":"VLOOKUP('VP203'!$B$250,FlexDimensioner!$C$1:$D$430,2,FALSE)","v":"VALFRI"},"SEK",{"$f":"VLOOKUP(B325,Import!A$1:B$20000,2,FALSE)","v":{"$error":"#N/A"}},"EJ_GRANSKN",{"$f":"VLOOKUP(S325,Import!A$1:B$20000,2,FALSE)","v":{"$error":"#N/A"}},"32211_S_L_SEK_TOT_I_M_X_H1_VALFRI_SEK",1000,null,"30673_D324_cmb250_",{"$f":"VLOOKUP(B325,Import!E$1:F$20000,2,FALSE)","v":{"$error":"#N/A"}}]
[{"$f":"IF(ISBLANK(Inm_30673_D325_cmb249_),\"\",$T$326 * Inm_30673_D325_cmb249_)","v":""},"30673_D325_cmb249_","Handel i sven, Lång , Inflöde","VP203'!Inm_30673_D325_cmb249_","32211","S","L","SEK","TOT","I","M","X","H1",{"$f":"VLOOKUP('VP203'!$B$249,FlexDimensioner!$C$1:$D$430,2,FALSE)","v":"VALFRI"},"SEK",{"$f":"VLOOKUP(B326,Import!A$1:B$20000,2,FALSE)","v":{"$error":"#N/A"}},"EJ_GRANSKN",{"$f":"VLOOKUP(S326,Import!A$1:B$20000,2,FALSE)","v":{"$error":"#N/A"}},"32211_S_L_SEK_TOT_I_M_X_H1_VALFRI_SEK",1000,null,"30673_D325_cmb249_",{"$f":"VLOOKUP(B326,Import!E$1:F$20000,2,FALSE)","v":{"$error":"#N/A"}}]
[{"$f":"IF(ISBLANK(Inm_30673_D326_cmb248_),\"\",$T$327 * Inm_30673_D326_cmb248_)","v":""},"30673_D326_cmb248_","Handel i sven, Lång , Inflöde","VP203'!Inm_30673_D326_cmb248_","32211","S","L","SEK","TOT","I","M","X","H1",{"$f":"VLOOKUP('VP203'!$B$248,FlexDimensioner!$C$1:$D$430,2,FALSE)","v":"VALFRI"},"SEK",{"$f":"VLOOKUP(B327,Import!A$1:B$20000,2,FALSE)","v":{"$error":"#N/A"}},"EJ_GRANSKN",{"$f":"VLOOKUP(S327,Import!A$1:B$20000,2,FALSE)","v":{"$error":"#N/A"}},"32211_S_L_SEK_TOT_I_M_X_H1_VALFRI_SEK",1000,null,"30673_D326_cmb248_",{"$f":"VLOOKUP(B327,Import!E$1:F$20000,2,FALSE)","v":{"$error":"#N/A"}}]
[{"$f":"IF(ISBLANK(Inm_30673_D327_cmb247_),\"\",$T$328 * Inm_30673_D327_cmb247_)","v":""},"30673_D327_cmb247_","Handel i sven, Lång , Inflöde","VP203'!Inm_30673_D327_cmb247_","32211","S","L","SEK","TOT","I","M","X","H1",{"$f":"VLOOKUP('VP203'!$B$247,FlexDimensioner!$C$1:$D$430,2,FALSE)","v":"VALFRI"},"SEK",{"$f":"VLOOKUP(B328,Import!A$1:B$20000,2,FALSE)","v":{"$error":"#N/A"}},"EJ_GRANSKN",{"$f":"VLOOKUP(S328,Import!A$1:B$20000,2,FALSE)","v":{"$error":"#N/A"}},"32211_S_L_SEK_TOT_I_M_X_H1_VALFRI_SEK",1000,null,"30673_D327_cmb247_",{"$f":"VLOOKUP(B328,Import!E$1:F$20000,2,FALSE)","v":{"$error":"#N/A"}}]
[{"$f":"IF(ISBLANK(Inm_30673_D328_cmb246_),\"\",$T$329 * Inm_30673_D328_cmb246_)","v":""},"30673_D328_cmb246_","Handel i sven, Lång , Inflöde","VP203'!Inm_30673_D328_cmb246_","32211","S","L","SEK","TOT","I","M","X","H1",{"$f":"VLOOKUP('VP203'!$B$246,FlexDimensioner!$C$1:$D$430,2,FALSE)","v":"VALFRI"},"SEK",{"$f":"VLOOKUP(B329,Import!A$1:B$20000,2,FALSE)","v":{"$error":"#N/A"}},"EJ_GRANSKN",{"$f":"VLOOKUP(S329,Import!A$1:B$20000,2,FALSE)","v":{"$error":"#N/A"}},"32211_S_L_SEK_TOT_I_M_X_H1_VALFRI_SEK",1000,null,"30673_D328_cmb246_",{"$f":"VLOOKUP(B329,Import!E$1:F$20000,2,FALSE)","v":{"$error":"#N/A"}}]
[{"$f":"IF(ISBLANK(Inm_30673_D329_cmb245_),\"\",$T$330 * Inm_30673_D329_cmb245_)","v":""},"30673_D329_cmb245_","Handel i sven, Lång , Inflöde","VP203'!Inm_30673_D329_cmb245_","32211","S","L","SEK","TOT","I","M","X","H1",{"$f":"VLOOKUP('VP203'!$B$245,FlexDimensioner!$C$1:$D$430,2,FALSE)","v":"VALFRI"},"SEK",{"$f":"VLOOKUP(B330,Import!A$1:B$20000,2,FALSE)","v":{"$error":"#N/A"}},"EJ_GRANSKN",{"$f":"VLOOKUP(S330,Import!A$1:B$20000,2,FALSE)","v":{"$error":"#N/A"}},"32211_S_L_SEK_TOT_I_M_X_H1_VALFRI_SEK",1000,null,"30673_D329_cmb245_",{"$f":"VLOOKUP(B330,Import!E$1:F$20000,2,FALSE)","v":{"$error":"#N/A"}}]
[{"$f":"IF(ISBLANK(Inm_30673_D330_cmb244_),\"\",$T$331 * Inm_30673_D330_cmb244_)","v":""},"30673_D330_cmb244_","Handel i sven, Lång , Inflöde","VP203'!Inm_30673_D330_cmb244_","32211","S","L","SEK","TOT","I","M","X","H1",{"$f":"VLOOKUP('VP203'!$B$244,FlexDimensioner!$C$1:$D$430,2,FALSE)","v":"VALFRI"},"SEK",{"$f":"VLOOKUP(B331,Import!A$1:B$20000,2,FALSE)","v":{"$error":"#N/A"}},"EJ_GRANSKN",{"$f":"VLOOKUP(S331,Import!A$1:B$20000,2,FALSE)","v":{"$error":"#N/A"}},"32211_S_L_SEK_TOT_I_M_X_H1_VALFRI_SEK",1000,null,"30673_D330_cmb244_",{"$f":"VLOOKUP(B331,Import!E$1:F$20000,2,FALSE)","v":{"$error":"#N/A"}}]
[{"$f":"IF(ISBLANK(Inm_30673_D331_cmb243_),\"\",$T$332 * Inm_30673_D331_cmb243_)","v":""},"30673_D331_cmb243_","Handel i sven, Lång , Inflöde","VP203'!Inm_30673_D331_cmb243_","32211","S","L","SEK","TOT","I","M","X","H1",{"$f":"VLOOKUP('VP203'!$B$243,FlexDimensioner!$C$1:$D$430,2,FALSE)","v":"VALFRI"},"SEK",{"$f":"VLOOKUP(B332,Import!A$1:B$20000,2,FALSE)","v":{"$error":"#N/A"}},"EJ_GRANSKN",{"$f":"VLOOKUP(S332,Import!A$1:B$20000,2,FALSE)","v":{"$error":"#N/A"}},"32211_S_L_SEK_TOT_I_M_X_H1_VALFRI_SEK",1000,null,"30673_D331_cmb243_",{"$f":"VLOOKUP(B332,Import!E$1:F$20000,2,FALSE)","v":{"$error":"#N/A"}}]
[{"$f":"IF(ISBLANK(Inm_30673_D332_cmb242_),\"\",$T$333 * Inm_30673_D332_cmb242_)","v":""},"30673_D332_cmb242_","Handel i sven, Lång , Inflöde","VP203'!Inm_30673_D332_cmb242_","32211","S","L","SEK","TOT","I","M","X","H1",{"$f":"VLOOKUP('VP203'!$B$242,FlexDimensioner!$C$1:$D$430,2,FALSE)","v":"VALFRI"},"SEK",{"$f":"VLOOKUP(B333,Import!A$1:B$20000,2,FALSE)","v":{"$error":"#N/A"}},"EJ_GRANSKN",{"$f":"VLOOKUP(S333,Import!A$1:B$20000,2,FALSE)","v":{"$error":"#N/A"}},"32211_S_L_SEK_TOT_I_M_X_H1_VALFRI_SEK",1000,null,"30673_D332_cmb242_",{"$f":"VLOOKUP(B333,Import!E$1:F$20000,2,FALSE)","v":{"$error":"#N/A"}}]
[{"$f":"IF(ISBLANK(Inm_30673_D333_cmb241_),\"\",$T$334 * Inm_30673_D333_cmb241_)","v":""},"30673_D333_cmb241_","Handel i sven, Lång , Inflöde","VP203'!Inm_30673_D333_cmb241_","32211","S","L","SEK","TOT","I","M","X","H1",{"$f":"VLOOKUP('VP203'!$B$241,FlexDimensioner!$C$1:$D$430,2,FALSE)","v":"VALFRI"},"SEK",{"$f":"VLOOKUP(B334,Import!A$1:B$20000,2,FALSE)","v":{"$error":"#N/A"}},"EJ_GRANSKN",{"$f":"VLOOKUP(S334,Import!A$1:B$20000,2,FALSE)","v":{"$error":"#N/A"}},"32211_S_L_SEK_TOT_I_M_X_H1_VALFRI_SEK",1000,null,"30673_D333_cmb241_",{"$f":"VLOOKUP(B334,Import!E$1:F$20000,2,FALSE)","v":{"$error":"#N/A"}}]
[{"$f":"IF(ISBLANK(Inm_30673_D334_cmb240_),\"\",$T$335 * Inm_30673_D334_cmb240_)","v":""},"30673_D334_cmb240_","Handel i sven, Lång , Inflöde","VP203'!Inm_30673_D334_cmb240_","32211","S","L","SEK","TOT","I","M","X","H1",{"$f":"VLOOKUP('VP203'!$B$240,FlexDimensioner!$C$1:$D$430,2,FALSE)","v":"VALFRI"},"SEK",{"$f":"VLOOKUP(B335,Import!A$1:B$20000,2,FALSE)","v":{"$error":"#N/A"}},"EJ_GRANSKN",{"$f":"VLOOKUP(S335,Import!A$1:B$20000,2,FALSE)","v":{"$error":"#N/A"}},"32211_S_L_SEK_TOT_I_M_X_H1_VALFRI_SEK",1000,null,"30673_D334_cmb240_",{"$f":"VLOOKUP(B335,Import!E$1:F$20000,2,FALSE)","v":{"$error":"#N/A"}}]
[{"$f":"IF(ISBLANK(Inm_30673_D335_cmb239_),\"\",$T$336 * Inm_30673_D335_cmb239_)","v":""},"30673_D335_cmb239_","Handel i sven, Lång , Inflöde","VP203'!Inm_30673_D335_cmb239_","32211","S","L","SEK","TOT","I","M","X","H1",{"$f":"VLOOKUP('VP203'!$B$239,FlexDimensioner!$C$1:$D$430,2,FALSE)","v":"VALFRI"},"SEK",{"$f":"VLOOKUP(B336,Import!A$1:B$20000,2,FALSE)","v":{"$error":"#N/A"}},"EJ_GRANSKN",{"$f":"VLOOKUP(S336,Import!A$1:B$20000,2,FALSE)","v":{"$error":"#N/A"}},"32211_S_L_SEK_TOT_I_M_X_H1_VALFRI_SEK",1000,null,"30673_D335_cmb239_",{"$f":"VLOOKUP(B336,Import!E$1:F$20000,2,FALSE)","v":{"$error":"#N/A"}}]
[{"$f":"IF(ISBLANK(Inm_30673_D336_cmb238_),\"\",$T$337 * Inm_30673_D336_cmb238_)","v":""},"30673_D336_cmb238_","Handel i sven, Lång , Inflöde","VP203'!Inm_30673_D336_cmb238_","32211","S","L","SEK","TOT","I","M","X","H1",{"$f":"VLOOKUP('VP203'!$B$238,FlexDimensioner!$C$1:$D$430,2,FALSE)","v":"VALFRI"},"SEK",{"$f":"VLOOKUP(B337,Import!A$1:B$20000,2,FALSE)","v":{"$error":"#N/A"}},"EJ_GRANSKN",{"$f":"VLOOKUP(S337,Import!A$1:B$20000,2,FALSE)","v":{"$error":"#N/A"}},"32211_S_L_SEK_TOT_I_M_X_H1_VALFRI_SEK",1000,null,"30673_D336_cmb238_",{"$f":"VLOOKUP(B337,Import!E$1:F$20000,2,FALSE)","v":{"$error":"#N/A"}}]
[{"$f":"IF(ISBLANK(Inm_30673_D337_cmb237_),\"\",$T$338 * Inm_30673_D337_cmb237_)","v":""},"30673_D337_cmb237_","Handel i sven, Lång , Inflöde","VP203'!Inm_30673_D337_cmb237_","32211","S","L","SEK","TOT","I","M","X","H1",{"$f":"VLOOKUP('VP203'!$B$237,FlexDimensioner!$C$1:$D$430,2,FALSE)","v":"VALFRI"},"SEK",{"$f":"VLOOKUP(B338,Import!A$1:B$20000,2,FALSE)","v":{"$error":"#N/A"}},"EJ_GRANSKN",{"$f":"VLOOKUP(S338,Import!A$1:B$20000,2,FALSE)","v":{"$error":"#N/A"}},"32211_S_L_SEK_TOT_I_M_X_H1_VALFRI_SEK",1000,null,"30673_D337_cmb237_",{"$f":"VLOOKUP(B338,Import!E$1:F$20000,2,FALSE)","v":{"$error":"#N/A"}}]
[{"$f":"IF(ISBLANK(Inm_30673_D338_cmb236_),\"\",$T$339 * Inm_30673_D338_cmb236_)","v":""},"30673_D338_cmb236_","Handel i sven, Lång , Inflöde","VP203'!Inm_30673_D338_cmb236_","32211","S","L","SEK","TOT","I","M","X","H1",{"$f":"VLOOKUP('VP203'!$B$236,FlexDimensioner!$C$1:$D$430,2,FALSE)","v":"VALFRI"},"SEK",{"$f":"VLOOKUP(B339,Import!A$1:B$20000,2,FALSE)","v":{"$error":"#N/A"}},"EJ_GRANSKN",{"$f":"VLOOKUP(S339,Import!A$1:B$20000,2,FALSE)","v":{"$error":"#N/A"}},"32211_S_L_SEK_TOT_I_M_X_H1_VALFRI_SEK",1000,null,"30673_D338_cmb236_",{"$f":"VLOOKUP(B339,Import!E$1:F$20000,2,FALSE)","v":{"$error":"#N/A"}}]
[{"$f":"IF(ISBLANK(Inm_30673_D339_cmb235_),\"\",$T$340 * Inm_30673_D339_cmb235_)","v":""},"30673_D339_cmb235_","Handel i sven, Lång , Inflöde","VP203'!Inm_30673_D339_cmb235_","32211","S","L","SEK","TOT","I","M","X","H1",{"$f":"VLOOKUP('VP203'!$B$235,FlexDimensioner!$C$1:$D$430,2,FALSE)","v":"VALFRI"},"SEK",{"$f":"VLOOKUP(B340,Import!A$1:B$20000,2,FALSE)","v":{"$error":"#N/A"}},"EJ_GRANSKN",{"$f":"VLOOKUP(S340,Import!A$1:B$20000,2,FALSE)","v":{"$error":"#N/A"}},"32211_S_L_SEK_TOT_I_M_X_H1_VALFRI_SEK",1000,null,"30673_D339_cmb235_",{"$f":"VLOOKUP(B340,Import!E$1:F$20000,2,FALSE)","v":{"$error":"#N/A"}}]
[{"$f":"IF(ISBLANK(Inm_30673_D340_cmb234_),\"\",$T$341 * Inm_30673_D340_cmb234_)","v":""},"30673_D340_cmb234_","Handel i sven, Lång , Inflöde","VP203'!Inm_30673_D340_cmb234_","32211","S","L","SEK","TOT","I","M","X","H1",{"$f":"VLOOKUP('VP203'!$B$234,FlexDimensioner!$C$1:$D$430,2,FALSE)","v":"VALFRI"},"SEK",{"$f":"VLOOKUP(B341,Import!A$1:B$20000,2,FALSE)","v":{"$error":"#N/A"}},"EJ_GRANSKN",{"$f":"VLOOKUP(S341,Import!A$1:B$20000,2,FALSE)","v":{"$error":"#N/A"}},"32211_S_L_SEK_TOT_I_M_X_H1_VALFRI_SEK",1000,null,"30673_D340_cmb234_",{"$f":"VLOOKUP(B341,Import!E$1:F$20000,2,FALSE)","v":{"$error":"#N/A"}}]
[{"$f":"IF(ISBLANK(Inm_30673_D341_cmb233_),\"\",$T$342 * Inm_30673_D341_cmb233_)","v":""},"30673_D341_cmb233_","Handel i sven, Lång , Inflöde","VP203'!Inm_30673_D341_cmb233_","32211","S","L","SEK","TOT","I","M","X","H1",{"$f":"VLOOKUP('VP203'!$B$233,FlexDimensioner!$C$1:$D$430,2,FALSE)","v":"VALFRI"},"SEK",{"$f":"VLOOKUP(B342,Import!A$1:B$20000,2,FALSE)","v":{"$error":"#N/A"}},"EJ_GRANSKN",{"$f":"VLOOKUP(S342,Import!A$1:B$20000,2,FALSE)","v":{"$error":"#N/A"}},"32211_S_L_SEK_TOT_I_M_X_H1_VALFRI_SEK",1000,null,"30673_D341_cmb233_",{"$f":"VLOOKUP(B342,Import!E$1:F$20000,2,FALSE)","v":{"$error":"#N/A"}}]
[{"$f":"IF(ISBLANK(Inm_30673_D342_cmb231_),\"\",$T$343 * Inm_30673_D342_cmb231_)","v":""},"30673_D342_cmb231_","Handel i sven, Lång , Inflöde","VP203'!Inm_30673_D342_cmb231_","32211","S","L","SEK","TOT","I","M","X","H1",{"$f":"VLOOKUP('VP203'!$B$232,FlexDimensioner!$C$1:$D$430,2,FALSE)","v":"VALFRI"},"SEK",{"$f":"VLOOKUP(B343,Import!A$1:B$20000,2,FALSE)","v":{"$error":"#N/A"}},"EJ_GRANSKN",{"$f":"VLOOKUP(S343,Import!A$1:B$20000,2,FALSE)","v":{"$error":"#N/A"}},"32211_S_L_SEK_TOT_I_M_X_H1_VALFRI_SEK",1000,null,"30673_D342_cmb231_",{"$f":"VLOOKUP(B343,Import!E$1:F$20000,2,FALSE)","v":{"$error":"#N/A"}}]
[{"$f":"IF(ISBLANK(Inm_30673_D343_cmb230_),\"\",$T$344 * Inm_30673_D343_cmb230_)","v":""},"30673_D343_cmb230_","Handel i sven, Lång , Inflöde","VP203'!Inm_30673_D343_cmb230_","32211","S","L","SEK","TOT","I","M","X","H1",{"$f":"VLOOKUP('VP203'!$B$231,FlexDimensioner!$C$1:$D$430,2,FALSE)","v":"VALFRI"},"SEK",{"$f":"VLOOKUP(B344,Import!A$1:B$20000,2,FALSE)","v":{"$error":"#N/A"}},"EJ_GRANSKN",{"$f":"VLOOKUP(S344,Import!A$1:B$20000,2,FALSE)","v":{"$error":"#N/A"}},"32211_S_L_SEK_TOT_I_M_X_H1_VALFRI_SEK",1000,null,"30673_D343_cmb230_",{"$f":"VLOOKUP(B344,Import!E$1:F$20000,2,FALSE)","v":{"$error":"#N/A"}}]
[{"$f":"IF(ISBLANK(Inm_30673_D344_cmb229_),\"\",$T$345 * Inm_30673_D344_cmb229_)","v":""},"30673_D344_cmb229_","Handel i sven, Lång , Inflöde","VP203'!Inm_30673_D344_cmb229_","32211","S","L","SEK","TOT","I","M","X","H1",{"$f":"VLOOKUP('VP203'!$B$230,FlexDimensioner!$C$1:$D$430,2,FALSE)","v":"VALFRI"},"SEK",{"$f":"VLOOKUP(B345,Import!A$1:B$20000,2,FALSE)","v":{"$error":"#N/A"}},"EJ_GRANSKN",{"$f":"VLOOKUP(S345,Import!A$1:B$20000,2,FALSE)","v":{"$error":"#N/A"}},"32211_S_L_SEK_TOT_I_M_X_H1_VALFRI_SEK",1000,null,"30673_D344_cmb229_",{"$f":"VLOOKUP(B345,Import!E$1:F$20000,2,FALSE)","v":{"$error":"#N/A"}}]
[{"$f":"IF(ISBLANK(Inm_30673_D345_cmb228_),\"\",$T$346 * Inm_30673_D345_cmb228_)","v":""},"30673_D345_cmb228_","Handel i sven, Lång , Inflöde","VP203'!Inm_30673_D345_cmb228_","32211","S","L","SEK","TOT","I","M","X","H1",{"$f":"VLOOKUP('VP203'!$B$229,FlexDimensioner!$C$1:$D$430,2,FALSE)","v":"VALFRI"},"SEK",{"$f":"VLOOKUP(B346,Import!A$1:B$20000,2,FALSE)","v":{"$error":"#N/A"}},"EJ_GRANSKN",{"$f":"VLOOKUP(S346,Import!A$1:B$20000,2,FALSE)","v":{"$error":"#N/A"}},"32211_S_L_SEK_TOT_I_M_X_H1_VALFRI_SEK",1000,null,"30673_D345_cmb228_",{"$f":"VLOOKUP(B346,Import!E$1:F$20000,2,FALSE)","v":{"$error":"#N/A"}}]
[{"$f":"IF(ISBLANK(Inm_30673_D346_cmb227_),\"\",$T$347 * Inm_30673_D346_cmb227_)","v":""},"30673_D346_cmb227_","Handel i sven, Lång , Inflöde","VP203'!Inm_30673_D346_cmb227_","32211","S","L","SEK","TOT","I","M","X","H1",{"$f":"VLOOKUP('VP203'!$B$228,FlexDimensioner!$C$1:$D$430,2,FALSE)","v":"VALFRI"},"SEK",{"$f":"VLOOKUP(B347,Import!A$1:B$20000,2,FALSE)","v":{"$error":"#N/A"}},"EJ_GRANSKN",{"$f":"VLOOKUP(S347,Import!A$1:B$20000,2,FALSE)","v":{"$error":"#N/A"}},"32211_S_L_SEK_TOT_I_M_X_H1_VALFRI_SEK",1000,null,"30673_D346_cmb227_",{"$f":"VLOOKUP(B347,Import!E$1:F$20000,2,FALSE)","v":{"$error":"#N/A"}}]
[{"$f":"IF(ISBLANK(Inm_30673_D347_cmb226_),\"\",$T$348 * Inm_30673_D347_cmb226_)","v":""},"30673_D347_cmb226_","Handel i sven, Lång , Inflöde","VP203'!Inm_30673_D347_cmb226_","32211","S","L","SEK","TOT","I","M","X","H1",{"$f":"VLOOKUP('VP203'!$B$227,FlexDimensioner!$C$1:$D$430,2,FALSE)","v":"VALFRI"},"SEK",{"$f":"VLOOKUP(B348,Import!A$1:B$20000,2,FALSE)","v":{"$error":"#N/A"}},"EJ_GRANSKN",{"$f":"VLOOKUP(S348,Import!A$1:B$20000,2,FALSE)","v":{"$error":"#N/A"}},"32211_S_L_SEK_TOT_I_M_X_H1_VALFRI_SEK",1000,null,"30673_D347_cmb226_",{"$f":"VLOOKUP(B348,Import!E$1:F$20000,2,FALSE)","v":{"$error":"#N/A"}}]
[{"$f":"IF(ISBLANK(Inm_30673_D348_cmb225_),\"\",$T$349 * Inm_30673_D348_cmb225_)","v":""},"30673_D348_cmb225_","Handel i sven, Lång , Inflöde","VP203'!Inm_30673_D348_cmb225_","32211","S","L","SEK","TOT","I","M","X","H1",{"$f":"VLOOKUP('VP203'!$B$226,FlexDimensioner!$C$1:$D$430,2,FALSE)","v":"VALFRI"},"SEK",{"$f":"VLOOKUP(B349,Import!A$1:B$20000,2,FALSE)","v":{"$error":"#N/A"}},"EJ_GRANSKN",{"$f":"VLOOKUP(S349,Import!A$1:B$20000,2,FALSE)","v":{"$error":"#N/A"}},"32211_S_L_SEK_TOT_I_M_X_H1_VALFRI_SEK",1000,null,"30673_D348_cmb225_",{"$f":"VLOOKUP(B349,Import!E$1:F$20000,2,FALSE)","v":{"$error":"#N/A"}}]
[{"$f":"IF(ISBLANK(Inm_30673_D349_cmb224_),\"\",$T$350 * Inm_30673_D349_cmb224_)","v":""},"30673_D349_cmb224_","Handel i sven, Lång , Inflöde","VP203'!Inm_30673_D349_cmb224_","32211","S","L","SEK","TOT","I","M","X","H1",{"$f":"VLOOKUP('VP203'!$B$225,FlexDimensioner!$C$1:$D$430,2,FALSE)","v":"VALFRI"},"SEK",{"$f":"VLOOKUP(B350,Import!A$1:B$20000,2,FALSE)","v":{"$error":"#N/A"}},"EJ_GRANSKN",{"$f":"VLOOKUP(S350,Import!A$1:B$20000,2,FALSE)","v":{"$error":"#N/A"}},"32211_S_L_SEK_TOT_I_M_X_H1_VALFRI_SEK",1000,null,"30673_D349_cmb224_",{"$f":"VLOOKUP(B350,Import!E$1:F$20000,2,FALSE)","v":{"$error":"#N/A"}}]
[{"$f":"IF(ISBLANK(Inm_30673_D350_cmb223_),\"\",$T$351 * Inm_30673_D350_cmb223_)","v":""},"30673_D350_cmb223_","Handel i sven, Lång , Inflöde","VP203'!Inm_30673_D350_cmb223_","32211","S","L","SEK","TOT","I","M","X","H1",{"$f":"VLOOKUP('VP203'!$B$224,FlexDimensioner!$C$1:$D$430,2,FALSE)","v":"VALFRI"},"SEK",{"$f":"VLOOKUP(B351,Import!A$1:B$20000,2,FALSE)","v":{"$error":"#N/A"}},"EJ_GRANSKN",{"$f":"VLOOKUP(S351,Import!A$1:B$20000,2,FALSE)","v":{"$error":"#N/A"}},"32211_S_L_SEK_TOT_I_M_X_H1_VALFRI_SEK",1000,null,"30673_D350_cmb223_",{"$f":"VLOOKUP(B351,Import!E$1:F$20000,2,FALSE)","v":{"$error":"#N/A"}}]
[{"$f":"IF(ISBLANK(Inm_30673_D351_cmb222_),\"\",$T$352 * Inm_30673_D351_cmb222_)","v":""},"30673_D351_cmb222_","Handel i sven, Lång , Inflöde","VP203'!Inm_30673_D351_cmb222_","32211","S","L","SEK","TOT","I","M","X","H1",{"$f":"VLOOKUP('VP203'!$B$223,FlexDimensioner!$C$1:$D$430,2,FALSE)","v":"VALFRI"},"SEK",{"$f":"VLOOKUP(B352,Import!A$1:B$20000,2,FALSE)","v":{"$error":"#N/A"}},"EJ_GRANSKN",{"$f":"VLOOKUP(S352,Import!A$1:B$20000,2,FALSE)","v":{"$error":"#N/A"}},"32211_S_L_SEK_TOT_I_M_X_H1_VALFRI_SEK",1000,null,"30673_D351_cmb222_",{"$f":"VLOOKUP(B352,Import!E$1:F$20000,2,FALSE)","v":{"$error":"#N/A"}}]
[{"$f":"IF(ISBLANK(Inm_30673_D352_cmb221_),\"\",$T$353 * Inm_30673_D352_cmb221_)","v":""},"30673_D352_cmb221_","Handel i sven, Lång , Inflöde","VP203'!Inm_30673_D352_cmb221_","32211","S","L","SEK","TOT","I","M","X","H1",{"$f":"VLOOKUP('VP203'!$B$222,FlexDimensioner!$C$1:$D$430,2,FALSE)","v":"VALFRI"},"SEK",{"$f":"VLOOKUP(B353,Import!A$1:B$20000,2,FALSE)","v":{"$error":"#N/A"}},"EJ_GRANSKN",{"$f":"VLOOKUP(S353,Import!A$1:B$20000,2,FALSE)","v":{"$error":"#N/A"}},"32211_S_L_SEK_TOT_I_M_X_H1_VALFRI_SEK",1000,null,"30673_D352_cmb221_",{"$f":"VLOOKUP(B353,Import!E$1:F$20000,2,FALSE)","v":{"$error":"#N/A"}}]
[{"$f":"IF(ISBLANK(Inm_30673_D353_cmb220_),\"\",$T$354 * Inm_30673_D353_cmb220_)","v":""},"30673_D353_cmb220_","Handel i sven, Lång , Inflöde","VP203'!Inm_30673_D353_cmb220_","32211","S","L","SEK","TOT","I","M","X","H1",{"$f":"VLOOKUP('VP203'!$B$221,FlexDimensioner!$C$1:$D$430,2,FALSE)","v":"VALFRI"},"SEK",{"$f":"VLOOKUP(B354,Import!A$1:B$20000,2,FALSE)","v":{"$error":"#N/A"}},"EJ_GRANSKN",{"$f":"VLOOKUP(S354,Import!A$1:B$20000,2,FALSE)","v":{"$error":"#N/A"}},"32211_S_L_SEK_TOT_I_M_X_H1_VALFRI_SEK",1000,null,"30673_D353_cmb220_",{"$f":"VLOOKUP(B354,Import!E$1:F$20000,2,FALSE)","v":{"$error":"#N/A"}}]
[{"$f":"IF(ISBLANK(Inm_30673_D354_cmb219_),\"\",$T$355 * Inm_30673_D354_cmb219_)","v":""},"30673_D354_cmb219_","Handel i sven, Lång , Inflöde","VP203'!Inm_30673_D354_cmb219_","32211","S","L","SEK","TOT","I","M","X","H1",{"$f":"VLOOKUP('VP203'!$B$220,FlexDimensioner!$C$1:$D$430,2,FALSE)","v":"VALFRI"},"SEK",{"$f":"VLOOKUP(B355,Import!A$1:B$20000,2,FALSE)","v":{"$error":"#N/A"}},"EJ_GRANSKN",{"$f":"VLOOKUP(S355,Import!A$1:B$20000,2,FALSE)","v":{"$error":"#N/A"}},"32211_S_L_SEK_TOT_I_M_X_H1_VALFRI_SEK",1000,null,"30673_D354_cmb219_",{"$f":"VLOOKUP(B355,Import!E$1:F$20000,2,FALSE)","v":{"$error":"#N/A"}}]
[{"$f":"IF(ISBLANK(Inm_30673_D355_cmb218_),\"\",$T$356 * Inm_30673_D355_cmb218_)","v":""},"30673_D355_cmb218_","Handel i sven, Lång , Inflöde","VP203'!Inm_30673_D355_cmb218_","32211","S","L","SEK","TOT","I","M","X","H1",{"$f":"VLOOKUP('VP203'!$B$219,FlexDimensioner!$C$1:$D$430,2,FALSE)","v":"VALFRI"},"SEK",{"$f":"VLOOKUP(B356,Import!A$1:B$20000,2,FALSE)","v":{"$error":"#N/A"}},"EJ_GRANSKN",{"$f":"VLOOKUP(S356,Import!A$1:B$20000,2,FALSE)","v":{"$error":"#N/A"}},"32211_S_L_SEK_TOT_I_M_X_H1_VALFRI_SEK",1000,null,"30673_D355_cmb218_",{"$f":"VLOOKUP(B356,Import!E$1:F$20000,2,FALSE)","v":{"$error":"#N/A"}}]
[{"$f":"IF(ISBLANK(Inm_30673_D356_cmb217_),\"\",$T$357 * Inm_30673_D356_cmb217_)","v":""},"30673_D356_cmb217_","Handel i sven, Lång , Inflöde","VP203'!Inm_30673_D356_cmb217_","32211","S","L","SEK","TOT","I","M","X","H1",{"$f":"VLOOKUP('VP203'!$B$218,FlexDimensioner!$C$1:$D$430,2,FALSE)","v":"VALFRI"},"SEK",{"$f":"VLOOKUP(B357,Import!A$1:B$20000,2,FALSE)","v":{"$error":"#N/A"}},"EJ_GRANSKN",{"$f":"VLOOKUP(S357,Import!A$1:B$20000,2,FALSE)","v":{"$error":"#N/A"}},"32211_S_L_SEK_TOT_I_M_X_H1_VALFRI_SEK",1000,null,"30673_D356_cmb217_",{"$f":"VLOOKUP(B357,Import!E$1:F$20000,2,FALSE)","v":{"$error":"#N/A"}}]
[{"$f":"IF(ISBLANK(Inm_30673_D357_cmb216_),\"\",$T$358 * Inm_30673_D357_cmb216_)","v":""},"30673_D357_cmb216_","Handel i sven, Lång , Inflöde","VP203'!Inm_30673_D357_cmb216_","32211","S","L","SEK","TOT","I","M","X","H1",{"$f":"VLOOKUP('VP203'!$B$217,FlexDimensioner!$C$1:$D$430,2,FALSE)","v":"VALFRI"},"SEK",{"$f":"VLOOKUP(B358,Import!A$1:B$20000,2,FALSE)","v":{"$error":"#N/A"}},"EJ_GRANSKN",{"$f":"VLOOKUP(S358,Import!A$1:B$20000,2,FALSE)","v":{"$error":"#N/A"}},"32211_S_L_SEK_TOT_I_M_X_H1_VALFRI_SEK",1000,null,"30673_D357_cmb216_",{"$f":"VLOOKUP(B358,Import!E$1:F$20000,2,FALSE)","v":{"$error":"#N/A"}}]
[{"$f":"IF(ISBLANK(Inm_30673_D358_cmb215_),\"\",$T$359 * Inm_30673_D358_cmb215_)","v":""},"30673_D358_cmb215_","Handel i sven, Lång , Inflöde","VP203'!Inm_30673_D358_cmb215_","32211","S","L","SEK","TOT","I","M","X","H1",{"$f":"VLOOKUP('VP203'!$B$216,FlexDimensioner!$C$1:$D$430,2,FALSE)","v":"VALFRI"},"SEK",{"$f":"VLOOKUP(B359,Import!A$1:B$20000,2,FALSE)","v":{"$error":"#N/A"}},"EJ_GRANSKN",{"$f":"VLOOKUP(S359,Import!A$1:B$20000,2,FALSE)","v":{"$error":"#N/A"}},"32211_S_L_SEK_TOT_I_M_X_H1_VALFRI_SEK",1000,null,"30673_D358_cmb215_",{"$f":"VLOOKUP(B359,Import!E$1:F$20000,2,FALSE)","v":{"$error":"#N/A"}}]
[{"$f":"IF(ISBLANK(Inm_30673_D359_cmb214_),\"\",$T$360 * Inm_30673_D359_cmb214_)","v":""},"30673_D359_cmb214_","Handel i sven, Lång , Inflöde","VP203'!Inm_30673_D359_cmb214_","32211","S","L","SEK","TOT","I","M","X","H1",{"$f":"VLOOKUP('VP203'!$B$215,FlexDimensioner!$C$1:$D$430,2,FALSE)","v":"VALFRI"},"SEK",{"$f":"VLOOKUP(B360,Import!A$1:B$20000,2,FALSE)","v":{"$error":"#N/A"}},"EJ_GRANSKN",{"$f":"VLOOKUP(S360,Import!A$1:B$20000,2,FALSE)","v":{"$error":"#N/A"}},"32211_S_L_SEK_TOT_I_M_X_H1_VALFRI_SEK",1000,null,"30673_D359_cmb214_",{"$f":"VLOOKUP(B360,Import!E$1:F$20000,2,FALSE)","v":{"$error":"#N/A"}}]
[{"$f":"IF(ISBLANK(Inm_30673_D360_cmb213_),\"\",$T$361 * Inm_30673_D360_cmb213_)","v":""},"30673_D360_cmb213_","Handel i sven, Lång , Inflöde","VP203'!Inm_30673_D360_cmb213_","32211","S","L","SEK","TOT","I","M","X","H1",{"$f":"VLOOKUP('VP203'!$B$214,FlexDimensioner!$C$1:$D$430,2,FALSE)","v":"VALFRI"},"SEK",{"$f":"VLOOKUP(B361,Import!A$1:B$20000,2,FALSE)","v":{"$error":"#N/A"}},"EJ_GRANSKN",{"$f":"VLOOKUP(S361,Import!A$1:B$20000,2,FALSE)","v":{"$error":"#N/A"}},"32211_S_L_SEK_TOT_I_M_X_H1_VALFRI_SEK",1000,null,"30673_D360_cmb213_",{"$f":"VLOOKUP(B361,Import!E$1:F$20000,2,FALSE)","v":{"$error":"#N/A"}}]
[{"$f":"IF(ISBLANK(Inm_30673_D361_cmb212_),\"\",$T$362 * Inm_30673_D361_cmb212_)","v":""},"30673_D361_cmb212_","Handel i sven, Lång , Inflöde","VP203'!Inm_30673_D361_cmb212_","32211","S","L","SEK","TOT","I","M","X","H1",{"$f":"VLOOKUP('VP203'!$B$213,FlexDimensioner!$C$1:$D$430,2,FALSE)","v":"VALFRI"},"SEK",{"$f":"VLOOKUP(B362,Import!A$1:B$20000,2,FALSE)","v":{"$error":"#N/A"}},"EJ_GRANSKN",{"$f":"VLOOKUP(S362,Import!A$1:B$20000,2,FALSE)","v":{"$error":"#N/A"}},"32211_S_L_SEK_TOT_I_M_X_H1_VALFRI_SEK",1000,null,"30673_D361_cmb212_",{"$f":"VLOOKUP(B362,Import!E$1:F$20000,2,FALSE)","v":{"$error":"#N/A"}}]
[{"$f":"IF(ISBLANK(Inm_30673_D362_cmb211_),\"\",$T$363 * Inm_30673_D362_cmb211_)","v":""},"30673_D362_cmb211_","Handel i sven, Lång , Inflöde","VP203'!Inm_30673_D362_cmb211_","32211","S","L","SEK","TOT","I","M","X","H1",{"$f":"VLOOKUP('VP203'!$B$212,FlexDimensioner!$C$1:$D$430,2,FALSE)","v":"VALFRI"},"SEK",{"$f":"VLOOKUP(B363,Import!A$1:B$20000,2,FALSE)","v":{"$error":"#N/A"}},"EJ_GRANSKN",{"$f":"VLOOKUP(S363,Import!A$1:B$20000,2,FALSE)","v":{"$error":"#N/A"}},"32211_S_L_SEK_TOT_I_M_X_H1_VALFRI_SEK",1000,null,"30673_D362_cmb211_",{"$f":"VLOOKUP(B363,Import!E$1:F$20000,2,FALSE)","v":{"$error":"#N/A"}}]
[{"$f":"IF(ISBLANK(Inm_30673_D363_cmb210_),\"\",$T$364 * Inm_30673_D363_cmb210_)","v":""},"30673_D363_cmb210_","Handel i sven, Lång , Inflöde","VP203'!Inm_30673_D363_cmb210_","32211","S","L","SEK","TOT","I","M","X","H1",{"$f":"VLOOKUP('VP203'!$B$211,FlexDimensioner!$C$1:$D$430,2,FALSE)","v":"VALFRI"},"SEK",{"$f":"VLOOKUP(B364,Import!A$1:B$20000,2,FALSE)","v":{"$error":"#N/A"}},"EJ_GRANSKN",{"$f":"VLOOKUP(S364,Import!A$1:B$20000,2,FALSE)","v":{"$error":"#N/A"}},"32211_S_L_SEK_TOT_I_M_X_H1_VALFRI_SEK",1000,null,"30673_D363_cmb210_",{"$f":"VLOOKUP(B364,Import!E$1:F$20000,2,FALSE)","v":{"$error":"#N/A"}}]
[{"$f":"IF(ISBLANK(Inm_30673_D364_cmb209_),\"\",$T$365 * Inm_30673_D364_cmb209_)","v":""},"30673_D364_cmb209_","Handel i sven, Lång , Inflöde","VP203'!Inm_30673_D364_cmb209_","32211","S","L","SEK","TOT","I","M","X","H1",{"$f":"VLOOKUP('VP203'!$B$210,FlexDimensioner!$C$1:$D$430,2,FALSE)","v":"VALFRI"},"SEK",{"$f":"VLOOKUP(B365,Import!A$1:B$20000,2,FALSE)","v":{"$error":"#N/A"}},"EJ_GRANSKN",{"$f":"VLOOKUP(S365,Import!A$1:B$20000,2,FALSE)","v":{"$error":"#N/A"}},"32211_S_L_SEK_TOT_I_M_X_H1_VALFRI_SEK",1000,null,"30673_D364_cmb209_",{"$f":"VLOOKUP(B365,Import!E$1:F$20000,2,FALSE)","v":{"$error":"#N/A"}}]
[{"$f":"IF(ISBLANK(Inm_30673_D365_cmb208_),\"\",$T$366 * Inm_30673_D365_cmb208_)","v":""},"30673_D365_cmb208_","Handel i sven, Lång , Inflöde","VP203'!Inm_30673_D365_cmb208_","32211","S","L","SEK","TOT","I","M","X","H1",{"$f":"VLOOKUP('VP203'!$B$209,FlexDimensioner!$C$1:$D$430,2,FALSE)","v":"VALFRI"},"SEK",{"$f":"VLOOKUP(B366,Import!A$1:B$20000,2,FALSE)","v":{"$error":"#N/A"}},"EJ_GRANSKN",{"$f":"VLOOKUP(S366,Import!A$1:B$20000,2,FALSE)","v":{"$error":"#N/A"}},"32211_S_L_SEK_TOT_I_M_X_H1_VALFRI_SEK",1000,null,"30673_D365_cmb208_",{"$f":"VLOOKUP(B366,Import!E$1:F$20000,2,FALSE)","v":{"$error":"#N/A"}}]
[{"$f":"IF(ISBLANK(Inm_30673_D366_cmb207_),\"\",$T$367 * Inm_30673_D366_cmb207_)","v":""},"30673_D366_cmb207_","Handel i sven, Lång , Inflöde","VP203'!Inm_30673_D366_cmb207_","32211","S","L","SEK","TOT","I","M","X","H1",{"$f":"VLOOKUP('VP203'!$B$208,FlexDimensioner!$C$1:$D$430,2,FALSE)","v":"VALFRI"},"SEK",{"$f":"VLOOKUP(B367,Import!A$1:B$20000,2,FALSE)","v":{"$error":"#N/A"}},"EJ_GRANSKN",{"$f":"VLOOKUP(S367,Import!A$1:B$20000,2,FALSE)","v":{"$error":"#N/A"}},"32211_S_L_SEK_TOT_I_M_X_H1_VALFRI_SEK",1000,null,"30673_D366_cmb207_",{"$f":"VLOOKUP(B367,Import!E$1:F$20000,2,FALSE)","v":{"$error":"#N/A"}}]
[{"$f":"IF(ISBLANK(Inm_30673_D367_cmb206_),\"\",$T$368 * Inm_30673_D367_cmb206_)","v":""},"30673_D367_cmb206_","Handel i sven, Lång , Inflöde","VP203'!Inm_30673_D367_cmb206_","32211","S","L","SEK","TOT","I","M","X","H1",{"$f":"VLOOKUP('VP203'!$B$207,FlexDimensioner!$C$1:$D$430,2,FALSE)","v":"VALFRI"},"SEK",{"$f":"VLOOKUP(B368,Import!A$1:B$20000,2,FALSE)","v":{"$error":"#N/A"}},"EJ_GRANSKN",{"$f":"VLOOKUP(S368,Import!A$1:B$20000,2,FALSE)","v":{"$error":"#N/A"}},"32211_S_L_SEK_TOT_I_M_X_H1_VALFRI_SEK",1000,null,"30673_D367_cmb206_",{"$f":"VLOOKUP(B368,Import!E$1:F$20000,2,FALSE)","v":{"$error":"#N/A"}}]
[{"$f":"IF(ISBLANK(Inm_30673_D368_cmb203_),\"\",$T$369 * Inm_30673_D368_cmb203_)","v":""},"30673_D368_cmb203_","Handel i sven, Lång , Inflöde","VP203'!Inm_30673_D368_cmb203_","32211","S","L","SEK","TOT","I","M","X","H1",{"$f":"VLOOKUP('VP203'!$B$206,FlexDimensioner!$C$1:$D$430,2,FALSE)","v":"VALFRI"},"SEK",{"$f":"VLOOKUP(B369,Import!A$1:B$20000,2,FALSE)","v":{"$error":"#N/A"}},"EJ_GRANSKN",{"$f":"VLOOKUP(S369,Import!A$1:B$20000,2,FALSE)","v":{"$error":"#N/A"}},"32211_S_L_SEK_TOT_I_M_X_H1_VALFRI_SEK",1000,null,"30673_D368_cmb203_",{"$f":"VLOOKUP(B369,Import!E$1:F$20000,2,FALSE)","v":{"$error":"#N/A"}}]
[{"$f":"IF(ISBLANK(Inm_30673_D369_cmb202_),\"\",$T$370 * Inm_30673_D369_cmb202_)","v":""},"30673_D369_cmb202_","Handel i sven, Lång , Inflöde","VP203'!Inm_30673_D369_cmb202_","32211","S","L","SEK","TOT","I","M","X","H1",{"$f":"VLOOKUP('VP203'!$B$205,FlexDimensioner!$C$1:$D$430,2,FALSE)","v":"VALFRI"},"SEK",{"$f":"VLOOKUP(B370,Import!A$1:B$20000,2,FALSE)","v":{"$error":"#N/A"}},"EJ_GRANSKN",{"$f":"VLOOKUP(S370,Import!A$1:B$20000,2,FALSE)","v":{"$error":"#N/A"}},"32211_S_L_SEK_TOT_I_M_X_H1_VALFRI_SEK",1000,null,"30673_D369_cmb202_",{"$f":"VLOOKUP(B370,Import!E$1:F$20000,2,FALSE)","v":{"$error":"#N/A"}}]
[{"$f":"IF(ISBLANK(Inm_30673_D370_cmb201_),\"\",$T$371 * Inm_30673_D370_cmb201_)","v":""},"30673_D370_cmb201_","Handel i sven, Lång , Inflöde","VP203'!Inm_30673_D370_cmb201_","32211","S","L","SEK","TOT","I","M","X","H1",{"$f":"VLOOKUP('VP203'!$B$204,FlexDimensioner!$C$1:$D$430,2,FALSE)","v":"VALFRI"},"SEK",{"$f":"VLOOKUP(B371,Import!A$1:B$20000,2,FALSE)","v":{"$error":"#N/A"}},"EJ_GRANSKN",{"$f":"VLOOKUP(S371,Import!A$1:B$20000,2,FALSE)","v":{"$error":"#N/A"}},"32211_S_L_SEK_TOT_I_M_X_H1_VALFRI_SEK",1000,null,"30673_D370_cmb201_",{"$f":"VLOOKUP(B371,Import!E$1:F$20000,2,FALSE)","v":{"$error":"#N/A"}}]
[{"$f":"IF(ISBLANK(Inm_30673_D371_cmb200_),\"\",$T$372 * Inm_30673_D371_cmb200_)","v":""},"30673_D371_cmb200_","Handel i sven, Lång , Inflöde","VP203'!Inm_30673_D371_cmb200_","32211","S","L","SEK","TOT","I","M","X","H1",{"$f":"VLOOKUP('VP203'!$B$203,FlexDimensioner!$C$1:$D$430,2,FALSE)","v":"VALFRI"},"SEK",{"$f":"VLOOKUP(B372,Import!A$1:B$20000,2,FALSE)","v":{"$error":"#N/A"}},"EJ_GRANSKN",{"$f":"VLOOKUP(S372,Import!A$1:B$20000,2,FALSE)","v":{"$error":"#N/A"}},"32211_S_L_SEK_TOT_I_M_X_H1_VALFRI_SEK",1000,null,"30673_D371_cmb200_",{"$f":"VLOOKUP(B372,Import!E$1:F$20000,2,FALSE)","v":{"$error":"#N/A"}}]
[{"$f":"IF(ISBLANK(Inm_30673_D372_cmb199_),\"\",$T$373 * Inm_30673_D372_cmb199_)","v":""},"30673_D372_cmb199_","Handel i sven, Lång , Inflöde","VP203'!Inm_30673_D372_cmb199_","32211","S","L","SEK","TOT","I","M","X","H1",{"$f":"VLOOKUP('VP203'!$B$202,FlexDimensioner!$C$1:$D$430,2,FALSE)","v":"VALFRI"},"SEK",{"$f":"VLOOKUP(B373,Import!A$1:B$20000,2,FALSE)","v":{"$error":"#N/A"}},"EJ_GRANSKN",{"$f":"VLOOKUP(S373,Import!A$1:B$20000,2,FALSE)","v":{"$error":"#N/A"}},"32211_S_L_SEK_TOT_I_M_X_H1_VALFRI_SEK",1000,null,"30673_D372_cmb199_",{"$f":"VLOOKUP(B373,Import!E$1:F$20000,2,FALSE)","v":{"$error":"#N/A"}}]
[{"$f":"IF(ISBLANK(Inm_30673_D373_cmb198_),\"\",$T$374 * Inm_30673_D373_cmb198_)","v":""},"30673_D373_cmb198_","Handel i sven, Lång , Inflöde","VP203'!Inm_30673_D373_cmb198_","32211","S","L","SEK","TOT","I","M","X","H1",{"$f":"VLOOKUP('VP203'!$B$201,FlexDimensioner!$C$1:$D$430,2,FALSE)","v":"VALFRI"},"SEK",{"$f":"VLOOKUP(B374,Import!A$1:B$20000,2,FALSE)","v":{"$error":"#N/A"}},"EJ_GRANSKN",{"$f":"VLOOKUP(S374,Import!A$1:B$20000,2,FALSE)","v":{"$error":"#N/A"}},"32211_S_L_SEK_TOT_I_M_X_H1_VALFRI_SEK",1000,null,"30673_D373_cmb198_",{"$f":"VLOOKUP(B374,Import!E$1:F$20000,2,FALSE)","v":{"$error":"#N/A"}}]
[{"$f":"IF(ISBLANK(Inm_30673_D374_cmb197_),\"\",$T$375 * Inm_30673_D374_cmb197_)","v":""},"30673_D374_cmb197_","Handel i sven, Lång , Inflöde","VP203'!Inm_30673_D374_cmb197_","32211","S","L","SEK","TOT","I","M","X","H1",{"$f":"VLOOKUP('VP203'!$B$200,FlexDimensioner!$C$1:$D$430,2,FALSE)","v":"VALFRI"},"SEK",{"$f":"VLOOKUP(B375,Import!A$1:B$20000,2,FALSE)","v":{"$error":"#N/A"}},"EJ_GRANSKN",{"$f":"VLOOKUP(S375,Import!A$1:B$20000,2,FALSE)","v":{"$error":"#N/A"}},"32211_S_L_SEK_TOT_I_M_X_H1_VALFRI_SEK",1000,null,"30673_D374_cmb197_",{"$f":"VLOOKUP(B375,Import!E$1:F$20000,2,FALSE)","v":{"$error":"#N/A"}}]
[{"$f":"IF(ISBLANK(Inm_30673_D375_cmb196_),\"\",$T$376 * Inm_30673_D375_cmb196_)","v":""},"30673_D375_cmb196_","Handel i sven, Lång , Inflöde","VP203'!Inm_30673_D375_cmb196_","32211","S","L","SEK","TOT","I","M","X","H1",{"$f":"VLOOKUP('VP203'!$B$199,FlexDimensioner!$C$1:$D$430,2,FALSE)","v":"VALFRI"},"SEK",{"$f":"VLOOKUP(B376,Import!A$1:B$20000,2,FALSE)","v":{"$error":"#N/A"}},"EJ_GRANSKN",{"$f":"VLOOKUP(S376,Import!A$1:B$20000,2,FALSE)","v":{"$error":"#N/A"}},"32211_S_L_SEK_TOT_I_M_X_H1_VALFRI_SEK",1000,null,"30673_D375_cmb196_",{"$f":"VLOOKUP(B376,Import!E$1:F$20000,2,FALSE)","v":{"$error":"#N/A"}}]
[{"$f":"IF(ISBLANK(Inm_30673_D376_cmb195_),\"\",$T$377 * Inm_30673_D376_cmb195_)","v":""},"30673_D376_cmb195_","Handel i sven, Lång , Inflöde","VP203'!Inm_30673_D376_cmb195_","32211","S","L","SEK","TOT","I","M","X","H1",{"$f":"VLOOKUP('VP203'!$B$198,FlexDimensioner!$C$1:$D$430,2,FALSE)","v":"VALFRI"},"SEK",{"$f":"VLOOKUP(B377,Import!A$1:B$20000,2,FALSE)","v":{"$error":"#N/A"}},"EJ_GRANSKN",{"$f":"VLOOKUP(S377,Import!A$1:B$20000,2,FALSE)","v":{"$error":"#N/A"}},"32211_S_L_SEK_TOT_I_M_X_H1_VALFRI_SEK",1000,null,"30673_D376_cmb195_",{"$f":"VLOOKUP(B377,Import!E$1:F$20000,2,FALSE)","v":{"$error":"#N/A"}}]
[{"$f":"IF(ISBLANK(Inm_30673_D377_cmb194_),\"\",$T$378 * Inm_30673_D377_cmb194_)","v":""},"30673_D377_cmb194_","Handel i sven, Lång , Inflöde","VP203'!Inm_30673_D377_cmb194_","32211","S","L","SEK","TOT","I","M","X","H1",{"$f":"VLOOKUP('VP203'!$B$197,FlexDimensioner!$C$1:$D$430,2,FALSE)","v":"VALFRI"},"SEK",{"$f":"VLOOKUP(B378,Import!A$1:B$20000,2,FALSE)","v":{"$error":"#N/A"}},"EJ_GRANSKN",{"$f":"VLOOKUP(S378,Import!A$1:B$20000,2,FALSE)","v":{"$error":"#N/A"}},"32211_S_L_SEK_TOT_I_M_X_H1_VALFRI_SEK",1000,null,"30673_D377_cmb194_",{"$f":"VLOOKUP(B378,Import!E$1:F$20000,2,FALSE)","v":{"$error":"#N/A"}}]
[{"$f":"IF(ISBLANK(Inm_30673_D378_cmb193_),\"\",$T$379 * Inm_30673_D378_cmb193_)","v":""},"30673_D378_cmb193_","Handel i sven, Lång , Inflöde","VP203'!Inm_30673_D378_cmb193_","32211","S","L","SEK","TOT","I","M","X","H1",{"$f":"VLOOKUP('VP203'!$B$196,FlexDimensioner!$C$1:$D$430,2,FALSE)","v":"VALFRI"},"SEK",{"$f":"VLOOKUP(B379,Import!A$1:B$20000,2,FALSE)","v":{"$error":"#N/A"}},"EJ_GRANSKN",{"$f":"VLOOKUP(S379,Import!A$1:B$20000,2,FALSE)","v":{"$error":"#N/A"}},"32211_S_L_SEK_TOT_I_M_X_H1_VALFRI_SEK",1000,null,"30673_D378_cmb193_",{"$f":"VLOOKUP(B379,Import!E$1:F$20000,2,FALSE)","v":{"$error":"#N/A"}}]
[{"$f":"IF(ISBLANK(Inm_30673_D379_cmb192_),\"\",$T$380 * Inm_30673_D379_cmb192_)","v":""},"30673_D379_cmb192_","Handel i sven, Lång , Inflöde","VP203'!Inm_30673_D379_cmb192_","32211","S","L","SEK","TOT","I","M","X","H1",{"$f":"VLOOKUP('VP203'!$B$195,FlexDimensioner!$C$1:$D$430,2,FALSE)","v":"VALFRI"},"SEK",{"$f":"VLOOKUP(B380,Import!A$1:B$20000,2,FALSE)","v":{"$error":"#N/A"}},"EJ_GRANSKN",{"$f":"VLOOKUP(S380,Import!A$1:B$20000,2,FALSE)","v":{"$error":"#N/A"}},"32211_S_L_SEK_TOT_I_M_X_H1_VALFRI_SEK",1000,null,"30673_D379_cmb192_",{"$f":"VLOOKUP(B380,Import!E$1:F$20000,2,FALSE)","v":{"$error":"#N/A"}}]
[{"$f":"IF(ISBLANK(Inm_30673_D380_cmb191_),\"\",$T$381 * Inm_30673_D380_cmb191_)","v":""},"30673_D380_cmb191_","Handel i sven, Lång , Inflöde","VP203'!Inm_30673_D380_cmb191_","32211","S","L","SEK","TOT","I","M","X","H1",{"$f":"VLOOKUP('VP203'!$B$194,FlexDimensioner!$C$1:$D$430,2,FALSE)","v":"VALFRI"},"SEK",{"$f":"VLOOKUP(B381,Import!A$1:B$20000,2,FALSE)","v":{"$error":"#N/A"}},"EJ_GRANSKN",{"$f":"VLOOKUP(S381,Import!A$1:B$20000,2,FALSE)","v":{"$error":"#N/A"}},"32211_S_L_SEK_TOT_I_M_X_H1_VALFRI_SEK",1000,null,"30673_D380_cmb191_",{"$f":"VLOOKUP(B381,Import!E$1:F$20000,2,FALSE)","v":{"$error":"#N/A"}}]
[{"$f":"IF(ISBLANK(Inm_30673_D381_cmb190_),\"\",$T$382 * Inm_30673_D381_cmb190_)","v":""},"30673_D381_cmb190_","Handel i sven, Lång , Inflöde","VP203'!Inm_30673_D381_cmb190_","32211","S","L","SEK","TOT","I","M","X","H1",{"$f":"VLOOKUP('VP203'!$B$193,FlexDimensioner!$C$1:$D$430,2,FALSE)","v":"VALFRI"},"SEK",{"$f":"VLOOKUP(B382,Import!A$1:B$20000,2,FALSE)","v":{"$error":"#N/A"}},"EJ_GRANSKN",{"$f":"VLOOKUP(S382,Import!A$1:B$20000,2,FALSE)","v":{"$error":"#N/A"}},"32211_S_L_SEK_TOT_I_M_X_H1_VALFRI_SEK",1000,null,"30673_D381_cmb190_",{"$f":"VLOOKUP(B382,Import!E$1:F$20000,2,FALSE)","v":{"$error":"#N/A"}}]
[{"$f":"IF(ISBLANK(Inm_30673_D382_cmb189_),\"\",$T$383 * Inm_30673_D382_cmb189_)","v":""},"30673_D382_cmb189_","Handel i sven, Lång , Inflöde","VP203'!Inm_30673_D382_cmb189_","32211","S","L","SEK","TOT","I","M","X","H1",{"$f":"VLOOKUP('VP203'!$B$192,FlexDimensioner!$C$1:$D$430,2,FALSE)","v":"VALFRI"},"SEK",{"$f":"VLOOKUP(B383,Import!A$1:B$20000,2,FALSE)","v":{"$error":"#N/A"}},"EJ_GRANSKN",{"$f":"VLOOKUP(S383,Import!A$1:B$20000,2,FALSE)","v":{"$error":"#N/A"}},"32211_S_L_SEK_TOT_I_M_X_H1_VALFRI_SEK",1000,null,"30673_D382_cmb189_",{"$f":"VLOOKUP(B383,Import!E$1:F$20000,2,FALSE)","v":{"$error":"#N/A"}}]
[{"$f":"IF(ISBLANK(Inm_30673_D383_cmb188_),\"\",$T$384 * Inm_30673_D383_cmb188_)","v":""},"30673_D383_cmb188_","Handel i sven, Lång , Inflöde","VP203'!Inm_30673_D383_cmb188_","32211","S","L","SEK","TOT","I","M","X","H1",{"$f":"VLOOKUP('VP203'!$B$191,FlexDimensioner!$C$1:$D$430,2,FALSE)","v":"VALFRI"},"SEK",{"$f":"VLOOKUP(B384,Import!A$1:B$20000,2,FALSE)","v":{"$error":"#N/A"}},"EJ_GRANSKN",{"$f":"VLOOKUP(S384,Import!A$1:B$20000,2,FALSE)","v":{"$error":"#N/A"}},"32211_S_L_SEK_TOT_I_M_X_H1_VALFRI_SEK",1000,null,"30673_D383_cmb188_",{"$f":"VLOOKUP(B384,Import!E$1:F$20000,2,FALSE)","v":{"$error":"#N/A"}}]
[{"$f":"IF(ISBLANK(Inm_30673_D384_cmb187_),\"\",$T$385 * Inm_30673_D384_cmb187_)","v":""},"30673_D384_cmb187_","Handel i sven, Lång , Inflöde","VP203'!Inm_30673_D384_cmb187_","32211","S","L","SEK","TOT","I","M","X","H1",{"$f":"VLOOKUP('VP203'!$B$190,FlexDimensioner!$C$1:$D$430,2,FALSE)","v":"VALFRI"},"SEK",{"$f":"VLOOKUP(B385,Import!A$1:B$20000,2,FALSE)","v":{"$error":"#N/A"}},"EJ_GRANSKN",{"$f":"VLOOKUP(S385,Import!A$1:B$20000,2,FALSE)","v":{"$error":"#N/A"}},{"$f":"CONCATENATE(E385,\"_\",F385,\"_\",G385,\"_\",H385,\"_\",I385,\"_\",J385,\"_\",K385,\"_\",L385,\"_\",M385,\"_\",N385,\"_\",O385)","v":"32211_S_L_SEK_TOT_I_M_X_H1_VALFRI_SEK"},1000,null,"30673_D384_cmb187_",{"$f":"VLOOKUP(B385,Import!E$1:F$20000,2,FALSE)","v":{"$error":"#N/A"}}]
[{"$f":"IF(ISBLANK(Inm_30673_D385_cmb186_),\"\",$T$386 * Inm_30673_D385_cmb186_)","v":""},"30673_D385_cmb186_","Handel i sven, Lång , Inflöde","VP203'!Inm_30673_D385_cmb186_","32211","S","L","SEK","TOT","I","M","X","H1",{"$f":"VLOOKUP('VP203'!$B$189,FlexDimensioner!$C$1:$D$430,2,FALSE)","v":"VALFRI"},"SEK",{"$f":"VLOOKUP(B386,Import!A$1:B$20000,2,FALSE)","v":{"$error":"#N/A"}},"EJ_GRANSKN",{"$f":"VLOOKUP(S386,Import!A$1:B$20000,2,FALSE)","v":{"$error":"#N/A"}},"32211_S_L_SEK_TOT_I_M_X_H1_VALFRI_SEK",1000,null,"30673_D385_cmb186_",{"$f":"VLOOKUP(B386,Import!E$1:F$20000,2,FALSE)","v":{"$error":"#N/A"}}]
[{"$f":"IF(ISBLANK(Inm_30673_D386_cmb185_),\"\",$T$387 * Inm_30673_D386_cmb185_)","v":""},"30673_D386_cmb185_","Handel i sven, Lång , Inflöde","VP203'!Inm_30673_D386_cmb185_","32211","S","L","SEK","TOT","I","M","X","H1",{"$f":"VLOOKUP('VP203'!$B$188,FlexDimensioner!$C$1:$D$430,2,FALSE)","v":"VALFRI"},"SEK",{"$f":"VLOOKUP(B387,Import!A$1:B$20000,2,FALSE)","v":{"$error":"#N/A"}},"EJ_GRANSKN",{"$f":"VLOOKUP(S387,Import!A$1:B$20000,2,FALSE)","v":{"$error":"#N/A"}},"32211_S_L_SEK_TOT_I_M_X_H1_VALFRI_SEK",1000,null,"30673_D386_cmb185_",{"$f":"VLOOKUP(B387,Import!E$1:F$20000,2,FALSE)","v":{"$error":"#N/A"}}]
[{"$f":"IF(ISBLANK(Inm_30673_D387_cmb184_),\"\",$T$388 * Inm_30673_D387_cmb184_)","v":""},"30673_D387_cmb184_","Handel i sven, Lång , Inflöde","VP203'!Inm_30673_D387_cmb184_","32211","S","L","SEK","TOT","I","M","X","H1",{"$f":"VLOOKUP('VP203'!$B$187,FlexDimensioner!$C$1:$D$430,2,FALSE)","v":"VALFRI"},"SEK",{"$f":"VLOOKUP(B388,Import!A$1:B$20000,2,FALSE)","v":{"$error":"#N/A"}},"EJ_GRANSKN",{"$f":"VLOOKUP(S388,Import!A$1:B$20000,2,FALSE)","v":{"$error":"#N/A"}},"32211_S_L_SEK_TOT_I_M_X_H1_VALFRI_SEK",1000,null,"30673_D387_cmb184_",{"$f":"VLOOKUP(B388,Import!E$1:F$20000,2,FALSE)","v":{"$error":"#N/A"}}]
[{"$f":"IF(ISBLANK(Inm_30673_D388_cmb183_),\"\",$T$389 * Inm_30673_D388_cmb183_)","v":""},"30673_D388_cmb183_","Handel i sven, Lång , Inflöde","VP203'!Inm_30673_D388_cmb183_","32211","S","L","SEK","TOT","I","M","X","H1",{"$f":"VLOOKUP('VP203'!$B$186,FlexDimensioner!$C$1:$D$430,2,FALSE)","v":"VALFRI"},"SEK",{"$f":"VLOOKUP(B389,Import!A$1:B$20000,2,FALSE)","v":{"$error":"#N/A"}},"EJ_GRANSKN",{"$f":"VLOOKUP(S389,Import!A$1:B$20000,2,FALSE)","v":{"$error":"#N/A"}},"32211_S_L_SEK_TOT_I_M_X_H1_VALFRI_SEK",1000,null,"30673_D388_cmb183_",{"$f":"VLOOKUP(B389,Import!E$1:F$20000,2,FALSE)","v":{"$error":"#N/A"}}]
[{"$f":"IF(ISBLANK(Inm_30673_D389_cmb182_),\"\",$T$390 * Inm_30673_D389_cmb182_)","v":""},"30673_D389_cmb182_","Handel i sven, Lång , Inflöde","VP203'!Inm_30673_D389_cmb182_","32211","S","L","SEK","TOT","I","M","X","H1",{"$f":"VLOOKUP('VP203'!$B$185,FlexDimensioner!$C$1:$D$430,2,FALSE)","v":"VALFRI"},"SEK",{"$f":"VLOOKUP(B390,Import!A$1:B$20000,2,FALSE)","v":{"$error":"#N/A"}},"EJ_GRANSKN",{"$f":"VLOOKUP(S390,Import!A$1:B$20000,2,FALSE)","v":{"$error":"#N/A"}},"32211_S_L_SEK_TOT_I_M_X_H1_VALFRI_SEK",1000,null,"30673_D389_cmb182_",{"$f":"VLOOKUP(B390,Import!E$1:F$20000,2,FALSE)","v":{"$error":"#N/A"}}]
[{"$f":"IF(ISBLANK(Inm_30673_D390_cmb181_),\"\",$T$391 * Inm_30673_D390_cmb181_)","v":""},"30673_D390_cmb181_","Handel i sven, Lång , Inflöde","VP203'!Inm_30673_D390_cmb181_","32211","S","L","SEK","TOT","I","M","X","H1",{"$f":"VLOOKUP('VP203'!$B$184,FlexDimensioner!$C$1:$D$430,2,FALSE)","v":"VALFRI"},"SEK",{"$f":"VLOOKUP(B391,Import!A$1:B$20000,2,FALSE)","v":{"$error":"#N/A"}},"EJ_GRANSKN",{"$f":"VLOOKUP(S391,Import!A$1:B$20000,2,FALSE)","v":{"$error":"#N/A"}},"32211_S_L_SEK_TOT_I_M_X_H1_VALFRI_SEK",1000,null,"30673_D390_cmb181_",{"$f":"VLOOKUP(B391,Import!E$1:F$20000,2,FALSE)","v":{"$error":"#N/A"}}]
[{"$f":"IF(ISBLANK(Inm_30673_D391_cmb180_),\"\",$T$392 * Inm_30673_D391_cmb180_)","v":""},"30673_D391_cmb180_","Handel i sven, Lång , Inflöde","VP203'!Inm_30673_D391_cmb180_","32211","S","L","SEK","TOT","I","M","X","H1",{"$f":"VLOOKUP('VP203'!$B$183,FlexDimensioner!$C$1:$D$430,2,FALSE)","v":"VALFRI"},"SEK",{"$f":"VLOOKUP(B392,Import!A$1:B$20000,2,FALSE)","v":{"$error":"#N/A"}},"EJ_GRANSKN",{"$f":"VLOOKUP(S392,Import!A$1:B$20000,2,FALSE)","v":{"$error":"#N/A"}},"32211_S_L_SEK_TOT_I_M_X_H1_VALFRI_SEK",1000,null,"30673_D391_cmb180_",{"$f":"VLOOKUP(B392,Import!E$1:F$20000,2,FALSE)","v":{"$error":"#N/A"}}]
[{"$f":"IF(ISBLANK(Inm_30673_D392_cmb179_),\"\",$T$393 * Inm_30673_D392_cmb179_)","v":""},"30673_D392_cmb179_","Handel i sven, Lång , Inflöde","VP203'!Inm_30673_D392_cmb179_","32211","S","L","SEK","TOT","I","M","X","H1",{"$f":"VLOOKUP('VP203'!$B$182,FlexDimensioner!$C$1:$D$430,2,FALSE)","v":"VALFRI"},"SEK",{"$f":"VLOOKUP(B393,Import!A$1:B$20000,2,FALSE)","v":{"$error":"#N/A"}},"EJ_GRANSKN",{"$f":"VLOOKUP(S393,Import!A$1:B$20000,2,FALSE)","v":{"$error":"#N/A"}},"32211_S_L_SEK_TOT_I_M_X_H1_VALFRI_SEK",1000,null,"30673_D392_cmb179_",{"$f":"VLOOKUP(B393,Import!E$1:F$20000,2,FALSE)","v":{"$error":"#N/A"}}]
[{"$f":"IF(ISBLANK(Inm_30673_D393_cmb178_),\"\",$T$394 * Inm_30673_D393_cmb178_)","v":""},"30673_D393_cmb178_","Handel i sven, Lång , Inflöde","VP203'!Inm_30673_D393_cmb178_","32211","S","L","SEK","TOT","I","M","X","H1",{"$f":"VLOOKUP('VP203'!$B$181,FlexDimensioner!$C$1:$D$430,2,FALSE)","v":"VALFRI"},"SEK",{"$f":"VLOOKUP(B394,Import!A$1:B$20000,2,FALSE)","v":{"$error":"#N/A"}},"EJ_GRANSKN",{"$f":"VLOOKUP(S394,Import!A$1:B$20000,2,FALSE)","v":{"$error":"#N/A"}},"32211_S_L_SEK_TOT_I_M_X_H1_VALFRI_SEK",1000,null,"30673_D393_cmb178_",{"$f":"VLOOKUP(B394,Import!E$1:F$20000,2,FALSE)","v":{"$error":"#N/A"}}]
[{"$f":"IF(ISBLANK(Inm_30673_D394_cmb177_),\"\",$T$395 * Inm_30673_D394_cmb177_)","v":""},"30673_D394_cmb177_","Handel i sven, Lång , Inflöde","VP203'!Inm_30673_D394_cmb177_","32211","S","L","SEK","TOT","I","M","X","H1",{"$f":"VLOOKUP('VP203'!$B$180,FlexDimensioner!$C$1:$D$430,2,FALSE)","v":"VALFRI"},"SEK",{"$f":"VLOOKUP(B395,Import!A$1:B$20000,2,FALSE)","v":{"$error":"#N/A"}},"EJ_GRANSKN",{"$f":"VLOOKUP(S395,Import!A$1:B$20000,2,FALSE)","v":{"$error":"#N/A"}},"32211_S_L_SEK_TOT_I_M_X_H1_VALFRI_SEK",1000,null,"30673_D394_cmb177_",{"$f":"VLOOKUP(B395,Import!E$1:F$20000,2,FALSE)","v":{"$error":"#N/A"}}]
[{"$f":"IF(ISBLANK(Inm_30673_D395_cmb176_),\"\",$T$396 * Inm_30673_D395_cmb176_)","v":""},"30673_D395_cmb176_","Handel i sven, Lång , Inflöde","VP203'!Inm_30673_D395_cmb176_","32211","S","L","SEK","TOT","I","M","X","H1",{"$f":"VLOOKUP('VP203'!$B$179,FlexDimensioner!$C$1:$D$430,2,FALSE)","v":"VALFRI"},"SEK",{"$f":"VLOOKUP(B396,Import!A$1:B$20000,2,FALSE)","v":{"$error":"#N/A"}},"EJ_GRANSKN",{"$f":"VLOOKUP(S396,Import!A$1:B$20000,2,FALSE)","v":{"$error":"#N/A"}},"32211_S_L_SEK_TOT_I_M_X_H1_VALFRI_SEK",1000,null,"30673_D395_cmb176_",{"$f":"VLOOKUP(B396,Import!E$1:F$20000,2,FALSE)","v":{"$error":"#N/A"}}]
[{"$f":"IF(ISBLANK(Inm_30673_D396_cmb175_),\"\",$T$397 * Inm_30673_D396_cmb175_)","v":""},"30673_D396_cmb175_","Handel i sven, Lång , Inflöde","VP203'!Inm_30673_D396_cmb175_","32211","S","L","SEK","TOT","I","M","X","H1",{"$f":"VLOOKUP('VP203'!$B$178,FlexDimensioner!$C$1:$D$430,2,FALSE)","v":"VALFRI"},"SEK",{"$f":"VLOOKUP(B397,Import!A$1:B$20000,2,FALSE)","v":{"$error":"#N/A"}},"EJ_GRANSKN",{"$f":"VLOOKUP(S397,Import!A$1:B$20000,2,FALSE)","v":{"$error":"#N/A"}},"32211_S_L_SEK_TOT_I_M_X_H1_VALFRI_SEK",1000,null,"30673_D396_cmb175_",{"$f":"VLOOKUP(B397,Import!E$1:F$20000,2,FALSE)","v":{"$error":"#N/A"}}]
[{"$f":"IF(ISBLANK(Inm_30673_D397_cmb174_),\"\",$T$398 * Inm_30673_D397_cmb174_)","v":""},"30673_D397_cmb174_","Handel i sven, Lång , Inflöde","VP203'!Inm_30673_D397_cmb174_","32211","S","L","SEK","TOT","I","M","X","H1",{"$f":"VLOOKUP('VP203'!$B$177,FlexDimensioner!$C$1:$D$430,2,FALSE)","v":"VALFRI"},"SEK",{"$f":"VLOOKUP(B398,Import!A$1:B$20000,2,FALSE)","v":{"$error":"#N/A"}},"EJ_GRANSKN",{"$f":"VLOOKUP(S398,Import!A$1:B$20000,2,FALSE)","v":{"$error":"#N/A"}},"32211_S_L_SEK_TOT_I_M_X_H1_VALFRI_SEK",1000,null,"30673_D397_cmb174_",{"$f":"VLOOKUP(B398,Import!E$1:F$20000,2,FALSE)","v":{"$error":"#N/A"}}]
[{"$f":"IF(ISBLANK(Inm_30673_D398_cmb173_),\"\",$T$399 * Inm_30673_D398_cmb173_)","v":""},"30673_D398_cmb173_","Handel i sven, Lång , Inflöde","VP203'!Inm_30673_D398_cmb173_","32211","S","L","SEK","TOT","I","M","X","H1",{"$f":"VLOOKUP('VP203'!$B$176,FlexDimensioner!$C$1:$D$430,2,FALSE)","v":"VALFRI"},"SEK",{"$f":"VLOOKUP(B399,Import!A$1:B$20000,2,FALSE)","v":{"$error":"#N/A"}},"EJ_GRANSKN",{"$f":"VLOOKUP(S399,Import!A$1:B$20000,2,FALSE)","v":{"$error":"#N/A"}},"32211_S_L_SEK_TOT_I_M_X_H1_VALFRI_SEK",1000,null,"30673_D398_cmb173_",{"$f":"VLOOKUP(B399,Import!E$1:F$20000,2,FALSE)","v":{"$error":"#N/A"}}]
[{"$f":"IF(ISBLANK(Inm_30673_D399_cmb172_),\"\",$T$400 * Inm_30673_D399_cmb172_)","v":""},"30673_D399_cmb172_","Handel i sven, Lång , Inflöde","VP203'!Inm_30673_D399_cmb172_","32211","S","L","SEK","TOT","I","M","X","H1",{"$f":"VLOOKUP('VP203'!$B$175,FlexDimensioner!$C$1:$D$430,2,FALSE)","v":"VALFRI"},"SEK",{"$f":"VLOOKUP(B400,Import!A$1:B$20000,2,FALSE)","v":{"$error":"#N/A"}},"EJ_GRANSKN",{"$f":"VLOOKUP(S400,Import!A$1:B$20000,2,FALSE)","v":{"$error":"#N/A"}},"32211_S_L_SEK_TOT_I_M_X_H1_VALFRI_SEK",1000,null,"30673_D399_cmb172_",{"$f":"VLOOKUP(B400,Import!E$1:F$20000,2,FALSE)","v":{"$error":"#N/A"}}]
[{"$f":"IF(ISBLANK(Inm_30673_D400_cmb171_),\"\",$T$401 * Inm_30673_D400_cmb171_)","v":""},"30673_D400_cmb171_","Handel i sven, Lång , Inflöde","VP203'!Inm_30673_D400_cmb171_","32211","S","L","SEK","TOT","I","M","X","H1",{"$f":"VLOOKUP('VP203'!$B$174,FlexDimensioner!$C$1:$D$430,2,FALSE)","v":"VALFRI"},"SEK",{"$f":"VLOOKUP(B401,Import!A$1:B$20000,2,FALSE)","v":{"$error":"#N/A"}},"EJ_GRANSKN",{"$f":"VLOOKUP(S401,Import!A$1:B$20000,2,FALSE)","v":{"$error":"#N/A"}},"32211_S_L_SEK_TOT_I_M_X_H1_VALFRI_SEK",1000,null,"30673_D400_cmb171_",{"$f":"VLOOKUP(B401,Import!E$1:F$20000,2,FALSE)","v":{"$error":"#N/A"}}]
[{"$f":"IF(ISBLANK(Inm_30673_D401_cmb170_),\"\",$T$402 * Inm_30673_D401_cmb170_)","v":""},"30673_D401_cmb170_","Handel i sven, Lång , Inflöde","VP203'!Inm_30673_D401_cmb170_","32211","S","L","SEK","TOT","I","M","X","H1",{"$f":"VLOOKUP('VP203'!$B$173,FlexDimensioner!$C$1:$D$430,2,FALSE)","v":"VALFRI"},"SEK",{"$f":"VLOOKUP(B402,Import!A$1:B$20000,2,FALSE)","v":{"$error":"#N/A"}},"EJ_GRANSKN",{"$f":"VLOOKUP(S402,Import!A$1:B$20000,2,FALSE)","v":{"$error":"#N/A"}},"32211_S_L_SEK_TOT_I_M_X_H1_VALFRI_SEK",1000,null,"30673_D401_cmb170_",{"$f":"VLOOKUP(B402,Import!E$1:F$20000,2,FALSE)","v":{"$error":"#N/A"}}]
[{"$f":"IF(ISBLANK(Inm_30673_D402_cmb169_),\"\",$T$403 * Inm_30673_D402_cmb169_)","v":""},"30673_D402_cmb169_","Handel i sven, Lång , Inflöde","VP203'!Inm_30673_D402_cmb169_","32211","S","L","SEK","TOT","I","M","X","H1",{"$f":"VLOOKUP('VP203'!$B$172,FlexDimensioner!$C$1:$D$430,2,FALSE)","v":"VALFRI"},"SEK",{"$f":"VLOOKUP(B403,Import!A$1:B$20000,2,FALSE)","v":{"$error":"#N/A"}},"EJ_GRANSKN",{"$f":"VLOOKUP(S403,Import!A$1:B$20000,2,FALSE)","v":{"$error":"#N/A"}},"32211_S_L_SEK_TOT_I_M_X_H1_VALFRI_SEK",1000,null,"30673_D402_cmb169_",{"$f":"VLOOKUP(B403,Import!E$1:F$20000,2,FALSE)","v":{"$error":"#N/A"}}]
[{"$f":"IF(ISBLANK(Inm_30673_D403_cmb168_),\"\",$T$404 * Inm_30673_D403_cmb168_)","v":""},"30673_D403_cmb168_","Handel i sven, Lång , Inflöde","VP203'!Inm_30673_D403_cmb168_","32211","S","L","SEK","TOT","I","M","X","H1",{"$f":"VLOOKUP('VP203'!$B$171,FlexDimensioner!$C$1:$D$430,2,FALSE)","v":"VALFRI"},"SEK",{"$f":"VLOOKUP(B404,Import!A$1:B$20000,2,FALSE)","v":{"$error":"#N/A"}},"EJ_GRANSKN",{"$f":"VLOOKUP(S404,Import!A$1:B$20000,2,FALSE)","v":{"$error":"#N/A"}},"32211_S_L_SEK_TOT_I_M_X_H1_VALFRI_SEK",1000,null,"30673_D403_cmb168_",{"$f":"VLOOKUP(B404,Import!E$1:F$20000,2,FALSE)","v":{"$error":"#N/A"}}]
[{"$f":"IF(ISBLANK(Inm_30673_D404_cmb167_),\"\",$T$405 * Inm_30673_D404_cmb167_)","v":""},"30673_D404_cmb167_","Handel i sven, Lång , Inflöde","VP203'!Inm_30673_D404_cmb167_","32211","S","L","SEK","TOT","I","M","X","H1",{"$f":"VLOOKUP('VP203'!$B$170,FlexDimensioner!$C$1:$D$430,2,FALSE)","v":"VALFRI"},"SEK",{"$f":"VLOOKUP(B405,Import!A$1:B$20000,2,FALSE)","v":{"$error":"#N/A"}},"EJ_GRANSKN",{"$f":"VLOOKUP(S405,Import!A$1:B$20000,2,FALSE)","v":{"$error":"#N/A"}},"32211_S_L_SEK_TOT_I_M_X_H1_VALFRI_SEK",1000,null,"30673_D404_cmb167_",{"$f":"VLOOKUP(B405,Import!E$1:F$20000,2,FALSE)","v":{"$error":"#N/A"}}]
[{"$f":"IF(ISBLANK(Inm_30673_D405_cmb166_),\"\",$T$406 * Inm_30673_D405_cmb166_)","v":""},"30673_D405_cmb166_","Handel i sven, Lång , Inflöde","VP203'!Inm_30673_D405_cmb166_","32211","S","L","SEK","TOT","I","M","X","H1",{"$f":"VLOOKUP('VP203'!$B$169,FlexDimensioner!$C$1:$D$430,2,FALSE)","v":"VALFRI"},"SEK",{"$f":"VLOOKUP(B406,Import!A$1:B$20000,2,FALSE)","v":{"$error":"#N/A"}},"EJ_GRANSKN",{"$f":"VLOOKUP(S406,Import!A$1:B$20000,2,FALSE)","v":{"$error":"#N/A"}},"32211_S_L_SEK_TOT_I_M_X_H1_VALFRI_SEK",1000,null,"30673_D405_cmb166_",{"$f":"VLOOKUP(B406,Import!E$1:F$20000,2,FALSE)","v":{"$error":"#N/A"}}]
[{"$f":"IF(ISBLANK(Inm_30673_D406_cmb165_),\"\",$T$407 * Inm_30673_D406_cmb165_)","v":""},"30673_D406_cmb165_","Handel i sven, Lång , Inflöde","VP203'!Inm_30673_D406_cmb165_","32211","S","L","SEK","TOT","I","M","X","H1",{"$f":"VLOOKUP('VP203'!$B$168,FlexDimensioner!$C$1:$D$430,2,FALSE)","v":"VALFRI"},"SEK",{"$f":"VLOOKUP(B407,Import!A$1:B$20000,2,FALSE)","v":{"$error":"#N/A"}},"EJ_GRANSKN",{"$f":"VLOOKUP(S407,Import!A$1:B$20000,2,FALSE)","v":{"$error":"#N/A"}},"32211_S_L_SEK_TOT_I_M_X_H1_VALFRI_SEK",1000,null,"30673_D406_cmb165_",{"$f":"VLOOKUP(B407,Import!E$1:F$20000,2,FALSE)","v":{"$error":"#N/A"}}]
[{"$f":"IF(ISBLANK(Inm_30673_D407_cmb164_),\"\",$T$408 * Inm_30673_D407_cmb164_)","v":""},"30673_D407_cmb164_","Handel i sven, Lång , Inflöde","VP203'!Inm_30673_D407_cmb164_","32211","S","L","SEK","TOT","I","M","X","H1",{"$f":"VLOOKUP('VP203'!$B$167,FlexDimensioner!$C$1:$D$430,2,FALSE)","v":"VALFRI"},"SEK",{"$f":"VLOOKUP(B408,Import!A$1:B$20000,2,FALSE)","v":{"$error":"#N/A"}},"EJ_GRANSKN",{"$f":"VLOOKUP(S408,Import!A$1:B$20000,2,FALSE)","v":{"$error":"#N/A"}},"32211_S_L_SEK_TOT_I_M_X_H1_VALFRI_SEK",1000,null,"30673_D407_cmb164_",{"$f":"VLOOKUP(B408,Import!E$1:F$20000,2,FALSE)","v":{"$error":"#N/A"}}]
[{"$f":"IF(ISBLANK(Inm_30673_D408_cmb163_),\"\",$T$409 * Inm_30673_D408_cmb163_)","v":""},"30673_D408_cmb163_","Handel i sven, Lång , Inflöde","VP203'!Inm_30673_D408_cmb163_","32211","S","L","SEK","TOT","I","M","X","H1",{"$f":"VLOOKUP('VP203'!$B$166,FlexDimensioner!$C$1:$D$430,2,FALSE)","v":"VALFRI"},"SEK",{"$f":"VLOOKUP(B409,Import!A$1:B$20000,2,FALSE)","v":{"$error":"#N/A"}},"EJ_GRANSKN",{"$f":"VLOOKUP(S409,Import!A$1:B$20000,2,FALSE)","v":{"$error":"#N/A"}},"32211_S_L_SEK_TOT_I_M_X_H1_VALFRI_SEK",1000,null,"30673_D408_cmb163_",{"$f":"VLOOKUP(B409,Import!E$1:F$20000,2,FALSE)","v":{"$error":"#N/A"}}]
[{"$f":"IF(ISBLANK(Inm_30673_D409_cmb162_),\"\",$T$410 * Inm_30673_D409_cmb162_)","v":""},"30673_D409_cmb162_","Handel i sven, Lång , Inflöde","VP203'!Inm_30673_D409_cmb162_","32211","S","L","SEK","TOT","I","M","X","H1",{"$f":"VLOOKUP('VP203'!$B$165,FlexDimensioner!$C$1:$D$430,2,FALSE)","v":"VALFRI"},"SEK",{"$f":"VLOOKUP(B410,Import!A$1:B$20000,2,FALSE)","v":{"$error":"#N/A"}},"EJ_GRANSKN",{"$f":"VLOOKUP(S410,Import!A$1:B$20000,2,FALSE)","v":{"$error":"#N/A"}},"32211_S_L_SEK_TOT_I_M_X_H1_VALFRI_SEK",1000,null,"30673_D409_cmb162_",{"$f":"VLOOKUP(B410,Import!E$1:F$20000,2,FALSE)","v":{"$error":"#N/A"}}]
[{"$f":"IF(ISBLANK(Inm_30673_D410_cmb161_),\"\",$T$411 * Inm_30673_D410_cmb161_)","v":""},"30673_D410_cmb161_","Handel i sven, Lång , Inflöde","VP203'!Inm_30673_D410_cmb161_","32211","S","L","SEK","TOT","I","M","X","H1",{"$f":"VLOOKUP('VP203'!$B$164,FlexDimensioner!$C$1:$D$430,2,FALSE)","v":"VALFRI"},"SEK",{"$f":"VLOOKUP(B411,Import!A$1:B$20000,2,FALSE)","v":{"$error":"#N/A"}},"EJ_GRANSKN",{"$f":"VLOOKUP(S411,Import!A$1:B$20000,2,FALSE)","v":{"$error":"#N/A"}},"32211_S_L_SEK_TOT_I_M_X_H1_VALFRI_SEK",1000,null,"30673_D410_cmb161_",{"$f":"VLOOKUP(B411,Import!E$1:F$20000,2,FALSE)","v":{"$error":"#N/A"}}]
[{"$f":"IF(ISBLANK(Inm_30673_D411_cmb160_),\"\",$T$412 * Inm_30673_D411_cmb160_)","v":""},"30673_D411_cmb160_","Handel i sven, Lång , Inflöde","VP203'!Inm_30673_D411_cmb160_","32211","S","L","SEK","TOT","I","M","X","H1",{"$f":"VLOOKUP('VP203'!$B$163,FlexDimensioner!$C$1:$D$430,2,FALSE)","v":"VALFRI"},"SEK",{"$f":"VLOOKUP(B412,Import!A$1:B$20000,2,FALSE)","v":{"$error":"#N/A"}},"EJ_GRANSKN",{"$f":"VLOOKUP(S412,Import!A$1:B$20000,2,FALSE)","v":{"$error":"#N/A"}},"32211_S_L_SEK_TOT_I_M_X_H1_VALFRI_SEK",1000,null,"30673_D411_cmb160_",{"$f":"VLOOKUP(B412,Import!E$1:F$20000,2,FALSE)","v":{"$error":"#N/A"}}]
[{"$f":"IF(ISBLANK(Inm_30673_D412_cmb159_),\"\",$T$413 * Inm_30673_D412_cmb159_)","v":""},"30673_D412_cmb159_","Handel i sven, Lång , Inflöde","VP203'!Inm_30673_D412_cmb159_","32211","S","L","SEK","TOT","I","M","X","H1",{"$f":"VLOOKUP('VP203'!$B$162,FlexDimensioner!$C$1:$D$430,2,FALSE)","v":"VALFRI"},"SEK",{"$f":"VLOOKUP(B413,Import!A$1:B$20000,2,FALSE)","v":{"$error":"#N/A"}},"EJ_GRANSKN",{"$f":"VLOOKUP(S413,Import!A$1:B$20000,2,FALSE)","v":{"$error":"#N/A"}},"32211_S_L_SEK_TOT_I_M_X_H1_VALFRI_SEK",1000,null,"30673_D412_cmb159_",{"$f":"VLOOKUP(B413,Import!E$1:F$20000,2,FALSE)","v":{"$error":"#N/A"}}]
[{"$f":"IF(ISBLANK(Inm_30673_D413_cmb158_),\"\",$T$414 * Inm_30673_D413_cmb158_)","v":""},"30673_D413_cmb158_","Handel i sven, Lång , Inflöde","VP203'!Inm_30673_D413_cmb158_","32211","S","L","SEK","TOT","I","M","X","H1",{"$f":"VLOOKUP('VP203'!$B$161,FlexDimensioner!$C$1:$D$430,2,FALSE)","v":"VALFRI"},"SEK",{"$f":"VLOOKUP(B414,Import!A$1:B$20000,2,FALSE)","v":{"$error":"#N/A"}},"EJ_GRANSKN",{"$f":"VLOOKUP(S414,Import!A$1:B$20000,2,FALSE)","v":{"$error":"#N/A"}},"32211_S_L_SEK_TOT_I_M_X_H1_VALFRI_SEK",1000,null,"30673_D413_cmb158_",{"$f":"VLOOKUP(B414,Import!E$1:F$20000,2,FALSE)","v":{"$error":"#N/A"}}]
[{"$f":"IF(ISBLANK(Inm_30673_D414_cmb157_),\"\",$T$415 * Inm_30673_D414_cmb157_)","v":""},"30673_D414_cmb157_","Handel i sven, Lång , Inflöde","VP203'!Inm_30673_D414_cmb157_","32211","S","L","SEK","TOT","I","M","X","H1",{"$f":"VLOOKUP('VP203'!$B$160,FlexDimensioner!$C$1:$D$430,2,FALSE)","v":"VALFRI"},"SEK",{"$f":"VLOOKUP(B415,Import!A$1:B$20000,2,FALSE)","v":{"$error":"#N/A"}},"EJ_GRANSKN",{"$f":"VLOOKUP(S415,Import!A$1:B$20000,2,FALSE)","v":{"$error":"#N/A"}},"32211_S_L_SEK_TOT_I_M_X_H1_VALFRI_SEK",1000,null,"30673_D414_cmb157_",{"$f":"VLOOKUP(B415,Import!E$1:F$20000,2,FALSE)","v":{"$error":"#N/A"}}]
[{"$f":"IF(ISBLANK(Inm_30673_D415_cmb156_),\"\",$T$416 * Inm_30673_D415_cmb156_)","v":""},"30673_D415_cmb156_","Handel i sven, Lång , Inflöde","VP203'!Inm_30673_D415_cmb156_","32211","S","L","SEK","TOT","I","M","X","H1",{"$f":"VLOOKUP('VP203'!$B$159,FlexDimensioner!$C$1:$D$430,2,FALSE)","v":"VALFRI"},"SEK",{"$f":"VLOOKUP(B416,Import!A$1:B$20000,2,FALSE)","v":{"$error":"#N/A"}},"EJ_GRANSKN",{"$f":"VLOOKUP(S416,Import!A$1:B$20000,2,FALSE)","v":{"$error":"#N/A"}},"32211_S_L_SEK_TOT_I_M_X_H1_VALFRI_SEK",1000,null,"30673_D415_cmb156_",{"$f":"VLOOKUP(B416,Import!E$1:F$20000,2,FALSE)","v":{"$error":"#N/A"}}]
[{"$f":"IF(ISBLANK(Inm_30673_D416_cmb155_),\"\",$T$417 * Inm_30673_D416_cmb155_)","v":""},"30673_D416_cmb155_","Handel i sven, Lång , Inflöde","VP203'!Inm_30673_D416_cmb155_","32211","S","L","SEK","TOT","I","M","X","H1",{"$f":"VLOOKUP('VP203'!$B$158,FlexDimensioner!$C$1:$D$430,2,FALSE)","v":"VALFRI"},"SEK",{"$f":"VLOOKUP(B417,Import!A$1:B$20000,2,FALSE)","v":{"$error":"#N/A"}},"EJ_GRANSKN",{"$f":"VLOOKUP(S417,Import!A$1:B$20000,2,FALSE)","v":{"$error":"#N/A"}},"32211_S_L_SEK_TOT_I_M_X_H1_VALFRI_SEK",1000,null,"30673_D416_cmb155_",{"$f":"VLOOKUP(B417,Import!E$1:F$20000,2,FALSE)","v":{"$error":"#N/A"}}]
[{"$f":"IF(ISBLANK(Inm_30673_D417_cmb154_),\"\",$T$418 * Inm_30673_D417_cmb154_)","v":""},"30673_D417_cmb154_","Handel i sven, Lång , Inflöde","VP203'!Inm_30673_D417_cmb154_","32211","S","L","SEK","TOT","I","M","X","H1",{"$f":"VLOOKUP('VP203'!$B$157,FlexDimensioner!$C$1:$D$430,2,FALSE)","v":"VALFRI"},"SEK",{"$f":"VLOOKUP(B418,Import!A$1:B$20000,2,FALSE)","v":{"$error":"#N/A"}},"EJ_GRANSKN",{"$f":"VLOOKUP(S418,Import!A$1:B$20000,2,FALSE)","v":{"$error":"#N/A"}},"32211_S_L_SEK_TOT_I_M_X_H1_VALFRI_SEK",1000,null,"30673_D417_cmb154_",{"$f":"VLOOKUP(B418,Import!E$1:F$20000,2,FALSE)","v":{"$error":"#N/A"}}]
[{"$f":"IF(ISBLANK(Inm_30673_D418_cmb153_),\"\",$T$419 * Inm_30673_D418_cmb153_)","v":""},"30673_D418_cmb153_","Handel i sven, Lång , Inflöde","VP203'!Inm_30673_D418_cmb153_","32211","S","L","SEK","TOT","I","M","X","H1",{"$f":"VLOOKUP('VP203'!$B$156,FlexDimensioner!$C$1:$D$430,2,FALSE)","v":"VALFRI"},"SEK",{"$f":"VLOOKUP(B419,Import!A$1:B$20000,2,FALSE)","v":{"$error":"#N/A"}},"EJ_GRANSKN",{"$f":"VLOOKUP(S419,Import!A$1:B$20000,2,FALSE)","v":{"$error":"#N/A"}},"32211_S_L_SEK_TOT_I_M_X_H1_VALFRI_SEK",1000,null,"30673_D418_cmb153_",{"$f":"VLOOKUP(B419,Import!E$1:F$20000,2,FALSE)","v":{"$error":"#N/A"}}]
[{"$f":"IF(ISBLANK(Inm_30673_D419_cmb152_),\"\",$T$420 * Inm_30673_D419_cmb152_)","v":""},"30673_D419_cmb152_","Handel i sven, Lång , Inflöde","VP203'!Inm_30673_D419_cmb152_","32211","S","L","SEK","TOT","I","M","X","H1",{"$f":"VLOOKUP('VP203'!$B$155,FlexDimensioner!$C$1:$D$430,2,FALSE)","v":"VALFRI"},"SEK",{"$f":"VLOOKUP(B420,Import!A$1:B$20000,2,FALSE)","v":{"$error":"#N/A"}},"EJ_GRANSKN",{"$f":"VLOOKUP(S420,Import!A$1:B$20000,2,FALSE)","v":{"$error":"#N/A"}},"32211_S_L_SEK_TOT_I_M_X_H1_VALFRI_SEK",1000,null,"30673_D419_cmb152_",{"$f":"VLOOKUP(B420,Import!E$1:F$20000,2,FALSE)","v":{"$error":"#N/A"}}]
[{"$f":"IF(ISBLANK(Inm_30673_D420_cmb151_),\"\",$T$421 * Inm_30673_D420_cmb151_)","v":""},"30673_D420_cmb151_","Handel i sven, Lång , Inflöde","VP203'!Inm_30673_D420_cmb151_","32211","S","L","SEK","TOT","I","M","X","H1",{"$f":"VLOOKUP('VP203'!$B$154,FlexDimensioner!$C$1:$D$430,2,FALSE)","v":"VALFRI"},"SEK",{"$f":"VLOOKUP(B421,Import!A$1:B$20000,2,FALSE)","v":{"$error":"#N/A"}},"EJ_GRANSKN",{"$f":"VLOOKUP(S421,Import!A$1:B$20000,2,FALSE)","v":{"$error":"#N/A"}},"32211_S_L_SEK_TOT_I_M_X_H1_VALFRI_SEK",1000,null,"30673_D420_cmb151_",{"$f":"VLOOKUP(B421,Import!E$1:F$20000,2,FALSE)","v":{"$error":"#N/A"}}]
[{"$f":"IF(ISBLANK(Inm_30673_D421_cmb150_),\"\",$T$422 * Inm_30673_D421_cmb150_)","v":""},"30673_D421_cmb150_","Handel i sven, Lång , Inflöde","VP203'!Inm_30673_D421_cmb150_","32211","S","L","SEK","TOT","I","M","X","H1",{"$f":"VLOOKUP('VP203'!$B$153,FlexDimensioner!$C$1:$D$430,2,FALSE)","v":"VALFRI"},"SEK",{"$f":"VLOOKUP(B422,Import!A$1:B$20000,2,FALSE)","v":{"$error":"#N/A"}},"EJ_GRANSKN",{"$f":"VLOOKUP(S422,Import!A$1:B$20000,2,FALSE)","v":{"$error":"#N/A"}},"32211_S_L_SEK_TOT_I_M_X_H1_VALFRI_SEK",1000,null,"30673_D421_cmb150_",{"$f":"VLOOKUP(B422,Import!E$1:F$20000,2,FALSE)","v":{"$error":"#N/A"}}]
[{"$f":"IF(ISBLANK(Inm_30673_D422_cmb149_),\"\",$T$423 * Inm_30673_D422_cmb149_)","v":""},"30673_D422_cmb149_","Handel i sven, Lång , Inflöde","VP203'!Inm_30673_D422_cmb149_","32211","S","L","SEK","TOT","I","M","X","H1",{"$f":"VLOOKUP('VP203'!$B$152,FlexDimensioner!$C$1:$D$430,2,FALSE)","v":"VALFRI"},"SEK",{"$f":"VLOOKUP(B423,Import!A$1:B$20000,2,FALSE)","v":{"$error":"#N/A"}},"EJ_GRANSKN",{"$f":"VLOOKUP(S423,Import!A$1:B$20000,2,FALSE)","v":{"$error":"#N/A"}},"32211_S_L_SEK_TOT_I_M_X_H1_VALFRI_SEK",1000,null,"30673_D422_cmb149_",{"$f":"VLOOKUP(B423,Import!E$1:F$20000,2,FALSE)","v":{"$error":"#N/A"}}]
[{"$f":"IF(ISBLANK(Inm_30673_D423_cmb148_),\"\",$T$424 * Inm_30673_D423_cmb148_)","v":""},"30673_D423_cmb148_","Handel i sven, Lång , Inflöde","VP203'!Inm_30673_D423_cmb148_","32211","S","L","SEK","TOT","I","M","X","H1",{"$f":"VLOOKUP('VP203'!$B$151,FlexDimensioner!$C$1:$D$430,2,FALSE)","v":"VALFRI"},"SEK",{"$f":"VLOOKUP(B424,Import!A$1:B$20000,2,FALSE)","v":{"$error":"#N/A"}},"EJ_GRANSKN",{"$f":"VLOOKUP(S424,Import!A$1:B$20000,2,FALSE)","v":{"$error":"#N/A"}},"32211_S_L_SEK_TOT_I_M_X_H1_VALFRI_SEK",1000,null,"30673_D423_cmb148_",{"$f":"VLOOKUP(B424,Import!E$1:F$20000,2,FALSE)","v":{"$error":"#N/A"}}]
[{"$f":"IF(ISBLANK(Inm_30673_D424_cmb147_),\"\",$T$425 * Inm_30673_D424_cmb147_)","v":""},"30673_D424_cmb147_","Handel i sven, Lång , Inflöde","VP203'!Inm_30673_D424_cmb147_","32211","S","L","SEK","TOT","I","M","X","H1",{"$f":"VLOOKUP('VP203'!$B$150,FlexDimensioner!$C$1:$D$430,2,FALSE)","v":"VALFRI"},"SEK",{"$f":"VLOOKUP(B425,Import!A$1:B$20000,2,FALSE)","v":{"$error":"#N/A"}},"EJ_GRANSKN",{"$f":"VLOOKUP(S425,Import!A$1:B$20000,2,FALSE)","v":{"$error":"#N/A"}},"32211_S_L_SEK_TOT_I_M_X_H1_VALFRI_SEK",1000,null,"30673_D424_cmb147_",{"$f":"VLOOKUP(B425,Import!E$1:F$20000,2,FALSE)","v":{"$error":"#N/A"}}]
[{"$f":"IF(ISBLANK(Inm_30673_D425_cmb146_),\"\",$T$426 * Inm_30673_D425_cmb146_)","v":""},"30673_D425_cmb146_","Handel i sven, Lång , Inflöde","VP203'!Inm_30673_D425_cmb146_","32211","S","L","SEK","TOT","I","M","X","H1",{"$f":"VLOOKUP('VP203'!$B$149,FlexDimensioner!$C$1:$D$430,2,FALSE)","v":"VALFRI"},"SEK",{"$f":"VLOOKUP(B426,Import!A$1:B$20000,2,FALSE)","v":{"$error":"#N/A"}},"EJ_GRANSKN",{"$f":"VLOOKUP(S426,Import!A$1:B$20000,2,FALSE)","v":{"$error":"#N/A"}},"32211_S_L_SEK_TOT_I_M_X_H1_VALFRI_SEK",1000,null,"30673_D425_cmb146_",{"$f":"VLOOKUP(B426,Import!E$1:F$20000,2,FALSE)","v":{"$error":"#N/A"}}]
[{"$f":"IF(ISBLANK(Inm_30673_D426_cmb145_),\"\",$T$427 * Inm_30673_D426_cmb145_)","v":""},"30673_D426_cmb145_","Handel i sven, Lång , Inflöde","VP203'!Inm_30673_D426_cmb145_","32211","S","L","SEK","TOT","I","M","X","H1",{"$f":"VLOOKUP('VP203'!$B$148,FlexDimensioner!$C$1:$D$430,2,FALSE)","v":"VALFRI"},"SEK",{"$f":"VLOOKUP(B427,Import!A$1:B$20000,2,FALSE)","v":{"$error":"#N/A"}},"EJ_GRANSKN",{"$f":"VLOOKUP(S427,Import!A$1:B$20000,2,FALSE)","v":{"$error":"#N/A"}},"32211_S_L_SEK_TOT_I_M_X_H1_VALFRI_SEK",1000,null,"30673_D426_cmb145_",{"$f":"VLOOKUP(B427,Import!E$1:F$20000,2,FALSE)","v":{"$error":"#N/A"}}]
[{"$f":"IF(ISBLANK(Inm_30673_D427_cmb144_),\"\",$T$428 * Inm_30673_D427_cmb144_)","v":""},"30673_D427_cmb144_","Handel i sven, Lång , Inflöde","VP203'!Inm_30673_D427_cmb144_","32211","S","L","SEK","TOT","I","M","X","H1",{"$f":"VLOOKUP('VP203'!$B$147,FlexDimensioner!$C$1:$D$430,2,FALSE)","v":"VALFRI"},"SEK",{"$f":"VLOOKUP(B428,Import!A$1:B$20000,2,FALSE)","v":{"$error":"#N/A"}},"EJ_GRANSKN",{"$f":"VLOOKUP(S428,Import!A$1:B$20000,2,FALSE)","v":{"$error":"#N/A"}},"32211_S_L_SEK_TOT_I_M_X_H1_VALFRI_SEK",1000,null,"30673_D427_cmb144_",{"$f":"VLOOKUP(B428,Import!E$1:F$20000,2,FALSE)","v":{"$error":"#N/A"}}]
[{"$f":"IF(ISBLANK(Inm_30673_D428_cmb143_),\"\",$T$429 * Inm_30673_D428_cmb143_)","v":""},"30673_D428_cmb143_","Handel i sven, Lång , Inflöde","VP203'!Inm_30673_D428_cmb143_","32211","S","L","SEK","TOT","I","M","X","H1",{"$f":"VLOOKUP('VP203'!$B$146,FlexDimensioner!$C$1:$D$430,2,FALSE)","v":"VALFRI"},"SEK",{"$f":"VLOOKUP(B429,Import!A$1:B$20000,2,FALSE)","v":{"$error":"#N/A"}},"EJ_GRANSKN",{"$f":"VLOOKUP(S429,Import!A$1:B$20000,2,FALSE)","v":{"$error":"#N/A"}},"32211_S_L_SEK_TOT_I_M_X_H1_VALFRI_SEK",1000,null,"30673_D428_cmb143_",{"$f":"VLOOKUP(B429,Import!E$1:F$20000,2,FALSE)","v":{"$error":"#N/A"}}]
[{"$f":"IF(ISBLANK(Inm_30673_D429_cmb142_),\"\",$T$430 * Inm_30673_D429_cmb142_)","v":""},"30673_D429_cmb142_","Handel i sven, Lång , Inflöde","VP203'!Inm_30673_D429_cmb142_","32211","S","L","SEK","TOT","I","M","X","H1",{"$f":"VLOOKUP('VP203'!$B$145,FlexDimensioner!$C$1:$D$430,2,FALSE)","v":"VALFRI"},"SEK",{"$f":"VLOOKUP(B430,Import!A$1:B$20000,2,FALSE)","v":{"$error":"#N/A"}},"EJ_GRANSKN",{"$f":"VLOOKUP(S430,Import!A$1:B$20000,2,FALSE)","v":{"$error":"#N/A"}},"32211_S_L_SEK_TOT_I_M_X_H1_VALFRI_SEK",1000,null,"30673_D429_cmb142_",{"$f":"VLOOKUP(B430,Import!E$1:F$20000,2,FALSE)","v":{"$error":"#N/A"}}]
[{"$f":"IF(ISBLANK(Inm_30673_D430_cmb141_),\"\",$T$431 * Inm_30673_D430_cmb141_)","v":""},"30673_D430_cmb141_","Handel i sven, Lång , Inflöde","VP203'!Inm_30673_D430_cmb141_","32211","S","L","SEK","TOT","I","M","X","H1",{"$f":"VLOOKUP('VP203'!$B$144,FlexDimensioner!$C$1:$D$430,2,FALSE)","v":"VALFRI"},"SEK",{"$f":"VLOOKUP(B431,Import!A$1:B$20000,2,FALSE)","v":{"$error":"#N/A"}},"EJ_GRANSKN",{"$f":"VLOOKUP(S431,Import!A$1:B$20000,2,FALSE)","v":{"$error":"#N/A"}},"32211_S_L_SEK_TOT_I_M_X_H1_VALFRI_SEK",1000,null,"30673_D430_cmb141_",{"$f":"VLOOKUP(B431,Import!E$1:F$20000,2,FALSE)","v":{"$error":"#N/A"}}]
[{"$f":"IF(ISBLANK(Inm_30673_D431_cmb140_),\"\",$T$432 * Inm_30673_D431_cmb140_)","v":""},"30673_D431_cmb140_","Handel i sven, Lång , Inflöde","VP203'!Inm_30673_D431_cmb140_","32211","S","L","SEK","TOT","I","M","X","H1",{"$f":"VLOOKUP('VP203'!$B$143,FlexDimensioner!$C$1:$D$430,2,FALSE)","v":"VALFRI"},"SEK",{"$f":"VLOOKUP(B432,Import!A$1:B$20000,2,FALSE)","v":{"$error":"#N/A"}},"EJ_GRANSKN",{"$f":"VLOOKUP(S432,Import!A$1:B$20000,2,FALSE)","v":{"$error":"#N/A"}},"32211_S_L_SEK_TOT_I_M_X_H1_VALFRI_SEK",1000,null,"30673_D431_cmb140_",{"$f":"VLOOKUP(B432,Import!E$1:F$20000,2,FALSE)","v":{"$error":"#N/A"}}]
[{"$f":"IF(ISBLANK(Inm_30673_D432_cmb139_),\"\",$T$433 * Inm_30673_D432_cmb139_)","v":""},"30673_D432_cmb139_","Handel i sven, Lång , Inflöde","VP203'!Inm_30673_D432_cmb139_","32211","S","L","SEK","TOT","I","M","X","H1",{"$f":"VLOOKUP('VP203'!$B$142,FlexDimensioner!$C$1:$D$430,2,FALSE)","v":"VALFRI"},"SEK",{"$f":"VLOOKUP(B433,Import!A$1:B$20000,2,FALSE)","v":{"$error":"#N/A"}},"EJ_GRANSKN",{"$f":"VLOOKUP(S433,Import!A$1:B$20000,2,FALSE)","v":{"$error":"#N/A"}},"32211_S_L_SEK_TOT_I_M_X_H1_VALFRI_SEK",1000,null,"30673_D432_cmb139_",{"$f":"VLOOKUP(B433,Import!E$1:F$20000,2,FALSE)","v":{"$error":"#N/A"}}]
[{"$f":"IF(ISBLANK(Inm_30673_D433_cmb138_),\"\",$T$434 * Inm_30673_D433_cmb138_)","v":""},"30673_D433_cmb138_","Handel i sven, Lång , Inflöde","VP203'!Inm_30673_D433_cmb138_","32211","S","L","SEK","TOT","I","M","X","H1",{"$f":"VLOOKUP('VP203'!$B$141,FlexDimensioner!$C$1:$D$430,2,FALSE)","v":"VALFRI"},"SEK",{"$f":"VLOOKUP(B434,Import!A$1:B$20000,2,FALSE)","v":{"$error":"#N/A"}},"EJ_GRANSKN",{"$f":"VLOOKUP(S434,Import!A$1:B$20000,2,FALSE)","v":{"$error":"#N/A"}},"32211_S_L_SEK_TOT_I_M_X_H1_VALFRI_SEK",1000,null,"30673_D433_cmb138_",{"$f":"VLOOKUP(B434,Import!E$1:F$20000,2,FALSE)","v":{"$error":"#N/A"}}]
[{"$f":"IF(ISBLANK(Inm_30673_D434_cmb137_),\"\",$T$435 * Inm_30673_D434_cmb137_)","v":""},"30673_D434_cmb137_","Handel i sven, Lång , Inflöde","VP203'!Inm_30673_D434_cmb137_","32211","S","L","SEK","TOT","I","M","X","H1",{"$f":"VLOOKUP('VP203'!$B$140,FlexDimensioner!$C$1:$D$430,2,FALSE)","v":"VALFRI"},"SEK",{"$f":"VLOOKUP(B435,Import!A$1:B$20000,2,FALSE)","v":{"$error":"#N/A"}},"EJ_GRANSKN",{"$f":"VLOOKUP(S435,Import!A$1:B$20000,2,FALSE)","v":{"$error":"#N/A"}},"32211_S_L_SEK_TOT_I_M_X_H1_VALFRI_SEK",1000,null,"30673_D434_cmb137_",{"$f":"VLOOKUP(B435,Import!E$1:F$20000,2,FALSE)","v":{"$error":"#N/A"}}]
[{"$f":"IF(ISBLANK(Inm_30673_D435_cmb136_),\"\",$T$436 * Inm_30673_D435_cmb136_)","v":""},"30673_D435_cmb136_","Handel i sven, Lång , Inflöde","VP203'!Inm_30673_D435_cmb136_","32211","S","L","SEK","TOT","I","M","X","H1",{"$f":"VLOOKUP('VP203'!$B$139,FlexDimensioner!$C$1:$D$430,2,FALSE)","v":"VALFRI"},"SEK",{"$f":"VLOOKUP(B436,Import!A$1:B$20000,2,FALSE)","v":{"$error":"#N/A"}},"EJ_GRANSKN",{"$f":"VLOOKUP(S436,Import!A$1:B$20000,2,FALSE)","v":{"$error":"#N/A"}},"32211_S_L_SEK_TOT_I_M_X_H1_VALFRI_SEK",1000,null,"30673_D435_cmb136_",{"$f":"VLOOKUP(B436,Import!E$1:F$20000,2,FALSE)","v":{"$error":"#N/A"}}]
[{"$f":"IF(ISBLANK(Inm_30673_D436_cmb135_),\"\",$T$437 * Inm_30673_D436_cmb135_)","v":""},"30673_D436_cmb135_","Handel i sven, Lång , Inflöde","VP203'!Inm_30673_D436_cmb135_","32211","S","L","SEK","TOT","I","M","X","H1",{"$f":"VLOOKUP('VP203'!$B$138,FlexDimensioner!$C$1:$D$430,2,FALSE)","v":"VALFRI"},"SEK",{"$f":"VLOOKUP(B437,Import!A$1:B$20000,2,FALSE)","v":{"$error":"#N/A"}},"EJ_GRANSKN",{"$f":"VLOOKUP(S437,Import!A$1:B$20000,2,FALSE)","v":{"$error":"#N/A"}},"32211_S_L_SEK_TOT_I_M_X_H1_VALFRI_SEK",1000,null,"30673_D436_cmb135_",{"$f":"VLOOKUP(B437,Import!E$1:F$20000,2,FALSE)","v":{"$error":"#N/A"}}]
[{"$f":"IF(ISBLANK(Inm_30673_D437_cmb134_),\"\",$T$438 * Inm_30673_D437_cmb134_)","v":""},"30673_D437_cmb134_","Handel i sven, Lång , Inflöde","VP203'!Inm_30673_D437_cmb134_","32211","S","L","SEK","TOT","I","M","X","H1",{"$f":"VLOOKUP('VP203'!$B$137,FlexDimensioner!$C$1:$D$430,2,FALSE)","v":"VALFRI"},"SEK",{"$f":"VLOOKUP(B438,Import!A$1:B$20000,2,FALSE)","v":{"$error":"#N/A"}},"EJ_GRANSKN",{"$f":"VLOOKUP(S438,Import!A$1:B$20000,2,FALSE)","v":{"$error":"#N/A"}},"32211_S_L_SEK_TOT_I_M_X_H1_VALFRI_SEK",1000,null,"30673_D437_cmb134_",{"$f":"VLOOKUP(B438,Import!E$1:F$20000,2,FALSE)","v":{"$error":"#N/A"}}]
[{"$f":"IF(ISBLANK(Inm_30673_D438_cmb133_),\"\",$T$439 * Inm_30673_D438_cmb133_)","v":""},"30673_D438_cmb133_","Handel i sven, Lång , Inflöde","VP203'!Inm_30673_D438_cmb133_","32211","S","L","SEK","TOT","I","M","X","H1",{"$f":"VLOOKUP('VP203'!$B$136,FlexDimensioner!$C$1:$D$430,2,FALSE)","v":"VALFRI"},"SEK",{"$f":"VLOOKUP(B439,Import!A$1:B$20000,2,FALSE)","v":{"$error":"#N/A"}},"EJ_GRANSKN",{"$f":"VLOOKUP(S439,Import!A$1:B$20000,2,FALSE)","v":{"$error":"#N/A"}},"32211_S_L_SEK_TOT_I_M_X_H1_VALFRI_SEK",1000,null,"30673_D438_cmb133_",{"$f":"VLOOKUP(B439,Import!E$1:F$20000,2,FALSE)","v":{"$error":"#N/A"}}]
[{"$f":"IF(ISBLANK(Inm_30673_D439_cmb132_),\"\",$T$440 * Inm_30673_D439_cmb132_)","v":""},"30673_D439_cmb132_","Handel i sven, Lång , Inflöde","VP203'!Inm_30673_D439_cmb132_","32211","S","L","SEK","TOT","I","M","X","H1",{"$f":"VLOOKUP('VP203'!$B$135,FlexDimensioner!$C$1:$D$430,2,FALSE)","v":"VALFRI"},"SEK",{"$f":"VLOOKUP(B440,Import!A$1:B$20000,2,FALSE)","v":{"$error":"#N/A"}},"EJ_GRANSKN",{"$f":"VLOOKUP(S440,Import!A$1:B$20000,2,FALSE)","v":{"$error":"#N/A"}},"32211_S_L_SEK_TOT_I_M_X_H1_VALFRI_SEK",1000,null,"30673_D439_cmb132_",{"$f":"VLOOKUP(B440,Import!E$1:F$20000,2,FALSE)","v":{"$error":"#N/A"}}]
[{"$f":"IF(ISBLANK(Inm_30673_D440_cmb131_),\"\",$T$441 * Inm_30673_D440_cmb131_)","v":""},"30673_D440_cmb131_","Handel i sven, Lång , Inflöde","VP203'!Inm_30673_D440_cmb131_","32211","S","L","SEK","TOT","I","M","X","H1",{"$f":"VLOOKUP('VP203'!$B$134,FlexDimensioner!$C$1:$D$430,2,FALSE)","v":"VALFRI"},"SEK",{"$f":"VLOOKUP(B441,Import!A$1:B$20000,2,FALSE)","v":{"$error":"#N/A"}},"EJ_GRANSKN",{"$f":"VLOOKUP(S441,Import!A$1:B$20000,2,FALSE)","v":{"$error":"#N/A"}},"32211_S_L_SEK_TOT_I_M_X_H1_VALFRI_SEK",1000,null,"30673_D440_cmb131_",{"$f":"VLOOKUP(B441,Import!E$1:F$20000,2,FALSE)","v":{"$error":"#N/A"}}]
[{"$f":"IF(ISBLANK(Inm_30673_D441_cmb130_),\"\",$T$442 * Inm_30673_D441_cmb130_)","v":""},"30673_D441_cmb130_","Handel i sven, Lång , Inflöde","VP203'!Inm_30673_D441_cmb130_","32211","S","L","SEK","TOT","I","M","X","H1",{"$f":"VLOOKUP('VP203'!$B$133,FlexDimensioner!$C$1:$D$430,2,FALSE)","v":"VALFRI"},"SEK",{"$f":"VLOOKUP(B442,Import!A$1:B$20000,2,FALSE)","v":{"$error":"#N/A"}},"EJ_GRANSKN",{"$f":"VLOOKUP(S442,Import!A$1:B$20000,2,FALSE)","v":{"$error":"#N/A"}},"32211_S_L_SEK_TOT_I_M_X_H1_VALFRI_SEK",1000,null,"30673_D441_cmb130_",{"$f":"VLOOKUP(B442,Import!E$1:F$20000,2,FALSE)","v":{"$error":"#N/A"}}]
[{"$f":"IF(ISBLANK(Inm_30673_D442_cmb129_),\"\",$T$443 * Inm_30673_D442_cmb129_)","v":""},"30673_D442_cmb129_","Handel i sven, Lång , Inflöde","VP203'!Inm_30673_D442_cmb129_","32211","S","L","SEK","TOT","I","M","X","H1",{"$f":"VLOOKUP('VP203'!$B$132,FlexDimensioner!$C$1:$D$430,2,FALSE)","v":"VALFRI"},"SEK",{"$f":"VLOOKUP(B443,Import!A$1:B$20000,2,FALSE)","v":{"$error":"#N/A"}},"EJ_GRANSKN",{"$f":"VLOOKUP(S443,Import!A$1:B$20000,2,FALSE)","v":{"$error":"#N/A"}},"32211_S_L_SEK_TOT_I_M_X_H1_VALFRI_SEK",1000,null,"30673_D442_cmb129_",{"$f":"VLOOKUP(B443,Import!E$1:F$20000,2,FALSE)","v":{"$error":"#N/A"}}]
[{"$f":"IF(ISBLANK(Inm_30673_D443_cmb128_),\"\",$T$444 * Inm_30673_D443_cmb128_)","v":""},"30673_D443_cmb128_","Handel i sven, Lång , Inflöde","VP203'!Inm_30673_D443_cmb128_","32211","S","L","SEK","TOT","I","M","X","H1",{"$f":"VLOOKUP('VP203'!$B$131,FlexDimensioner!$C$1:$D$430,2,FALSE)","v":"VALFRI"},"SEK",{"$f":"VLOOKUP(B444,Import!A$1:B$20000,2,FALSE)","v":{"$error":"#N/A"}},"EJ_GRANSKN",{"$f":"VLOOKUP(S444,Import!A$1:B$20000,2,FALSE)","v":{"$error":"#N/A"}},"32211_S_L_SEK_TOT_I_M_X_H1_VALFRI_SEK",1000,null,"30673_D443_cmb128_",{"$f":"VLOOKUP(B444,Import!E$1:F$20000,2,FALSE)","v":{"$error":"#N/A"}}]
[{"$f":"IF(ISBLANK(Inm_30673_D444_cmb127_),\"\",$T$445 * Inm_30673_D444_cmb127_)","v":""},"30673_D444_cmb127_","Handel i sven, Lång , Inflöde","VP203'!Inm_30673_D444_cmb127_","32211","S","L","SEK","TOT","I","M","X","H1",{"$f":"VLOOKUP('VP203'!$B$130,FlexDimensioner!$C$1:$D$430,2,FALSE)","v":"VALFRI"},"SEK",{"$f":"VLOOKUP(B445,Import!A$1:B$20000,2,FALSE)","v":{"$error":"#N/A"}},"EJ_GRANSKN",{"$f":"VLOOKUP(S445,Import!A$1:B$20000,2,FALSE)","v":{"$error":"#N/A"}},"32211_S_L_SEK_TOT_I_M_X_H1_VALFRI_SEK",1000,null,"30673_D444_cmb127_",{"$f":"VLOOKUP(B445,Import!E$1:F$20000,2,FALSE)","v":{"$error":"#N/A"}}]
[{"$f":"IF(ISBLANK(Inm_30673_D445_cmb126_),\"\",$T$446 * Inm_30673_D445_cmb126_)","v":""},"30673_D445_cmb126_","Handel i sven, Lång , Inflöde","VP203'!Inm_30673_D445_cmb126_","32211","S","L","SEK","TOT","I","M","X","H1",{"$f":"VLOOKUP('VP203'!$B$129,FlexDimensioner!$C$1:$D$430,2,FALSE)","v":"VALFRI"},"SEK",{"$f":"VLOOKUP(B446,Import!A$1:B$20000,2,FALSE)","v":{"$error":"#N/A"}},"EJ_GRANSKN",{"$f":"VLOOKUP(S446,Import!A$1:B$20000,2,FALSE)","v":{"$error":"#N/A"}},"32211_S_L_SEK_TOT_I_M_X_H1_VALFRI_SEK",1000,null,"30673_D445_cmb126_",{"$f":"VLOOKUP(B446,Import!E$1:F$20000,2,FALSE)","v":{"$error":"#N/A"}}]
[{"$f":"IF(ISBLANK(Inm_30673_D446_cmb125_),\"\",$T$447 * Inm_30673_D446_cmb125_)","v":""},"30673_D446_cmb125_","Handel i sven, Lång , Inflöde","VP203'!Inm_30673_D446_cmb125_","32211","S","L","SEK","TOT","I","M","X","H1",{"$f":"VLOOKUP('VP203'!$B$128,FlexDimensioner!$C$1:$D$430,2,FALSE)","v":"VALFRI"},"SEK",{"$f":"VLOOKUP(B447,Import!A$1:B$20000,2,FALSE)","v":{"$error":"#N/A"}},"EJ_GRANSKN",{"$f":"VLOOKUP(S447,Import!A$1:B$20000,2,FALSE)","v":{"$error":"#N/A"}},"32211_S_L_SEK_TOT_I_M_X_H1_VALFRI_SEK",1000,null,"30673_D446_cmb125_",{"$f":"VLOOKUP(B447,Import!E$1:F$20000,2,FALSE)","v":{"$error":"#N/A"}}]
[{"$f":"IF(ISBLANK(Inm_30673_D447_cmb124_),\"\",$T$448 * Inm_30673_D447_cmb124_)","v":""},"30673_D447_cmb124_","Handel i sven, Lång , Inflöde","VP203'!Inm_30673_D447_cmb124_","32211","S","L","SEK","TOT","I","M","X","H1",{"$f":"VLOOKUP('VP203'!$B$127,FlexDimensioner!$C$1:$D$430,2,FALSE)","v":"VALFRI"},"SEK",{"$f":"VLOOKUP(B448,Import!A$1:B$20000,2,FALSE)","v":{"$error":"#N/A"}},"EJ_GRANSKN",{"$f":"VLOOKUP(S448,Import!A$1:B$20000,2,FALSE)","v":{"$error":"#N/A"}},"32211_S_L_SEK_TOT_I_M_X_H1_VALFRI_SEK",1000,null,"30673_D447_cmb124_",{"$f":"VLOOKUP(B448,Import!E$1:F$20000,2,FALSE)","v":{"$error":"#N/A"}}]
[{"$f":"IF(ISBLANK(Inm_30673_D448_cmb123_),\"\",$T$449 * Inm_30673_D448_cmb123_)","v":""},"30673_D448_cmb123_","Handel i sven, Lång , Inflöde","VP203'!Inm_30673_D448_cmb123_","32211","S","L","SEK","TOT","I","M","X","H1",{"$f":"VLOOKUP('VP203'!$B$126,FlexDimensioner!$C$1:$D$430,2,FALSE)","v":"VALFRI"},"SEK",{"$f":"VLOOKUP(B449,Import!A$1:B$20000,2,FALSE)","v":{"$error":"#N/A"}},"EJ_GRANSKN",{"$f":"VLOOKUP(S449,Import!A$1:B$20000,2,FALSE)","v":{"$error":"#N/A"}},{"$f":"CONCATENATE(E449,\"_\",F449,\"_\",G449,\"_\",H449,\"_\",I449,\"_\",J449,\"_\",K449,\"_\",L449,\"_\",M449,\"_\",N449,\"_\",O449)","v":"32211_S_L_SEK_TOT_I_M_X_H1_VALFRI_SEK"},1000,null,"30673_D448_cmb123_",{"$f":"VLOOKUP(B449,Import!E$1:F$20000,2,FALSE)","v":{"$error":"#N/A"}}]
[{"$f":"IF(ISBLANK(Inm_30673_D449_cmb122_),\"\",$T$450 * Inm_30673_D449_cmb122_)","v":""},"30673_D449_cmb122_","Handel i sven, Lång , Inflöde","VP203'!Inm_30673_D449_cmb122_","32211","S","L","SEK","TOT","I","M","X","H1",{"$f":"VLOOKUP('VP203'!$B$125,FlexDimensioner!$C$1:$D$430,2,FALSE)","v":"VALFRI"},"SEK",{"$f":"VLOOKUP(B450,Import!A$1:B$20000,2,FALSE)","v":{"$error":"#N/A"}},"EJ_GRANSKN",{"$f":"VLOOKUP(S450,Import!A$1:B$20000,2,FALSE)","v":{"$error":"#N/A"}},"32211_S_L_SEK_TOT_I_M_X_H1_VALFRI_SEK",1000,null,"30673_D449_cmb122_",{"$f":"VLOOKUP(B450,Import!E$1:F$20000,2,FALSE)","v":{"$error":"#N/A"}}]
[{"$f":"IF(ISBLANK(Inm_30673_D450_cmb121_),\"\",$T$451 * Inm_30673_D450_cmb121_)","v":""},"30673_D450_cmb121_","Handel i sven, Lång , Inflöde","VP203'!Inm_30673_D450_cmb121_","32211","S","L","SEK","TOT","I","M","X","H1",{"$f":"VLOOKUP('VP203'!$B$124,FlexDimensioner!$C$1:$D$430,2,FALSE)","v":"VALFRI"},"SEK",{"$f":"VLOOKUP(B451,Import!A$1:B$20000,2,FALSE)","v":{"$error":"#N/A"}},"EJ_GRANSKN",{"$f":"VLOOKUP(S451,Import!A$1:B$20000,2,FALSE)","v":{"$error":"#N/A"}},"32211_S_L_SEK_TOT_I_M_X_H1_VALFRI_SEK",1000,null,"30673_D450_cmb121_",{"$f":"VLOOKUP(B451,Import!E$1:F$20000,2,FALSE)","v":{"$error":"#N/A"}}]
[{"$f":"IF(ISBLANK(Inm_30673_D451_cmb120_),\"\",$T$452 * Inm_30673_D451_cmb120_)","v":""},"30673_D451_cmb120_","Handel i sven, Lång , Inflöde","VP203'!Inm_30673_D451_cmb120_","32211","S","L","SEK","TOT","I","M","X","H1",{"$f":"VLOOKUP('VP203'!$B$123,FlexDimensioner!$C$1:$D$430,2,FALSE)","v":"VALFRI"},"SEK",{"$f":"VLOOKUP(B452,Import!A$1:B$20000,2,FALSE)","v":{"$error":"#N/A"}},"EJ_GRANSKN",{"$f":"VLOOKUP(S452,Import!A$1:B$20000,2,FALSE)","v":{"$error":"#N/A"}},"32211_S_L_SEK_TOT_I_M_X_H1_VALFRI_SEK",1000,null,"30673_D451_cmb120_",{"$f":"VLOOKUP(B452,Import!E$1:F$20000,2,FALSE)","v":{"$error":"#N/A"}}]
[{"$f":"IF(ISBLANK(Inm_30673_D452_cmb119_),\"\",$T$453 * Inm_30673_D452_cmb119_)","v":""},"30673_D452_cmb119_","Handel i sven, Lång , Inflöde","VP203'!Inm_30673_D452_cmb119_","32211","S","L","SEK","TOT","I","M","X","H1",{"$f":"VLOOKUP('VP203'!$B$122,FlexDimensioner!$C$1:$D$430,2,FALSE)","v":"VALFRI"},"SEK",{"$f":"VLOOKUP(B453,Import!A$1:B$20000,2,FALSE)","v":{"$error":"#N/A"}},"EJ_GRANSKN",{"$f":"VLOOKUP(S453,Import!A$1:B$20000,2,FALSE)","v":{"$error":"#N/A"}},"32211_S_L_SEK_TOT_I_M_X_H1_VALFRI_SEK",1000,null,"30673_D452_cmb119_",{"$f":"VLOOKUP(B453,Import!E$1:F$20000,2,FALSE)","v":{"$error":"#N/A"}}]
[{"$f":"IF(ISBLANK(Inm_30673_D453_cmb118_),\"\",$T$454 * Inm_30673_D453_cmb118_)","v":""},"30673_D453_cmb118_","Handel i sven, Lång , Inflöde","VP203'!Inm_30673_D453_cmb118_","32211","S","L","SEK","TOT","I","M","X","H1",{"$f":"VLOOKUP('VP203'!$B$121,FlexDimensioner!$C$1:$D$430,2,FALSE)","v":"VALFRI"},"SEK",{"$f":"VLOOKUP(B454,Import!A$1:B$20000,2,FALSE)","v":{"$error":"#N/A"}},"EJ_GRANSKN",{"$f":"VLOOKUP(S454,Import!A$1:B$20000,2,FALSE)","v":{"$error":"#N/A"}},"32211_S_L_SEK_TOT_I_M_X_H1_VALFRI_SEK",1000,null,"30673_D453_cmb118_",{"$f":"VLOOKUP(B454,Import!E$1:F$20000,2,FALSE)","v":{"$error":"#N/A"}}]
[{"$f":"IF(ISBLANK(Inm_30673_D454_cmb117_),\"\",$T$455 * Inm_30673_D454_cmb117_)","v":""},"30673_D454_cmb117_","Handel i sven, Lång , Inflöde","VP203'!Inm_30673_D454_cmb117_","32211","S","L","SEK","TOT","I","M","X","H1",{"$f":"VLOOKUP('VP203'!$B$120,FlexDimensioner!$C$1:$D$430,2,FALSE)","v":"VALFRI"},"SEK",{"$f":"VLOOKUP(B455,Import!A$1:B$20000,2,FALSE)","v":{"$error":"#N/A"}},"EJ_GRANSKN",{"$f":"VLOOKUP(S455,Import!A$1:B$20000,2,FALSE)","v":{"$error":"#N/A"}},"32211_S_L_SEK_TOT_I_M_X_H1_VALFRI_SEK",1000,null,"30673_D454_cmb117_",{"$f":"VLOOKUP(B455,Import!E$1:F$20000,2,FALSE)","v":{"$error":"#N/A"}}]
[{"$f":"IF(ISBLANK(Inm_30673_D455_cmb116_),\"\",$T$456 * Inm_30673_D455_cmb116_)","v":""},"30673_D455_cmb116_","Handel i sven, Lång , Inflöde","VP203'!Inm_30673_D455_cmb116_","32211","S","L","SEK","TOT","I","M","X","H1",{"$f":"VLOOKUP('VP203'!$B$119,FlexDimensioner!$C$1:$D$430,2,FALSE)","v":"VALFRI"},"SEK",{"$f":"VLOOKUP(B456,Import!A$1:B$20000,2,FALSE)","v":{"$error":"#N/A"}},"EJ_GRANSKN",{"$f":"VLOOKUP(S456,Import!A$1:B$20000,2,FALSE)","v":{"$error":"#N/A"}},"32211_S_L_SEK_TOT_I_M_X_H1_VALFRI_SEK",1000,null,"30673_D455_cmb116_",{"$f":"VLOOKUP(B456,Import!E$1:F$20000,2,FALSE)","v":{"$error":"#N/A"}}]
[{"$f":"IF(ISBLANK(Inm_30673_D456_cmb115_),\"\",$T$457 * Inm_30673_D456_cmb115_)","v":""},"30673_D456_cmb115_","Handel i sven, Lång , Inflöde","VP203'!Inm_30673_D456_cmb115_","32211","S","L","SEK","TOT","I","M","X","H1",{"$f":"VLOOKUP('VP203'!$B$118,FlexDimensioner!$C$1:$D$430,2,FALSE)","v":"VALFRI"},"SEK",{"$f":"VLOOKUP(B457,Import!A$1:B$20000,2,FALSE)","v":{"$error":"#N/A"}},"EJ_GRANSKN",{"$f":"VLOOKUP(S457,Import!A$1:B$20000,2,FALSE)","v":{"$error":"#N/A"}},"32211_S_L_SEK_TOT_I_M_X_H1_VALFRI_SEK",1000,null,"30673_D456_cmb115_",{"$f":"VLOOKUP(B457,Import!E$1:F$20000,2,FALSE)","v":{"$error":"#N/A"}}]
[{"$f":"IF(ISBLANK(Inm_30673_D457_cmb114_),\"\",$T$458 * Inm_30673_D457_cmb114_)","v":""},"30673_D457_cmb114_","Handel i sven, Lång , Inflöde","VP203'!Inm_30673_D457_cmb114_","32211","S","L","SEK","TOT","I","M","X","H1",{"$f":"VLOOKUP('VP203'!$B$117,FlexDimensioner!$C$1:$D$430,2,FALSE)","v":"VALFRI"},"SEK",{"$f":"VLOOKUP(B458,Import!A$1:B$20000,2,FALSE)","v":{"$error":"#N/A"}},"EJ_GRANSKN",{"$f":"VLOOKUP(S458,Import!A$1:B$20000,2,FALSE)","v":{"$error":"#N/A"}},"32211_S_L_SEK_TOT_I_M_X_H1_VALFRI_SEK",1000,null,"30673_D457_cmb114_",{"$f":"VLOOKUP(B458,Import!E$1:F$20000,2,FALSE)","v":{"$error":"#N/A"}}]
[{"$f":"IF(ISBLANK(Inm_30673_D458_cmb113_),\"\",$T$459 * Inm_30673_D458_cmb113_)","v":""},"30673_D458_cmb113_","Handel i sven, Lång , Inflöde","VP203'!Inm_30673_D458_cmb113_","32211","S","L","SEK","TOT","I","M","X","H1",{"$f":"VLOOKUP('VP203'!$B$116,FlexDimensioner!$C$1:$D$430,2,FALSE)","v":"VALFRI"},"SEK",{"$f":"VLOOKUP(B459,Import!A$1:B$20000,2,FALSE)","v":{"$error":"#N/A"}},"EJ_GRANSKN",{"$f":"VLOOKUP(S459,Import!A$1:B$20000,2,FALSE)","v":{"$error":"#N/A"}},"32211_S_L_SEK_TOT_I_M_X_H1_VALFRI_SEK",1000,null,"30673_D458_cmb113_",{"$f":"VLOOKUP(B459,Import!E$1:F$20000,2,FALSE)","v":{"$error":"#N/A"}}]
[{"$f":"IF(ISBLANK(Inm_30673_D459_cmb112_),\"\",$T$460 * Inm_30673_D459_cmb112_)","v":""},"30673_D459_cmb112_","Handel i sven, Lång , Inflöde","VP203'!Inm_30673_D459_cmb112_","32211","S","L","SEK","TOT","I","M","X","H1",{"$f":"VLOOKUP('VP203'!$B$115,FlexDimensioner!$C$1:$D$430,2,FALSE)","v":"VALFRI"},"SEK",{"$f":"VLOOKUP(B460,Import!A$1:B$20000,2,FALSE)","v":{"$error":"#N/A"}},"EJ_GRANSKN",{"$f":"VLOOKUP(S460,Import!A$1:B$20000,2,FALSE)","v":{"$error":"#N/A"}},"32211_S_L_SEK_TOT_I_M_X_H1_VALFRI_SEK",1000,null,"30673_D459_cmb112_",{"$f":"VLOOKUP(B460,Import!E$1:F$20000,2,FALSE)","v":{"$error":"#N/A"}}]
[{"$f":"IF(ISBLANK(Inm_30673_D460_cmb111_),\"\",$T$461 * Inm_30673_D460_cmb111_)","v":""},"30673_D460_cmb111_","Handel i sven, Lång , Inflöde","VP203'!Inm_30673_D460_cmb111_","32211","S","L","SEK","TOT","I","M","X","H1",{"$f":"VLOOKUP('VP203'!$B$114,FlexDimensioner!$C$1:$D$430,2,FALSE)","v":"VALFRI"},"SEK",{"$f":"VLOOKUP(B461,Import!A$1:B$20000,2,FALSE)","v":{"$error":"#N/A"}},"EJ_GRANSKN",{"$f":"VLOOKUP(S461,Import!A$1:B$20000,2,FALSE)","v":{"$error":"#N/A"}},"32211_S_L_SEK_TOT_I_M_X_H1_VALFRI_SEK",1000,null,"30673_D460_cmb111_",{"$f":"VLOOKUP(B461,Import!E$1:F$20000,2,FALSE)","v":{"$error":"#N/A"}}]
[{"$f":"IF(ISBLANK(Inm_30673_D461_cmb109_),\"\",$T$462 * Inm_30673_D461_cmb109_)","v":""},"30673_D461_cmb109_","Handel i sven, Lång , Inflöde","VP203'!Inm_30673_D461_cmb109_","32211","S","L","SEK","TOT","I","M","X","H1",{"$f":"VLOOKUP('VP203'!$B$113,FlexDimensioner!$C$1:$D$430,2,FALSE)","v":"VALFRI"},"SEK",{"$f":"VLOOKUP(B462,Import!A$1:B$20000,2,FALSE)","v":{"$error":"#N/A"}},"EJ_GRANSKN",{"$f":"VLOOKUP(S462,Import!A$1:B$20000,2,FALSE)","v":{"$error":"#N/A"}},"32211_S_L_SEK_TOT_I_M_X_H1_VALFRI_SEK",1000,null,"30673_D461_cmb109_",{"$f":"VLOOKUP(B462,Import!E$1:F$20000,2,FALSE)","v":{"$error":"#N/A"}}]
[{"$f":"IF(ISBLANK(Inm_30673_D462_cmb108_),\"\",$T$463 * Inm_30673_D462_cmb108_)","v":""},"30673_D462_cmb108_","Handel i sven, Lång , Inflöde","VP203'!Inm_30673_D462_cmb108_","32211","S","L","SEK","TOT","I","M","X","H1",{"$f":"VLOOKUP('VP203'!$B$112,FlexDimensioner!$C$1:$D$430,2,FALSE)","v":"VALFRI"},"SEK",{"$f":"VLOOKUP(B463,Import!A$1:B$20000,2,FALSE)","v":{"$error":"#N/A"}},"EJ_GRANSKN",{"$f":"VLOOKUP(S463,Import!A$1:B$20000,2,FALSE)","v":{"$error":"#N/A"}},"32211_S_L_SEK_TOT_I_M_X_H1_VALFRI_SEK",1000,null,"30673_D462_cmb108_",{"$f":"VLOOKUP(B463,Import!E$1:F$20000,2,FALSE)","v":{"$error":"#N/A"}}]
[{"$f":"IF(ISBLANK(Inm_30673_D463_cmb107_),\"\",$T$464 * Inm_30673_D463_cmb107_)","v":""},"30673_D463_cmb107_","Handel i sven, Lång , Inflöde","VP203'!Inm_30673_D463_cmb107_","32211","S","L","SEK","TOT","I","M","X","H1",{"$f":"VLOOKUP('VP203'!$B$111,FlexDimensioner!$C$1:$D$430,2,FALSE)","v":"VALFRI"},"SEK",{"$f":"VLOOKUP(B464,Import!A$1:B$20000,2,FALSE)","v":{"$error":"#N/A"}},"EJ_GRANSKN",{"$f":"VLOOKUP(S464,Import!A$1:B$20000,2,FALSE)","v":{"$error":"#N/A"}},"32211_S_L_SEK_TOT_I_M_X_H1_VALFRI_SEK",1000,null,"30673_D463_cmb107_",{"$f":"VLOOKUP(B464,Import!E$1:F$20000,2,FALSE)","v":{"$error":"#N/A"}}]
[{"$f":"IF(ISBLANK(Inm_30673_D464_cmb106_),\"\",$T$465 * Inm_30673_D464_cmb106_)","v":""},"30673_D464_cmb106_","Handel i sven, Lång , Inflöde","VP203'!Inm_30673_D464_cmb106_","32211","S","L","SEK","TOT","I","M","X","H1",{"$f":"VLOOKUP('VP203'!$B$110,FlexDimensioner!$C$1:$D$430,2,FALSE)","v":"VALFRI"},"SEK",{"$f":"VLOOKUP(B465,Import!A$1:B$20000,2,FALSE)","v":{"$error":"#N/A"}},"EJ_GRANSKN",{"$f":"VLOOKUP(S465,Import!A$1:B$20000,2,FALSE)","v":{"$error":"#N/A"}},"32211_S_L_SEK_TOT_I_M_X_H1_VALFRI_SEK",1000,null,"30673_D464_cmb106_",{"$f":"VLOOKUP(B465,Import!E$1:F$20000,2,FALSE)","v":{"$error":"#N/A"}}]
[{"$f":"IF(ISBLANK(Inm_30673_D465_cmb105_),\"\",$T$466 * Inm_30673_D465_cmb105_)","v":""},"30673_D465_cmb105_","Handel i sven, Lång , Inflöde","VP203'!Inm_30673_D465_cmb105_","32211","S","L","SEK","TOT","I","M","X","H1",{"$f":"VLOOKUP('VP203'!$B$109,FlexDimensioner!$C$1:$D$430,2,FALSE)","v":"VALFRI"},"SEK",{"$f":"VLOOKUP(B466,Import!A$1:B$20000,2,FALSE)","v":{"$error":"#N/A"}},"EJ_GRANSKN",{"$f":"VLOOKUP(S466,Import!A$1:B$20000,2,FALSE)","v":{"$error":"#N/A"}},"32211_S_L_SEK_TOT_I_M_X_H1_VALFRI_SEK",1000,null,"30673_D465_cmb105_",{"$f":"VLOOKUP(B466,Import!E$1:F$20000,2,FALSE)","v":{"$error":"#N/A"}}]
[{"$f":"IF(ISBLANK(Inm_30673_D466_cmb104_),\"\",$T$467 * Inm_30673_D466_cmb104_)","v":""},"30673_D466_cmb104_","Handel i sven, Lång , Inflöde","VP203'!Inm_30673_D466_cmb104_","32211","S","L","SEK","TOT","I","M","X","H1",{"$f":"VLOOKUP('VP203'!$B$108,FlexDimensioner!$C$1:$D$430,2,FALSE)","v":"VALFRI"},"SEK",{"$f":"VLOOKUP(B467,Import!A$1:B$20000,2,FALSE)","v":{"$error":"#N/A"}},"EJ_GRANSKN",{"$f":"VLOOKUP(S467,Import!A$1:B$20000,2,FALSE)","v":{"$error":"#N/A"}},"32211_S_L_SEK_TOT_I_M_X_H1_VALFRI_SEK",1000,null,"30673_D466_cmb104_",{"$f":"VLOOKUP(B467,Import!E$1:F$20000,2,FALSE)","v":{"$error":"#N/A"}}]
[{"$f":"IF(ISBLANK(Inm_30673_D467_cmb103_),\"\",$T$468 * Inm_30673_D467_cmb103_)","v":""},"30673_D467_cmb103_","Handel i sven, Lång , Inflöde","VP203'!Inm_30673_D467_cmb103_","32211","S","L","SEK","TOT","I","M","X","H1",{"$f":"VLOOKUP('VP203'!$B$107,FlexDimensioner!$C$1:$D$430,2,FALSE)","v":"VALFRI"},"SEK",{"$f":"VLOOKUP(B468,Import!A$1:B$20000,2,FALSE)","v":{"$error":"#N/A"}},"EJ_GRANSKN",{"$f":"VLOOKUP(S468,Import!A$1:B$20000,2,FALSE)","v":{"$error":"#N/A"}},"32211_S_L_SEK_TOT_I_M_X_H1_VALFRI_SEK",1000,null,"30673_D467_cmb103_",{"$f":"VLOOKUP(B468,Import!E$1:F$20000,2,FALSE)","v":{"$error":"#N/A"}}]
[{"$f":"IF(ISBLANK(Inm_30673_D468_cmb102_),\"\",$T$469 * Inm_30673_D468_cmb102_)","v":""},"30673_D468_cmb102_","Handel i sven, Lång , Inflöde","VP203'!Inm_30673_D468_cmb102_","32211","S","L","SEK","TOT","I","M","X","H1",{"$f":"VLOOKUP('VP203'!$B$106,FlexDimensioner!$C$1:$D$430,2,FALSE)","v":"VALFRI"},"SEK",{"$f":"VLOOKUP(B469,Import!A$1:B$20000,2,FALSE)","v":{"$error":"#N/A"}},"EJ_GRANSKN",{"$f":"VLOOKUP(S469,Import!A$1:B$20000,2,FALSE)","v":{"$error":"#N/A"}},"32211_S_L_SEK_TOT_I_M_X_H1_VALFRI_SEK",1000,null,"30673_D468_cmb102_",{"$f":"VLOOKUP(B469,Import!E$1:F$20000,2,FALSE)","v":{"$error":"#N/A"}}]
[{"$f":"IF(ISBLANK(Inm_30673_D469_cmb101_),\"\",$T$470 * Inm_30673_D469_cmb101_)","v":""},"30673_D469_cmb101_","Handel i sven, Lång , Inflöde","VP203'!Inm_30673_D469_cmb101_","32211","S","L","SEK","TOT","I","M","X","H1",{"$f":"VLOOKUP('VP203'!$B$105,FlexDimensioner!$C$1:$D$430,2,FALSE)","v":"VALFRI"},"SEK",{"$f":"VLOOKUP(B470,Import!A$1:B$20000,2,FALSE)","v":{"$error":"#N/A"}},"EJ_GRANSKN",{"$f":"VLOOKUP(S470,Import!A$1:B$20000,2,FALSE)","v":{"$error":"#N/A"}},"32211_S_L_SEK_TOT_I_M_X_H1_VALFRI_SEK",1000,null,"30673_D469_cmb101_",{"$f":"VLOOKUP(B470,Import!E$1:F$20000,2,FALSE)","v":{"$error":"#N/A"}}]
[{"$f":"IF(ISBLANK(Inm_30673_D470_cmb100_),\"\",$T$471 * Inm_30673_D470_cmb100_)","v":""},"30673_D470_cmb100_","Handel i sven, Lång , Inflöde","VP203'!Inm_30673_D470_cmb100_","32211","S","L","SEK","TOT","I","M","X","H1",{"$f":"VLOOKUP('VP203'!$B$104,FlexDimensioner!$C$1:$D$430,2,FALSE)","v":"VALFRI"},"SEK",{"$f":"VLOOKUP(B471,Import!A$1:B$20000,2,FALSE)","v":{"$error":"#N/A"}},"EJ_GRANSKN",{"$f":"VLOOKUP(S471,Import!A$1:B$20000,2,FALSE)","v":{"$error":"#N/A"}},"32211_S_L_SEK_TOT_I_M_X_H1_VALFRI_SEK",1000,null,"30673_D470_cmb100_",{"$f":"VLOOKUP(B471,Import!E$1:F$20000,2,FALSE)","v":{"$error":"#N/A"}}]
[{"$f":"IF(ISBLANK(Inm_30673_D471_cmb99_),\"\",$T$472 * Inm_30673_D471_cmb99_)","v":""},"30673_D471_cmb99_","Handel i sven, Lång , Inflöde","VP203'!Inm_30673_D471_cmb99_","32211","S","L","SEK","TOT","I","M","X","H1",{"$f":"VLOOKUP('VP203'!$B$103,FlexDimensioner!$C$1:$D$430,2,FALSE)","v":"VALFRI"},"SEK",{"$f":"VLOOKUP(B472,Import!A$1:B$20000,2,FALSE)","v":{"$error":"#N/A"}},"EJ_GRANSKN",{"$f":"VLOOKUP(S472,Import!A$1:B$20000,2,FALSE)","v":{"$error":"#N/A"}},"32211_S_L_SEK_TOT_I_M_X_H1_VALFRI_SEK",1000,null,"30673_D471_cmb99_",{"$f":"VLOOKUP(B472,Import!E$1:F$20000,2,FALSE)","v":{"$error":"#N/A"}}]
[{"$f":"IF(ISBLANK(Inm_30673_D472_cmb98_),\"\",$T$473 * Inm_30673_D472_cmb98_)","v":""},"30673_D472_cmb98_","Handel i sven, Lång , Inflöde","VP203'!Inm_30673_D472_cmb98_","32211","S","L","SEK","TOT","I","M","X","H1",{"$f":"VLOOKUP('VP203'!$B$102,FlexDimensioner!$C$1:$D$430,2,FALSE)","v":"VALFRI"},"SEK",{"$f":"VLOOKUP(B473,Import!A$1:B$20000,2,FALSE)","v":{"$error":"#N/A"}},"EJ_GRANSKN",{"$f":"VLOOKUP(S473,Import!A$1:B$20000,2,FALSE)","v":{"$error":"#N/A"}},"32211_S_L_SEK_TOT_I_M_X_H1_VALFRI_SEK",1000,null,"30673_D472_cmb98_",{"$f":"VLOOKUP(B473,Import!E$1:F$20000,2,FALSE)","v":{"$error":"#N/A"}}]
[{"$f":"IF(ISBLANK(Inm_30673_D473_cmb97_),\"\",$T$474 * Inm_30673_D473_cmb97_)","v":""},"30673_D473_cmb97_","Handel i sven, Lång , Inflöde","VP203'!Inm_30673_D473_cmb97_","32211","S","L","SEK","TOT","I","M","X","H1",{"$f":"VLOOKUP('VP203'!$B$101,FlexDimensioner!$C$1:$D$430,2,FALSE)","v":"VALFRI"},"SEK",{"$f":"VLOOKUP(B474,Import!A$1:B$20000,2,FALSE)","v":{"$error":"#N/A"}},"EJ_GRANSKN",{"$f":"VLOOKUP(S474,Import!A$1:B$20000,2,FALSE)","v":{"$error":"#N/A"}},"32211_S_L_SEK_TOT_I_M_X_H1_VALFRI_SEK",1000,null,"30673_D473_cmb97_",{"$f":"VLOOKUP(B474,Import!E$1:F$20000,2,FALSE)","v":{"$error":"#N/A"}}]
[{"$f":"IF(ISBLANK(Inm_30673_D474_cmb96_),\"\",$T$475 * Inm_30673_D474_cmb96_)","v":""},"30673_D474_cmb96_","Handel i sven, Lång , Inflöde","VP203'!Inm_30673_D474_cmb96_","32211","S","L","SEK","TOT","I","M","X","H1",{"$f":"VLOOKUP('VP203'!$B$100,FlexDimensioner!$C$1:$D$430,2,FALSE)","v":"VALFRI"},"SEK",{"$f":"VLOOKUP(B475,Import!A$1:B$20000,2,FALSE)","v":{"$error":"#N/A"}},"EJ_GRANSKN",{"$f":"VLOOKUP(S475,Import!A$1:B$20000,2,FALSE)","v":{"$error":"#N/A"}},"32211_S_L_SEK_TOT_I_M_X_H1_VALFRI_SEK",1000,null,"30673_D474_cmb96_",{"$f":"VLOOKUP(B475,Import!E$1:F$20000,2,FALSE)","v":{"$error":"#N/A"}}]
[{"$f":"IF(ISBLANK(Inm_30673_D475_cmb95_),\"\",$T$476 * Inm_30673_D475_cmb95_)","v":""},"30673_D475_cmb95_","Handel i sven, Lång , Inflöde","VP203'!Inm_30673_D475_cmb95_","32211","S","L","SEK","TOT","I","M","X","H1",{"$f":"VLOOKUP('VP203'!$B$99,FlexDimensioner!$C$1:$D$430,2,FALSE)","v":"VALFRI"},"SEK",{"$f":"VLOOKUP(B476,Import!A$1:B$20000,2,FALSE)","v":{"$error":"#N/A"}},"EJ_GRANSKN",{"$f":"VLOOKUP(S476,Import!A$1:B$20000,2,FALSE)","v":{"$error":"#N/A"}},"32211_S_L_SEK_TOT_I_M_X_H1_VALFRI_SEK",1000,null,"30673_D475_cmb95_",{"$f":"VLOOKUP(B476,Import!E$1:F$20000,2,FALSE)","v":{"$error":"#N/A"}}]
[{"$f":"IF(ISBLANK(Inm_30673_D476_cmb94_),\"\",$T$477 * Inm_30673_D476_cmb94_)","v":""},"30673_D476_cmb94_","Handel i sven, Lång , Inflöde","VP203'!Inm_30673_D476_cmb94_","32211","S","L","SEK","TOT","I","M","X","H1",{"$f":"VLOOKUP('VP203'!$B$98,FlexDimensioner!$C$1:$D$430,2,FALSE)","v":"VALFRI"},"SEK",{"$f":"VLOOKUP(B477,Import!A$1:B$20000,2,FALSE)","v":{"$error":"#N/A"}},"EJ_GRANSKN",{"$f":"VLOOKUP(S477,Import!A$1:B$20000,2,FALSE)","v":{"$error":"#N/A"}},"32211_S_L_SEK_TOT_I_M_X_H1_VALFRI_SEK",1000,null,"30673_D476_cmb94_",{"$f":"VLOOKUP(B477,Import!E$1:F$20000,2,FALSE)","v":{"$error":"#N/A"}}]
[{"$f":"IF(ISBLANK(Inm_30673_D477_cmb93_),\"\",$T$478 * Inm_30673_D477_cmb93_)","v":""},"30673_D477_cmb93_","Handel i sven, Lång , Inflöde","VP203'!Inm_30673_D477_cmb93_","32211","S","L","SEK","TOT","I","M","X","H1",{"$f":"VLOOKUP('VP203'!$B$97,FlexDimensioner!$C$1:$D$430,2,FALSE)","v":"VALFRI"},"SEK",{"$f":"VLOOKUP(B478,Import!A$1:B$20000,2,FALSE)","v":{"$error":"#N/A"}},"EJ_GRANSKN",{"$f":"VLOOKUP(S478,Import!A$1:B$20000,2,FALSE)","v":{"$error":"#N/A"}},"32211_S_L_SEK_TOT_I_M_X_H1_VALFRI_SEK",1000,null,"30673_D477_cmb93_",{"$f":"VLOOKUP(B478,Import!E$1:F$20000,2,FALSE)","v":{"$error":"#N/A"}}]
[{"$f":"IF(ISBLANK(Inm_30673_D478_cmb92_),\"\",$T$479 * Inm_30673_D478_cmb92_)","v":""},"30673_D478_cmb92_","Handel i sven, Lång , Inflöde","VP203'!Inm_30673_D478_cmb92_","32211","S","L","SEK","TOT","I","M","X","H1",{"$f":"VLOOKUP('VP203'!$B$96,FlexDimensioner!$C$1:$D$430,2,FALSE)","v":"VALFRI"},"SEK",{"$f":"VLOOKUP(B479,Import!A$1:B$20000,2,FALSE)","v":{"$error":"#N/A"}},"EJ_GRANSKN",{"$f":"VLOOKUP(S479,Import!A$1:B$20000,2,FALSE)","v":{"$error":"#N/A"}},"32211_S_L_SEK_TOT_I_M_X_H1_VALFRI_SEK",1000,null,"30673_D478_cmb92_",{"$f":"VLOOKUP(B479,Import!E$1:F$20000,2,FALSE)","v":{"$error":"#N/A"}}]
[{"$f":"IF(ISBLANK(Inm_30673_D479_cmb91_),\"\",$T$480 * Inm_30673_D479_cmb91_)","v":""},"30673_D479_cmb91_","Handel i sven, Lång , Inflöde","VP203'!Inm_30673_D479_cmb91_","32211","S","L","SEK","TOT","I","M","X","H1",{"$f":"VLOOKUP('VP203'!$B$95,FlexDimensioner!$C$1:$D$430,2,FALSE)","v":"VALFRI"},"SEK",{"$f":"VLOOKUP(B480,Import!A$1:B$20000,2,FALSE)","v":{"$error":"#N/A"}},"EJ_GRANSKN",{"$f":"VLOOKUP(S480,Import!A$1:B$20000,2,FALSE)","v":{"$error":"#N/A"}},"32211_S_L_SEK_TOT_I_M_X_H1_VALFRI_SEK",1000,null,"30673_D479_cmb91_",{"$f":"VLOOKUP(B480,Import!E$1:F$20000,2,FALSE)","v":{"$error":"#N/A"}}]
[{"$f":"IF(ISBLANK(Inm_30673_D480_cmb90_),\"\",$T$481 * Inm_30673_D480_cmb90_)","v":""},"30673_D480_cmb90_","Handel i sven, Lång , Inflöde","VP203'!Inm_30673_D480_cmb90_","32211","S","L","SEK","TOT","I","M","X","H1",{"$f":"VLOOKUP('VP203'!$B$94,FlexDimensioner!$C$1:$D$430,2,FALSE)","v":"VALFRI"},"SEK",{"$f":"VLOOKUP(B481,Import!A$1:B$20000,2,FALSE)","v":{"$error":"#N/A"}},"EJ_GRANSKN",{"$f":"VLOOKUP(S481,Import!A$1:B$20000,2,FALSE)","v":{"$error":"#N/A"}},"32211_S_L_SEK_TOT_I_M_X_H1_VALFRI_SEK",1000,null,"30673_D480_cmb90_",{"$f":"VLOOKUP(B481,Import!E$1:F$20000,2,FALSE)","v":{"$error":"#N/A"}}]
[{"$f":"IF(ISBLANK(Inm_30673_D481_cmb89_),\"\",$T$482 * Inm_30673_D481_cmb89_)","v":""},"30673_D481_cmb89_","Handel i sven, Lång , Inflöde","VP203'!Inm_30673_D481_cmb89_","32211","S","L","SEK","TOT","I","M","X","H1",{"$f":"VLOOKUP('VP203'!$B$93,FlexDimensioner!$C$1:$D$430,2,FALSE)","v":"VALFRI"},"SEK",{"$f":"VLOOKUP(B482,Import!A$1:B$20000,2,FALSE)","v":{"$error":"#N/A"}},"EJ_GRANSKN",{"$f":"VLOOKUP(S482,Import!A$1:B$20000,2,FALSE)","v":{"$error":"#N/A"}},"32211_S_L_SEK_TOT_I_M_X_H1_VALFRI_SEK",1000,null,"30673_D481_cmb89_",{"$f":"VLOOKUP(B482,Import!E$1:F$20000,2,FALSE)","v":{"$error":"#N/A"}}]
[{"$f":"IF(ISBLANK(Inm_30673_D482_cmb88_),\"\",$T$483 * Inm_30673_D482_cmb88_)","v":""},"30673_D482_cmb88_","Handel i sven, Lång , Inflöde","VP203'!Inm_30673_D482_cmb88_","32211","S","L","SEK","TOT","I","M","X","H1",{"$f":"VLOOKUP('VP203'!$B$92,FlexDimensioner!$C$1:$D$430,2,FALSE)","v":"VALFRI"},"SEK",{"$f":"VLOOKUP(B483,Import!A$1:B$20000,2,FALSE)","v":{"$error":"#N/A"}},"EJ_GRANSKN",{"$f":"VLOOKUP(S483,Import!A$1:B$20000,2,FALSE)","v":{"$error":"#N/A"}},"32211_S_L_SEK_TOT_I_M_X_H1_VALFRI_SEK",1000,null,"30673_D482_cmb88_",{"$f":"VLOOKUP(B483,Import!E$1:F$20000,2,FALSE)","v":{"$error":"#N/A"}}]
[{"$f":"IF(ISBLANK(Inm_30673_D483_cmb87_),\"\",$T$484 * Inm_30673_D483_cmb87_)","v":""},"30673_D483_cmb87_","Handel i sven, Lång , Inflöde","VP203'!Inm_30673_D483_cmb87_","32211","S","L","SEK","TOT","I","M","X","H1",{"$f":"VLOOKUP('VP203'!$B$91,FlexDimensioner!$C$1:$D$430,2,FALSE)","v":"VALFRI"},"SEK",{"$f":"VLOOKUP(B484,Import!A$1:B$20000,2,FALSE)","v":{"$error":"#N/A"}},"EJ_GRANSKN",{"$f":"VLOOKUP(S484,Import!A$1:B$20000,2,FALSE)","v":{"$error":"#N/A"}},"32211_S_L_SEK_TOT_I_M_X_H1_VALFRI_SEK",1000,null,"30673_D483_cmb87_",{"$f":"VLOOKUP(B484,Import!E$1:F$20000,2,FALSE)","v":{"$error":"#N/A"}}]
[{"$f":"IF(ISBLANK(Inm_30673_D484_cmb86_),\"\",$T$485 * Inm_30673_D484_cmb86_)","v":""},"30673_D484_cmb86_","Handel i sven, Lång , Inflöde","VP203'!Inm_30673_D484_cmb86_","32211","S","L","SEK","TOT","I","M","X","H1",{"$f":"VLOOKUP('VP203'!$B$90,FlexDimensioner!$C$1:$D$430,2,FALSE)","v":"VALFRI"},"SEK",{"$f":"VLOOKUP(B485,Import!A$1:B$20000,2,FALSE)","v":{"$error":"#N/A"}},"EJ_GRANSKN",{"$f":"VLOOKUP(S485,Import!A$1:B$20000,2,FALSE)","v":{"$error":"#N/A"}},"32211_S_L_SEK_TOT_I_M_X_H1_VALFRI_SEK",1000,null,"30673_D484_cmb86_",{"$f":"VLOOKUP(B485,Import!E$1:F$20000,2,FALSE)","v":{"$error":"#N/A"}}]
[{"$f":"IF(ISBLANK(Inm_30673_D485_cmb85_),\"\",$T$486 * Inm_30673_D485_cmb85_)","v":""},"30673_D485_cmb85_","Handel i sven, Lång , Inflöde","VP203'!Inm_30673_D485_cmb85_","32211","S","L","SEK","TOT","I","M","X","H1",{"$f":"VLOOKUP('VP203'!$B$89,FlexDimensioner!$C$1:$D$430,2,FALSE)","v":"VALFRI"},"SEK",{"$f":"VLOOKUP(B486,Import!A$1:B$20000,2,FALSE)","v":{"$error":"#N/A"}},"EJ_GRANSKN",{"$f":"VLOOKUP(S486,Import!A$1:B$20000,2,FALSE)","v":{"$error":"#N/A"}},"32211_S_L_SEK_TOT_I_M_X_H1_VALFRI_SEK",1000,null,"30673_D485_cmb85_",{"$f":"VLOOKUP(B486,Import!E$1:F$20000,2,FALSE)","v":{"$error":"#N/A"}}]
[{"$f":"IF(ISBLANK(Inm_30673_D486_cmb84_),\"\",$T$487 * Inm_30673_D486_cmb84_)","v":""},"30673_D486_cmb84_","Handel i sven, Lång , Inflöde","VP203'!Inm_30673_D486_cmb84_","32211","S","L","SEK","TOT","I","M","X","H1",{"$f":"VLOOKUP('VP203'!$B$88,FlexDimensioner!$C$1:$D$430,2,FALSE)","v":"VALFRI"},"SEK",{"$f":"VLOOKUP(B487,Import!A$1:B$20000,2,FALSE)","v":{"$error":"#N/A"}},"EJ_GRANSKN",{"$f":"VLOOKUP(S487,Import!A$1:B$20000,2,FALSE)","v":{"$error":"#N/A"}},"32211_S_L_SEK_TOT_I_M_X_H1_VALFRI_SEK",1000,null,"30673_D486_cmb84_",{"$f":"VLOOKUP(B487,Import!E$1:F$20000,2,FALSE)","v":{"$error":"#N/A"}}]
[{"$f":"IF(ISBLANK(Inm_30673_D487_cmb83_),\"\",$T$488 * Inm_30673_D487_cmb83_)","v":""},"30673_D487_cmb83_","Handel i sven, Lång , Inflöde","VP203'!Inm_30673_D487_cmb83_","32211","S","L","SEK","TOT","I","M","X","H1",{"$f":"VLOOKUP('VP203'!$B$87,FlexDimensioner!$C$1:$D$430,2,FALSE)","v":"VALFRI"},"SEK",{"$f":"VLOOKUP(B488,Import!A$1:B$20000,2,FALSE)","v":{"$error":"#N/A"}},"EJ_GRANSKN",{"$f":"VLOOKUP(S488,Import!A$1:B$20000,2,FALSE)","v":{"$error":"#N/A"}},"32211_S_L_SEK_TOT_I_M_X_H1_VALFRI_SEK",1000,null,"30673_D487_cmb83_",{"$f":"VLOOKUP(B488,Import!E$1:F$20000,2,FALSE)","v":{"$error":"#N/A"}}]
[{"$f":"IF(ISBLANK(Inm_30673_D488_cmb82_),\"\",$T$489 * Inm_30673_D488_cmb82_)","v":""},"30673_D488_cmb82_","Handel i sven, Lång , Inflöde","VP203'!Inm_30673_D488_cmb82_","32211","S","L","SEK","TOT","I","M","X","H1",{"$f":"VLOOKUP('VP203'!$B$86,FlexDimensioner!$C$1:$D$430,2,FALSE)","v":"VALFRI"},"SEK",{"$f":"VLOOKUP(B489,Import!A$1:B$20000,2,FALSE)","v":{"$error":"#N/A"}},"EJ_GRANSKN",{"$f":"VLOOKUP(S489,Import!A$1:B$20000,2,FALSE)","v":{"$error":"#N/A"}},"32211_S_L_SEK_TOT_I_M_X_H1_VALFRI_SEK",1000,null,"30673_D488_cmb82_",{"$f":"VLOOKUP(B489,Import!E$1:F$20000,2,FALSE)","v":{"$error":"#N/A"}}]
[{"$f":"IF(ISBLANK(Inm_30673_D489_cmb81_),\"\",$T$490 * Inm_30673_D489_cmb81_)","v":""},"30673_D489_cmb81_","Handel i sven, Lång , Inflöde","VP203'!Inm_30673_D489_cmb81_","32211","S","L","SEK","TOT","I","M","X","H1",{"$f":"VLOOKUP('VP203'!$B$85,FlexDimensioner!$C$1:$D$430,2,FALSE)","v":"VALFRI"},"SEK",{"$f":"VLOOKUP(B490,Import!A$1:B$20000,2,FALSE)","v":{"$error":"#N/A"}},"EJ_GRANSKN",{"$f":"VLOOKUP(S490,Import!A$1:B$20000,2,FALSE)","v":{"$error":"#N/A"}},"32211_S_L_SEK_TOT_I_M_X_H1_VALFRI_SEK",1000,null,"30673_D489_cmb81_",{"$f":"VLOOKUP(B490,Import!E$1:F$20000,2,FALSE)","v":{"$error":"#N/A"}}]
[{"$f":"IF(ISBLANK(Inm_30673_D491_cmb78_),\"\",$T$491 * Inm_30673_D491_cmb78_)","v":""},"30673_D491_cmb78_","Handel i sven, Lång , Inflöde","VP203'!Inm_30673_D491_cmb78_","32211","S","L","SEK","TOT","I","M","X","H1",{"$f":"VLOOKUP('VP203'!$B$84,FlexDimensioner!$C$1:$D$430,2,FALSE)","v":"VALFRI"},"SEK",{"$f":"VLOOKUP(B491,Import!A$1:B$20000,2,FALSE)","v":{"$error":"#N/A"}},"EJ_GRANSKN",{"$f":"VLOOKUP(S491,Import!A$1:B$20000,2,FALSE)","v":{"$error":"#N/A"}},"32211_S_L_SEK_TOT_I_M_X_H1_VALFRI_SEK",1000,null,"30673_D491_cmb78_",{"$f":"VLOOKUP(B491,Import!E$1:F$20000,2,FALSE)","v":{"$error":"#N/A"}}]
[{"$f":"IF(ISBLANK(Inm_30673_D492_cmb77_),\"\",$T$492 * Inm_30673_D492_cmb77_)","v":""},"30673_D492_cmb77_","Handel i sven, Lång , Inflöde","VP203'!Inm_30673_D492_cmb77_","32211","S","L","SEK","TOT","I","M","X","H1",{"$f":"VLOOKUP('VP203'!$B$83,FlexDimensioner!$C$1:$D$430,2,FALSE)","v":"VALFRI"},"SEK",{"$f":"VLOOKUP(B492,Import!A$1:B$20000,2,FALSE)","v":{"$error":"#N/A"}},"EJ_GRANSKN",{"$f":"VLOOKUP(S492,Import!A$1:B$20000,2,FALSE)","v":{"$error":"#N/A"}},"32211_S_L_SEK_TOT_I_M_X_H1_VALFRI_SEK",1000,null,"30673_D492_cmb77_",{"$f":"VLOOKUP(B492,Import!E$1:F$20000,2,FALSE)","v":{"$error":"#N/A"}}]
[{"$f":"IF(ISBLANK(Inm_30673_D493_cmb76_),\"\",$T$493 * Inm_30673_D493_cmb76_)","v":""},"30673_D493_cmb76_","Handel i sven, Lång , Inflöde","VP203'!Inm_30673_D493_cmb76_","32211","S","L","SEK","TOT","I","M","X","H1",{"$f":"VLOOKUP('VP203'!$B$82,FlexDimensioner!$C$1:$D$430,2,FALSE)","v":"VALFRI"},"SEK",{"$f":"VLOOKUP(B493,Import!A$1:B$20000,2,FALSE)","v":{"$error":"#N/A"}},"EJ_GRANSKN",{"$f":"VLOOKUP(S493,Import!A$1:B$20000,2,FALSE)","v":{"$error":"#N/A"}},"32211_S_L_SEK_TOT_I_M_X_H1_VALFRI_SEK",1000,null,"30673_D493_cmb76_",{"$f":"VLOOKUP(B493,Import!E$1:F$20000,2,FALSE)","v":{"$error":"#N/A"}}]
[{"$f":"IF(ISBLANK(Inm_30673_D494_cmb75_),\"\",$T$494 * Inm_30673_D494_cmb75_)","v":""},"30673_D494_cmb75_","Handel i sven, Lång , Inflöde","VP203'!Inm_30673_D494_cmb75_","32211","S","L","SEK","TOT","I","M","X","H1",{"$f":"VLOOKUP('VP203'!$B$81,FlexDimensioner!$C$1:$D$430,2,FALSE)","v":"VALFRI"},"SEK",{"$f":"VLOOKUP(B494,Import!A$1:B$20000,2,FALSE)","v":{"$error":"#N/A"}},"EJ_GRANSKN",{"$f":"VLOOKUP(S494,Import!A$1:B$20000,2,FALSE)","v":{"$error":"#N/A"}},"32211_S_L_SEK_TOT_I_M_X_H1_VALFRI_SEK",1000,null,"30673_D494_cmb75_",{"$f":"VLOOKUP(B494,Import!E$1:F$20000,2,FALSE)","v":{"$error":"#N/A"}}]
[{"$f":"IF(ISBLANK(Inm_30673_D495_cmb74_),\"\",$T$495 * Inm_30673_D495_cmb74_)","v":""},"30673_D495_cmb74_","Handel i sven, Lång , Inflöde","VP203'!Inm_30673_D495_cmb74_","32211","S","L","SEK","TOT","I","M","X","H1",{"$f":"VLOOKUP('VP203'!$B$80,FlexDimensioner!$C$1:$D$430,2,FALSE)","v":"VALFRI"},"SEK",{"$f":"VLOOKUP(B495,Import!A$1:B$20000,2,FALSE)","v":{"$error":"#N/A"}},"EJ_GRANSKN",{"$f":"VLOOKUP(S495,Import!A$1:B$20000,2,FALSE)","v":{"$error":"#N/A"}},"32211_S_L_SEK_TOT_I_M_X_H1_VALFRI_SEK",1000,null,"30673_D495_cmb74_",{"$f":"VLOOKUP(B495,Import!E$1:F$20000,2,FALSE)","v":{"$error":"#N/A"}}]
[{"$f":"IF(ISBLANK(Inm_30673_D496_cmb73_),\"\",$T$496 * Inm_30673_D496_cmb73_)","v":""},"30673_D496_cmb73_","Handel i sven, Lång , Inflöde","VP203'!Inm_30673_D496_cmb73_","32211","S","L","SEK","TOT","I","M","X","H1",{"$f":"VLOOKUP('VP203'!$B$79,FlexDimensioner!$C$1:$D$430,2,FALSE)","v":"VALFRI"},"SEK",{"$f":"VLOOKUP(B496,Import!A$1:B$20000,2,FALSE)","v":{"$error":"#N/A"}},"EJ_GRANSKN",{"$f":"VLOOKUP(S496,Import!A$1:B$20000,2,FALSE)","v":{"$error":"#N/A"}},"32211_S_L_SEK_TOT_I_M_X_H1_VALFRI_SEK",1000,null,"30673_D496_cmb73_",{"$f":"VLOOKUP(B496,Import!E$1:F$20000,2,FALSE)","v":{"$error":"#N/A"}}]
[{"$f":"IF(ISBLANK(Inm_30673_D497_cmb72_),\"\",$T$497 * Inm_30673_D497_cmb72_)","v":""},"30673_D497_cmb72_","Handel i sven, Lång , Inflöde","VP203'!Inm_30673_D497_cmb72_","32211","S","L","SEK","TOT","I","M","X","H1",{"$f":"VLOOKUP('VP203'!$B$78,FlexDimensioner!$C$1:$D$430,2,FALSE)","v":"VALFRI"},"SEK",{"$f":"VLOOKUP(B497,Import!A$1:B$20000,2,FALSE)","v":{"$error":"#N/A"}},"EJ_GRANSKN",{"$f":"VLOOKUP(S497,Import!A$1:B$20000,2,FALSE)","v":{"$error":"#N/A"}},"32211_S_L_SEK_TOT_I_M_X_H1_VALFRI_SEK",1000,null,"30673_D497_cmb72_",{"$f":"VLOOKUP(B497,Import!E$1:F$20000,2,FALSE)","v":{"$error":"#N/A"}}]
[{"$f":"IF(ISBLANK(Inm_30673_D498_cmb71_),\"\",$T$498 * Inm_30673_D498_cmb71_)","v":""},"30673_D498_cmb71_","Handel i sven, Lång , Inflöde","VP203'!Inm_30673_D498_cmb71_","32211","S","L","SEK","TOT","I","M","X","H1",{"$f":"VLOOKUP('VP203'!$B$77,FlexDimensioner!$C$1:$D$430,2,FALSE)","v":"VALFRI"},"SEK",{"$f":"VLOOKUP(B498,Import!A$1:B$20000,2,FALSE)","v":{"$error":"#N/A"}},"EJ_GRANSKN",{"$f":"VLOOKUP(S498,Import!A$1:B$20000,2,FALSE)","v":{"$error":"#N/A"}},"32211_S_L_SEK_TOT_I_M_X_H1_VALFRI_SEK",1000,null,"30673_D498_cmb71_",{"$f":"VLOOKUP(B498,Import!E$1:F$20000,2,FALSE)","v":{"$error":"#N/A"}}]
[{"$f":"IF(ISBLANK(Inm_30673_D499_cmb70_),\"\",$T$499 * Inm_30673_D499_cmb70_)","v":""},"30673_D499_cmb70_","Handel i sven, Lång , Inflöde","VP203'!Inm_30673_D499_cmb70_","32211","S","L","SEK","TOT","I","M","X","H1",{"$f":"VLOOKUP('VP203'!$B$76,FlexDimensioner!$C$1:$D$430,2,FALSE)","v":"VALFRI"},"SEK",{"$f":"VLOOKUP(B499,Import!A$1:B$20000,2,FALSE)","v":{"$error":"#N/A"}},"EJ_GRANSKN",{"$f":"VLOOKUP(S499,Import!A$1:B$20000,2,FALSE)","v":{"$error":"#N/A"}},"32211_S_L_SEK_TOT_I_M_X_H1_VALFRI_SEK",1000,null,"30673_D499_cmb70_",{"$f":"VLOOKUP(B499,Import!E$1:F$20000,2,FALSE)","v":{"$error":"#N/A"}}]
[{"$f":"IF(ISBLANK(Inm_30673_D500_cmb69_),\"\",$T$500 * Inm_30673_D500_cmb69_)","v":""},"30673_D500_cmb69_","Handel i sven, Lång , Inflöde","VP203'!Inm_30673_D500_cmb69_","32211","S","L","SEK","TOT","I","M","X","H1",{"$f":"VLOOKUP('VP203'!$B$75,FlexDimensioner!$C$1:$D$430,2,FALSE)","v":"VALFRI"},"SEK",{"$f":"VLOOKUP(B500,Import!A$1:B$20000,2,FALSE)","v":{"$error":"#N/A"}},"EJ_GRANSKN",{"$f":"VLOOKUP(S500,Import!A$1:B$20000,2,FALSE)","v":{"$error":"#N/A"}},"32211_S_L_SEK_TOT_I_M_X_H1_VALFRI_SEK",1000,null,"30673_D500_cmb69_",{"$f":"VLOOKUP(B500,Import!E$1:F$20000,2,FALSE)","v":{"$error":"#N/A"}}]
[{"$f":"IF(ISBLANK(Inm_30673_D501_cmb68_),\"\",$T$501 * Inm_30673_D501_cmb68_)","v":""},"30673_D501_cmb68_","Handel i sven, Lång , Inflöde","VP203'!Inm_30673_D501_cmb68_","32211","S","L","SEK","TOT","I","M","X","H1",{"$f":"VLOOKUP('VP203'!$B$74,FlexDimensioner!$C$1:$D$430,2,FALSE)","v":"VALFRI"},"SEK",{"$f":"VLOOKUP(B501,Import!A$1:B$20000,2,FALSE)","v":{"$error":"#N/A"}},"EJ_GRANSKN",{"$f":"VLOOKUP(S501,Import!A$1:B$20000,2,FALSE)","v":{"$error":"#N/A"}},"32211_S_L_SEK_TOT_I_M_X_H1_VALFRI_SEK",1000,null,"30673_D501_cmb68_",{"$f":"VLOOKUP(B501,Import!E$1:F$20000,2,FALSE)","v":{"$error":"#N/A"}}]
[{"$f":"IF(ISBLANK(Inm_30673_D502_cmb67_),\"\",$T$502 * Inm_30673_D502_cmb67_)","v":""},"30673_D502_cmb67_","Handel i sven, Lång , Inflöde","VP203'!Inm_30673_D502_cmb67_","32211","S","L","SEK","TOT","I","M","X","H1",{"$f":"VLOOKUP('VP203'!$B$73,FlexDimensioner!$C$1:$D$430,2,FALSE)","v":"VALFRI"},"SEK",{"$f":"VLOOKUP(B502,Import!A$1:B$20000,2,FALSE)","v":{"$error":"#N/A"}},"EJ_GRANSKN",{"$f":"VLOOKUP(S502,Import!A$1:B$20000,2,FALSE)","v":{"$error":"#N/A"}},"32211_S_L_SEK_TOT_I_M_X_H1_VALFRI_SEK",1000,null,"30673_D502_cmb67_",{"$f":"VLOOKUP(B502,Import!E$1:F$20000,2,FALSE)","v":{"$error":"#N/A"}}]
[{"$f":"IF(ISBLANK(Inm_30673_D503_cmb66_),\"\",$T$503 * Inm_30673_D503_cmb66_)","v":""},"30673_D503_cmb66_","Handel i sven, Lång , Inflöde","VP203'!Inm_30673_D503_cmb66_","32211","S","L","SEK","TOT","I","M","X","H1",{"$f":"VLOOKUP('VP203'!$B$72,FlexDimensioner!$C$1:$D$430,2,FALSE)","v":"VALFRI"},"SEK",{"$f":"VLOOKUP(B503,Import!A$1:B$20000,2,FALSE)","v":{"$error":"#N/A"}},"EJ_GRANSKN",{"$f":"VLOOKUP(S503,Import!A$1:B$20000,2,FALSE)","v":{"$error":"#N/A"}},"32211_S_L_SEK_TOT_I_M_X_H1_VALFRI_SEK",1000,null,"30673_D503_cmb66_",{"$f":"VLOOKUP(B503,Import!E$1:F$20000,2,FALSE)","v":{"$error":"#N/A"}}]
[{"$f":"IF(ISBLANK(Inm_30673_D504_cmb65_),\"\",$T$504 * Inm_30673_D504_cmb65_)","v":""},"30673_D504_cmb65_","Handel i sven, Lång , Inflöde","VP203'!Inm_30673_D504_cmb65_","32211","S","L","SEK","TOT","I","M","X","H1",{"$f":"VLOOKUP('VP203'!$B$71,FlexDimensioner!$C$1:$D$430,2,FALSE)","v":"VALFRI"},"SEK",{"$f":"VLOOKUP(B504,Import!A$1:B$20000,2,FALSE)","v":{"$error":"#N/A"}},"EJ_GRANSKN",{"$f":"VLOOKUP(S504,Import!A$1:B$20000,2,FALSE)","v":{"$error":"#N/A"}},"32211_S_L_SEK_TOT_I_M_X_H1_VALFRI_SEK",1000,null,"30673_D504_cmb65_",{"$f":"VLOOKUP(B504,Import!E$1:F$20000,2,FALSE)","v":{"$error":"#N/A"}}]
[{"$f":"IF(ISBLANK(Inm_30673_D505_cmb64_),\"\",$T$505 * Inm_30673_D505_cmb64_)","v":""},"30673_D505_cmb64_","Handel i sven, Lång , Inflöde","VP203'!Inm_30673_D505_cmb64_","32211","S","L","SEK","TOT","I","M","X","H1",{"$f":"VLOOKUP('VP203'!$B$70,FlexDimensioner!$C$1:$D$430,2,FALSE)","v":"VALFRI"},"SEK",{"$f":"VLOOKUP(B505,Import!A$1:B$20000,2,FALSE)","v":{"$error":"#N/A"}},"EJ_GRANSKN",{"$f":"VLOOKUP(S505,Import!A$1:B$20000,2,FALSE)","v":{"$error":"#N/A"}},"32211_S_L_SEK_TOT_I_M_X_H1_VALFRI_SEK",1000,null,"30673_D505_cmb64_",{"$f":"VLOOKUP(B505,Import!E$1:F$20000,2,FALSE)","v":{"$error":"#N/A"}}]
[{"$f":"IF(ISBLANK(Inm_30673_D506_cmb63_),\"\",$T$506 * Inm_30673_D506_cmb63_)","v":""},"30673_D506_cmb63_","Handel i sven, Lång , Inflöde","VP203'!Inm_30673_D506_cmb63_","32211","S","L","SEK","TOT","I","M","X","H1",{"$f":"VLOOKUP('VP203'!$B$69,FlexDimensioner!$C$1:$D$430,2,FALSE)","v":"VALFRI"},"SEK",{"$f":"VLOOKUP(B506,Import!A$1:B$20000,2,FALSE)","v":{"$error":"#N/A"}},"EJ_GRANSKN",{"$f":"VLOOKUP(S506,Import!A$1:B$20000,2,FALSE)","v":{"$error":"#N/A"}},"32211_S_L_SEK_TOT_I_M_X_H1_VALFRI_SEK",1000,null,"30673_D506_cmb63_",{"$f":"VLOOKUP(B506,Import!E$1:F$20000,2,FALSE)","v":{"$error":"#N/A"}}]
[{"$f":"IF(ISBLANK(Inm_30673_D507_cmb62_),\"\",$T$507 * Inm_30673_D507_cmb62_)","v":""},"30673_D507_cmb62_","Handel i sven, Lång , Inflöde","VP203'!Inm_30673_D507_cmb62_","32211","S","L","SEK","TOT","I","M","X","H1",{"$f":"VLOOKUP('VP203'!$B$68,FlexDimensioner!$C$1:$D$430,2,FALSE)","v":"VALFRI"},"SEK",{"$f":"VLOOKUP(B507,Import!A$1:B$20000,2,FALSE)","v":{"$error":"#N/A"}},"EJ_GRANSKN",{"$f":"VLOOKUP(S507,Import!A$1:B$20000,2,FALSE)","v":{"$error":"#N/A"}},"32211_S_L_SEK_TOT_I_M_X_H1_VALFRI_SEK",1000,null,"30673_D507_cmb62_",{"$f":"VLOOKUP(B507,Import!E$1:F$20000,2,FALSE)","v":{"$error":"#N/A"}}]
[{"$f":"IF(ISBLANK(Inm_30673_D508_cmb61_),\"\",$T$508 * Inm_30673_D508_cmb61_)","v":""},"30673_D508_cmb61_","Handel i sven, Lång , Inflöde","VP203'!Inm_30673_D508_cmb61_","32211","S","L","SEK","TOT","I","M","X","H1",{"$f":"VLOOKUP('VP203'!$B$67,FlexDimensioner!$C$1:$D$430,2,FALSE)","v":"VALFRI"},"SEK",{"$f":"VLOOKUP(B508,Import!A$1:B$20000,2,FALSE)","v":{"$error":"#N/A"}},"EJ_GRANSKN",{"$f":"VLOOKUP(S508,Import!A$1:B$20000,2,FALSE)","v":{"$error":"#N/A"}},"32211_S_L_SEK_TOT_I_M_X_H1_VALFRI_SEK",1000,null,"30673_D508_cmb61_",{"$f":"VLOOKUP(B508,Import!E$1:F$20000,2,FALSE)","v":{"$error":"#N/A"}}]
[{"$f":"IF(ISBLANK(Inm_30673_D509_cmb60_),\"\",$T$509 * Inm_30673_D509_cmb60_)","v":""},"30673_D509_cmb60_","Handel i sven, Lång , Inflöde","VP203'!Inm_30673_D509_cmb60_","32211","S","L","SEK","TOT","I","M","X","H1",{"$f":"VLOOKUP('VP203'!$B$66,FlexDimensioner!$C$1:$D$430,2,FALSE)","v":"VALFRI"},"SEK",{"$f":"VLOOKUP(B509,Import!A$1:B$20000,2,FALSE)","v":{"$error":"#N/A"}},"EJ_GRANSKN",{"$f":"VLOOKUP(S509,Import!A$1:B$20000,2,FALSE)","v":{"$error":"#N/A"}},"32211_S_L_SEK_TOT_I_M_X_H1_VALFRI_SEK",1000,null,"30673_D509_cmb60_",{"$f":"VLOOKUP(B509,Import!E$1:F$20000,2,FALSE)","v":{"$error":"#N/A"}}]
[{"$f":"IF(ISBLANK(Inm_30673_D510_cmb59_),\"\",$T$510 * Inm_30673_D510_cmb59_)","v":""},"30673_D510_cmb59_","Handel i sven, Lång , Inflöde","VP203'!Inm_30673_D510_cmb59_","32211","S","L","SEK","TOT","I","M","X","H1",{"$f":"VLOOKUP('VP203'!$B$65,FlexDimensioner!$C$1:$D$430,2,FALSE)","v":"VALFRI"},"SEK",{"$f":"VLOOKUP(B510,Import!A$1:B$20000,2,FALSE)","v":{"$error":"#N/A"}},"EJ_GRANSKN",{"$f":"VLOOKUP(S510,Import!A$1:B$20000,2,FALSE)","v":{"$error":"#N/A"}},"32211_S_L_SEK_TOT_I_M_X_H1_VALFRI_SEK",1000,null,"30673_D510_cmb59_",{"$f":"VLOOKUP(B510,Import!E$1:F$20000,2,FALSE)","v":{"$error":"#N/A"}}]
[{"$f":"IF(ISBLANK(Inm_30673_D511_cmb57_),\"\",$T$511 * Inm_30673_D511_cmb57_)","v":""},"30673_D511_cmb57_","Handel i sven, Lång , Inflöde","VP203'!Inm_30673_D511_cmb57_","32211","S","L","SEK","TOT","I","M","X","H1",{"$f":"VLOOKUP('VP203'!$B$64,FlexDimensioner!$C$1:$D$430,2,FALSE)","v":"VALFRI"},"SEK",{"$f":"VLOOKUP(B511,Import!A$1:B$20000,2,FALSE)","v":{"$error":"#N/A"}},"EJ_GRANSKN",{"$f":"VLOOKUP(S511,Import!A$1:B$20000,2,FALSE)","v":{"$error":"#N/A"}},"32211_S_L_SEK_TOT_I_M_X_H1_VALFRI_SEK",1000,null,"30673_D511_cmb57_",{"$f":"VLOOKUP(B511,Import!E$1:F$20000,2,FALSE)","v":{"$error":"#N/A"}}]
[{"$f":"IF(ISBLANK(Inm_30673_D512_cmb56_),\"\",$T$512 * Inm_30673_D512_cmb56_)","v":""},"30673_D512_cmb56_","Handel i sven, Lång , Inflöde","VP203'!Inm_30673_D512_cmb56_","32211","S","L","SEK","TOT","I","M","X","H1",{"$f":"VLOOKUP('VP203'!$B$63,FlexDimensioner!$C$1:$D$430,2,FALSE)","v":"VALFRI"},"SEK",{"$f":"VLOOKUP(B512,Import!A$1:B$20000,2,FALSE)","v":{"$error":"#N/A"}},"EJ_GRANSKN",{"$f":"VLOOKUP(S512,Import!A$1:B$20000,2,FALSE)","v":{"$error":"#N/A"}},{"$f":"CONCATENATE(E512,\"_\",F512,\"_\",G512,\"_\",H512,\"_\",I512,\"_\",J512,\"_\",K512,\"_\",L512,\"_\",M512,\"_\",N512,\"_\",O512)","v":"32211_S_L_SEK_TOT_I_M_X_H1_VALFRI_SEK"},1000,null,"30673_D512_cmb56_",{"$f":"VLOOKUP(B512,Import!E$1:F$20000,2,FALSE)","v":{"$error":"#N/A"}}]
[{"$f":"IF(ISBLANK(Inm_30673_D513_cmb55_),\"\",$T$513 * Inm_30673_D513_cmb55_)","v":""},"30673_D513_cmb55_","Handel i sven, Lång , Inflöde","VP203'!Inm_30673_D513_cmb55_","32211","S","L","SEK","TOT","I","M","X","H1",{"$f":"VLOOKUP('VP203'!$B$62,FlexDimensioner!$C$1:$D$430,2,FALSE)","v":"VALFRI"},"SEK",{"$f":"VLOOKUP(B513,Import!A$1:B$20000,2,FALSE)","v":{"$error":"#N/A"}},"EJ_GRANSKN",{"$f":"VLOOKUP(S513,Import!A$1:B$20000,2,FALSE)","v":{"$error":"#N/A"}},"32211_S_L_SEK_TOT_I_M_X_H1_VALFRI_SEK",1000,null,"30673_D513_cmb55_",{"$f":"VLOOKUP(B513,Import!E$1:F$20000,2,FALSE)","v":{"$error":"#N/A"}}]
[{"$f":"IF(ISBLANK(Inm_30673_D514_cmb54_),\"\",$T$514 * Inm_30673_D514_cmb54_)","v":""},"30673_D514_cmb54_","Handel i sven, Lång , Inflöde","VP203'!Inm_30673_D514_cmb54_","32211","S","L","SEK","TOT","I","M","X","H1",{"$f":"VLOOKUP('VP203'!$B$61,FlexDimensioner!$C$1:$D$430,2,FALSE)","v":"VALFRI"},"SEK",{"$f":"VLOOKUP(B514,Import!A$1:B$20000,2,FALSE)","v":{"$error":"#N/A"}},"EJ_GRANSKN",{"$f":"VLOOKUP(S514,Import!A$1:B$20000,2,FALSE)","v":{"$error":"#N/A"}},"32211_S_L_SEK_TOT_I_M_X_H1_VALFRI_SEK",1000,null,"30673_D514_cmb54_",{"$f":"VLOOKUP(B514,Import!E$1:F$20000,2,FALSE)","v":{"$error":"#N/A"}}]
[{"$f":"IF(ISBLANK(Inm_30673_D515_cmb53_),\"\",$T$515 * Inm_30673_D515_cmb53_)","v":""},"30673_D515_cmb53_","Handel i sven, Lång , Inflöde","VP203'!Inm_30673_D515_cmb53_","32211","S","L","SEK","TOT","I","M","X","H1",{"$f":"VLOOKUP('VP203'!$B$60,FlexDimensioner!$C$1:$D$430,2,FALSE)","v":"VALFRI"},"SEK",{"$f":"VLOOKUP(B515,Import!A$1:B$20000,2,FALSE)","v":{"$error":"#N/A"}},"EJ_GRANSKN",{"$f":"VLOOKUP(S515,Import!A$1:B$20000,2,FALSE)","v":{"$error":"#N/A"}},"32211_S_L_SEK_TOT_I_M_X_H1_VALFRI_SEK",1000,null,"30673_D515_cmb53_",{"$f":"VLOOKUP(B515,Import!E$1:F$20000,2,FALSE)","v":{"$error":"#N/A"}}]
[{"$f":"IF(ISBLANK(Inm_30673_D516_cmb52_),\"\",$T$516 * Inm_30673_D516_cmb52_)","v":""},"30673_D516_cmb52_","Handel i sven, Lång , Inflöde","VP203'!Inm_30673_D516_cmb52_","32211","S","L","SEK","TOT","I","M","X","H1",{"$f":"VLOOKUP('VP203'!$B$59,FlexDimensioner!$C$1:$D$430,2,FALSE)","v":"VALFRI"},"SEK",{"$f":"VLOOKUP(B516,Import!A$1:B$20000,2,FALSE)","v":{"$error":"#N/A"}},"EJ_GRANSKN",{"$f":"VLOOKUP(S516,Import!A$1:B$20000,2,FALSE)","v":{"$error":"#N/A"}},"32211_S_L_SEK_TOT_I_M_X_H1_VALFRI_SEK",1000,null,"30673_D516_cmb52_",{"$f":"VLOOKUP(B516,Import!E$1:F$20000,2,FALSE)","v":{"$error":"#N/A"}}]
[{"$f":"IF(ISBLANK(Inm_30673_D517_cmb51_),\"\",$T$517 * Inm_30673_D517_cmb51_)","v":""},"30673_D517_cmb51_","Handel i sven, Lång , Inflöde","VP203'!Inm_30673_D517_cmb51_","32211","S","L","SEK","TOT","I","M","X","H1",{"$f":"VLOOKUP('VP203'!$B$58,FlexDimensioner!$C$1:$D$430,2,FALSE)","v":"VALFRI"},"SEK",{"$f":"VLOOKUP(B517,Import!A$1:B$20000,2,FALSE)","v":{"$error":"#N/A"}},"EJ_GRANSKN",{"$f":"VLOOKUP(S517,Import!A$1:B$20000,2,FALSE)","v":{"$error":"#N/A"}},"32211_S_L_SEK_TOT_I_M_X_H1_VALFRI_SEK",1000,null,"30673_D517_cmb51_",{"$f":"VLOOKUP(B517,Import!E$1:F$20000,2,FALSE)","v":{"$error":"#N/A"}}]
[{"$f":"IF(ISBLANK(Inm_30673_D518_cmb50_),\"\",$T$518 * Inm_30673_D518_cmb50_)","v":""},"30673_D518_cmb50_","Handel i sven, Lång , Inflöde","VP203'!Inm_30673_D518_cmb50_","32211","S","L","SEK","TOT","I","M","X","H1",{"$f":"VLOOKUP('VP203'!$B$57,FlexDimensioner!$C$1:$D$430,2,FALSE)","v":"VALFRI"},"SEK",{"$f":"VLOOKUP(B518,Import!A$1:B$20000,2,FALSE)","v":{"$error":"#N/A"}},"EJ_GRANSKN",{"$f":"VLOOKUP(S518,Import!A$1:B$20000,2,FALSE)","v":{"$error":"#N/A"}},"32211_S_L_SEK_TOT_I_M_X_H1_VALFRI_SEK",1000,null,"30673_D518_cmb50_",{"$f":"VLOOKUP(B518,Import!E$1:F$20000,2,FALSE)","v":{"$error":"#N/A"}}]
[{"$f":"IF(ISBLANK(Inm_30673_D519_cmb49_),\"\",$T$519 * Inm_30673_D519_cmb49_)","v":""},"30673_D519_cmb49_","Handel i sven, Lång , Inflöde","VP203'!Inm_30673_D519_cmb49_","32211","S","L","SEK","TOT","I","M","X","H1",{"$f":"VLOOKUP('VP203'!$B$56,FlexDimensioner!$C$1:$D$430,2,FALSE)","v":"VALFRI"},"SEK",{"$f":"VLOOKUP(B519,Import!A$1:B$20000,2,FALSE)","v":{"$error":"#N/A"}},"EJ_GRANSKN",{"$f":"VLOOKUP(S519,Import!A$1:B$20000,2,FALSE)","v":{"$error":"#N/A"}},"32211_S_L_SEK_TOT_I_M_X_H1_VALFRI_SEK",1000,null,"30673_D519_cmb49_",{"$f":"VLOOKUP(B519,Import!E$1:F$20000,2,FALSE)","v":{"$error":"#N/A"}}]
[{"$f":"IF(ISBLANK(Inm_30673_D520_cmb48_),\"\",$T$520 * Inm_30673_D520_cmb48_)","v":""},"30673_D520_cmb48_","Handel i sven, Lång , Inflöde","VP203'!Inm_30673_D520_cmb48_","32211","S","L","SEK","TOT","I","M","X","H1",{"$f":"VLOOKUP('VP203'!$B$55,FlexDimensioner!$C$1:$D$430,2,FALSE)","v":"VALFRI"},"SEK",{"$f":"VLOOKUP(B520,Import!A$1:B$20000,2,FALSE)","v":{"$error":"#N/A"}},"EJ_GRANSKN",{"$f":"VLOOKUP(S520,Import!A$1:B$20000,2,FALSE)","v":{"$error":"#N/A"}},"32211_S_L_SEK_TOT_I_M_X_H1_VALFRI_SEK",1000,null,"30673_D520_cmb48_",{"$f":"VLOOKUP(B520,Import!E$1:F$20000,2,FALSE)","v":{"$error":"#N/A"}}]
[{"$f":"IF(ISBLANK(Inm_30673_D521_cmb47_),\"\",$T$521 * Inm_30673_D521_cmb47_)","v":""},"30673_D521_cmb47_","Handel i sven, Lång , Inflöde","VP203'!Inm_30673_D521_cmb47_","32211","S","L","SEK","TOT","I","M","X","H1",{"$f":"VLOOKUP('VP203'!$B$54,FlexDimensioner!$C$1:$D$430,2,FALSE)","v":"VALFRI"},"SEK",{"$f":"VLOOKUP(B521,Import!A$1:B$20000,2,FALSE)","v":{"$error":"#N/A"}},"EJ_GRANSKN",{"$f":"VLOOKUP(S521,Import!A$1:B$20000,2,FALSE)","v":{"$error":"#N/A"}},"32211_S_L_SEK_TOT_I_M_X_H1_VALFRI_SEK",1000,null,"30673_D521_cmb47_",{"$f":"VLOOKUP(B521,Import!E$1:F$20000,2,FALSE)","v":{"$error":"#N/A"}}]
[{"$f":"IF(ISBLANK(Inm_30673_D522_cmb46_),\"\",$T$522 * Inm_30673_D522_cmb46_)","v":""},"30673_D522_cmb46_","Handel i sven, Lång , Inflöde","VP203'!Inm_30673_D522_cmb46_","32211","S","L","SEK","TOT","I","M","X","H1",{"$f":"VLOOKUP('VP203'!$B$53,FlexDimensioner!$C$1:$D$430,2,FALSE)","v":"VALFRI"},"SEK",{"$f":"VLOOKUP(B522,Import!A$1:B$20000,2,FALSE)","v":{"$error":"#N/A"}},"EJ_GRANSKN",{"$f":"VLOOKUP(S522,Import!A$1:B$20000,2,FALSE)","v":{"$error":"#N/A"}},"32211_S_L_SEK_TOT_I_M_X_H1_VALFRI_SEK",1000,null,"30673_D522_cmb46_",{"$f":"VLOOKUP(B522,Import!E$1:F$20000,2,FALSE)","v":{"$error":"#N/A"}}]
[{"$f":"IF(ISBLANK(Inm_30673_D523_cmb45_),\"\",$T$523 * Inm_30673_D523_cmb45_)","v":""},"30673_D523_cmb45_","Handel i sven, Lång , Inflöde","VP203'!Inm_30673_D523_cmb45_","32211","S","L","SEK","TOT","I","M","X","H1",{"$f":"VLOOKUP('VP203'!$B$52,FlexDimensioner!$C$1:$D$430,2,FALSE)","v":"VALFRI"},"SEK",{"$f":"VLOOKUP(B523,Import!A$1:B$20000,2,FALSE)","v":{"$error":"#N/A"}},"EJ_GRANSKN",{"$f":"VLOOKUP(S523,Import!A$1:B$20000,2,FALSE)","v":{"$error":"#N/A"}},"32211_S_L_SEK_TOT_I_M_X_H1_VALFRI_SEK",1000,null,"30673_D523_cmb45_",{"$f":"VLOOKUP(B523,Import!E$1:F$20000,2,FALSE)","v":{"$error":"#N/A"}}]
[{"$f":"IF(ISBLANK(Inm_30673_D524_cmb44_),\"\",$T$524 * Inm_30673_D524_cmb44_)","v":""},"30673_D524_cmb44_","Handel i sven, Lång , Inflöde","VP203'!Inm_30673_D524_cmb44_","32211","S","L","SEK","TOT","I","M","X","H1",{"$f":"VLOOKUP('VP203'!$B$51,FlexDimensioner!$C$1:$D$430,2,FALSE)","v":"VALFRI"},"SEK",{"$f":"VLOOKUP(B524,Import!A$1:B$20000,2,FALSE)","v":{"$error":"#N/A"}},"EJ_GRANSKN",{"$f":"VLOOKUP(S524,Import!A$1:B$20000,2,FALSE)","v":{"$error":"#N/A"}},"32211_S_L_SEK_TOT_I_M_X_H1_VALFRI_SEK",1000,null,"30673_D524_cmb44_",{"$f":"VLOOKUP(B524,Import!E$1:F$20000,2,FALSE)","v":{"$error":"#N/A"}}]
[{"$f":"IF(ISBLANK(Inm_30673_D525_cmb43_),\"\",$T$525 * Inm_30673_D525_cmb43_)","v":""},"30673_D525_cmb43_","Handel i sven, Lång , Inflöde","VP203'!Inm_30673_D525_cmb43_","32211","S","L","SEK","TOT","I","M","X","H1",{"$f":"VLOOKUP('VP203'!$B$50,FlexDimensioner!$C$1:$D$430,2,FALSE)","v":"VALFRI"},"SEK",{"$f":"VLOOKUP(B525,Import!A$1:B$20000,2,FALSE)","v":{"$error":"#N/A"}},"EJ_GRANSKN",{"$f":"VLOOKUP(S525,Import!A$1:B$20000,2,FALSE)","v":{"$error":"#N/A"}},"32211_S_L_SEK_TOT_I_M_X_H1_VALFRI_SEK",1000,null,"30673_D525_cmb43_",{"$f":"VLOOKUP(B525,Import!E$1:F$20000,2,FALSE)","v":{"$error":"#N/A"}}]
[{"$f":"IF(ISBLANK(Inm_30673_D526_cmb42_),\"\",$T$526 * Inm_30673_D526_cmb42_)","v":""},"30673_D526_cmb42_","Handel i sven, Lång , Inflöde","VP203'!Inm_30673_D526_cmb42_","32211","S","L","SEK","TOT","I","M","X","H1",{"$f":"VLOOKUP('VP203'!$B$49,FlexDimensioner!$C$1:$D$430,2,FALSE)","v":"VALFRI"},"SEK",{"$f":"VLOOKUP(B526,Import!A$1:B$20000,2,FALSE)","v":{"$error":"#N/A"}},"EJ_GRANSKN",{"$f":"VLOOKUP(S526,Import!A$1:B$20000,2,FALSE)","v":{"$error":"#N/A"}},"32211_S_L_SEK_TOT_I_M_X_H1_VALFRI_SEK",1000,null,"30673_D526_cmb42_",{"$f":"VLOOKUP(B526,Import!E$1:F$20000,2,FALSE)","v":{"$error":"#N/A"}}]
[{"$f":"IF(ISBLANK(Inm_30673_D527_cmb41_),\"\",$T$527 * Inm_30673_D527_cmb41_)","v":""},"30673_D527_cmb41_","Handel i sven, Lång , Inflöde","VP203'!Inm_30673_D527_cmb41_","32211","S","L","SEK","TOT","I","M","X","H1",{"$f":"VLOOKUP('VP203'!$B$48,FlexDimensioner!$C$1:$D$430,2,FALSE)","v":"VALFRI"},"SEK",{"$f":"VLOOKUP(B527,Import!A$1:B$20000,2,FALSE)","v":{"$error":"#N/A"}},"EJ_GRANSKN",{"$f":"VLOOKUP(S527,Import!A$1:B$20000,2,FALSE)","v":{"$error":"#N/A"}},"32211_S_L_SEK_TOT_I_M_X_H1_VALFRI_SEK",1000,null,"30673_D527_cmb41_",{"$f":"VLOOKUP(B527,Import!E$1:F$20000,2,FALSE)","v":{"$error":"#N/A"}}]
[{"$f":"IF(ISBLANK(Inm_30673_D528_cmb40_),\"\",$T$528 * Inm_30673_D528_cmb40_)","v":""},"30673_D528_cmb40_","Handel i sven, Lång , Inflöde","VP203'!Inm_30673_D528_cmb40_","32211","S","L","SEK","TOT","I","M","X","H1",{"$f":"VLOOKUP('VP203'!$B$47,FlexDimensioner!$C$1:$D$430,2,FALSE)","v":"VALFRI"},"SEK",{"$f":"VLOOKUP(B528,Import!A$1:B$20000,2,FALSE)","v":{"$error":"#N/A"}},"EJ_GRANSKN",{"$f":"VLOOKUP(S528,Import!A$1:B$20000,2,FALSE)","v":{"$error":"#N/A"}},"32211_S_L_SEK_TOT_I_M_X_H1_VALFRI_SEK",1000,null,"30673_D528_cmb40_",{"$f":"VLOOKUP(B528,Import!E$1:F$20000,2,FALSE)","v":{"$error":"#N/A"}}]
[{"$f":"IF(ISBLANK(Inm_30673_D529_cmb39_),\"\",$T$529 * Inm_30673_D529_cmb39_)","v":""},"30673_D529_cmb39_","Handel i sven, Lång , Inflöde","VP203'!Inm_30673_D529_cmb39_","32211","S","L","SEK","TOT","I","M","X","H1",{"$f":"VLOOKUP('VP203'!$B$46,FlexDimensioner!$C$1:$D$430,2,FALSE)","v":"VALFRI"},"SEK",{"$f":"VLOOKUP(B529,Import!A$1:B$20000,2,FALSE)","v":{"$error":"#N/A"}},"EJ_GRANSKN",{"$f":"VLOOKUP(S529,Import!A$1:B$20000,2,FALSE)","v":{"$error":"#N/A"}},"32211_S_L_SEK_TOT_I_M_X_H1_VALFRI_SEK",1000,null,"30673_D529_cmb39_",{"$f":"VLOOKUP(B529,Import!E$1:F$20000,2,FALSE)","v":{"$error":"#N/A"}}]
[{"$f":"IF(ISBLANK(Inm_30673_D530_cmb37_),\"\",$T$530 * Inm_30673_D530_cmb37_)","v":""},"30673_D530_cmb37_","Handel i sven, Lång , Inflöde","VP203'!Inm_30673_D530_cmb37_","32211","S","L","SEK","TOT","I","M","X","H1",{"$f":"VLOOKUP('VP203'!$B$44,FlexDimensioner!$C$1:$D$430,2,FALSE)","v":"VALFRI"},"SEK",{"$f":"VLOOKUP(B530,Import!A$1:B$20000,2,FALSE)","v":{"$error":"#N/A"}},"EJ_GRANSKN",{"$f":"VLOOKUP(S530,Import!A$1:B$20000,2,FALSE)","v":{"$error":"#N/A"}},"32211_S_L_SEK_TOT_I_M_X_H1_VALFRI_SEK",1000,null,"30673_D530_cmb37_",{"$f":"VLOOKUP(B530,Import!E$1:F$20000,2,FALSE)","v":{"$error":"#N/A"}}]
[{"$f":"IF(ISBLANK(Inm_30673_D531_cmb36_),\"\",$T$531 * Inm_30673_D531_cmb36_)","v":""},"30673_D531_cmb36_","Handel i sven, Lång , Inflöde","VP203'!Inm_30673_D531_cmb36_","32211","S","L","SEK","TOT","I","M","X","H1",{"$f":"VLOOKUP('VP203'!$B$43,FlexDimensioner!$C$1:$D$430,2,FALSE)","v":"VALFRI"},"SEK",{"$f":"VLOOKUP(B531,Import!A$1:B$20000,2,FALSE)","v":{"$error":"#N/A"}},"EJ_GRANSKN",{"$f":"VLOOKUP(S531,Import!A$1:B$20000,2,FALSE)","v":{"$error":"#N/A"}},"32211_S_L_SEK_TOT_I_M_X_H1_VALFRI_SEK",1000,null,"30673_D531_cmb36_",{"$f":"VLOOKUP(B531,Import!E$1:F$20000,2,FALSE)","v":{"$error":"#N/A"}}]
[{"$f":"IF(ISBLANK(Inm_30673_D532_cmb38_),\"\",$T$532 * Inm_30673_D532_cmb38_)","v":""},"30673_D532_cmb38_","Handel i sven, Lång , Inflöde","VP203'!Inm_30673_D532_cmb38_","32211","S","L","SEK","TOT","I","M","X","H1",{"$f":"VLOOKUP('VP203'!$B$45,FlexDimensioner!$C$1:$D$430,2,FALSE)","v":"VALFRI"},"SEK",{"$f":"VLOOKUP(B532,Import!A$1:B$20000,2,FALSE)","v":{"$error":"#N/A"}},"EJ_GRANSKN",{"$f":"VLOOKUP(S532,Import!A$1:B$20000,2,FALSE)","v":{"$error":"#N/A"}},"32211_S_L_SEK_TOT_I_M_X_H1_VALFRI_SEK",1000,null,"30673_D532_cmb38_",{"$f":"VLOOKUP(B532,Import!E$1:F$20000,2,FALSE)","v":{"$error":"#N/A"}}]
[{"$f":"IF(ISBLANK(Inm_30673_D533_cmb35_),\"\",$T$533 * Inm_30673_D533_cmb35_)","v":""},"30673_D533_cmb35_","Handel i sven, Lång , Inflöde","VP203'!Inm_30673_D533_cmb35_","32211","S","L","SEK","TOT","I","M","X","H1",{"$f":"VLOOKUP('VP203'!$B$42,FlexDimensioner!$C$1:$D$430,2,FALSE)","v":"VALFRI"},"SEK",{"$f":"VLOOKUP(B533,Import!A$1:B$20000,2,FALSE)","v":{"$error":"#N/A"}},"EJ_GRANSKN",{"$f":"VLOOKUP(S533,Import!A$1:B$20000,2,FALSE)","v":{"$error":"#N/A"}},"32211_S_L_SEK_TOT_I_M_X_H1_VALFRI_SEK",1000,null,"30673_D533_cmb35_",{"$f":"VLOOKUP(B533,Import!E$1:F$20000,2,FALSE)","v":{"$error":"#N/A"}}]
[{"$f":"IF(ISBLANK(Inm_30673_D534_cmb31_),\"\",$T$534 * Inm_30673_D534_cmb31_)","v":""},"30673_D534_cmb31_","Handel i sven, Lång , Inflöde","VP203'!Inm_30673_D534_cmb31_","32211","S","L","SEK","TOT","I","M","X","H1",{"$f":"VLOOKUP('VP203'!$B$41,FlexDimensioner!$C$1:$D$430,2,FALSE)","v":"VALFRI"},"SEK",{"$f":"VLOOKUP(B534,Import!A$1:B$20000,2,FALSE)","v":{"$error":"#N/A"}},"EJ_GRANSKN",{"$f":"VLOOKUP(S534,Import!A$1:B$20000,2,FALSE)","v":{"$error":"#N/A"}},"32211_S_L_SEK_TOT_I_M_X_H1_VALFRI_SEK",1000,null,"30673_D534_cmb31_",{"$f":"VLOOKUP(B534,Import!E$1:F$20000,2,FALSE)","v":{"$error":"#N/A"}}]
[{"$f":"IF(ISBLANK(Inm_30673_D535_cmb30_),\"\",$T$535 * Inm_30673_D535_cmb30_)","v":""},"30673_D535_cmb30_","Handel i sven, Lång , Inflöde","VP203'!Inm_30673_D535_cmb30_","32211","S","L","SEK","TOT","I","M","X","H1",{"$f":"VLOOKUP('VP203'!$B$40,FlexDimensioner!$C$1:$D$430,2,FALSE)","v":"VALFRI"},"SEK",{"$f":"VLOOKUP(B535,Import!A$1:B$20000,2,FALSE)","v":{"$error":"#N/A"}},"EJ_GRANSKN",{"$f":"VLOOKUP(S535,Import!A$1:B$20000,2,FALSE)","v":{"$error":"#N/A"}},"32211_S_L_SEK_TOT_I_M_X_H1_VALFRI_SEK",1000,null,"30673_D535_cmb30_",{"$f":"VLOOKUP(B535,Import!E$1:F$20000,2,FALSE)","v":{"$error":"#N/A"}}]
[{"$f":"IF(ISBLANK(Inm_30673_D536_cmb29_),\"\",$T$536 * Inm_30673_D536_cmb29_)","v":""},"30673_D536_cmb29_","Handel i sven, Lång , Inflöde","VP203'!Inm_30673_D536_cmb29_","32211","S","L","SEK","TOT","I","M","X","H1",{"$f":"VLOOKUP('VP203'!$B$39,FlexDimensioner!$C$1:$D$430,2,FALSE)","v":"VALFRI"},"SEK",{"$f":"VLOOKUP(B536,Import!A$1:B$20000,2,FALSE)","v":{"$error":"#N/A"}},"EJ_GRANSKN",{"$f":"VLOOKUP(S536,Import!A$1:B$20000,2,FALSE)","v":{"$error":"#N/A"}},"32211_S_L_SEK_TOT_I_M_X_H1_VALFRI_SEK",1000,null,"30673_D536_cmb29_",{"$f":"VLOOKUP(B536,Import!E$1:F$20000,2,FALSE)","v":{"$error":"#N/A"}}]
[{"$f":"IF(ISBLANK(Inm_30673_D537_cmb28_),\"\",$T$537 * Inm_30673_D537_cmb28_)","v":""},"30673_D537_cmb28_","Handel i sven, Lång , Inflöde","VP203'!Inm_30673_D537_cmb28_","32211","S","L","SEK","TOT","I","M","X","H1",{"$f":"VLOOKUP('VP203'!$B$38,FlexDimensioner!$C$1:$D$430,2,FALSE)","v":"VALFRI"},"SEK",{"$f":"VLOOKUP(B537,Import!A$1:B$20000,2,FALSE)","v":{"$error":"#N/A"}},"EJ_GRANSKN",{"$f":"VLOOKUP(S537,Import!A$1:B$20000,2,FALSE)","v":{"$error":"#N/A"}},"32211_S_L_SEK_TOT_I_M_X_H1_VALFRI_SEK",1000,null,"30673_D537_cmb28_",{"$f":"VLOOKUP(B537,Import!E$1:F$20000,2,FALSE)","v":{"$error":"#N/A"}}]
[{"$f":"IF(ISBLANK(Inm_30673_D538_cmb27_),\"\",$T$538 * Inm_30673_D538_cmb27_)","v":""},"30673_D538_cmb27_","Handel i sven, Lång , Inflöde","VP203'!Inm_30673_D538_cmb27_","32211","S","L","SEK","TOT","I","M","X","H1",{"$f":"VLOOKUP('VP203'!$B$37,FlexDimensioner!$C$1:$D$430,2,FALSE)","v":"VALFRI"},"SEK",{"$f":"VLOOKUP(B538,Import!A$1:B$20000,2,FALSE)","v":{"$error":"#N/A"}},"EJ_GRANSKN",{"$f":"VLOOKUP(S538,Import!A$1:B$20000,2,FALSE)","v":{"$error":"#N/A"}},"32211_S_L_SEK_TOT_I_M_X_H1_VALFRI_SEK",1000,null,"30673_D538_cmb27_",{"$f":"VLOOKUP(B538,Import!E$1:F$20000,2,FALSE)","v":{"$error":"#N/A"}}]
[{"$f":"IF(ISBLANK(Inm_30673_D539_cmb26_),\"\",$T$539 * Inm_30673_D539_cmb26_)","v":""},"30673_D539_cmb26_","Handel i sven, Lång , Inflöde","VP203'!Inm_30673_D539_cmb26_","32211","S","L","SEK","TOT","I","M","X","H1",{"$f":"VLOOKUP('VP203'!$B$36,FlexDimensioner!$C$1:$D$430,2,FALSE)","v":"VALFRI"},"SEK",{"$f":"VLOOKUP(B539,Import!A$1:B$20000,2,FALSE)","v":{"$error":"#N/A"}},"EJ_GRANSKN",{"$f":"VLOOKUP(S539,Import!A$1:B$20000,2,FALSE)","v":{"$error":"#N/A"}},"32211_S_L_SEK_TOT_I_M_X_H1_VALFRI_SEK",1000,null,"30673_D539_cmb26_",{"$f":"VLOOKUP(B539,Import!E$1:F$20000,2,FALSE)","v":{"$error":"#N/A"}}]
[{"$f":"IF(ISBLANK(Inm_30673_D540_cmb25_),\"\",$T$540 * Inm_30673_D540_cmb25_)","v":""},"30673_D540_cmb25_","Handel i sven, Lång , Inflöde","VP203'!Inm_30673_D540_cmb25_","32211","S","L","SEK","TOT","I","M","X","H1",{"$f":"VLOOKUP('VP203'!$B$35,FlexDimensioner!$C$1:$D$430,2,FALSE)","v":"VALFRI"},"SEK",{"$f":"VLOOKUP(B540,Import!A$1:B$20000,2,FALSE)","v":{"$error":"#N/A"}},"EJ_GRANSKN",{"$f":"VLOOKUP(S540,Import!A$1:B$20000,2,FALSE)","v":{"$error":"#N/A"}},"32211_S_L_SEK_TOT_I_M_X_H1_VALFRI_SEK",1000,null,"30673_D540_cmb25_",{"$f":"VLOOKUP(B540,Import!E$1:F$20000,2,FALSE)","v":{"$error":"#N/A"}}]
[{"$f":"IF(ISBLANK(Inm_30673_D541_cmb24_),\"\",$T$541 * Inm_30673_D541_cmb24_)","v":""},"30673_D541_cmb24_","Handel i sven, Lång , Inflöde","VP203'!Inm_30673_D541_cmb24_","32211","S","L","SEK","TOT","I","M","X","H1",{"$f":"VLOOKUP('VP203'!$B$34,FlexDimensioner!$C$1:$D$430,2,FALSE)","v":"VALFRI"},"SEK",{"$f":"VLOOKUP(B541,Import!A$1:B$20000,2,FALSE)","v":{"$error":"#N/A"}},"EJ_GRANSKN",{"$f":"VLOOKUP(S541,Import!A$1:B$20000,2,FALSE)","v":{"$error":"#N/A"}},"32211_S_L_SEK_TOT_I_M_X_H1_VALFRI_SEK",1000,null,"30673_D541_cmb24_",{"$f":"VLOOKUP(B541,Import!E$1:F$20000,2,FALSE)","v":{"$error":"#N/A"}}]
[{"$f":"IF(ISBLANK(Inm_30673_D542_cmb23_),\"\",$T$542 * Inm_30673_D542_cmb23_)","v":""},"30673_D542_cmb23_","Handel i sven, Lång , Inflöde","VP203'!Inm_30673_D542_cmb23_","32211","S","L","SEK","TOT","I","M","X","H1",{"$f":"VLOOKUP('VP203'!$B$33,FlexDimensioner!$C$1:$D$430,2,FALSE)","v":"VALFRI"},"SEK",{"$f":"VLOOKUP(B542,Import!A$1:B$20000,2,FALSE)","v":{"$error":"#N/A"}},"EJ_GRANSKN",{"$f":"VLOOKUP(S542,Import!A$1:B$20000,2,FALSE)","v":{"$error":"#N/A"}},"32211_S_L_SEK_TOT_I_M_X_H1_VALFRI_SEK",1000,null,"30673_D542_cmb23_",{"$f":"VLOOKUP(B542,Import!E$1:F$20000,2,FALSE)","v":{"$error":"#N/A"}}]
[{"$f":"IF(ISBLANK(Inm_30673_D543_cmb22_),\"\",$T$543 * Inm_30673_D543_cmb22_)","v":""},"30673_D543_cmb22_","Handel i sven, Lång , Inflöde","VP203'!Inm_30673_D543_cmb22_","32211","S","L","SEK","TOT","I","M","X","H1",{"$f":"VLOOKUP('VP203'!$B$32,FlexDimensioner!$C$1:$D$430,2,FALSE)","v":"VALFRI"},"SEK",{"$f":"VLOOKUP(B543,Import!A$1:B$20000,2,FALSE)","v":{"$error":"#N/A"}},"EJ_GRANSKN",{"$f":"VLOOKUP(S543,Import!A$1:B$20000,2,FALSE)","v":{"$error":"#N/A"}},"32211_S_L_SEK_TOT_I_M_X_H1_VALFRI_SEK",1000,null,"30673_D543_cmb22_",{"$f":"VLOOKUP(B543,Import!E$1:F$20000,2,FALSE)","v":{"$error":"#N/A"}}]
[{"$f":"IF(ISBLANK(Inm_30673_D544_cmb21_),\"\",$T$544 * Inm_30673_D544_cmb21_)","v":""},"30673_D544_cmb21_","Handel i sven, Lång , Inflöde","VP203'!Inm_30673_D544_cmb21_","32211","S","L","SEK","TOT","I","M","X","H1",{"$f":"VLOOKUP('VP203'!$B$31,FlexDimensioner!$C$1:$D$430,2,FALSE)","v":"VALFRI"},"SEK",{"$f":"VLOOKUP(B544,Import!A$1:B$20000,2,FALSE)","v":{"$error":"#N/A"}},"EJ_GRANSKN",{"$f":"VLOOKUP(S544,Import!A$1:B$20000,2,FALSE)","v":{"$error":"#N/A"}},"32211_S_L_SEK_TOT_I_M_X_H1_VALFRI_SEK",1000,null,"30673_D544_cmb21_",{"$f":"VLOOKUP(B544,Import!E$1:F$20000,2,FALSE)","v":{"$error":"#N/A"}}]
[{"$f":"IF(ISBLANK(Inm_30673_D545_cmb20_),\"\",$T$545 * Inm_30673_D545_cmb20_)","v":""},"30673_D545_cmb20_","Handel i sven, Lång , Inflöde","VP203'!Inm_30673_D545_cmb20_","32211","S","L","SEK","TOT","I","M","X","H1",{"$f":"VLOOKUP('VP203'!$B$30,FlexDimensioner!$C$1:$D$430,2,FALSE)","v":"VALFRI"},"SEK",{"$f":"VLOOKUP(B545,Import!A$1:B$20000,2,FALSE)","v":{"$error":"#N/A"}},"EJ_GRANSKN",{"$f":"VLOOKUP(S545,Import!A$1:B$20000,2,FALSE)","v":{"$error":"#N/A"}},"32211_S_L_SEK_TOT_I_M_X_H1_VALFRI_SEK",1000,null,"30673_D545_cmb20_",{"$f":"VLOOKUP(B545,Import!E$1:F$20000,2,FALSE)","v":{"$error":"#N/A"}}]
[{"$f":"IF(ISBLANK(Inm_30673_D546_cmb19_),\"\",$T$546 * Inm_30673_D546_cmb19_)","v":""},"30673_D546_cmb19_","Handel i sven, Lång , Inflöde","VP203'!Inm_30673_D546_cmb19_","32211","S","L","SEK","TOT","I","M","X","H1",{"$f":"VLOOKUP('VP203'!$B$29,FlexDimensioner!$C$1:$D$430,2,FALSE)","v":"VALFRI"},"SEK",{"$f":"VLOOKUP(B546,Import!A$1:B$20000,2,FALSE)","v":{"$error":"#N/A"}},"EJ_GRANSKN",{"$f":"VLOOKUP(S546,Import!A$1:B$20000,2,FALSE)","v":{"$error":"#N/A"}},"32211_S_L_SEK_TOT_I_M_X_H1_VALFRI_SEK",1000,null,"30673_D546_cmb19_",{"$f":"VLOOKUP(B546,Import!E$1:F$20000,2,FALSE)","v":{"$error":"#N/A"}}]
[{"$f":"IF(ISBLANK(Inm_30673_D547_cmb18_),\"\",$T$547 * Inm_30673_D547_cmb18_)","v":""},"30673_D547_cmb18_","Handel i sven, Lång , Inflöde","VP203'!Inm_30673_D547_cmb18_","32211","S","L","SEK","TOT","I","M","X","H1",{"$f":"VLOOKUP('VP203'!$B$28,FlexDimensioner!$C$1:$D$430,2,FALSE)","v":"VALFRI"},"SEK",{"$f":"VLOOKUP(B547,Import!A$1:B$20000,2,FALSE)","v":{"$error":"#N/A"}},"EJ_GRANSKN",{"$f":"VLOOKUP(S547,Import!A$1:B$20000,2,FALSE)","v":{"$error":"#N/A"}},"32211_S_L_SEK_TOT_I_M_X_H1_VALFRI_SEK",1000,null,"30673_D547_cmb18_",{"$f":"VLOOKUP(B547,Import!E$1:F$20000,2,FALSE)","v":{"$error":"#N/A"}}]
[{"$f":"IF(ISBLANK(Inm_30673_D548_cmb17_),\"\",$T$548 * Inm_30673_D548_cmb17_)","v":""},"30673_D548_cmb17_","Handel i sven, Lång , Inflöde","VP203'!Inm_30673_D548_cmb17_","32211","S","L","SEK","TOT","I","M","X","H1",{"$f":"VLOOKUP('VP203'!$B$27,FlexDimensioner!$C$1:$D$430,2,FALSE)","v":"VALFRI"},"SEK",{"$f":"VLOOKUP(B548,Import!A$1:B$20000,2,FALSE)","v":{"$error":"#N/A"}},"EJ_GRANSKN",{"$f":"VLOOKUP(S548,Import!A$1:B$20000,2,FALSE)","v":{"$error":"#N/A"}},"32211_S_L_SEK_TOT_I_M_X_H1_VALFRI_SEK",1000,null,"30673_D548_cmb17_",{"$f":"VLOOKUP(B548,Import!E$1:F$20000,2,FALSE)","v":{"$error":"#N/A"}}]
[{"$f":"IF(ISBLANK(Inm_30673_D549_cmb16_),\"\",$T$549 * Inm_30673_D549_cmb16_)","v":""},"30673_D549_cmb16_","Handel i sven, Lång , Inflöde","VP203'!Inm_30673_D549_cmb16_","32211","S","L","SEK","TOT","I","M","X","H1",{"$f":"VLOOKUP('VP203'!$B$26,FlexDimensioner!$C$1:$D$430,2,FALSE)","v":"VALFRI"},"SEK",{"$f":"VLOOKUP(B549,Import!A$1:B$20000,2,FALSE)","v":{"$error":"#N/A"}},"EJ_GRANSKN",{"$f":"VLOOKUP(S549,Import!A$1:B$20000,2,FALSE)","v":{"$error":"#N/A"}},"32211_S_L_SEK_TOT_I_M_X_H1_VALFRI_SEK",1000,null,"30673_D549_cmb16_",{"$f":"VLOOKUP(B549,Import!E$1:F$20000,2,FALSE)","v":{"$error":"#N/A"}}]
[{"$f":"IF(ISBLANK(Inm_30673_D550_cmb15_),\"\",$T$550 * Inm_30673_D550_cmb15_)","v":""},"30673_D550_cmb15_","Handel i sven, Lång , Inflöde","VP203'!Inm_30673_D550_cmb15_","32211","S","L","SEK","TOT","I","M","X","H1",{"$f":"VLOOKUP('VP203'!$B$25,FlexDimensioner!$C$1:$D$430,2,FALSE)","v":"VALFRI"},"SEK",{"$f":"VLOOKUP(B550,Import!A$1:B$20000,2,FALSE)","v":{"$error":"#N/A"}},"EJ_GRANSKN",{"$f":"VLOOKUP(S550,Import!A$1:B$20000,2,FALSE)","v":{"$error":"#N/A"}},"32211_S_L_SEK_TOT_I_M_X_H1_VALFRI_SEK",1000,null,"30673_D550_cmb15_",{"$f":"VLOOKUP(B550,Import!E$1:F$20000,2,FALSE)","v":{"$error":"#N/A"}}]
[{"$f":"IF(ISBLANK(Inm_30673_D551_cmb14_),\"\",$T$551 * Inm_30673_D551_cmb14_)","v":""},"30673_D551_cmb14_","Handel i sven, Lång , Inflöde","VP203'!Inm_30673_D551_cmb14_","32211","S","L","SEK","TOT","I","M","X","H1",{"$f":"VLOOKUP('VP203'!$B$24,FlexDimensioner!$C$1:$D$430,2,FALSE)","v":"VALFRI"},"SEK",{"$f":"VLOOKUP(B551,Import!A$1:B$20000,2,FALSE)","v":{"$error":"#N/A"}},"EJ_GRANSKN",{"$f":"VLOOKUP(S551,Import!A$1:B$20000,2,FALSE)","v":{"$error":"#N/A"}},"32211_S_L_SEK_TOT_I_M_X_H1_VALFRI_SEK",1000,null,"30673_D551_cmb14_",{"$f":"VLOOKUP(B551,Import!E$1:F$20000,2,FALSE)","v":{"$error":"#N/A"}}]
[{"$f":"IF(ISBLANK(Inm_30673_D552_cmb13_),\"\",$T$552 * Inm_30673_D552_cmb13_)","v":""},"30673_D552_cmb13_","Handel i sven, Lång , Inflöde","VP203'!Inm_30673_D552_cmb13_","32211","S","L","SEK","TOT","I","M","X","H1",{"$f":"VLOOKUP('VP203'!$B$23,FlexDimensioner!$C$1:$D$430,2,FALSE)","v":"VALFRI"},"SEK",{"$f":"VLOOKUP(B552,Import!A$1:B$20000,2,FALSE)","v":{"$error":"#N/A"}},"EJ_GRANSKN",{"$f":"VLOOKUP(S552,Import!A$1:B$20000,2,FALSE)","v":{"$error":"#N/A"}},"32211_S_L_SEK_TOT_I_M_X_H1_VALFRI_SEK",1000,null,"30673_D552_cmb13_",{"$f":"VLOOKUP(B552,Import!E$1:F$20000,2,FALSE)","v":{"$error":"#N/A"}}]
[{"$f":"IF(ISBLANK(Inm_30673_D553_cmb12_),\"\",$T$553 * Inm_30673_D553_cmb12_)","v":""},"30673_D553_cmb12_","Handel i sven, Lång , Inflöde","VP203'!Inm_30673_D553_cmb12_","32211","S","L","SEK","TOT","I","M","X","H1",{"$f":"VLOOKUP('VP203'!$B$22,FlexDimensioner!$C$1:$D$430,2,FALSE)","v":"VALFRI"},"SEK",{"$f":"VLOOKUP(B553,Import!A$1:B$20000,2,FALSE)","v":{"$error":"#N/A"}},"EJ_GRANSKN",{"$f":"VLOOKUP(S553,Import!A$1:B$20000,2,FALSE)","v":{"$error":"#N/A"}},"32211_S_L_SEK_TOT_I_M_X_H1_VALFRI_SEK",1000,null,"30673_D553_cmb12_",{"$f":"VLOOKUP(B553,Import!E$1:F$20000,2,FALSE)","v":{"$error":"#N/A"}}]
[{"$f":"IF(ISBLANK(Inm_30673_D554_cmb11_),\"\",$T$554 * Inm_30673_D554_cmb11_)","v":""},"30673_D554_cmb11_","Handel i sven, Lång , Inflöde","VP203'!Inm_30673_D554_cmb11_","32211","S","L","SEK","TOT","I","M","X","H1",{"$f":"VLOOKUP('VP203'!$B$21,FlexDimensioner!$C$1:$D$430,2,FALSE)","v":"VALFRI"},"SEK",{"$f":"VLOOKUP(B554,Import!A$1:B$20000,2,FALSE)","v":{"$error":"#N/A"}},"EJ_GRANSKN",{"$f":"VLOOKUP(S554,Import!A$1:B$20000,2,FALSE)","v":{"$error":"#N/A"}},"32211_S_L_SEK_TOT_I_M_X_H1_VALFRI_SEK",1000,null,"30673_D554_cmb11_",{"$f":"VLOOKUP(B554,Import!E$1:F$20000,2,FALSE)","v":{"$error":"#N/A"}}]
[{"$f":"IF(ISBLANK(Inm_30673_D555_cmb10_),\"\",$T$555 * Inm_30673_D555_cmb10_)","v":""},"30673_D555_cmb10_","Handel i sven, Lång , Inflöde","VP203'!Inm_30673_D555_cmb10_","32211","S","L","SEK","TOT","I","M","X","H1",{"$f":"VLOOKUP('VP203'!$B$20,FlexDimensioner!$C$1:$D$430,2,FALSE)","v":"VALFRI"},"SEK",{"$f":"VLOOKUP(B555,Import!A$1:B$20000,2,FALSE)","v":{"$error":"#N/A"}},"EJ_GRANSKN",{"$f":"VLOOKUP(S555,Import!A$1:B$20000,2,FALSE)","v":{"$error":"#N/A"}},"32211_S_L_SEK_TOT_I_M_X_H1_VALFRI_SEK",1000,null,"30673_D555_cmb10_",{"$f":"VLOOKUP(B555,Import!E$1:F$20000,2,FALSE)","v":{"$error":"#N/A"}}]
[{"$f":"IF(ISBLANK(Inm_30673_D556_cmb9_),\"\",$T$556 * Inm_30673_D556_cmb9_)","v":""},"30673_D556_cmb9_","Handel i sven, Lång , Inflöde","VP203'!Inm_30673_D556_cmb9_","32211","S","L","SEK","TOT","I","M","X","H1",{"$f":"VLOOKUP('VP203'!$B$19,FlexDimensioner!$C$1:$D$430,2,FALSE)","v":"VALFRI"},"SEK",{"$f":"VLOOKUP(B556,Import!A$1:B$20000,2,FALSE)","v":{"$error":"#N/A"}},"EJ_GRANSKN",{"$f":"VLOOKUP(S556,Import!A$1:B$20000,2,FALSE)","v":{"$error":"#N/A"}},"32211_S_L_SEK_TOT_I_M_X_H1_VALFRI_SEK",1000,null,"30673_D556_cmb9_",{"$f":"VLOOKUP(B556,Import!E$1:F$20000,2,FALSE)","v":{"$error":"#N/A"}}]
[{"$f":"IF(ISBLANK(Inm_30673_D557_cmb8_),\"\",$T$557 * Inm_30673_D557_cmb8_)","v":""},"30673_D557_cmb8_","Handel i sven, Lång , Inflöde","VP203'!Inm_30673_D557_cmb8_","32211","S","L","SEK","TOT","I","M","X","H1",{"$f":"VLOOKUP('VP203'!$B$18,FlexDimensioner!$C$1:$D$430,2,FALSE)","v":"VALFRI"},"SEK",{"$f":"VLOOKUP(B557,Import!A$1:B$20000,2,FALSE)","v":{"$error":"#N/A"}},"EJ_GRANSKN",{"$f":"VLOOKUP(S557,Import!A$1:B$20000,2,FALSE)","v":{"$error":"#N/A"}},"32211_S_L_SEK_TOT_I_M_X_H1_VALFRI_SEK",1000,null,"30673_D557_cmb8_",{"$f":"VLOOKUP(B557,Import!E$1:F$20000,2,FALSE)","v":{"$error":"#N/A"}}]
[{"$f":"IF(ISBLANK(Inm_30673_D558_cmb7_),\"\",$T$558 * Inm_30673_D558_cmb7_)","v":""},"30673_D558_cmb7_","Handel i sven, Lång , Inflöde","VP203'!Inm_30673_D558_cmb7_","32211","S","L","SEK","TOT","I","M","X","H1",{"$f":"VLOOKUP('VP203'!$B$17,FlexDimensioner!$C$1:$D$430,2,FALSE)","v":"VALFRI"},"SEK",{"$f":"VLOOKUP(B558,Import!A$1:B$20000,2,FALSE)","v":{"$error":"#N/A"}},"EJ_GRANSKN",{"$f":"VLOOKUP(S558,Import!A$1:B$20000,2,FALSE)","v":{"$error":"#N/A"}},"32211_S_L_SEK_TOT_I_M_X_H1_VALFRI_SEK",1000,null,"30673_D558_cmb7_",{"$f":"VLOOKUP(B558,Import!E$1:F$20000,2,FALSE)","v":{"$error":"#N/A"}}]
[{"$f":"IF(ISBLANK(Inm_30673_D559_cmb6_),\"\",$T$559 * Inm_30673_D559_cmb6_)","v":""},"30673_D559_cmb6_","Handel i sven, Lång , Inflöde","VP203'!Inm_30673_D559_cmb6_","32211","S","L","SEK","TOT","I","M","X","H1",{"$f":"VLOOKUP('VP203'!$B$16,FlexDimensioner!$C$1:$D$430,2,FALSE)","v":"VALFRI"},"SEK",{"$f":"VLOOKUP(B559,Import!A$1:B$20000,2,FALSE)","v":{"$error":"#N/A"}},"EJ_GRANSKN",{"$f":"VLOOKUP(S559,Import!A$1:B$20000,2,FALSE)","v":{"$error":"#N/A"}},"32211_S_L_SEK_TOT_I_M_X_H1_VALFRI_SEK",1000,null,"30673_D559_cmb6_",{"$f":"VLOOKUP(B559,Import!E$1:F$20000,2,FALSE)","v":{"$error":"#N/A"}}]
[{"$f":"IF(ISBLANK(Inm_30673_D560_cmb5_),\"\",$T$560 * Inm_30673_D560_cmb5_)","v":""},"30673_D560_cmb5_","Handel i sven, Lång , Inflöde","VP203'!Inm_30673_D560_cmb5_","32211","S","L","SEK","TOT","I","M","X","H1",{"$f":"VLOOKUP('VP203'!$B$15,FlexDimensioner!$C$1:$D$430,2,FALSE)","v":"VALFRI"},"SEK",{"$f":"VLOOKUP(B560,Import!A$1:B$20000,2,FALSE)","v":{"$error":"#N/A"}},"EJ_GRANSKN",{"$f":"VLOOKUP(S560,Import!A$1:B$20000,2,FALSE)","v":{"$error":"#N/A"}},"32211_S_L_SEK_TOT_I_M_X_H1_VALFRI_SEK",1000,null,"30673_D560_cmb5_",{"$f":"VLOOKUP(B560,Import!E$1:F$20000,2,FALSE)","v":{"$error":"#N/A"}}]
[{"$f":"IF(ISBLANK(Inm_30673_D561_cmb4_),\"\",$T$561 * Inm_30673_D561_cmb4_)","v":""},"30673_D561_cmb4_","Handel i sven, Lång , Inflöde","VP203'!Inm_30673_D561_cmb4_","32211","S","L","SEK","TOT","I","M","X","H1",{"$f":"VLOOKUP('VP203'!$B$14,FlexDimensioner!$C$1:$D$430,2,FALSE)","v":"VALFRI"},"SEK",{"$f":"VLOOKUP(B561,Import!A$1:B$20000,2,FALSE)","v":{"$error":"#N/A"}},"EJ_GRANSKN",{"$f":"VLOOKUP(S561,Import!A$1:B$20000,2,FALSE)","v":{"$error":"#N/A"}},"32211_S_L_SEK_TOT_I_M_X_H1_VALFRI_SEK",1000,null,"30673_D561_cmb4_",{"$f":"VLOOKUP(B561,Import!E$1:F$20000,2,FALSE)","v":{"$error":"#N/A"}}]
[{"$f":"IF(ISBLANK(Inm_30673_D562_cmb3_),\"\",$T$562 * Inm_30673_D562_cmb3_)","v":""},"30673_D562_cmb3_","Handel i sven, Lång , Inflöde","VP203'!Inm_30673_D562_cmb3_","32211","S","L","SEK","TOT","I","M","X","H1",{"$f":"VLOOKUP('VP203'!$B$13,FlexDimensioner!$C$1:$D$430,2,FALSE)","v":"VALFRI"},"SEK",{"$f":"VLOOKUP(B562,Import!A$1:B$20000,2,FALSE)","v":{"$error":"#N/A"}},"EJ_GRANSKN",{"$f":"VLOOKUP(S562,Import!A$1:B$20000,2,FALSE)","v":{"$error":"#N/A"}},"32211_S_L_SEK_TOT_I_M_X_H1_VALFRI_SEK",1000,null,"30673_D562_cmb3_",{"$f":"VLOOKUP(B562,Import!E$1:F$20000,2,FALSE)","v":{"$error":"#N/A"}}]
[{"$f":"IF(ISBLANK(Inm_30673_D563_cmb34_),\"\",$T$563 * Inm_30673_D563_cmb34_)","v":""},"30673_D563_cmb34_","Handel i sven, Lång , Inflöde","VP203'!Inm_30673_D563_cmb34_","32211","S","L","SEK","TOT","I","M","X","H1",{"$f":"VLOOKUP('VP203'!$B$12,FlexDimensioner!$C$1:$D$430,2,FALSE)","v":{"$error":"#N/A"}},"SEK",{"$f":"VLOOKUP(B563,Import!A$1:B$20000,2,FALSE)","v":{"$error":"#N/A"}},"EJ_GRANSKN",{"$f":"VLOOKUP(S563,Import!A$1:B$20000,2,FALSE)","v":{"$error":"#N/A"}},{"$error":"#N/A"},1000,null,"30673_D563_cmb34_",{"$f":"VLOOKUP(B563,Import!E$1:F$20000,2,FALSE)","v":{"$error":"#N/A"}}]
[{"$f":"IF(ISBLANK(Inm_30674_D850_cmb292_),\"\",$T$564 * Inm_30674_D850_cmb292_)","v":""},"30674_D850_cmb292_","Handel i sven, Lång , Utflöde","VP203'!Inm_30674_D850_cmb292_","32211","S","L","SEK","TOT","U","M","X","H1",{"$f":"VLOOKUP('VP203'!$B$292,FlexDimensioner!$C$1:$D$430,2,FALSE)","v":"VALFRI"},"SEK",{"$f":"VLOOKUP(B564,Import!A$1:B$20000,2,FALSE)","v":{"$error":"#N/A"}},"EJ_GRANSKN",{"$f":"VLOOKUP(S564,Import!A$1:B$20000,2,FALSE)","v":{"$error":"#N/A"}},{"$f":"CONCATENATE(E564,\"_\",F564,\"_\",G564,\"_\",H564,\"_\",I564,\"_\",J564,\"_\",K564,\"_\",L564,\"_\",M564,\"_\",N564,\"_\",O564)","v":"32211_S_L_SEK_TOT_U_M_X_H1_VALFRI_SEK"},1000,null,"30674_D850_cmb292_",{"$f":"VLOOKUP(B564,Import!E$1:F$20000,2,FALSE)","v":{"$error":"#N/A"}}]
[{"$f":"IF(ISBLANK(Inm_30674_D851_cmb293_),\"\",$T$565 * Inm_30674_D851_cmb293_)","v":""},"30674_D851_cmb293_","Handel i sven, Lång , Utflöde","VP203'!Inm_30674_D851_cmb293_","32211","S","L","SEK","TOT","U","M","X","H1",{"$f":"VLOOKUP('VP203'!$B$293,FlexDimensioner!$C$1:$D$430,2,FALSE)","v":"VALFRI"},"SEK",{"$f":"VLOOKUP(B565,Import!A$1:B$20000,2,FALSE)","v":{"$error":"#N/A"}},"EJ_GRANSKN",{"$f":"VLOOKUP(S565,Import!A$1:B$20000,2,FALSE)","v":{"$error":"#N/A"}},"32211_S_L_SEK_TOT_U_M_X_H1_VALFRI_SEK",1000,null,"30674_D851_cmb293_",{"$f":"VLOOKUP(B565,Import!E$1:F$20000,2,FALSE)","v":{"$error":"#N/A"}}]
[{"$f":"IF(ISBLANK(Inm_30674_D852_cmb294_),\"\",$T$566 * Inm_30674_D852_cmb294_)","v":""},"30674_D852_cmb294_","Handel i sven, Lång , Utflöde","VP203'!Inm_30674_D852_cmb294_","32211","S","L","SEK","TOT","U","M","X","H1",{"$f":"VLOOKUP('VP203'!$B$294,FlexDimensioner!$C$1:$D$430,2,FALSE)","v":"VALFRI"},"SEK",{"$f":"VLOOKUP(B566,Import!A$1:B$20000,2,FALSE)","v":{"$error":"#N/A"}},"EJ_GRANSKN",{"$f":"VLOOKUP(S566,Import!A$1:B$20000,2,FALSE)","v":{"$error":"#N/A"}},"32211_S_L_SEK_TOT_U_M_X_H1_VALFRI_SEK",1000,null,"30674_D852_cmb294_",{"$f":"VLOOKUP(B566,Import!E$1:F$20000,2,FALSE)","v":{"$error":"#N/A"}}]
[{"$f":"IF(ISBLANK(Inm_30674_D853_cmb295_),\"\",$T$567 * Inm_30674_D853_cmb295_)","v":""},"30674_D853_cmb295_","Handel i sven, Lång , Utflöde","VP203'!Inm_30674_D853_cmb295_","32211","S","L","SEK","TOT","U","M","X","H1",{"$f":"VLOOKUP('VP203'!$B$295,FlexDimensioner!$C$1:$D$430,2,FALSE)","v":"VALFRI"},"SEK",{"$f":"VLOOKUP(B567,Import!A$1:B$20000,2,FALSE)","v":{"$error":"#N/A"}},"EJ_GRANSKN",{"$f":"VLOOKUP(S567,Import!A$1:B$20000,2,FALSE)","v":{"$error":"#N/A"}},"32211_S_L_SEK_TOT_U_M_X_H1_VALFRI_SEK",1000,null,"30674_D853_cmb295_",{"$f":"VLOOKUP(B567,Import!E$1:F$20000,2,FALSE)","v":{"$error":"#N/A"}}]
[{"$f":"IF(ISBLANK(Inm_30674_D854_cmb296_),\"\",$T$568 * Inm_30674_D854_cmb296_)","v":""},"30674_D854_cmb296_","Handel i sven, Lång , Utflöde","VP203'!Inm_30674_D854_cmb296_","32211","S","L","SEK","TOT","U","M","X","H1",{"$f":"VLOOKUP('VP203'!$B$296,FlexDimensioner!$C$1:$D$430,2,FALSE)","v":"VALFRI"},"SEK",{"$f":"VLOOKUP(B568,Import!A$1:B$20000,2,FALSE)","v":{"$error":"#N/A"}},"EJ_GRANSKN",{"$f":"VLOOKUP(S568,Import!A$1:B$20000,2,FALSE)","v":{"$error":"#N/A"}},"32211_S_L_SEK_TOT_U_M_X_H1_VALFRI_SEK",1000,null,"30674_D854_cmb296_",{"$f":"VLOOKUP(B568,Import!E$1:F$20000,2,FALSE)","v":{"$error":"#N/A"}}]
[{"$f":"IF(ISBLANK(Inm_30674_D855_cmb297_),\"\",$T$569 * Inm_30674_D855_cmb297_)","v":""},"30674_D855_cmb297_","Handel i sven, Lång , Utflöde","VP203'!Inm_30674_D855_cmb297_","32211","S","L","SEK","TOT","U","M","X","H1",{"$f":"VLOOKUP('VP203'!$B$297,FlexDimensioner!$C$1:$D$430,2,FALSE)","v":"VALFRI"},"SEK",{"$f":"VLOOKUP(B569,Import!A$1:B$20000,2,FALSE)","v":{"$error":"#N/A"}},"EJ_GRANSKN",{"$f":"VLOOKUP(S569,Import!A$1:B$20000,2,FALSE)","v":{"$error":"#N/A"}},"32211_S_L_SEK_TOT_U_M_X_H1_VALFRI_SEK",1000,null,"30674_D855_cmb297_",{"$f":"VLOOKUP(B569,Import!E$1:F$20000,2,FALSE)","v":{"$error":"#N/A"}}]
[{"$f":"IF(ISBLANK(Inm_30674_D856_cmb298_),\"\",$T$570 * Inm_30674_D856_cmb298_)","v":""},"30674_D856_cmb298_","Handel i sven, Lång , Utflöde","VP203'!Inm_30674_D856_cmb298_","32211","S","L","SEK","TOT","U","M","X","H1",{"$f":"VLOOKUP('VP203'!$B$298,FlexDimensioner!$C$1:$D$430,2,FALSE)","v":"VALFRI"},"SEK",{"$f":"VLOOKUP(B570,Import!A$1:B$20000,2,FALSE)","v":{"$error":"#N/A"}},"EJ_GRANSKN",{"$f":"VLOOKUP(S570,Import!A$1:B$20000,2,FALSE)","v":{"$error":"#N/A"}},"32211_S_L_SEK_TOT_U_M_X_H1_VALFRI_SEK",1000,null,"30674_D856_cmb298_",{"$f":"VLOOKUP(B570,Import!E$1:F$20000,2,FALSE)","v":{"$error":"#N/A"}}]
[{"$f":"IF(ISBLANK(Inm_30674_D857_cmb299_),\"\",$T$571 * Inm_30674_D857_cmb299_)","v":""},"30674_D857_cmb299_","Handel i sven, Lång , Utflöde","VP203'!Inm_30674_D857_cmb299_","32211","S","L","SEK","TOT","U","M","X","H1",{"$f":"VLOOKUP('VP203'!$B$299,FlexDimensioner!$C$1:$D$430,2,FALSE)","v":"VALFRI"},"SEK",{"$f":"VLOOKUP(B571,Import!A$1:B$20000,2,FALSE)","v":{"$error":"#N/A"}},"EJ_GRANSKN",{"$f":"VLOOKUP(S571,Import!A$1:B$20000,2,FALSE)","v":{"$error":"#N/A"}},"32211_S_L_SEK_TOT_U_M_X_H1_VALFRI_SEK",1000,null,"30674_D857_cmb299_",{"$f":"VLOOKUP(B571,Import!E$1:F$20000,2,FALSE)","v":{"$error":"#N/A"}}]
[{"$f":"IF(ISBLANK(Inm_30674_D858_cmb300_),\"\",$T$572 * Inm_30674_D858_cmb300_)","v":""},"30674_D858_cmb300_","Handel i sven, Lång , Utflöde","VP203'!Inm_30674_D858_cmb300_","32211","S","L","SEK","TOT","U","M","X","H1",{"$f":"VLOOKUP('VP203'!$B$300,FlexDimensioner!$C$1:$D$430,2,FALSE)","v":"VALFRI"},"SEK",{"$f":"VLOOKUP(B572,Import!A$1:B$20000,2,FALSE)","v":{"$error":"#N/A"}},"EJ_GRANSKN",{"$f":"VLOOKUP(S572,Import!A$1:B$20000,2,FALSE)","v":{"$error":"#N/A"}},"32211_S_L_SEK_TOT_U_M_X_H1_VALFRI_SEK",1000,null,"30674_D858_cmb300_",{"$f":"VLOOKUP(B572,Import!E$1:F$20000,2,FALSE)","v":{"$error":"#N/A"}}]
[{"$f":"IF(ISBLANK(Inm_30674_D859_cmb301_),\"\",$T$573 * Inm_30674_D859_cmb301_)","v":""},"30674_D859_cmb301_","Handel i sven, Lång , Utflöde","VP203'!Inm_30674_D859_cmb301_","32211","S","L","SEK","TOT","U","M","X","H1",{"$f":"VLOOKUP('VP203'!$B$301,FlexDimensioner!$C$1:$D$430,2,FALSE)","v":"VALFRI"},"SEK",{"$f":"VLOOKUP(B573,Import!A$1:B$20000,2,FALSE)","v":{"$error":"#N/A"}},"EJ_GRANSKN",{"$f":"VLOOKUP(S573,Import!A$1:B$20000,2,FALSE)","v":{"$error":"#N/A"}},"32211_S_L_SEK_TOT_U_M_X_H1_VALFRI_SEK",1000,null,"30674_D859_cmb301_",{"$f":"VLOOKUP(B573,Import!E$1:F$20000,2,FALSE)","v":{"$error":"#N/A"}}]
[{"$f":"IF(ISBLANK(Inm_30674_D860_cmb302_),\"\",$T$574 * Inm_30674_D860_cmb302_)","v":""},"30674_D860_cmb302_","Handel i sven, Lång , Utflöde","VP203'!Inm_30674_D860_cmb302_","32211","S","L","SEK","TOT","U","M","X","H1",{"$f":"VLOOKUP('VP203'!$B$302,FlexDimensioner!$C$1:$D$430,2,FALSE)","v":"VALFRI"},"SEK",{"$f":"VLOOKUP(B574,Import!A$1:B$20000,2,FALSE)","v":{"$error":"#N/A"}},"EJ_GRANSKN",{"$f":"VLOOKUP(S574,Import!A$1:B$20000,2,FALSE)","v":{"$error":"#N/A"}},"32211_S_L_SEK_TOT_U_M_X_H1_VALFRI_SEK",1000,null,"30674_D860_cmb302_",{"$f":"VLOOKUP(B574,Import!E$1:F$20000,2,FALSE)","v":{"$error":"#N/A"}}]
[{"$f":"IF(ISBLANK(Inm_30674_D861_cmb303_),\"\",$T$575 * Inm_30674_D861_cmb303_)","v":""},"30674_D861_cmb303_","Handel i sven, Lång , Utflöde","VP203'!Inm_30674_D861_cmb303_","32211","S","L","SEK","TOT","U","M","X","H1",{"$f":"VLOOKUP('VP203'!$B$303,FlexDimensioner!$C$1:$D$430,2,FALSE)","v":"VALFRI"},"SEK",{"$f":"VLOOKUP(B575,Import!A$1:B$20000,2,FALSE)","v":{"$error":"#N/A"}},"EJ_GRANSKN",{"$f":"VLOOKUP(S575,Import!A$1:B$20000,2,FALSE)","v":{"$error":"#N/A"}},"32211_S_L_SEK_TOT_U_M_X_H1_VALFRI_SEK",1000,null,"30674_D861_cmb303_",{"$f":"VLOOKUP(B575,Import!E$1:F$20000,2,FALSE)","v":{"$error":"#N/A"}}]
[{"$f":"IF(ISBLANK(Inm_30674_D862_cmb304_),\"\",$T$576 * Inm_30674_D862_cmb304_)","v":""},"30674_D862_cmb304_","Handel i sven, Lång , Utflöde","VP203'!Inm_30674_D862_cmb304_","32211","S","L","SEK","TOT","U","M","X","H1",{"$f":"VLOOKUP('VP203'!$B$304,FlexDimensioner!$C$1:$D$430,2,FALSE)","v":"VALFRI"},"SEK",{"$f":"VLOOKUP(B576,Import!A$1:B$20000,2,FALSE)","v":{"$error":"#N/A"}},"EJ_GRANSKN",{"$f":"VLOOKUP(S576,Import!A$1:B$20000,2,FALSE)","v":{"$error":"#N/A"}},"32211_S_L_SEK_TOT_U_M_X_H1_VALFRI_SEK",1000,null,"30674_D862_cmb304_",{"$f":"VLOOKUP(B576,Import!E$1:F$20000,2,FALSE)","v":{"$error":"#N/A"}}]
[{"$f":"IF(ISBLANK(Inm_30674_D863_cmb305_),\"\",$T$577 * Inm_30674_D863_cmb305_)","v":""},"30674_D863_cmb305_","Handel i sven, Lång , Utflöde","VP203'!Inm_30674_D863_cmb305_","32211","S","L","SEK","TOT","U","M","X","H1",{"$f":"VLOOKUP('VP203'!$B$305,FlexDimensioner!$C$1:$D$430,2,FALSE)","v":"VALFRI"},"SEK",{"$f":"VLOOKUP(B577,Import!A$1:B$20000,2,FALSE)","v":{"$error":"#N/A"}},"EJ_GRANSKN",{"$f":"VLOOKUP(S577,Import!A$1:B$20000,2,FALSE)","v":{"$error":"#N/A"}},"32211_S_L_SEK_TOT_U_M_X_H1_VALFRI_SEK",1000,null,"30674_D863_cmb305_",{"$f":"VLOOKUP(B577,Import!E$1:F$20000,2,FALSE)","v":{"$error":"#N/A"}}]
[{"$f":"IF(ISBLANK(Inm_30674_D864_cmb306_),\"\",$T$578 * Inm_30674_D864_cmb306_)","v":""},"30674_D864_cmb306_","Handel i sven, Lång , Utflöde","VP203'!Inm_30674_D864_cmb306_","32211","S","L","SEK","TOT","U","M","X","H1",{"$f":"VLOOKUP('VP203'!$B$306,FlexDimensioner!$C$1:$D$430,2,FALSE)","v":"VALFRI"},"SEK",{"$f":"VLOOKUP(B578,Import!A$1:B$20000,2,FALSE)","v":{"$error":"#N/A"}},"EJ_GRANSKN",{"$f":"VLOOKUP(S578,Import!A$1:B$20000,2,FALSE)","v":{"$error":"#N/A"}},"32211_S_L_SEK_TOT_U_M_X_H1_VALFRI_SEK",1000,null,"30674_D864_cmb306_",{"$f":"VLOOKUP(B578,Import!E$1:F$20000,2,FALSE)","v":{"$error":"#N/A"}}]
[{"$f":"IF(ISBLANK(Inm_30674_D865_cmb307_),\"\",$T$579 * Inm_30674_D865_cmb307_)","v":""},"30674_D865_cmb307_","Handel i sven, Lång , Utflöde","VP203'!Inm_30674_D865_cmb307_","32211","S","L","SEK","TOT","U","M","X","H1",{"$f":"VLOOKUP('VP203'!$B$307,FlexDimensioner!$C$1:$D$430,2,FALSE)","v":"VALFRI"},"SEK",{"$f":"VLOOKUP(B579,Import!A$1:B$20000,2,FALSE)","v":{"$error":"#N/A"}},"EJ_GRANSKN",{"$f":"VLOOKUP(S579,Import!A$1:B$20000,2,FALSE)","v":{"$error":"#N/A"}},"32211_S_L_SEK_TOT_U_M_X_H1_VALFRI_SEK",1000,null,"30674_D865_cmb307_",{"$f":"VLOOKUP(B579,Import!E$1:F$20000,2,FALSE)","v":{"$error":"#N/A"}}]
[{"$f":"IF(ISBLANK(Inm_30674_D866_cmb308_),\"\",$T$580 * Inm_30674_D866_cmb308_)","v":""},"30674_D866_cmb308_","Handel i sven, Lång , Utflöde","VP203'!Inm_30674_D866_cmb308_","32211","S","L","SEK","TOT","U","M","X","H1",{"$f":"VLOOKUP('VP203'!$B$308,FlexDimensioner!$C$1:$D$430,2,FALSE)","v":"VALFRI"},"SEK",{"$f":"VLOOKUP(B580,Import!A$1:B$20000,2,FALSE)","v":{"$error":"#N/A"}},"EJ_GRANSKN",{"$f":"VLOOKUP(S580,Import!A$1:B$20000,2,FALSE)","v":{"$error":"#N/A"}},"32211_S_L_SEK_TOT_U_M_X_H1_VALFRI_SEK",1000,null,"30674_D866_cmb308_",{"$f":"VLOOKUP(B580,Import!E$1:F$20000,2,FALSE)","v":{"$error":"#N/A"}}]
[{"$f":"IF(ISBLANK(Inm_30674_D867_cmb309_),\"\",$T$581 * Inm_30674_D867_cmb309_)","v":""},"30674_D867_cmb309_","Handel i sven, Lång , Utflöde","VP203'!Inm_30674_D867_cmb309_","32211","S","L","SEK","TOT","U","M","X","H1",{"$f":"VLOOKUP('VP203'!$B$309,FlexDimensioner!$C$1:$D$430,2,FALSE)","v":"VALFRI"},"SEK",{"$f":"VLOOKUP(B581,Import!A$1:B$20000,2,FALSE)","v":{"$error":"#N/A"}},"EJ_GRANSKN",{"$f":"VLOOKUP(S581,Import!A$1:B$20000,2,FALSE)","v":{"$error":"#N/A"}},"32211_S_L_SEK_TOT_U_M_X_H1_VALFRI_SEK",1000,null,"30674_D867_cmb309_",{"$f":"VLOOKUP(B581,Import!E$1:F$20000,2,FALSE)","v":{"$error":"#N/A"}}]
[{"$f":"IF(ISBLANK(Inm_30674_D868_cmb310_),\"\",$T$582 * Inm_30674_D868_cmb310_)","v":""},"30674_D868_cmb310_","Handel i sven, Lång , Utflöde","VP203'!Inm_30674_D868_cmb310_","32211","S","L","SEK","TOT","U","M","X","H1",{"$f":"VLOOKUP('VP203'!$B$310,FlexDimensioner!$C$1:$D$430,2,FALSE)","v":"VALFRI"},"SEK",{"$f":"VLOOKUP(B582,Import!A$1:B$20000,2,FALSE)","v":{"$error":"#N/A"}},"EJ_GRANSKN",{"$f":"VLOOKUP(S582,Import!A$1:B$20000,2,FALSE)","v":{"$error":"#N/A"}},"32211_S_L_SEK_TOT_U_M_X_H1_VALFRI_SEK",1000,null,"30674_D868_cmb310_",{"$f":"VLOOKUP(B582,Import!E$1:F$20000,2,FALSE)","v":{"$error":"#N/A"}}]
[{"$f":"IF(ISBLANK(Inm_30674_D869_cmb311_),\"\",$T$583 * Inm_30674_D869_cmb311_)","v":""},"30674_D869_cmb311_","Handel i sven, Lång , Utflöde","VP203'!Inm_30674_D869_cmb311_","32211","S","L","SEK","TOT","U","M","X","H1",{"$f":"VLOOKUP('VP203'!$B$311,FlexDimensioner!$C$1:$D$430,2,FALSE)","v":"VALFRI"},"SEK",{"$f":"VLOOKUP(B583,Import!A$1:B$20000,2,FALSE)","v":{"$error":"#N/A"}},"EJ_GRANSKN",{"$f":"VLOOKUP(S583,Import!A$1:B$20000,2,FALSE)","v":{"$error":"#N/A"}},"32211_S_L_SEK_TOT_U_M_X_H1_VALFRI_SEK",1000,null,"30674_D869_cmb311_",{"$f":"VLOOKUP(B583,Import!E$1:F$20000,2,FALSE)","v":{"$error":"#N/A"}}]
[{"$f":"IF(ISBLANK(Inm_30674_D870_cmb312_),\"\",$T$584 * Inm_30674_D870_cmb312_)","v":""},"30674_D870_cmb312_","Handel i sven, Lång , Utflöde","VP203'!Inm_30674_D870_cmb312_","32211","S","L","SEK","TOT","U","M","X","H1",{"$f":"VLOOKUP('VP203'!$B$312,FlexDimensioner!$C$1:$D$430,2,FALSE)","v":"VALFRI"},"SEK",{"$f":"VLOOKUP(B584,Import!A$1:B$20000,2,FALSE)","v":{"$error":"#N/A"}},"EJ_GRANSKN",{"$f":"VLOOKUP(S584,Import!A$1:B$20000,2,FALSE)","v":{"$error":"#N/A"}},"32211_S_L_SEK_TOT_U_M_X_H1_VALFRI_SEK",1000,null,"30674_D870_cmb312_",{"$f":"VLOOKUP(B584,Import!E$1:F$20000,2,FALSE)","v":{"$error":"#N/A"}}]
[{"$f":"IF(ISBLANK(Inm_30674_D871_cmb313_),\"\",$T$585 * Inm_30674_D871_cmb313_)","v":""},"30674_D871_cmb313_","Handel i sven, Lång , Utflöde","VP203'!Inm_30674_D871_cmb313_","32211","S","L","SEK","TOT","U","M","X","H1",{"$f":"VLOOKUP('VP203'!$B$313,FlexDimensioner!$C$1:$D$430,2,FALSE)","v":"VALFRI"},"SEK",{"$f":"VLOOKUP(B585,Import!A$1:B$20000,2,FALSE)","v":{"$error":"#N/A"}},"EJ_GRANSKN",{"$f":"VLOOKUP(S585,Import!A$1:B$20000,2,FALSE)","v":{"$error":"#N/A"}},"32211_S_L_SEK_TOT_U_M_X_H1_VALFRI_SEK",1000,null,"30674_D871_cmb313_",{"$f":"VLOOKUP(B585,Import!E$1:F$20000,2,FALSE)","v":{"$error":"#N/A"}}]
[{"$f":"IF(ISBLANK(Inm_30674_D872_cmb314_),\"\",$T$586 * Inm_30674_D872_cmb314_)","v":""},"30674_D872_cmb314_","Handel i sven, Lång , Utflöde","VP203'!Inm_30674_D872_cmb314_","32211","S","L","SEK","TOT","U","M","X","H1",{"$f":"VLOOKUP('VP203'!$B$314,FlexDimensioner!$C$1:$D$430,2,FALSE)","v":"VALFRI"},"SEK",{"$f":"VLOOKUP(B586,Import!A$1:B$20000,2,FALSE)","v":{"$error":"#N/A"}},"EJ_GRANSKN",{"$f":"VLOOKUP(S586,Import!A$1:B$20000,2,FALSE)","v":{"$error":"#N/A"}},"32211_S_L_SEK_TOT_U_M_X_H1_VALFRI_SEK",1000,null,"30674_D872_cmb314_",{"$f":"VLOOKUP(B586,Import!E$1:F$20000,2,FALSE)","v":{"$error":"#N/A"}}]
[{"$f":"IF(ISBLANK(Inm_30674_D873_cmb315_),\"\",$T$587 * Inm_30674_D873_cmb315_)","v":""},"30674_D873_cmb315_","Handel i sven, Lång , Utflöde","VP203'!Inm_30674_D873_cmb315_","32211","S","L","SEK","TOT","U","M","X","H1",{"$f":"VLOOKUP('VP203'!$B$315,FlexDimensioner!$C$1:$D$430,2,FALSE)","v":"VALFRI"},"SEK",{"$f":"VLOOKUP(B587,Import!A$1:B$20000,2,FALSE)","v":{"$error":"#N/A"}},"EJ_GRANSKN",{"$f":"VLOOKUP(S587,Import!A$1:B$20000,2,FALSE)","v":{"$error":"#N/A"}},"32211_S_L_SEK_TOT_U_M_X_H1_VALFRI_SEK",1000,null,"30674_D873_cmb315_",{"$f":"VLOOKUP(B587,Import!E$1:F$20000,2,FALSE)","v":{"$error":"#N/A"}}]
[{"$f":"IF(ISBLANK(Inm_30674_D874_cmb316_),\"\",$T$588 * Inm_30674_D874_cmb316_)","v":""},"30674_D874_cmb316_","Handel i sven, Lång , Utflöde","VP203'!Inm_30674_D874_cmb316_","32211","S","L","SEK","TOT","U","M","X","H1",{"$f":"VLOOKUP('VP203'!$B$316,FlexDimensioner!$C$1:$D$430,2,FALSE)","v":"VALFRI"},"SEK",{"$f":"VLOOKUP(B588,Import!A$1:B$20000,2,FALSE)","v":{"$error":"#N/A"}},"EJ_GRANSKN",{"$f":"VLOOKUP(S588,Import!A$1:B$20000,2,FALSE)","v":{"$error":"#N/A"}},"32211_S_L_SEK_TOT_U_M_X_H1_VALFRI_SEK",1000,null,"30674_D874_cmb316_",{"$f":"VLOOKUP(B588,Import!E$1:F$20000,2,FALSE)","v":{"$error":"#N/A"}}]
[{"$f":"IF(ISBLANK(Inm_30674_D875_cmb317_),\"\",$T$589 * Inm_30674_D875_cmb317_)","v":""},"30674_D875_cmb317_","Handel i sven, Lång , Utflöde","VP203'!Inm_30674_D875_cmb317_","32211","S","L","SEK","TOT","U","M","X","H1",{"$f":"VLOOKUP('VP203'!$B$317,FlexDimensioner!$C$1:$D$430,2,FALSE)","v":"VALFRI"},"SEK",{"$f":"VLOOKUP(B589,Import!A$1:B$20000,2,FALSE)","v":{"$error":"#N/A"}},"EJ_GRANSKN",{"$f":"VLOOKUP(S589,Import!A$1:B$20000,2,FALSE)","v":{"$error":"#N/A"}},"32211_S_L_SEK_TOT_U_M_X_H1_VALFRI_SEK",1000,null,"30674_D875_cmb317_",{"$f":"VLOOKUP(B589,Import!E$1:F$20000,2,FALSE)","v":{"$error":"#N/A"}}]
[{"$f":"IF(ISBLANK(Inm_30674_D876_cmb318_),\"\",$T$590 * Inm_30674_D876_cmb318_)","v":""},"30674_D876_cmb318_","Handel i sven, Lång , Utflöde","VP203'!Inm_30674_D876_cmb318_","32211","S","L","SEK","TOT","U","M","X","H1",{"$f":"VLOOKUP('VP203'!$B$318,FlexDimensioner!$C$1:$D$430,2,FALSE)","v":"VALFRI"},"SEK",{"$f":"VLOOKUP(B590,Import!A$1:B$20000,2,FALSE)","v":{"$error":"#N/A"}},"EJ_GRANSKN",{"$f":"VLOOKUP(S590,Import!A$1:B$20000,2,FALSE)","v":{"$error":"#N/A"}},"32211_S_L_SEK_TOT_U_M_X_H1_VALFRI_SEK",1000,null,"30674_D876_cmb318_",{"$f":"VLOOKUP(B590,Import!E$1:F$20000,2,FALSE)","v":{"$error":"#N/A"}}]
[{"$f":"IF(ISBLANK(Inm_30674_D877_cmb319_),\"\",$T$591 * Inm_30674_D877_cmb319_)","v":""},"30674_D877_cmb319_","Handel i sven, Lång , Utflöde","VP203'!Inm_30674_D877_cmb319_","32211","S","L","SEK","TOT","U","M","X","H1",{"$f":"VLOOKUP('VP203'!$B$319,FlexDimensioner!$C$1:$D$430,2,FALSE)","v":"VALFRI"},"SEK",{"$f":"VLOOKUP(B591,Import!A$1:B$20000,2,FALSE)","v":{"$error":"#N/A"}},"EJ_GRANSKN",{"$f":"VLOOKUP(S591,Import!A$1:B$20000,2,FALSE)","v":{"$error":"#N/A"}},"32211_S_L_SEK_TOT_U_M_X_H1_VALFRI_SEK",1000,null,"30674_D877_cmb319_",{"$f":"VLOOKUP(B591,Import!E$1:F$20000,2,FALSE)","v":{"$error":"#N/A"}}]
[{"$f":"IF(ISBLANK(Inm_30674_D878_cmb320_),\"\",$T$592 * Inm_30674_D878_cmb320_)","v":""},"30674_D878_cmb320_","Handel i sven, Lång , Utflöde","VP203'!Inm_30674_D878_cmb320_","32211","S","L","SEK","TOT","U","M","X","H1",{"$f":"VLOOKUP('VP203'!$B$320,FlexDimensioner!$C$1:$D$430,2,FALSE)","v":"VALFRI"},"SEK",{"$f":"VLOOKUP(B592,Import!A$1:B$20000,2,FALSE)","v":{"$error":"#N/A"}},"EJ_GRANSKN",{"$f":"VLOOKUP(S592,Import!A$1:B$20000,2,FALSE)","v":{"$error":"#N/A"}},"32211_S_L_SEK_TOT_U_M_X_H1_VALFRI_SEK",1000,null,"30674_D878_cmb320_",{"$f":"VLOOKUP(B592,Import!E$1:F$20000,2,FALSE)","v":{"$error":"#N/A"}}]
[{"$f":"IF(ISBLANK(Inm_30674_D879_cmb321_),\"\",$T$593 * Inm_30674_D879_cmb321_)","v":""},"30674_D879_cmb321_","Handel i sven, Lång , Utflöde","VP203'!Inm_30674_D879_cmb321_","32211","S","L","SEK","TOT","U","M","X","H1",{"$f":"VLOOKUP('VP203'!$B$321,FlexDimensioner!$C$1:$D$430,2,FALSE)","v":"VALFRI"},"SEK",{"$f":"VLOOKUP(B593,Import!A$1:B$20000,2,FALSE)","v":{"$error":"#N/A"}},"EJ_GRANSKN",{"$f":"VLOOKUP(S593,Import!A$1:B$20000,2,FALSE)","v":{"$error":"#N/A"}},"32211_S_L_SEK_TOT_U_M_X_H1_VALFRI_SEK",1000,null,"30674_D879_cmb321_",{"$f":"VLOOKUP(B593,Import!E$1:F$20000,2,FALSE)","v":{"$error":"#N/A"}}]
[{"$f":"IF(ISBLANK(Inm_30674_D880_cmb322_),\"\",$T$594 * Inm_30674_D880_cmb322_)","v":""},"30674_D880_cmb322_","Handel i sven, Lång , Utflöde","VP203'!Inm_30674_D880_cmb322_","32211","S","L","SEK","TOT","U","M","X","H1",{"$f":"VLOOKUP('VP203'!$B$322,FlexDimensioner!$C$1:$D$430,2,FALSE)","v":"VALFRI"},"SEK",{"$f":"VLOOKUP(B594,Import!A$1:B$20000,2,FALSE)","v":{"$error":"#N/A"}},"EJ_GRANSKN",{"$f":"VLOOKUP(S594,Import!A$1:B$20000,2,FALSE)","v":{"$error":"#N/A"}},"32211_S_L_SEK_TOT_U_M_X_H1_VALFRI_SEK",1000,null,"30674_D880_cmb322_",{"$f":"VLOOKUP(B594,Import!E$1:F$20000,2,FALSE)","v":{"$error":"#N/A"}}]
[{"$f":"IF(ISBLANK(Inm_30674_D881_cmb323_),\"\",$T$595 * Inm_30674_D881_cmb323_)","v":""},"30674_D881_cmb323_","Handel i sven, Lång , Utflöde","VP203'!Inm_30674_D881_cmb323_","32211","S","L","SEK","TOT","U","M","X","H1",{"$f":"VLOOKUP('VP203'!$B$323,FlexDimensioner!$C$1:$D$430,2,FALSE)","v":"VALFRI"},"SEK",{"$f":"VLOOKUP(B595,Import!A$1:B$20000,2,FALSE)","v":{"$error":"#N/A"}},"EJ_GRANSKN",{"$f":"VLOOKUP(S595,Import!A$1:B$20000,2,FALSE)","v":{"$error":"#N/A"}},"32211_S_L_SEK_TOT_U_M_X_H1_VALFRI_SEK",1000,null,"30674_D881_cmb323_",{"$f":"VLOOKUP(B595,Import!E$1:F$20000,2,FALSE)","v":{"$error":"#N/A"}}]
[{"$f":"IF(ISBLANK(Inm_30674_D882_cmb324_),\"\",$T$596 * Inm_30674_D882_cmb324_)","v":""},"30674_D882_cmb324_","Handel i sven, Lång , Utflöde","VP203'!Inm_30674_D882_cmb324_","32211","S","L","SEK","TOT","U","M","X","H1",{"$f":"VLOOKUP('VP203'!$B$324,FlexDimensioner!$C$1:$D$430,2,FALSE)","v":"VALFRI"},"SEK",{"$f":"VLOOKUP(B596,Import!A$1:B$20000,2,FALSE)","v":{"$error":"#N/A"}},"EJ_GRANSKN",{"$f":"VLOOKUP(S596,Import!A$1:B$20000,2,FALSE)","v":{"$error":"#N/A"}},"32211_S_L_SEK_TOT_U_M_X_H1_VALFRI_SEK",1000,null,"30674_D882_cmb324_",{"$f":"VLOOKUP(B596,Import!E$1:F$20000,2,FALSE)","v":{"$error":"#N/A"}}]
[{"$f":"IF(ISBLANK(Inm_30674_D883_cmb325_),\"\",$T$597 * Inm_30674_D883_cmb325_)","v":""},"30674_D883_cmb325_","Handel i sven, Lång , Utflöde","VP203'!Inm_30674_D883_cmb325_","32211","S","L","SEK","TOT","U","M","X","H1",{"$f":"VLOOKUP('VP203'!$B$325,FlexDimensioner!$C$1:$D$430,2,FALSE)","v":"VALFRI"},"SEK",{"$f":"VLOOKUP(B597,Import!A$1:B$20000,2,FALSE)","v":{"$error":"#N/A"}},"EJ_GRANSKN",{"$f":"VLOOKUP(S597,Import!A$1:B$20000,2,FALSE)","v":{"$error":"#N/A"}},"32211_S_L_SEK_TOT_U_M_X_H1_VALFRI_SEK",1000,null,"30674_D883_cmb325_",{"$f":"VLOOKUP(B597,Import!E$1:F$20000,2,FALSE)","v":{"$error":"#N/A"}}]
[{"$f":"IF(ISBLANK(Inm_30674_D884_cmb326_),\"\",$T$598 * Inm_30674_D884_cmb326_)","v":""},"30674_D884_cmb326_","Handel i sven, Lång , Utflöde","VP203'!Inm_30674_D884_cmb326_","32211","S","L","SEK","TOT","U","M","X","H1",{"$f":"VLOOKUP('VP203'!$B$326,FlexDimensioner!$C$1:$D$430,2,FALSE)","v":"VALFRI"},"SEK",{"$f":"VLOOKUP(B598,Import!A$1:B$20000,2,FALSE)","v":{"$error":"#N/A"}},"EJ_GRANSKN",{"$f":"VLOOKUP(S598,Import!A$1:B$20000,2,FALSE)","v":{"$error":"#N/A"}},"32211_S_L_SEK_TOT_U_M_X_H1_VALFRI_SEK",1000,null,"30674_D884_cmb326_",{"$f":"VLOOKUP(B598,Import!E$1:F$20000,2,FALSE)","v":{"$error":"#N/A"}}]
[{"$f":"IF(ISBLANK(Inm_30674_D885_cmb327_),\"\",$T$599 * Inm_30674_D885_cmb327_)","v":""},"30674_D885_cmb327_","Handel i sven, Lång , Utflöde","VP203'!Inm_30674_D885_cmb327_","32211","S","L","SEK","TOT","U","M","X","H1",{"$f":"VLOOKUP('VP203'!$B$327,FlexDimensioner!$C$1:$D$430,2,FALSE)","v":"VALFRI"},"SEK",{"$f":"VLOOKUP(B599,Import!A$1:B$20000,2,FALSE)","v":{"$error":"#N/A"}},"EJ_GRANSKN",{"$f":"VLOOKUP(S599,Import!A$1:B$20000,2,FALSE)","v":{"$error":"#N/A"}},"32211_S_L_SEK_TOT_U_M_X_H1_VALFRI_SEK",1000,null,"30674_D885_cmb327_",{"$f":"VLOOKUP(B599,Import!E$1:F$20000,2,FALSE)","v":{"$error":"#N/A"}}]
[{"$f":"IF(ISBLANK(Inm_30674_D886_cmb328_),\"\",$T$600 * Inm_30674_D886_cmb328_)","v":""},"30674_D886_cmb328_","Handel i sven, Lång , Utflöde","VP203'!Inm_30674_D886_cmb328_","32211","S","L","SEK","TOT","U","M","X","H1",{"$f":"VLOOKUP('VP203'!$B$328,FlexDimensioner!$C$1:$D$430,2,FALSE)","v":"VALFRI"},"SEK",{"$f":"VLOOKUP(B600,Import!A$1:B$20000,2,FALSE)","v":{"$error":"#N/A"}},"EJ_GRANSKN",{"$f":"VLOOKUP(S600,Import!A$1:B$20000,2,FALSE)","v":{"$error":"#N/A"}},"32211_S_L_SEK_TOT_U_M_X_H1_VALFRI_SEK",1000,null,"30674_D886_cmb328_",{"$f":"VLOOKUP(B600,Import!E$1:F$20000,2,FALSE)","v":{"$error":"#N/A"}}]
[{"$f":"IF(ISBLANK(Inm_30674_D887_cmb329_),\"\",$T$601 * Inm_30674_D887_cmb329_)","v":""},"30674_D887_cmb329_","Handel i sven, Lång , Utflöde","VP203'!Inm_30674_D887_cmb329_","32211","S","L","SEK","TOT","U","M","X","H1",{"$f":"VLOOKUP('VP203'!$B$329,FlexDimensioner!$C$1:$D$430,2,FALSE)","v":"VALFRI"},"SEK",{"$f":"VLOOKUP(B601,Import!A$1:B$20000,2,FALSE)","v":{"$error":"#N/A"}},"EJ_GRANSKN",{"$f":"VLOOKUP(S601,Import!A$1:B$20000,2,FALSE)","v":{"$error":"#N/A"}},"32211_S_L_SEK_TOT_U_M_X_H1_VALFRI_SEK",1000,null,"30674_D887_cmb329_",{"$f":"VLOOKUP(B601,Import!E$1:F$20000,2,FALSE)","v":{"$error":"#N/A"}}]
[{"$f":"IF(ISBLANK(Inm_30674_D888_cmb330_),\"\",$T$602 * Inm_30674_D888_cmb330_)","v":""},"30674_D888_cmb330_","Handel i sven, Lång , Utflöde","VP203'!Inm_30674_D888_cmb330_","32211","S","L","SEK","TOT","U","M","X","H1",{"$f":"VLOOKUP('VP203'!$B$330,FlexDimensioner!$C$1:$D$430,2,FALSE)","v":"VALFRI"},"SEK",{"$f":"VLOOKUP(B602,Import!A$1:B$20000,2,FALSE)","v":{"$error":"#N/A"}},"EJ_GRANSKN",{"$f":"VLOOKUP(S602,Import!A$1:B$20000,2,FALSE)","v":{"$error":"#N/A"}},"32211_S_L_SEK_TOT_U_M_X_H1_VALFRI_SEK",1000,null,"30674_D888_cmb330_",{"$f":"VLOOKUP(B602,Import!E$1:F$20000,2,FALSE)","v":{"$error":"#N/A"}}]
[{"$f":"IF(ISBLANK(Inm_30674_D889_cmb331_),\"\",$T$603 * Inm_30674_D889_cmb331_)","v":""},"30674_D889_cmb331_","Handel i sven, Lång , Utflöde","VP203'!Inm_30674_D889_cmb331_","32211","S","L","SEK","TOT","U","M","X","H1",{"$f":"VLOOKUP('VP203'!$B$331,FlexDimensioner!$C$1:$D$430,2,FALSE)","v":"VALFRI"},"SEK",{"$f":"VLOOKUP(B603,Import!A$1:B$20000,2,FALSE)","v":{"$error":"#N/A"}},"EJ_GRANSKN",{"$f":"VLOOKUP(S603,Import!A$1:B$20000,2,FALSE)","v":{"$error":"#N/A"}},"32211_S_L_SEK_TOT_U_M_X_H1_VALFRI_SEK",1000,null,"30674_D889_cmb331_",{"$f":"VLOOKUP(B603,Import!E$1:F$20000,2,FALSE)","v":{"$error":"#N/A"}}]
[{"$f":"IF(ISBLANK(Inm_30674_D890_cmb332_),\"\",$T$604 * Inm_30674_D890_cmb332_)","v":""},"30674_D890_cmb332_","Handel i sven, Lång , Utflöde","VP203'!Inm_30674_D890_cmb332_","32211","S","L","SEK","TOT","U","M","X","H1",{"$f":"VLOOKUP('VP203'!$B$332,FlexDimensioner!$C$1:$D$430,2,FALSE)","v":"VALFRI"},"SEK",{"$f":"VLOOKUP(B604,Import!A$1:B$20000,2,FALSE)","v":{"$error":"#N/A"}},"EJ_GRANSKN",{"$f":"VLOOKUP(S604,Import!A$1:B$20000,2,FALSE)","v":{"$error":"#N/A"}},"32211_S_L_SEK_TOT_U_M_X_H1_VALFRI_SEK",1000,null,"30674_D890_cmb332_",{"$f":"VLOOKUP(B604,Import!E$1:F$20000,2,FALSE)","v":{"$error":"#N/A"}}]
[{"$f":"IF(ISBLANK(Inm_30674_D891_cmb333_),\"\",$T$605 * Inm_30674_D891_cmb333_)","v":""},"30674_D891_cmb333_","Handel i sven, Lång , Utflöde","VP203'!Inm_30674_D891_cmb333_","32211","S","L","SEK","TOT","U","M","X","H1",{"$f":"VLOOKUP('VP203'!$B$333,FlexDimensioner!$C$1:$D$430,2,FALSE)","v":"VALFRI"},"SEK",{"$f":"VLOOKUP(B605,Import!A$1:B$20000,2,FALSE)","v":{"$error":"#N/A"}},"EJ_GRANSKN",{"$f":"VLOOKUP(S605,Import!A$1:B$20000,2,FALSE)","v":{"$error":"#N/A"}},"32211_S_L_SEK_TOT_U_M_X_H1_VALFRI_SEK",1000,null,"30674_D891_cmb333_",{"$f":"VLOOKUP(B605,Import!E$1:F$20000,2,FALSE)","v":{"$error":"#N/A"}}]
[{"$f":"IF(ISBLANK(Inm_30674_D892_cmb334_),\"\",$T$606 * Inm_30674_D892_cmb334_)","v":""},"30674_D892_cmb334_","Handel i sven, Lång , Utflöde","VP203'!Inm_30674_D892_cmb334_","32211","S","L","SEK","TOT","U","M","X","H1",{"$f":"VLOOKUP('VP203'!$B$334,FlexDimensioner!$C$1:$D$430,2,FALSE)","v":"VALFRI"},"SEK",{"$f":"VLOOKUP(B606,Import!A$1:B$20000,2,FALSE)","v":{"$error":"#N/A"}},"EJ_GRANSKN",{"$f":"VLOOKUP(S606,Import!A$1:B$20000,2,FALSE)","v":{"$error":"#N/A"}},"32211_S_L_SEK_TOT_U_M_X_H1_VALFRI_SEK",1000,null,"30674_D892_cmb334_",{"$f":"VLOOKUP(B606,Import!E$1:F$20000,2,FALSE)","v":{"$error":"#N/A"}}]
[{"$f":"IF(ISBLANK(Inm_30674_D893_cmb335_),\"\",$T$607 * Inm_30674_D893_cmb335_)","v":""},"30674_D893_cmb335_","Handel i sven, Lång , Utflöde","VP203'!Inm_30674_D893_cmb335_","32211","S","L","SEK","TOT","U","M","X","H1",{"$f":"VLOOKUP('VP203'!$B$335,FlexDimensioner!$C$1:$D$430,2,FALSE)","v":"VALFRI"},"SEK",{"$f":"VLOOKUP(B607,Import!A$1:B$20000,2,FALSE)","v":{"$error":"#N/A"}},"EJ_GRANSKN",{"$f":"VLOOKUP(S607,Import!A$1:B$20000,2,FALSE)","v":{"$error":"#N/A"}},"32211_S_L_SEK_TOT_U_M_X_H1_VALFRI_SEK",1000,null,"30674_D893_cmb335_",{"$f":"VLOOKUP(B607,Import!E$1:F$20000,2,FALSE)","v":{"$error":"#N/A"}}]
[{"$f":"IF(ISBLANK(Inm_30674_D894_cmb336_),\"\",$T$608 * Inm_30674_D894_cmb336_)","v":""},"30674_D894_cmb336_","Handel i sven, Lång , Utflöde","VP203'!Inm_30674_D894_cmb336_","32211","S","L","SEK","TOT","U","M","X","H1",{"$f":"VLOOKUP('VP203'!$B$336,FlexDimensioner!$C$1:$D$430,2,FALSE)","v":"VALFRI"},"SEK",{"$f":"VLOOKUP(B608,Import!A$1:B$20000,2,FALSE)","v":{"$error":"#N/A"}},"EJ_GRANSKN",{"$f":"VLOOKUP(S608,Import!A$1:B$20000,2,FALSE)","v":{"$error":"#N/A"}},"32211_S_L_SEK_TOT_U_M_X_H1_VALFRI_SEK",1000,null,"30674_D894_cmb336_",{"$f":"VLOOKUP(B608,Import!E$1:F$20000,2,FALSE)","v":{"$error":"#N/A"}}]
[{"$f":"IF(ISBLANK(Inm_30674_D895_cmb337_),\"\",$T$609 * Inm_30674_D895_cmb337_)","v":""},"30674_D895_cmb337_","Handel i sven, Lång , Utflöde","VP203'!Inm_30674_D895_cmb337_","32211","S","L","SEK","TOT","U","M","X","H1",{"$f":"VLOOKUP('VP203'!$B$337,FlexDimensioner!$C$1:$D$430,2,FALSE)","v":"VALFRI"},"SEK",{"$f":"VLOOKUP(B609,Import!A$1:B$20000,2,FALSE)","v":{"$error":"#N/A"}},"EJ_GRANSKN",{"$f":"VLOOKUP(S609,Import!A$1:B$20000,2,FALSE)","v":{"$error":"#N/A"}},"32211_S_L_SEK_TOT_U_M_X_H1_VALFRI_SEK",1000,null,"30674_D895_cmb337_",{"$f":"VLOOKUP(B609,Import!E$1:F$20000,2,FALSE)","v":{"$error":"#N/A"}}]
[{"$f":"IF(ISBLANK(Inm_30674_D896_cmb338_),\"\",$T$610 * Inm_30674_D896_cmb338_)","v":""},"30674_D896_cmb338_","Handel i sven, Lång , Utflöde","VP203'!Inm_30674_D896_cmb338_","32211","S","L","SEK","TOT","U","M","X","H1",{"$f":"VLOOKUP('VP203'!$B$338,FlexDimensioner!$C$1:$D$430,2,FALSE)","v":"VALFRI"},"SEK",{"$f":"VLOOKUP(B610,Import!A$1:B$20000,2,FALSE)","v":{"$error":"#N/A"}},"EJ_GRANSKN",{"$f":"VLOOKUP(S610,Import!A$1:B$20000,2,FALSE)","v":{"$error":"#N/A"}},"32211_S_L_SEK_TOT_U_M_X_H1_VALFRI_SEK",1000,null,"30674_D896_cmb338_",{"$f":"VLOOKUP(B610,Import!E$1:F$20000,2,FALSE)","v":{"$error":"#N/A"}}]
[{"$f":"IF(ISBLANK(Inm_30674_D897_cmb339_),\"\",$T$611 * Inm_30674_D897_cmb339_)","v":""},"30674_D897_cmb339_","Handel i sven, Lång , Utflöde","VP203'!Inm_30674_D897_cmb339_","32211","S","L","SEK","TOT","U","M","X","H1",{"$f":"VLOOKUP('VP203'!$B$339,FlexDimensioner!$C$1:$D$430,2,FALSE)","v":"VALFRI"},"SEK",{"$f":"VLOOKUP(B611,Import!A$1:B$20000,2,FALSE)","v":{"$error":"#N/A"}},"EJ_GRANSKN",{"$f":"VLOOKUP(S611,Import!A$1:B$20000,2,FALSE)","v":{"$error":"#N/A"}},"32211_S_L_SEK_TOT_U_M_X_H1_VALFRI_SEK",1000,null,"30674_D897_cmb339_",{"$f":"VLOOKUP(B611,Import!E$1:F$20000,2,FALSE)","v":{"$error":"#N/A"}}]
[{"$f":"IF(ISBLANK(Inm_30674_D898_cmb340_),\"\",$T$612 * Inm_30674_D898_cmb340_)","v":""},"30674_D898_cmb340_","Handel i sven, Lång , Utflöde","VP203'!Inm_30674_D898_cmb340_","32211","S","L","SEK","TOT","U","M","X","H1",{"$f":"VLOOKUP('VP203'!$B$340,FlexDimensioner!$C$1:$D$430,2,FALSE)","v":"VALFRI"},"SEK",{"$f":"VLOOKUP(B612,Import!A$1:B$20000,2,FALSE)","v":{"$error":"#N/A"}},"EJ_GRANSKN",{"$f":"VLOOKUP(S612,Import!A$1:B$20000,2,FALSE)","v":{"$error":"#N/A"}},"32211_S_L_SEK_TOT_U_M_X_H1_VALFRI_SEK",1000,null,"30674_D898_cmb340_",{"$f":"VLOOKUP(B612,Import!E$1:F$20000,2,FALSE)","v":{"$error":"#N/A"}}]
[{"$f":"IF(ISBLANK(Inm_30674_D899_cmb341_),\"\",$T$613 * Inm_30674_D899_cmb341_)","v":""},"30674_D899_cmb341_","Handel i sven, Lång , Utflöde","VP203'!Inm_30674_D899_cmb341_","32211","S","L","SEK","TOT","U","M","X","H1",{"$f":"VLOOKUP('VP203'!$B$341,FlexDimensioner!$C$1:$D$430,2,FALSE)","v":"VALFRI"},"SEK",{"$f":"VLOOKUP(B613,Import!A$1:B$20000,2,FALSE)","v":{"$error":"#N/A"}},"EJ_GRANSKN",{"$f":"VLOOKUP(S613,Import!A$1:B$20000,2,FALSE)","v":{"$error":"#N/A"}},"32211_S_L_SEK_TOT_U_M_X_H1_VALFRI_SEK",1000,null,"30674_D899_cmb341_",{"$f":"VLOOKUP(B613,Import!E$1:F$20000,2,FALSE)","v":{"$error":"#N/A"}}]
[{"$f":"IF(ISBLANK(Inm_30674_D900_cmb342_),\"\",$T$614 * Inm_30674_D900_cmb342_)","v":""},"30674_D900_cmb342_","Handel i sven, Lång , Utflöde","VP203'!Inm_30674_D900_cmb342_","32211","S","L","SEK","TOT","U","M","X","H1",{"$f":"VLOOKUP('VP203'!$B$342,FlexDimensioner!$C$1:$D$430,2,FALSE)","v":"VALFRI"},"SEK",{"$f":"VLOOKUP(B614,Import!A$1:B$20000,2,FALSE)","v":{"$error":"#N/A"}},"EJ_GRANSKN",{"$f":"VLOOKUP(S614,Import!A$1:B$20000,2,FALSE)","v":{"$error":"#N/A"}},"32211_S_L_SEK_TOT_U_M_X_H1_VALFRI_SEK",1000,null,"30674_D900_cmb342_",{"$f":"VLOOKUP(B614,Import!E$1:F$20000,2,FALSE)","v":{"$error":"#N/A"}}]
[{"$f":"IF(ISBLANK(Inm_30674_D901_cmb343_),\"\",$T$615 * Inm_30674_D901_cmb343_)","v":""},"30674_D901_cmb343_","Handel i sven, Lång , Utflöde","VP203'!Inm_30674_D901_cmb343_","32211","S","L","SEK","TOT","U","M","X","H1",{"$f":"VLOOKUP('VP203'!$B$343,FlexDimensioner!$C$1:$D$430,2,FALSE)","v":"VALFRI"},"SEK",{"$f":"VLOOKUP(B615,Import!A$1:B$20000,2,FALSE)","v":{"$error":"#N/A"}},"EJ_GRANSKN",{"$f":"VLOOKUP(S615,Import!A$1:B$20000,2,FALSE)","v":{"$error":"#N/A"}},"32211_S_L_SEK_TOT_U_M_X_H1_VALFRI_SEK",1000,null,"30674_D901_cmb343_",{"$f":"VLOOKUP(B615,Import!E$1:F$20000,2,FALSE)","v":{"$error":"#N/A"}}]
[{"$f":"IF(ISBLANK(Inm_30674_D902_cmb344_),\"\",$T$616 * Inm_30674_D902_cmb344_)","v":""},"30674_D902_cmb344_","Handel i sven, Lång , Utflöde","VP203'!Inm_30674_D902_cmb344_","32211","S","L","SEK","TOT","U","M","X","H1",{"$f":"VLOOKUP('VP203'!$B$344,FlexDimensioner!$C$1:$D$430,2,FALSE)","v":"VALFRI"},"SEK",{"$f":"VLOOKUP(B616,Import!A$1:B$20000,2,FALSE)","v":{"$error":"#N/A"}},"EJ_GRANSKN",{"$f":"VLOOKUP(S616,Import!A$1:B$20000,2,FALSE)","v":{"$error":"#N/A"}},"32211_S_L_SEK_TOT_U_M_X_H1_VALFRI_SEK",1000,null,"30674_D902_cmb344_",{"$f":"VLOOKUP(B616,Import!E$1:F$20000,2,FALSE)","v":{"$error":"#N/A"}}]
[{"$f":"IF(ISBLANK(Inm_30674_D903_cmb345_),\"\",$T$617 * Inm_30674_D903_cmb345_)","v":""},"30674_D903_cmb345_","Handel i sven, Lång , Utflöde","VP203'!Inm_30674_D903_cmb345_","32211","S","L","SEK","TOT","U","M","X","H1",{"$f":"VLOOKUP('VP203'!$B$345,FlexDimensioner!$C$1:$D$430,2,FALSE)","v":"VALFRI"},"SEK",{"$f":"VLOOKUP(B617,Import!A$1:B$20000,2,FALSE)","v":{"$error":"#N/A"}},"EJ_GRANSKN",{"$f":"VLOOKUP(S617,Import!A$1:B$20000,2,FALSE)","v":{"$error":"#N/A"}},"32211_S_L_SEK_TOT_U_M_X_H1_VALFRI_SEK",1000,null,"30674_D903_cmb345_",{"$f":"VLOOKUP(B617,Import!E$1:F$20000,2,FALSE)","v":{"$error":"#N/A"}}]
[{"$f":"IF(ISBLANK(Inm_30674_D904_cmb346_),\"\",$T$618 * Inm_30674_D904_cmb346_)","v":""},"30674_D904_cmb346_","Handel i sven, Lång , Utflöde","VP203'!Inm_30674_D904_cmb346_","32211","S","L","SEK","TOT","U","M","X","H1",{"$f":"VLOOKUP('VP203'!$B$346,FlexDimensioner!$C$1:$D$430,2,FALSE)","v":"VALFRI"},"SEK",{"$f":"VLOOKUP(B618,Import!A$1:B$20000,2,FALSE)","v":{"$error":"#N/A"}},"EJ_GRANSKN",{"$f":"VLOOKUP(S618,Import!A$1:B$20000,2,FALSE)","v":{"$error":"#N/A"}},"32211_S_L_SEK_TOT_U_M_X_H1_VALFRI_SEK",1000,null,"30674_D904_cmb346_",{"$f":"VLOOKUP(B618,Import!E$1:F$20000,2,FALSE)","v":{"$error":"#N/A"}}]
[{"$f":"IF(ISBLANK(Inm_30674_D905_cmb347_),\"\",$T$619 * Inm_30674_D905_cmb347_)","v":""},"30674_D905_cmb347_","Handel i sven, Lång , Utflöde","VP203'!Inm_30674_D905_cmb347_","32211","S","L","SEK","TOT","U","M","X","H1",{"$f":"VLOOKUP('VP203'!$B$347,FlexDimensioner!$C$1:$D$430,2,FALSE)","v":"VALFRI"},"SEK",{"$f":"VLOOKUP(B619,Import!A$1:B$20000,2,FALSE)","v":{"$error":"#N/A"}},"EJ_GRANSKN",{"$f":"VLOOKUP(S619,Import!A$1:B$20000,2,FALSE)","v":{"$error":"#N/A"}},"32211_S_L_SEK_TOT_U_M_X_H1_VALFRI_SEK",1000,null,"30674_D905_cmb347_",{"$f":"VLOOKUP(B619,Import!E$1:F$20000,2,FALSE)","v":{"$error":"#N/A"}}]
[{"$f":"IF(ISBLANK(Inm_30674_D906_cmb348_),\"\",$T$620 * Inm_30674_D906_cmb348_)","v":""},"30674_D906_cmb348_","Handel i sven, Lång , Utflöde","VP203'!Inm_30674_D906_cmb348_","32211","S","L","SEK","TOT","U","M","X","H1",{"$f":"VLOOKUP('VP203'!$B$348,FlexDimensioner!$C$1:$D$430,2,FALSE)","v":"VALFRI"},"SEK",{"$f":"VLOOKUP(B620,Import!A$1:B$20000,2,FALSE)","v":{"$error":"#N/A"}},"EJ_GRANSKN",{"$f":"VLOOKUP(S620,Import!A$1:B$20000,2,FALSE)","v":{"$error":"#N/A"}},"32211_S_L_SEK_TOT_U_M_X_H1_VALFRI_SEK",1000,null,"30674_D906_cmb348_",{"$f":"VLOOKUP(B620,Import!E$1:F$20000,2,FALSE)","v":{"$error":"#N/A"}}]
[{"$f":"IF(ISBLANK(Inm_30674_D907_cmb349_),\"\",$T$621 * Inm_30674_D907_cmb349_)","v":""},"30674_D907_cmb349_","Handel i sven, Lång , Utflöde","VP203'!Inm_30674_D907_cmb349_","32211","S","L","SEK","TOT","U","M","X","H1",{"$f":"VLOOKUP('VP203'!$B$349,FlexDimensioner!$C$1:$D$430,2,FALSE)","v":"VALFRI"},"SEK",{"$f":"VLOOKUP(B621,Import!A$1:B$20000,2,FALSE)","v":{"$error":"#N/A"}},"EJ_GRANSKN",{"$f":"VLOOKUP(S621,Import!A$1:B$20000,2,FALSE)","v":{"$error":"#N/A"}},"32211_S_L_SEK_TOT_U_M_X_H1_VALFRI_SEK",1000,null,"30674_D907_cmb349_",{"$f":"VLOOKUP(B621,Import!E$1:F$20000,2,FALSE)","v":{"$error":"#N/A"}}]
[{"$f":"IF(ISBLANK(Inm_30674_D908_cmb350_),\"\",$T$622 * Inm_30674_D908_cmb350_)","v":""},"30674_D908_cmb350_","Handel i sven, Lång , Utflöde","VP203'!Inm_30674_D908_cmb350_","32211","S","L","SEK","TOT","U","M","X","H1",{"$f":"VLOOKUP('VP203'!$B$350,FlexDimensioner!$C$1:$D$430,2,FALSE)","v":"VALFRI"},"SEK",{"$f":"VLOOKUP(B622,Import!A$1:B$20000,2,FALSE)","v":{"$error":"#N/A"}},"EJ_GRANSKN",{"$f":"VLOOKUP(S622,Import!A$1:B$20000,2,FALSE)","v":{"$error":"#N/A"}},"32211_S_L_SEK_TOT_U_M_X_H1_VALFRI_SEK",1000,null,"30674_D908_cmb350_",{"$f":"VLOOKUP(B622,Import!E$1:F$20000,2,FALSE)","v":{"$error":"#N/A"}}]
[{"$f":"IF(ISBLANK(Inm_30674_D909_cmb351_),\"\",$T$623 * Inm_30674_D909_cmb351_)","v":""},"30674_D909_cmb351_","Handel i sven, Lång , Utflöde","VP203'!Inm_30674_D909_cmb351_","32211","S","L","SEK","TOT","U","M","X","H1",{"$f":"VLOOKUP('VP203'!$B$351,FlexDimensioner!$C$1:$D$430,2,FALSE)","v":"VALFRI"},"SEK",{"$f":"VLOOKUP(B623,Import!A$1:B$20000,2,FALSE)","v":{"$error":"#N/A"}},"EJ_GRANSKN",{"$f":"VLOOKUP(S623,Import!A$1:B$20000,2,FALSE)","v":{"$error":"#N/A"}},"32211_S_L_SEK_TOT_U_M_X_H1_VALFRI_SEK",1000,null,"30674_D909_cmb351_",{"$f":"VLOOKUP(B623,Import!E$1:F$20000,2,FALSE)","v":{"$error":"#N/A"}}]
[{"$f":"IF(ISBLANK(Inm_30674_D910_cmb352_),\"\",$T$624 * Inm_30674_D910_cmb352_)","v":""},"30674_D910_cmb352_","Handel i sven, Lång , Utflöde","VP203'!Inm_30674_D910_cmb352_","32211","S","L","SEK","TOT","U","M","X","H1",{"$f":"VLOOKUP('VP203'!$B$352,FlexDimensioner!$C$1:$D$430,2,FALSE)","v":"VALFRI"},"SEK",{"$f":"VLOOKUP(B624,Import!A$1:B$20000,2,FALSE)","v":{"$error":"#N/A"}},"EJ_GRANSKN",{"$f":"VLOOKUP(S624,Import!A$1:B$20000,2,FALSE)","v":{"$error":"#N/A"}},"32211_S_L_SEK_TOT_U_M_X_H1_VALFRI_SEK",1000,null,"30674_D910_cmb352_",{"$f":"VLOOKUP(B624,Import!E$1:F$20000,2,FALSE)","v":{"$error":"#N/A"}}]
[{"$f":"IF(ISBLANK(Inm_30674_D911_cmb353_),\"\",$T$625 * Inm_30674_D911_cmb353_)","v":""},"30674_D911_cmb353_","Handel i sven, Lång , Utflöde","VP203'!Inm_30674_D911_cmb353_","32211","S","L","SEK","TOT","U","M","X","H1",{"$f":"VLOOKUP('VP203'!$B$353,FlexDimensioner!$C$1:$D$430,2,FALSE)","v":"VALFRI"},"SEK",{"$f":"VLOOKUP(B625,Import!A$1:B$20000,2,FALSE)","v":{"$error":"#N/A"}},"EJ_GRANSKN",{"$f":"VLOOKUP(S625,Import!A$1:B$20000,2,FALSE)","v":{"$error":"#N/A"}},"32211_S_L_SEK_TOT_U_M_X_H1_VALFRI_SEK",1000,null,"30674_D911_cmb353_",{"$f":"VLOOKUP(B625,Import!E$1:F$20000,2,FALSE)","v":{"$error":"#N/A"}}]
[{"$f":"IF(ISBLANK(Inm_30674_D912_cmb354_),\"\",$T$626 * Inm_30674_D912_cmb354_)","v":""},"30674_D912_cmb354_","Handel i sven, Lång , Utflöde","VP203'!Inm_30674_D912_cmb354_","32211","S","L","SEK","TOT","U","M","X","H1",{"$f":"VLOOKUP('VP203'!$B$354,FlexDimensioner!$C$1:$D$430,2,FALSE)","v":"VALFRI"},"SEK",{"$f":"VLOOKUP(B626,Import!A$1:B$20000,2,FALSE)","v":{"$error":"#N/A"}},"EJ_GRANSKN",{"$f":"VLOOKUP(S626,Import!A$1:B$20000,2,FALSE)","v":{"$error":"#N/A"}},"32211_S_L_SEK_TOT_U_M_X_H1_VALFRI_SEK",1000,null,"30674_D912_cmb354_",{"$f":"VLOOKUP(B626,Import!E$1:F$20000,2,FALSE)","v":{"$error":"#N/A"}}]
[{"$f":"IF(ISBLANK(Inm_30674_D913_cmb355_),\"\",$T$627 * Inm_30674_D913_cmb355_)","v":""},"30674_D913_cmb355_","Handel i sven, Lång , Utflöde","VP203'!Inm_30674_D913_cmb355_","32211","S","L","SEK","TOT","U","M","X","H1",{"$f":"VLOOKUP('VP203'!$B$355,FlexDimensioner!$C$1:$D$430,2,FALSE)","v":"VALFRI"},"SEK",{"$f":"VLOOKUP(B627,Import!A$1:B$20000,2,FALSE)","v":{"$error":"#N/A"}},"EJ_GRANSKN",{"$f":"VLOOKUP(S627,Import!A$1:B$20000,2,FALSE)","v":{"$error":"#N/A"}},"32211_S_L_SEK_TOT_U_M_X_H1_VALFRI_SEK",1000,null,"30674_D913_cmb355_",{"$f":"VLOOKUP(B627,Import!E$1:F$20000,2,FALSE)","v":{"$error":"#N/A"}}]
[{"$f":"IF(ISBLANK(Inm_30674_D914_cmb356_),\"\",$T$628 * Inm_30674_D914_cmb356_)","v":""},"30674_D914_cmb356_","Handel i sven, Lång , Utflöde","VP203'!Inm_30674_D914_cmb356_","32211","S","L","SEK","TOT","U","M","X","H1",{"$f":"VLOOKUP('VP203'!$B$356,FlexDimensioner!$C$1:$D$430,2,FALSE)","v":"VALFRI"},"SEK",{"$f":"VLOOKUP(B628,Import!A$1:B$20000,2,FALSE)","v":{"$error":"#N/A"}},"EJ_GRANSKN",{"$f":"VLOOKUP(S628,Import!A$1:B$20000,2,FALSE)","v":{"$error":"#N/A"}},{"$f":"CONCATENATE(E628,\"_\",F628,\"_\",G628,\"_\",H628,\"_\",I628,\"_\",J628,\"_\",K628,\"_\",L628,\"_\",M628,\"_\",N628,\"_\",O628)","v":"32211_S_L_SEK_TOT_U_M_X_H1_VALFRI_SEK"},1000,null,"30674_D914_cmb356_",{"$f":"VLOOKUP(B628,Import!E$1:F$20000,2,FALSE)","v":{"$error":"#N/A"}}]
[{"$f":"IF(ISBLANK(Inm_30674_D915_cmb357_),\"\",$T$629 * Inm_30674_D915_cmb357_)","v":""},"30674_D915_cmb357_","Handel i sven, Lång , Utflöde","VP203'!Inm_30674_D915_cmb357_","32211","S","L","SEK","TOT","U","M","X","H1",{"$f":"VLOOKUP('VP203'!$B$357,FlexDimensioner!$C$1:$D$430,2,FALSE)","v":"VALFRI"},"SEK",{"$f":"VLOOKUP(B629,Import!A$1:B$20000,2,FALSE)","v":{"$error":"#N/A"}},"EJ_GRANSKN",{"$f":"VLOOKUP(S629,Import!A$1:B$20000,2,FALSE)","v":{"$error":"#N/A"}},"32211_S_L_SEK_TOT_U_M_X_H1_VALFRI_SEK",1000,null,"30674_D915_cmb357_",{"$f":"VLOOKUP(B629,Import!E$1:F$20000,2,FALSE)","v":{"$error":"#N/A"}}]
[{"$f":"IF(ISBLANK(Inm_30674_D916_cmb358_),\"\",$T$630 * Inm_30674_D916_cmb358_)","v":""},"30674_D916_cmb358_","Handel i sven, Lång , Utflöde","VP203'!Inm_30674_D916_cmb358_","32211","S","L","SEK","TOT","U","M","X","H1",{"$f":"VLOOKUP('VP203'!$B$358,FlexDimensioner!$C$1:$D$430,2,FALSE)","v":"VALFRI"},"SEK",{"$f":"VLOOKUP(B630,Import!A$1:B$20000,2,FALSE)","v":{"$error":"#N/A"}},"EJ_GRANSKN",{"$f":"VLOOKUP(S630,Import!A$1:B$20000,2,FALSE)","v":{"$error":"#N/A"}},"32211_S_L_SEK_TOT_U_M_X_H1_VALFRI_SEK",1000,null,"30674_D916_cmb358_",{"$f":"VLOOKUP(B630,Import!E$1:F$20000,2,FALSE)","v":{"$error":"#N/A"}}]
[{"$f":"IF(ISBLANK(Inm_30674_D917_cmb359_),\"\",$T$631 * Inm_30674_D917_cmb359_)","v":""},"30674_D917_cmb359_","Handel i sven, Lång , Utflöde","VP203'!Inm_30674_D917_cmb359_","32211","S","L","SEK","TOT","U","M","X","H1",{"$f":"VLOOKUP('VP203'!$B$359,FlexDimensioner!$C$1:$D$430,2,FALSE)","v":"VALFRI"},"SEK",{"$f":"VLOOKUP(B631,Import!A$1:B$20000,2,FALSE)","v":{"$error":"#N/A"}},"EJ_GRANSKN",{"$f":"VLOOKUP(S631,Import!A$1:B$20000,2,FALSE)","v":{"$error":"#N/A"}},"32211_S_L_SEK_TOT_U_M_X_H1_VALFRI_SEK",1000,null,"30674_D917_cmb359_",{"$f":"VLOOKUP(B631,Import!E$1:F$20000,2,FALSE)","v":{"$error":"#N/A"}}]
[{"$f":"IF(ISBLANK(Inm_30674_D918_cmb360_),\"\",$T$632 * Inm_30674_D918_cmb360_)","v":""},"30674_D918_cmb360_","Handel i sven, Lång , Utflöde","VP203'!Inm_30674_D918_cmb360_","32211","S","L","SEK","TOT","U","M","X","H1",{"$f":"VLOOKUP('VP203'!$B$360,FlexDimensioner!$C$1:$D$430,2,FALSE)","v":"VALFRI"},"SEK",{"$f":"VLOOKUP(B632,Import!A$1:B$20000,2,FALSE)","v":{"$error":"#N/A"}},"EJ_GRANSKN",{"$f":"VLOOKUP(S632,Import!A$1:B$20000,2,FALSE)","v":{"$error":"#N/A"}},"32211_S_L_SEK_TOT_U_M_X_H1_VALFRI_SEK",1000,null,"30674_D918_cmb360_",{"$f":"VLOOKUP(B632,Import!E$1:F$20000,2,FALSE)","v":{"$error":"#N/A"}}]
[{"$f":"IF(ISBLANK(Inm_30674_D919_cmb361_),\"\",$T$633 * Inm_30674_D919_cmb361_)","v":""},"30674_D919_cmb361_","Handel i sven, Lång , Utflöde","VP203'!Inm_30674_D919_cmb361_","32211","S","L","SEK","TOT","U","M","X","H1",{"$f":"VLOOKUP('VP203'!$B$361,FlexDimensioner!$C$1:$D$430,2,FALSE)","v":"VALFRI"},"SEK",{"$f":"VLOOKUP(B633,Import!A$1:B$20000,2,FALSE)","v":{"$error":"#N/A"}},"EJ_GRANSKN",{"$f":"VLOOKUP(S633,Import!A$1:B$20000,2,FALSE)","v":{"$error":"#N/A"}},"32211_S_L_SEK_TOT_U_M_X_H1_VALFRI_SEK",1000,null,"30674_D919_cmb361_",{"$f":"VLOOKUP(B633,Import!E$1:F$20000,2,FALSE)","v":{"$error":"#N/A"}}]
[{"$f":"IF(ISBLANK(Inm_30674_D920_cmb362_),\"\",$T$634 * Inm_30674_D920_cmb362_)","v":""},"30674_D920_cmb362_","Handel i sven, Lång , Utflöde","VP203'!Inm_30674_D920_cmb362_","32211","S","L","SEK","TOT","U","M","X","H1",{"$f":"VLOOKUP('VP203'!$B$362,FlexDimensioner!$C$1:$D$430,2,FALSE)","v":"VALFRI"},"SEK",{"$f":"VLOOKUP(B634,Import!A$1:B$20000,2,FALSE)","v":{"$error":"#N/A"}},"EJ_GRANSKN",{"$f":"VLOOKUP(S634,Import!A$1:B$20000,2,FALSE)","v":{"$error":"#N/A"}},"32211_S_L_SEK_TOT_U_M_X_H1_VALFRI_SEK",1000,null,"30674_D920_cmb362_",{"$f":"VLOOKUP(B634,Import!E$1:F$20000,2,FALSE)","v":{"$error":"#N/A"}}]
[{"$f":"IF(ISBLANK(Inm_30674_D921_cmb363_),\"\",$T$635 * Inm_30674_D921_cmb363_)","v":""},"30674_D921_cmb363_","Handel i sven, Lång , Utflöde","VP203'!Inm_30674_D921_cmb363_","32211","S","L","SEK","TOT","U","M","X","H1",{"$f":"VLOOKUP('VP203'!$B$363,FlexDimensioner!$C$1:$D$430,2,FALSE)","v":"VALFRI"},"SEK",{"$f":"VLOOKUP(B635,Import!A$1:B$20000,2,FALSE)","v":{"$error":"#N/A"}},"EJ_GRANSKN",{"$f":"VLOOKUP(S635,Import!A$1:B$20000,2,FALSE)","v":{"$error":"#N/A"}},"32211_S_L_SEK_TOT_U_M_X_H1_VALFRI_SEK",1000,null,"30674_D921_cmb363_",{"$f":"VLOOKUP(B635,Import!E$1:F$20000,2,FALSE)","v":{"$error":"#N/A"}}]
[{"$f":"IF(ISBLANK(Inm_30674_D922_cmb364_),\"\",$T$636 * Inm_30674_D922_cmb364_)","v":""},"30674_D922_cmb364_","Handel i sven, Lång , Utflöde","VP203'!Inm_30674_D922_cmb364_","32211","S","L","SEK","TOT","U","M","X","H1",{"$f":"VLOOKUP('VP203'!$B$364,FlexDimensioner!$C$1:$D$430,2,FALSE)","v":"VALFRI"},"SEK",{"$f":"VLOOKUP(B636,Import!A$1:B$20000,2,FALSE)","v":{"$error":"#N/A"}},"EJ_GRANSKN",{"$f":"VLOOKUP(S636,Import!A$1:B$20000,2,FALSE)","v":{"$error":"#N/A"}},"32211_S_L_SEK_TOT_U_M_X_H1_VALFRI_SEK",1000,null,"30674_D922_cmb364_",{"$f":"VLOOKUP(B636,Import!E$1:F$20000,2,FALSE)","v":{"$error":"#N/A"}}]
[{"$f":"IF(ISBLANK(Inm_30674_D923_cmb365_),\"\",$T$637 * Inm_30674_D923_cmb365_)","v":""},"30674_D923_cmb365_","Handel i sven, Lång , Utflöde","VP203'!Inm_30674_D923_cmb365_","32211","S","L","SEK","TOT","U","M","X","H1",{"$f":"VLOOKUP('VP203'!$B$365,FlexDimensioner!$C$1:$D$430,2,FALSE)","v":"VALFRI"},"SEK",{"$f":"VLOOKUP(B637,Import!A$1:B$20000,2,FALSE)","v":{"$error":"#N/A"}},"EJ_GRANSKN",{"$f":"VLOOKUP(S637,Import!A$1:B$20000,2,FALSE)","v":{"$error":"#N/A"}},"32211_S_L_SEK_TOT_U_M_X_H1_VALFRI_SEK",1000,null,"30674_D923_cmb365_",{"$f":"VLOOKUP(B637,Import!E$1:F$20000,2,FALSE)","v":{"$error":"#N/A"}}]
[{"$f":"IF(ISBLANK(Inm_30673_D924_cmb292_),\"\",$T$638 * Inm_30673_D924_cmb292_)","v":""},"30673_D924_cmb292_","Handel i sven, Lång , Inflöde","VP203'!Inm_30673_D924_cmb292_","32211","S","L","SEK","TOT","I","M","X","H1",{"$f":"VLOOKUP('VP203'!$B$292,FlexDimensioner!$C$1:$D$430,2,FALSE)","v":"VALFRI"},"SEK",{"$f":"VLOOKUP(B638,Import!A$1:B$20000,2,FALSE)","v":{"$error":"#N/A"}},"EJ_GRANSKN",{"$f":"VLOOKUP(S638,Import!A$1:B$20000,2,FALSE)","v":{"$error":"#N/A"}},"32211_S_L_SEK_TOT_I_M_X_H1_VALFRI_SEK",1000,null,"30673_D924_cmb292_",{"$f":"VLOOKUP(B638,Import!E$1:F$20000,2,FALSE)","v":{"$error":"#N/A"}}]
[{"$f":"IF(ISBLANK(Inm_30673_D925_cmb293_),\"\",$T$639 * Inm_30673_D925_cmb293_)","v":""},"30673_D925_cmb293_","Handel i sven, Lång , Inflöde","VP203'!Inm_30673_D925_cmb293_","32211","S","L","SEK","TOT","I","M","X","H1",{"$f":"VLOOKUP('VP203'!$B$293,FlexDimensioner!$C$1:$D$430,2,FALSE)","v":"VALFRI"},"SEK",{"$f":"VLOOKUP(B639,Import!A$1:B$20000,2,FALSE)","v":{"$error":"#N/A"}},"EJ_GRANSKN",{"$f":"VLOOKUP(S639,Import!A$1:B$20000,2,FALSE)","v":{"$error":"#N/A"}},"32211_S_L_SEK_TOT_I_M_X_H1_VALFRI_SEK",1000,null,"30673_D925_cmb293_",{"$f":"VLOOKUP(B639,Import!E$1:F$20000,2,FALSE)","v":{"$error":"#N/A"}}]
[{"$f":"IF(ISBLANK(Inm_30673_D926_cmb294_),\"\",$T$640 * Inm_30673_D926_cmb294_)","v":""},"30673_D926_cmb294_","Handel i sven, Lång , Inflöde","VP203'!Inm_30673_D926_cmb294_","32211","S","L","SEK","TOT","I","M","X","H1",{"$f":"VLOOKUP('VP203'!$B$294,FlexDimensioner!$C$1:$D$430,2,FALSE)","v":"VALFRI"},"SEK",{"$f":"VLOOKUP(B640,Import!A$1:B$20000,2,FALSE)","v":{"$error":"#N/A"}},"EJ_GRANSKN",{"$f":"VLOOKUP(S640,Import!A$1:B$20000,2,FALSE)","v":{"$error":"#N/A"}},"32211_S_L_SEK_TOT_I_M_X_H1_VALFRI_SEK",1000,null,"30673_D926_cmb294_",{"$f":"VLOOKUP(B640,Import!E$1:F$20000,2,FALSE)","v":{"$error":"#N/A"}}]
[{"$f":"IF(ISBLANK(Inm_30673_D927_cmb295_),\"\",$T$641 * Inm_30673_D927_cmb295_)","v":""},"30673_D927_cmb295_","Handel i sven, Lång , Inflöde","VP203'!Inm_30673_D927_cmb295_","32211","S","L","SEK","TOT","I","M","X","H1",{"$f":"VLOOKUP('VP203'!$B$295,FlexDimensioner!$C$1:$D$430,2,FALSE)","v":"VALFRI"},"SEK",{"$f":"VLOOKUP(B641,Import!A$1:B$20000,2,FALSE)","v":{"$error":"#N/A"}},"EJ_GRANSKN",{"$f":"VLOOKUP(S641,Import!A$1:B$20000,2,FALSE)","v":{"$error":"#N/A"}},"32211_S_L_SEK_TOT_I_M_X_H1_VALFRI_SEK",1000,null,"30673_D927_cmb295_",{"$f":"VLOOKUP(B641,Import!E$1:F$20000,2,FALSE)","v":{"$error":"#N/A"}}]
[{"$f":"IF(ISBLANK(Inm_30673_D928_cmb296_),\"\",$T$642 * Inm_30673_D928_cmb296_)","v":""},"30673_D928_cmb296_","Handel i sven, Lång , Inflöde","VP203'!Inm_30673_D928_cmb296_","32211","S","L","SEK","TOT","I","M","X","H1",{"$f":"VLOOKUP('VP203'!$B$296,FlexDimensioner!$C$1:$D$430,2,FALSE)","v":"VALFRI"},"SEK",{"$f":"VLOOKUP(B642,Import!A$1:B$20000,2,FALSE)","v":{"$error":"#N/A"}},"EJ_GRANSKN",{"$f":"VLOOKUP(S642,Import!A$1:B$20000,2,FALSE)","v":{"$error":"#N/A"}},"32211_S_L_SEK_TOT_I_M_X_H1_VALFRI_SEK",1000,null,"30673_D928_cmb296_",{"$f":"VLOOKUP(B642,Import!E$1:F$20000,2,FALSE)","v":{"$error":"#N/A"}}]
[{"$f":"IF(ISBLANK(Inm_30673_D929_cmb297_),\"\",$T$643 * Inm_30673_D929_cmb297_)","v":""},"30673_D929_cmb297_","Handel i sven, Lång , Inflöde","VP203'!Inm_30673_D929_cmb297_","32211","S","L","SEK","TOT","I","M","X","H1",{"$f":"VLOOKUP('VP203'!$B$297,FlexDimensioner!$C$1:$D$430,2,FALSE)","v":"VALFRI"},"SEK",{"$f":"VLOOKUP(B643,Import!A$1:B$20000,2,FALSE)","v":{"$error":"#N/A"}},"EJ_GRANSKN",{"$f":"VLOOKUP(S643,Import!A$1:B$20000,2,FALSE)","v":{"$error":"#N/A"}},"32211_S_L_SEK_TOT_I_M_X_H1_VALFRI_SEK",1000,null,"30673_D929_cmb297_",{"$f":"VLOOKUP(B643,Import!E$1:F$20000,2,FALSE)","v":{"$error":"#N/A"}}]
[{"$f":"IF(ISBLANK(Inm_30673_D930_cmb298_),\"\",$T$644 * Inm_30673_D930_cmb298_)","v":""},"30673_D930_cmb298_","Handel i sven, Lång , Inflöde","VP203'!Inm_30673_D930_cmb298_","32211","S","L","SEK","TOT","I","M","X","H1",{"$f":"VLOOKUP('VP203'!$B$298,FlexDimensioner!$C$1:$D$430,2,FALSE)","v":"VALFRI"},"SEK",{"$f":"VLOOKUP(B644,Import!A$1:B$20000,2,FALSE)","v":{"$error":"#N/A"}},"EJ_GRANSKN",{"$f":"VLOOKUP(S644,Import!A$1:B$20000,2,FALSE)","v":{"$error":"#N/A"}},"32211_S_L_SEK_TOT_I_M_X_H1_VALFRI_SEK",1000,null,"30673_D930_cmb298_",{"$f":"VLOOKUP(B644,Import!E$1:F$20000,2,FALSE)","v":{"$error":"#N/A"}}]
[{"$f":"IF(ISBLANK(Inm_30673_D931_cmb299_),\"\",$T$645 * Inm_30673_D931_cmb299_)","v":""},"30673_D931_cmb299_","Handel i sven, Lång , Inflöde","VP203'!Inm_30673_D931_cmb299_","32211","S","L","SEK","TOT","I","M","X","H1",{"$f":"VLOOKUP('VP203'!$B$299,FlexDimensioner!$C$1:$D$430,2,FALSE)","v":"VALFRI"},"SEK",{"$f":"VLOOKUP(B645,Import!A$1:B$20000,2,FALSE)","v":{"$error":"#N/A"}},"EJ_GRANSKN",{"$f":"VLOOKUP(S645,Import!A$1:B$20000,2,FALSE)","v":{"$error":"#N/A"}},"32211_S_L_SEK_TOT_I_M_X_H1_VALFRI_SEK",1000,null,"30673_D931_cmb299_",{"$f":"VLOOKUP(B645,Import!E$1:F$20000,2,FALSE)","v":{"$error":"#N/A"}}]
[{"$f":"IF(ISBLANK(Inm_30673_D932_cmb300_),\"\",$T$646 * Inm_30673_D932_cmb300_)","v":""},"30673_D932_cmb300_","Handel i sven, Lång , Inflöde","VP203'!Inm_30673_D932_cmb300_","32211","S","L","SEK","TOT","I","M","X","H1",{"$f":"VLOOKUP('VP203'!$B$300,FlexDimensioner!$C$1:$D$430,2,FALSE)","v":"VALFRI"},"SEK",{"$f":"VLOOKUP(B646,Import!A$1:B$20000,2,FALSE)","v":{"$error":"#N/A"}},"EJ_GRANSKN",{"$f":"VLOOKUP(S646,Import!A$1:B$20000,2,FALSE)","v":{"$error":"#N/A"}},"32211_S_L_SEK_TOT_I_M_X_H1_VALFRI_SEK",1000,null,"30673_D932_cmb300_",{"$f":"VLOOKUP(B646,Import!E$1:F$20000,2,FALSE)","v":{"$error":"#N/A"}}]
[{"$f":"IF(ISBLANK(Inm_30673_D933_cmb301_),\"\",$T$647 * Inm_30673_D933_cmb301_)","v":""},"30673_D933_cmb301_","Handel i sven, Lång , Inflöde","VP203'!Inm_30673_D933_cmb301_","32211","S","L","SEK","TOT","I","M","X","H1",{"$f":"VLOOKUP('VP203'!$B$301,FlexDimensioner!$C$1:$D$430,2,FALSE)","v":"VALFRI"},"SEK",{"$f":"VLOOKUP(B647,Import!A$1:B$20000,2,FALSE)","v":{"$error":"#N/A"}},"EJ_GRANSKN",{"$f":"VLOOKUP(S647,Import!A$1:B$20000,2,FALSE)","v":{"$error":"#N/A"}},"32211_S_L_SEK_TOT_I_M_X_H1_VALFRI_SEK",1000,null,"30673_D933_cmb301_",{"$f":"VLOOKUP(B647,Import!E$1:F$20000,2,FALSE)","v":{"$error":"#N/A"}}]
[{"$f":"IF(ISBLANK(Inm_30673_D934_cmb302_),\"\",$T$648 * Inm_30673_D934_cmb302_)","v":""},"30673_D934_cmb302_","Handel i sven, Lång , Inflöde","VP203'!Inm_30673_D934_cmb302_","32211","S","L","SEK","TOT","I","M","X","H1",{"$f":"VLOOKUP('VP203'!$B$302,FlexDimensioner!$C$1:$D$430,2,FALSE)","v":"VALFRI"},"SEK",{"$f":"VLOOKUP(B648,Import!A$1:B$20000,2,FALSE)","v":{"$error":"#N/A"}},"EJ_GRANSKN",{"$f":"VLOOKUP(S648,Import!A$1:B$20000,2,FALSE)","v":{"$error":"#N/A"}},"32211_S_L_SEK_TOT_I_M_X_H1_VALFRI_SEK",1000,null,"30673_D934_cmb302_",{"$f":"VLOOKUP(B648,Import!E$1:F$20000,2,FALSE)","v":{"$error":"#N/A"}}]
[{"$f":"IF(ISBLANK(Inm_30673_D935_cmb303_),\"\",$T$649 * Inm_30673_D935_cmb303_)","v":""},"30673_D935_cmb303_","Handel i sven, Lång , Inflöde","VP203'!Inm_30673_D935_cmb303_","32211","S","L","SEK","TOT","I","M","X","H1",{"$f":"VLOOKUP('VP203'!$B$303,FlexDimensioner!$C$1:$D$430,2,FALSE)","v":"VALFRI"},"SEK",{"$f":"VLOOKUP(B649,Import!A$1:B$20000,2,FALSE)","v":{"$error":"#N/A"}},"EJ_GRANSKN",{"$f":"VLOOKUP(S649,Import!A$1:B$20000,2,FALSE)","v":{"$error":"#N/A"}},"32211_S_L_SEK_TOT_I_M_X_H1_VALFRI_SEK",1000,null,"30673_D935_cmb303_",{"$f":"VLOOKUP(B649,Import!E$1:F$20000,2,FALSE)","v":{"$error":"#N/A"}}]
[{"$f":"IF(ISBLANK(Inm_30673_D936_cmb304_),\"\",$T$650 * Inm_30673_D936_cmb304_)","v":""},"30673_D936_cmb304_","Handel i sven, Lång , Inflöde","VP203'!Inm_30673_D936_cmb304_","32211","S","L","SEK","TOT","I","M","X","H1",{"$f":"VLOOKUP('VP203'!$B$304,FlexDimensioner!$C$1:$D$430,2,FALSE)","v":"VALFRI"},"SEK",{"$f":"VLOOKUP(B650,Import!A$1:B$20000,2,FALSE)","v":{"$error":"#N/A"}},"EJ_GRANSKN",{"$f":"VLOOKUP(S650,Import!A$1:B$20000,2,FALSE)","v":{"$error":"#N/A"}},"32211_S_L_SEK_TOT_I_M_X_H1_VALFRI_SEK",1000,null,"30673_D936_cmb304_",{"$f":"VLOOKUP(B650,Import!E$1:F$20000,2,FALSE)","v":{"$error":"#N/A"}}]
[{"$f":"IF(ISBLANK(Inm_30673_D937_cmb305_),\"\",$T$651 * Inm_30673_D937_cmb305_)","v":""},"30673_D937_cmb305_","Handel i sven, Lång , Inflöde","VP203'!Inm_30673_D937_cmb305_","32211","S","L","SEK","TOT","I","M","X","H1",{"$f":"VLOOKUP('VP203'!$B$305,FlexDimensioner!$C$1:$D$430,2,FALSE)","v":"VALFRI"},"SEK",{"$f":"VLOOKUP(B651,Import!A$1:B$20000,2,FALSE)","v":{"$error":"#N/A"}},"EJ_GRANSKN",{"$f":"VLOOKUP(S651,Import!A$1:B$20000,2,FALSE)","v":{"$error":"#N/A"}},"32211_S_L_SEK_TOT_I_M_X_H1_VALFRI_SEK",1000,null,"30673_D937_cmb305_",{"$f":"VLOOKUP(B651,Import!E$1:F$20000,2,FALSE)","v":{"$error":"#N/A"}}]
[{"$f":"IF(ISBLANK(Inm_30673_D938_cmb306_),\"\",$T$652 * Inm_30673_D938_cmb306_)","v":""},"30673_D938_cmb306_","Handel i sven, Lång , Inflöde","VP203'!Inm_30673_D938_cmb306_","32211","S","L","SEK","TOT","I","M","X","H1",{"$f":"VLOOKUP('VP203'!$B$306,FlexDimensioner!$C$1:$D$430,2,FALSE)","v":"VALFRI"},"SEK",{"$f":"VLOOKUP(B652,Import!A$1:B$20000,2,FALSE)","v":{"$error":"#N/A"}},"EJ_GRANSKN",{"$f":"VLOOKUP(S652,Import!A$1:B$20000,2,FALSE)","v":{"$error":"#N/A"}},"32211_S_L_SEK_TOT_I_M_X_H1_VALFRI_SEK",1000,null,"30673_D938_cmb306_",{"$f":"VLOOKUP(B652,Import!E$1:F$20000,2,FALSE)","v":{"$error":"#N/A"}}]
[{"$f":"IF(ISBLANK(Inm_30673_D939_cmb307_),\"\",$T$653 * Inm_30673_D939_cmb307_)","v":""},"30673_D939_cmb307_","Handel i sven, Lång , Inflöde","VP203'!Inm_30673_D939_cmb307_","32211","S","L","SEK","TOT","I","M","X","H1",{"$f":"VLOOKUP('VP203'!$B$307,FlexDimensioner!$C$1:$D$430,2,FALSE)","v":"VALFRI"},"SEK",{"$f":"VLOOKUP(B653,Import!A$1:B$20000,2,FALSE)","v":{"$error":"#N/A"}},"EJ_GRANSKN",{"$f":"VLOOKUP(S653,Import!A$1:B$20000,2,FALSE)","v":{"$error":"#N/A"}},"32211_S_L_SEK_TOT_I_M_X_H1_VALFRI_SEK",1000,null,"30673_D939_cmb307_",{"$f":"VLOOKUP(B653,Import!E$1:F$20000,2,FALSE)","v":{"$error":"#N/A"}}]
[{"$f":"IF(ISBLANK(Inm_30673_D940_cmb308_),\"\",$T$654 * Inm_30673_D940_cmb308_)","v":""},"30673_D940_cmb308_","Handel i sven, Lång , Inflöde","VP203'!Inm_30673_D940_cmb308_","32211","S","L","SEK","TOT","I","M","X","H1",{"$f":"VLOOKUP('VP203'!$B$308,FlexDimensioner!$C$1:$D$430,2,FALSE)","v":"VALFRI"},"SEK",{"$f":"VLOOKUP(B654,Import!A$1:B$20000,2,FALSE)","v":{"$error":"#N/A"}},"EJ_GRANSKN",{"$f":"VLOOKUP(S654,Import!A$1:B$20000,2,FALSE)","v":{"$error":"#N/A"}},"32211_S_L_SEK_TOT_I_M_X_H1_VALFRI_SEK",1000,null,"30673_D940_cmb308_",{"$f":"VLOOKUP(B654,Import!E$1:F$20000,2,FALSE)","v":{"$error":"#N/A"}}]
[{"$f":"IF(ISBLANK(Inm_30673_D941_cmb309_),\"\",$T$655 * Inm_30673_D941_cmb309_)","v":""},"30673_D941_cmb309_","Handel i sven, Lång , Inflöde","VP203'!Inm_30673_D941_cmb309_","32211","S","L","SEK","TOT","I","M","X","H1",{"$f":"VLOOKUP('VP203'!$B$309,FlexDimensioner!$C$1:$D$430,2,FALSE)","v":"VALFRI"},"SEK",{"$f":"VLOOKUP(B655,Import!A$1:B$20000,2,FALSE)","v":{"$error":"#N/A"}},"EJ_GRANSKN",{"$f":"VLOOKUP(S655,Import!A$1:B$20000,2,FALSE)","v":{"$error":"#N/A"}},"32211_S_L_SEK_TOT_I_M_X_H1_VALFRI_SEK",1000,null,"30673_D941_cmb309_",{"$f":"VLOOKUP(B655,Import!E$1:F$20000,2,FALSE)","v":{"$error":"#N/A"}}]
[{"$f":"IF(ISBLANK(Inm_30673_D942_cmb310_),\"\",$T$656 * Inm_30673_D942_cmb310_)","v":""},"30673_D942_cmb310_","Handel i sven, Lång , Inflöde","VP203'!Inm_30673_D942_cmb310_","32211","S","L","SEK","TOT","I","M","X","H1",{"$f":"VLOOKUP('VP203'!$B$310,FlexDimensioner!$C$1:$D$430,2,FALSE)","v":"VALFRI"},"SEK",{"$f":"VLOOKUP(B656,Import!A$1:B$20000,2,FALSE)","v":{"$error":"#N/A"}},"EJ_GRANSKN",{"$f":"VLOOKUP(S656,Import!A$1:B$20000,2,FALSE)","v":{"$error":"#N/A"}},"32211_S_L_SEK_TOT_I_M_X_H1_VALFRI_SEK",1000,null,"30673_D942_cmb310_",{"$f":"VLOOKUP(B656,Import!E$1:F$20000,2,FALSE)","v":{"$error":"#N/A"}}]
[{"$f":"IF(ISBLANK(Inm_30673_D943_cmb311_),\"\",$T$657 * Inm_30673_D943_cmb311_)","v":""},"30673_D943_cmb311_","Handel i sven, Lång , Inflöde","VP203'!Inm_30673_D943_cmb311_","32211","S","L","SEK","TOT","I","M","X","H1",{"$f":"VLOOKUP('VP203'!$B$311,FlexDimensioner!$C$1:$D$430,2,FALSE)","v":"VALFRI"},"SEK",{"$f":"VLOOKUP(B657,Import!A$1:B$20000,2,FALSE)","v":{"$error":"#N/A"}},"EJ_GRANSKN",{"$f":"VLOOKUP(S657,Import!A$1:B$20000,2,FALSE)","v":{"$error":"#N/A"}},"32211_S_L_SEK_TOT_I_M_X_H1_VALFRI_SEK",1000,null,"30673_D943_cmb311_",{"$f":"VLOOKUP(B657,Import!E$1:F$20000,2,FALSE)","v":{"$error":"#N/A"}}]
[{"$f":"IF(ISBLANK(Inm_30673_D944_cmb312_),\"\",$T$658 * Inm_30673_D944_cmb312_)","v":""},"30673_D944_cmb312_","Handel i sven, Lång , Inflöde","VP203'!Inm_30673_D944_cmb312_","32211","S","L","SEK","TOT","I","M","X","H1",{"$f":"VLOOKUP('VP203'!$B$312,FlexDimensioner!$C$1:$D$430,2,FALSE)","v":"VALFRI"},"SEK",{"$f":"VLOOKUP(B658,Import!A$1:B$20000,2,FALSE)","v":{"$error":"#N/A"}},"EJ_GRANSKN",{"$f":"VLOOKUP(S658,Import!A$1:B$20000,2,FALSE)","v":{"$error":"#N/A"}},"32211_S_L_SEK_TOT_I_M_X_H1_VALFRI_SEK",1000,null,"30673_D944_cmb312_",{"$f":"VLOOKUP(B658,Import!E$1:F$20000,2,FALSE)","v":{"$error":"#N/A"}}]
[{"$f":"IF(ISBLANK(Inm_30673_D945_cmb313_),\"\",$T$659 * Inm_30673_D945_cmb313_)","v":""},"30673_D945_cmb313_","Handel i sven, Lång , Inflöde","VP203'!Inm_30673_D945_cmb313_","32211","S","L","SEK","TOT","I","M","X","H1",{"$f":"VLOOKUP('VP203'!$B$313,FlexDimensioner!$C$1:$D$430,2,FALSE)","v":"VALFRI"},"SEK",{"$f":"VLOOKUP(B659,Import!A$1:B$20000,2,FALSE)","v":{"$error":"#N/A"}},"EJ_GRANSKN",{"$f":"VLOOKUP(S659,Import!A$1:B$20000,2,FALSE)","v":{"$error":"#N/A"}},"32211_S_L_SEK_TOT_I_M_X_H1_VALFRI_SEK",1000,null,"30673_D945_cmb313_",{"$f":"VLOOKUP(B659,Import!E$1:F$20000,2,FALSE)","v":{"$error":"#N/A"}}]
[{"$f":"IF(ISBLANK(Inm_30673_D946_cmb314_),\"\",$T$660 * Inm_30673_D946_cmb314_)","v":""},"30673_D946_cmb314_","Handel i sven, Lång , Inflöde","VP203'!Inm_30673_D946_cmb314_","32211","S","L","SEK","TOT","I","M","X","H1",{"$f":"VLOOKUP('VP203'!$B$314,FlexDimensioner!$C$1:$D$430,2,FALSE)","v":"VALFRI"},"SEK",{"$f":"VLOOKUP(B660,Import!A$1:B$20000,2,FALSE)","v":{"$error":"#N/A"}},"EJ_GRANSKN",{"$f":"VLOOKUP(S660,Import!A$1:B$20000,2,FALSE)","v":{"$error":"#N/A"}},"32211_S_L_SEK_TOT_I_M_X_H1_VALFRI_SEK",1000,null,"30673_D946_cmb314_",{"$f":"VLOOKUP(B660,Import!E$1:F$20000,2,FALSE)","v":{"$error":"#N/A"}}]
[{"$f":"IF(ISBLANK(Inm_30673_D947_cmb315_),\"\",$T$661 * Inm_30673_D947_cmb315_)","v":""},"30673_D947_cmb315_","Handel i sven, Lång , Inflöde","VP203'!Inm_30673_D947_cmb315_","32211","S","L","SEK","TOT","I","M","X","H1",{"$f":"VLOOKUP('VP203'!$B$315,FlexDimensioner!$C$1:$D$430,2,FALSE)","v":"VALFRI"},"SEK",{"$f":"VLOOKUP(B661,Import!A$1:B$20000,2,FALSE)","v":{"$error":"#N/A"}},"EJ_GRANSKN",{"$f":"VLOOKUP(S661,Import!A$1:B$20000,2,FALSE)","v":{"$error":"#N/A"}},"32211_S_L_SEK_TOT_I_M_X_H1_VALFRI_SEK",1000,null,"30673_D947_cmb315_",{"$f":"VLOOKUP(B661,Import!E$1:F$20000,2,FALSE)","v":{"$error":"#N/A"}}]
[{"$f":"IF(ISBLANK(Inm_30673_D948_cmb316_),\"\",$T$662 * Inm_30673_D948_cmb316_)","v":""},"30673_D948_cmb316_","Handel i sven, Lång , Inflöde","VP203'!Inm_30673_D948_cmb316_","32211","S","L","SEK","TOT","I","M","X","H1",{"$f":"VLOOKUP('VP203'!$B$316,FlexDimensioner!$C$1:$D$430,2,FALSE)","v":"VALFRI"},"SEK",{"$f":"VLOOKUP(B662,Import!A$1:B$20000,2,FALSE)","v":{"$error":"#N/A"}},"EJ_GRANSKN",{"$f":"VLOOKUP(S662,Import!A$1:B$20000,2,FALSE)","v":{"$error":"#N/A"}},"32211_S_L_SEK_TOT_I_M_X_H1_VALFRI_SEK",1000,null,"30673_D948_cmb316_",{"$f":"VLOOKUP(B662,Import!E$1:F$20000,2,FALSE)","v":{"$error":"#N/A"}}]
[{"$f":"IF(ISBLANK(Inm_30673_D949_cmb317_),\"\",$T$663 * Inm_30673_D949_cmb317_)","v":""},"30673_D949_cmb317_","Handel i sven, Lång , Inflöde","VP203'!Inm_30673_D949_cmb317_","32211","S","L","SEK","TOT","I","M","X","H1",{"$f":"VLOOKUP('VP203'!$B$317,FlexDimensioner!$C$1:$D$430,2,FALSE)","v":"VALFRI"},"SEK",{"$f":"VLOOKUP(B663,Import!A$1:B$20000,2,FALSE)","v":{"$error":"#N/A"}},"EJ_GRANSKN",{"$f":"VLOOKUP(S663,Import!A$1:B$20000,2,FALSE)","v":{"$error":"#N/A"}},"32211_S_L_SEK_TOT_I_M_X_H1_VALFRI_SEK",1000,null,"30673_D949_cmb317_",{"$f":"VLOOKUP(B663,Import!E$1:F$20000,2,FALSE)","v":{"$error":"#N/A"}}]
[{"$f":"IF(ISBLANK(Inm_30673_D950_cmb318_),\"\",$T$664 * Inm_30673_D950_cmb318_)","v":""},"30673_D950_cmb318_","Handel i sven, Lång , Inflöde","VP203'!Inm_30673_D950_cmb318_","32211","S","L","SEK","TOT","I","M","X","H1",{"$f":"VLOOKUP('VP203'!$B$318,FlexDimensioner!$C$1:$D$430,2,FALSE)","v":"VALFRI"},"SEK",{"$f":"VLOOKUP(B664,Import!A$1:B$20000,2,FALSE)","v":{"$error":"#N/A"}},"EJ_GRANSKN",{"$f":"VLOOKUP(S664,Import!A$1:B$20000,2,FALSE)","v":{"$error":"#N/A"}},"32211_S_L_SEK_TOT_I_M_X_H1_VALFRI_SEK",1000,null,"30673_D950_cmb318_",{"$f":"VLOOKUP(B664,Import!E$1:F$20000,2,FALSE)","v":{"$error":"#N/A"}}]
[{"$f":"IF(ISBLANK(Inm_30673_D951_cmb319_),\"\",$T$665 * Inm_30673_D951_cmb319_)","v":""},"30673_D951_cmb319_","Handel i sven, Lång , Inflöde","VP203'!Inm_30673_D951_cmb319_","32211","S","L","SEK","TOT","I","M","X","H1",{"$f":"VLOOKUP('VP203'!$B$319,FlexDimensioner!$C$1:$D$430,2,FALSE)","v":"VALFRI"},"SEK",{"$f":"VLOOKUP(B665,Import!A$1:B$20000,2,FALSE)","v":{"$error":"#N/A"}},"EJ_GRANSKN",{"$f":"VLOOKUP(S665,Import!A$1:B$20000,2,FALSE)","v":{"$error":"#N/A"}},"32211_S_L_SEK_TOT_I_M_X_H1_VALFRI_SEK",1000,null,"30673_D951_cmb319_",{"$f":"VLOOKUP(B665,Import!E$1:F$20000,2,FALSE)","v":{"$error":"#N/A"}}]
[{"$f":"IF(ISBLANK(Inm_30673_D952_cmb320_),\"\",$T$666 * Inm_30673_D952_cmb320_)","v":""},"30673_D952_cmb320_","Handel i sven, Lång , Inflöde","VP203'!Inm_30673_D952_cmb320_","32211","S","L","SEK","TOT","I","M","X","H1",{"$f":"VLOOKUP('VP203'!$B$320,FlexDimensioner!$C$1:$D$430,2,FALSE)","v":"VALFRI"},"SEK",{"$f":"VLOOKUP(B666,Import!A$1:B$20000,2,FALSE)","v":{"$error":"#N/A"}},"EJ_GRANSKN",{"$f":"VLOOKUP(S666,Import!A$1:B$20000,2,FALSE)","v":{"$error":"#N/A"}},"32211_S_L_SEK_TOT_I_M_X_H1_VALFRI_SEK",1000,null,"30673_D952_cmb320_",{"$f":"VLOOKUP(B666,Import!E$1:F$20000,2,FALSE)","v":{"$error":"#N/A"}}]
[{"$f":"IF(ISBLANK(Inm_30673_D953_cmb321_),\"\",$T$667 * Inm_30673_D953_cmb321_)","v":""},"30673_D953_cmb321_","Handel i sven, Lång , Inflöde","VP203'!Inm_30673_D953_cmb321_","32211","S","L","SEK","TOT","I","M","X","H1",{"$f":"VLOOKUP('VP203'!$B$321,FlexDimensioner!$C$1:$D$430,2,FALSE)","v":"VALFRI"},"SEK",{"$f":"VLOOKUP(B667,Import!A$1:B$20000,2,FALSE)","v":{"$error":"#N/A"}},"EJ_GRANSKN",{"$f":"VLOOKUP(S667,Import!A$1:B$20000,2,FALSE)","v":{"$error":"#N/A"}},"32211_S_L_SEK_TOT_I_M_X_H1_VALFRI_SEK",1000,null,"30673_D953_cmb321_",{"$f":"VLOOKUP(B667,Import!E$1:F$20000,2,FALSE)","v":{"$error":"#N/A"}}]
[{"$f":"IF(ISBLANK(Inm_30673_D954_cmb322_),\"\",$T$668 * Inm_30673_D954_cmb322_)","v":""},"30673_D954_cmb322_","Handel i sven, Lång , Inflöde","VP203'!Inm_30673_D954_cmb322_","32211","S","L","SEK","TOT","I","M","X","H1",{"$f":"VLOOKUP('VP203'!$B$322,FlexDimensioner!$C$1:$D$430,2,FALSE)","v":"VALFRI"},"SEK",{"$f":"VLOOKUP(B668,Import!A$1:B$20000,2,FALSE)","v":{"$error":"#N/A"}},"EJ_GRANSKN",{"$f":"VLOOKUP(S668,Import!A$1:B$20000,2,FALSE)","v":{"$error":"#N/A"}},"32211_S_L_SEK_TOT_I_M_X_H1_VALFRI_SEK",1000,null,"30673_D954_cmb322_",{"$f":"VLOOKUP(B668,Import!E$1:F$20000,2,FALSE)","v":{"$error":"#N/A"}}]
[{"$f":"IF(ISBLANK(Inm_30673_D955_cmb323_),\"\",$T$669 * Inm_30673_D955_cmb323_)","v":""},"30673_D955_cmb323_","Handel i sven, Lång , Inflöde","VP203'!Inm_30673_D955_cmb323_","32211","S","L","SEK","TOT","I","M","X","H1",{"$f":"VLOOKUP('VP203'!$B$323,FlexDimensioner!$C$1:$D$430,2,FALSE)","v":"VALFRI"},"SEK",{"$f":"VLOOKUP(B669,Import!A$1:B$20000,2,FALSE)","v":{"$error":"#N/A"}},"EJ_GRANSKN",{"$f":"VLOOKUP(S669,Import!A$1:B$20000,2,FALSE)","v":{"$error":"#N/A"}},"32211_S_L_SEK_TOT_I_M_X_H1_VALFRI_SEK",1000,null,"30673_D955_cmb323_",{"$f":"VLOOKUP(B669,Import!E$1:F$20000,2,FALSE)","v":{"$error":"#N/A"}}]
[{"$f":"IF(ISBLANK(Inm_30673_D956_cmb324_),\"\",$T$670 * Inm_30673_D956_cmb324_)","v":""},"30673_D956_cmb324_","Handel i sven, Lång , Inflöde","VP203'!Inm_30673_D956_cmb324_","32211","S","L","SEK","TOT","I","M","X","H1",{"$f":"VLOOKUP('VP203'!$B$324,FlexDimensioner!$C$1:$D$430,2,FALSE)","v":"VALFRI"},"SEK",{"$f":"VLOOKUP(B670,Import!A$1:B$20000,2,FALSE)","v":{"$error":"#N/A"}},"EJ_GRANSKN",{"$f":"VLOOKUP(S670,Import!A$1:B$20000,2,FALSE)","v":{"$error":"#N/A"}},"32211_S_L_SEK_TOT_I_M_X_H1_VALFRI_SEK",1000,null,"30673_D956_cmb324_",{"$f":"VLOOKUP(B670,Import!E$1:F$20000,2,FALSE)","v":{"$error":"#N/A"}}]
[{"$f":"IF(ISBLANK(Inm_30673_D957_cmb325_),\"\",$T$671 * Inm_30673_D957_cmb325_)","v":""},"30673_D957_cmb325_","Handel i sven, Lång , Inflöde","VP203'!Inm_30673_D957_cmb325_","32211","S","L","SEK","TOT","I","M","X","H1",{"$f":"VLOOKUP('VP203'!$B$325,FlexDimensioner!$C$1:$D$430,2,FALSE)","v":"VALFRI"},"SEK",{"$f":"VLOOKUP(B671,Import!A$1:B$20000,2,FALSE)","v":{"$error":"#N/A"}},"EJ_GRANSKN",{"$f":"VLOOKUP(S671,Import!A$1:B$20000,2,FALSE)","v":{"$error":"#N/A"}},"32211_S_L_SEK_TOT_I_M_X_H1_VALFRI_SEK",1000,null,"30673_D957_cmb325_",{"$f":"VLOOKUP(B671,Import!E$1:F$20000,2,FALSE)","v":{"$error":"#N/A"}}]
[{"$f":"IF(ISBLANK(Inm_30673_D958_cmb326_),\"\",$T$672 * Inm_30673_D958_cmb326_)","v":""},"30673_D958_cmb326_","Handel i sven, Lång , Inflöde","VP203'!Inm_30673_D958_cmb326_","32211","S","L","SEK","TOT","I","M","X","H1",{"$f":"VLOOKUP('VP203'!$B$326,FlexDimensioner!$C$1:$D$430,2,FALSE)","v":"VALFRI"},"SEK",{"$f":"VLOOKUP(B672,Import!A$1:B$20000,2,FALSE)","v":{"$error":"#N/A"}},"EJ_GRANSKN",{"$f":"VLOOKUP(S672,Import!A$1:B$20000,2,FALSE)","v":{"$error":"#N/A"}},"32211_S_L_SEK_TOT_I_M_X_H1_VALFRI_SEK",1000,null,"30673_D958_cmb326_",{"$f":"VLOOKUP(B672,Import!E$1:F$20000,2,FALSE)","v":{"$error":"#N/A"}}]
[{"$f":"IF(ISBLANK(Inm_30673_D959_cmb327_),\"\",$T$673 * Inm_30673_D959_cmb327_)","v":""},"30673_D959_cmb327_","Handel i sven, Lång , Inflöde","VP203'!Inm_30673_D959_cmb327_","32211","S","L","SEK","TOT","I","M","X","H1",{"$f":"VLOOKUP('VP203'!$B$327,FlexDimensioner!$C$1:$D$430,2,FALSE)","v":"VALFRI"},"SEK",{"$f":"VLOOKUP(B673,Import!A$1:B$20000,2,FALSE)","v":{"$error":"#N/A"}},"EJ_GRANSKN",{"$f":"VLOOKUP(S673,Import!A$1:B$20000,2,FALSE)","v":{"$error":"#N/A"}},"32211_S_L_SEK_TOT_I_M_X_H1_VALFRI_SEK",1000,null,"30673_D959_cmb327_",{"$f":"VLOOKUP(B673,Import!E$1:F$20000,2,FALSE)","v":{"$error":"#N/A"}}]
[{"$f":"IF(ISBLANK(Inm_30673_D960_cmb328_),\"\",$T$674 * Inm_30673_D960_cmb328_)","v":""},"30673_D960_cmb328_","Handel i sven, Lång , Inflöde","VP203'!Inm_30673_D960_cmb328_","32211","S","L","SEK","TOT","I","M","X","H1",{"$f":"VLOOKUP('VP203'!$B$328,FlexDimensioner!$C$1:$D$430,2,FALSE)","v":"VALFRI"},"SEK",{"$f":"VLOOKUP(B674,Import!A$1:B$20000,2,FALSE)","v":{"$error":"#N/A"}},"EJ_GRANSKN",{"$f":"VLOOKUP(S674,Import!A$1:B$20000,2,FALSE)","v":{"$error":"#N/A"}},"32211_S_L_SEK_TOT_I_M_X_H1_VALFRI_SEK",1000,null,"30673_D960_cmb328_",{"$f":"VLOOKUP(B674,Import!E$1:F$20000,2,FALSE)","v":{"$error":"#N/A"}}]
[{"$f":"IF(ISBLANK(Inm_30673_D961_cmb329_),\"\",$T$675 * Inm_30673_D961_cmb329_)","v":""},"30673_D961_cmb329_","Handel i sven, Lång , Inflöde","VP203'!Inm_30673_D961_cmb329_","32211","S","L","SEK","TOT","I","M","X","H1",{"$f":"VLOOKUP('VP203'!$B$329,FlexDimensioner!$C$1:$D$430,2,FALSE)","v":"VALFRI"},"SEK",{"$f":"VLOOKUP(B675,Import!A$1:B$20000,2,FALSE)","v":{"$error":"#N/A"}},"EJ_GRANSKN",{"$f":"VLOOKUP(S675,Import!A$1:B$20000,2,FALSE)","v":{"$error":"#N/A"}},"32211_S_L_SEK_TOT_I_M_X_H1_VALFRI_SEK",1000,null,"30673_D961_cmb329_",{"$f":"VLOOKUP(B675,Import!E$1:F$20000,2,FALSE)","v":{"$error":"#N/A"}}]
[{"$f":"IF(ISBLANK(Inm_30673_D962_cmb330_),\"\",$T$676 * Inm_30673_D962_cmb330_)","v":""},"30673_D962_cmb330_","Handel i sven, Lång , Inflöde","VP203'!Inm_30673_D962_cmb330_","32211","S","L","SEK","TOT","I","M","X","H1",{"$f":"VLOOKUP('VP203'!$B$330,FlexDimensioner!$C$1:$D$430,2,FALSE)","v":"VALFRI"},"SEK",{"$f":"VLOOKUP(B676,Import!A$1:B$20000,2,FALSE)","v":{"$error":"#N/A"}},"EJ_GRANSKN",{"$f":"VLOOKUP(S676,Import!A$1:B$20000,2,FALSE)","v":{"$error":"#N/A"}},"32211_S_L_SEK_TOT_I_M_X_H1_VALFRI_SEK",1000,null,"30673_D962_cmb330_",{"$f":"VLOOKUP(B676,Import!E$1:F$20000,2,FALSE)","v":{"$error":"#N/A"}}]
[{"$f":"IF(ISBLANK(Inm_30673_D963_cmb331_),\"\",$T$677 * Inm_30673_D963_cmb331_)","v":""},"30673_D963_cmb331_","Handel i sven, Lång , Inflöde","VP203'!Inm_30673_D963_cmb331_","32211","S","L","SEK","TOT","I","M","X","H1",{"$f":"VLOOKUP('VP203'!$B$331,FlexDimensioner!$C$1:$D$430,2,FALSE)","v":"VALFRI"},"SEK",{"$f":"VLOOKUP(B677,Import!A$1:B$20000,2,FALSE)","v":{"$error":"#N/A"}},"EJ_GRANSKN",{"$f":"VLOOKUP(S677,Import!A$1:B$20000,2,FALSE)","v":{"$error":"#N/A"}},"32211_S_L_SEK_TOT_I_M_X_H1_VALFRI_SEK",1000,null,"30673_D963_cmb331_",{"$f":"VLOOKUP(B677,Import!E$1:F$20000,2,FALSE)","v":{"$error":"#N/A"}}]
[{"$f":"IF(ISBLANK(Inm_30673_D964_cmb332_),\"\",$T$678 * Inm_30673_D964_cmb332_)","v":""},"30673_D964_cmb332_","Handel i sven, Lång , Inflöde","VP203'!Inm_30673_D964_cmb332_","32211","S","L","SEK","TOT","I","M","X","H1",{"$f":"VLOOKUP('VP203'!$B$332,FlexDimensioner!$C$1:$D$430,2,FALSE)","v":"VALFRI"},"SEK",{"$f":"VLOOKUP(B678,Import!A$1:B$20000,2,FALSE)","v":{"$error":"#N/A"}},"EJ_GRANSKN",{"$f":"VLOOKUP(S678,Import!A$1:B$20000,2,FALSE)","v":{"$error":"#N/A"}},"32211_S_L_SEK_TOT_I_M_X_H1_VALFRI_SEK",1000,null,"30673_D964_cmb332_",{"$f":"VLOOKUP(B678,Import!E$1:F$20000,2,FALSE)","v":{"$error":"#N/A"}}]
[{"$f":"IF(ISBLANK(Inm_30673_D965_cmb333_),\"\",$T$679 * Inm_30673_D965_cmb333_)","v":""},"30673_D965_cmb333_","Handel i sven, Lång , Inflöde","VP203'!Inm_30673_D965_cmb333_","32211","S","L","SEK","TOT","I","M","X","H1",{"$f":"VLOOKUP('VP203'!$B$333,FlexDimensioner!$C$1:$D$430,2,FALSE)","v":"VALFRI"},"SEK",{"$f":"VLOOKUP(B679,Import!A$1:B$20000,2,FALSE)","v":{"$error":"#N/A"}},"EJ_GRANSKN",{"$f":"VLOOKUP(S679,Import!A$1:B$20000,2,FALSE)","v":{"$error":"#N/A"}},"32211_S_L_SEK_TOT_I_M_X_H1_VALFRI_SEK",1000,null,"30673_D965_cmb333_",{"$f":"VLOOKUP(B679,Import!E$1:F$20000,2,FALSE)","v":{"$error":"#N/A"}}]
[{"$f":"IF(ISBLANK(Inm_30673_D966_cmb334_),\"\",$T$680 * Inm_30673_D966_cmb334_)","v":""},"30673_D966_cmb334_","Handel i sven, Lång , Inflöde","VP203'!Inm_30673_D966_cmb334_","32211","S","L","SEK","TOT","I","M","X","H1",{"$f":"VLOOKUP('VP203'!$B$334,FlexDimensioner!$C$1:$D$430,2,FALSE)","v":"VALFRI"},"SEK",{"$f":"VLOOKUP(B680,Import!A$1:B$20000,2,FALSE)","v":{"$error":"#N/A"}},"EJ_GRANSKN",{"$f":"VLOOKUP(S680,Import!A$1:B$20000,2,FALSE)","v":{"$error":"#N/A"}},"32211_S_L_SEK_TOT_I_M_X_H1_VALFRI_SEK",1000,null,"30673_D966_cmb334_",{"$f":"VLOOKUP(B680,Import!E$1:F$20000,2,FALSE)","v":{"$error":"#N/A"}}]
[{"$f":"IF(ISBLANK(Inm_30673_D967_cmb335_),\"\",$T$681 * Inm_30673_D967_cmb335_)","v":""},"30673_D967_cmb335_","Handel i sven, Lång , Inflöde","VP203'!Inm_30673_D967_cmb335_","32211","S","L","SEK","TOT","I","M","X","H1",{"$f":"VLOOKUP('VP203'!$B$335,FlexDimensioner!$C$1:$D$430,2,FALSE)","v":"VALFRI"},"SEK",{"$f":"VLOOKUP(B681,Import!A$1:B$20000,2,FALSE)","v":{"$error":"#N/A"}},"EJ_GRANSKN",{"$f":"VLOOKUP(S681,Import!A$1:B$20000,2,FALSE)","v":{"$error":"#N/A"}},"32211_S_L_SEK_TOT_I_M_X_H1_VALFRI_SEK",1000,null,"30673_D967_cmb335_",{"$f":"VLOOKUP(B681,Import!E$1:F$20000,2,FALSE)","v":{"$error":"#N/A"}}]
[{"$f":"IF(ISBLANK(Inm_30673_D968_cmb336_),\"\",$T$682 * Inm_30673_D968_cmb336_)","v":""},"30673_D968_cmb336_","Handel i sven, Lång , Inflöde","VP203'!Inm_30673_D968_cmb336_","32211","S","L","SEK","TOT","I","M","X","H1",{"$f":"VLOOKUP('VP203'!$B$336,FlexDimensioner!$C$1:$D$430,2,FALSE)","v":"VALFRI"},"SEK",{"$f":"VLOOKUP(B682,Import!A$1:B$20000,2,FALSE)","v":{"$error":"#N/A"}},"EJ_GRANSKN",{"$f":"VLOOKUP(S682,Import!A$1:B$20000,2,FALSE)","v":{"$error":"#N/A"}},"32211_S_L_SEK_TOT_I_M_X_H1_VALFRI_SEK",1000,null,"30673_D968_cmb336_",{"$f":"VLOOKUP(B682,Import!E$1:F$20000,2,FALSE)","v":{"$error":"#N/A"}}]
[{"$f":"IF(ISBLANK(Inm_30673_D969_cmb337_),\"\",$T$683 * Inm_30673_D969_cmb337_)","v":""},"30673_D969_cmb337_","Handel i sven, Lång , Inflöde","VP203'!Inm_30673_D969_cmb337_","32211","S","L","SEK","TOT","I","M","X","H1",{"$f":"VLOOKUP('VP203'!$B$337,FlexDimensioner!$C$1:$D$430,2,FALSE)","v":"VALFRI"},"SEK",{"$f":"VLOOKUP(B683,Import!A$1:B$20000,2,FALSE)","v":{"$error":"#N/A"}},"EJ_GRANSKN",{"$f":"VLOOKUP(S683,Import!A$1:B$20000,2,FALSE)","v":{"$error":"#N/A"}},"32211_S_L_SEK_TOT_I_M_X_H1_VALFRI_SEK",1000,null,"30673_D969_cmb337_",{"$f":"VLOOKUP(B683,Import!E$1:F$20000,2,FALSE)","v":{"$error":"#N/A"}}]
[{"$f":"IF(ISBLANK(Inm_30673_D970_cmb338_),\"\",$T$684 * Inm_30673_D970_cmb338_)","v":""},"30673_D970_cmb338_","Handel i sven, Lång , Inflöde","VP203'!Inm_30673_D970_cmb338_","32211","S","L","SEK","TOT","I","M","X","H1",{"$f":"VLOOKUP('VP203'!$B$338,FlexDimensioner!$C$1:$D$430,2,FALSE)","v":"VALFRI"},"SEK",{"$f":"VLOOKUP(B684,Import!A$1:B$20000,2,FALSE)","v":{"$error":"#N/A"}},"EJ_GRANSKN",{"$f":"VLOOKUP(S684,Import!A$1:B$20000,2,FALSE)","v":{"$error":"#N/A"}},"32211_S_L_SEK_TOT_I_M_X_H1_VALFRI_SEK",1000,null,"30673_D970_cmb338_",{"$f":"VLOOKUP(B684,Import!E$1:F$20000,2,FALSE)","v":{"$error":"#N/A"}}]
[{"$f":"IF(ISBLANK(Inm_30673_D971_cmb339_),\"\",$T$685 * Inm_30673_D971_cmb339_)","v":""},"30673_D971_cmb339_","Handel i sven, Lång , Inflöde","VP203'!Inm_30673_D971_cmb339_","32211","S","L","SEK","TOT","I","M","X","H1",{"$f":"VLOOKUP('VP203'!$B$339,FlexDimensioner!$C$1:$D$430,2,FALSE)","v":"VALFRI"},"SEK",{"$f":"VLOOKUP(B685,Import!A$1:B$20000,2,FALSE)","v":{"$error":"#N/A"}},"EJ_GRANSKN",{"$f":"VLOOKUP(S685,Import!A$1:B$20000,2,FALSE)","v":{"$error":"#N/A"}},"32211_S_L_SEK_TOT_I_M_X_H1_VALFRI_SEK",1000,null,"30673_D971_cmb339_",{"$f":"VLOOKUP(B685,Import!E$1:F$20000,2,FALSE)","v":{"$error":"#N/A"}}]
[{"$f":"IF(ISBLANK(Inm_30673_D972_cmb340_),\"\",$T$686 * Inm_30673_D972_cmb340_)","v":""},"30673_D972_cmb340_","Handel i sven, Lång , Inflöde","VP203'!Inm_30673_D972_cmb340_","32211","S","L","SEK","TOT","I","M","X","H1",{"$f":"VLOOKUP('VP203'!$B$340,FlexDimensioner!$C$1:$D$430,2,FALSE)","v":"VALFRI"},"SEK",{"$f":"VLOOKUP(B686,Import!A$1:B$20000,2,FALSE)","v":{"$error":"#N/A"}},"EJ_GRANSKN",{"$f":"VLOOKUP(S686,Import!A$1:B$20000,2,FALSE)","v":{"$error":"#N/A"}},"32211_S_L_SEK_TOT_I_M_X_H1_VALFRI_SEK",1000,null,"30673_D972_cmb340_",{"$f":"VLOOKUP(B686,Import!E$1:F$20000,2,FALSE)","v":{"$error":"#N/A"}}]
[{"$f":"IF(ISBLANK(Inm_30673_D973_cmb341_),\"\",$T$687 * Inm_30673_D973_cmb341_)","v":""},"30673_D973_cmb341_","Handel i sven, Lång , Inflöde","VP203'!Inm_30673_D973_cmb341_","32211","S","L","SEK","TOT","I","M","X","H1",{"$f":"VLOOKUP('VP203'!$B$341,FlexDimensioner!$C$1:$D$430,2,FALSE)","v":"VALFRI"},"SEK",{"$f":"VLOOKUP(B687,Import!A$1:B$20000,2,FALSE)","v":{"$error":"#N/A"}},"EJ_GRANSKN",{"$f":"VLOOKUP(S687,Import!A$1:B$20000,2,FALSE)","v":{"$error":"#N/A"}},"32211_S_L_SEK_TOT_I_M_X_H1_VALFRI_SEK",1000,null,"30673_D973_cmb341_",{"$f":"VLOOKUP(B687,Import!E$1:F$20000,2,FALSE)","v":{"$error":"#N/A"}}]
[{"$f":"IF(ISBLANK(Inm_30673_D974_cmb342_),\"\",$T$688 * Inm_30673_D974_cmb342_)","v":""},"30673_D974_cmb342_","Handel i sven, Lång , Inflöde","VP203'!Inm_30673_D974_cmb342_","32211","S","L","SEK","TOT","I","M","X","H1",{"$f":"VLOOKUP('VP203'!$B$342,FlexDimensioner!$C$1:$D$430,2,FALSE)","v":"VALFRI"},"SEK",{"$f":"VLOOKUP(B688,Import!A$1:B$20000,2,FALSE)","v":{"$error":"#N/A"}},"EJ_GRANSKN",{"$f":"VLOOKUP(S688,Import!A$1:B$20000,2,FALSE)","v":{"$error":"#N/A"}},"32211_S_L_SEK_TOT_I_M_X_H1_VALFRI_SEK",1000,null,"30673_D974_cmb342_",{"$f":"VLOOKUP(B688,Import!E$1:F$20000,2,FALSE)","v":{"$error":"#N/A"}}]
[{"$f":"IF(ISBLANK(Inm_30673_D975_cmb343_),\"\",$T$689 * Inm_30673_D975_cmb343_)","v":""},"30673_D975_cmb343_","Handel i sven, Lång , Inflöde","VP203'!Inm_30673_D975_cmb343_","32211","S","L","SEK","TOT","I","M","X","H1",{"$f":"VLOOKUP('VP203'!$B$343,FlexDimensioner!$C$1:$D$430,2,FALSE)","v":"VALFRI"},"SEK",{"$f":"VLOOKUP(B689,Import!A$1:B$20000,2,FALSE)","v":{"$error":"#N/A"}},"EJ_GRANSKN",{"$f":"VLOOKUP(S689,Import!A$1:B$20000,2,FALSE)","v":{"$error":"#N/A"}},"32211_S_L_SEK_TOT_I_M_X_H1_VALFRI_SEK",1000,null,"30673_D975_cmb343_",{"$f":"VLOOKUP(B689,Import!E$1:F$20000,2,FALSE)","v":{"$error":"#N/A"}}]
[{"$f":"IF(ISBLANK(Inm_30673_D976_cmb344_),\"\",$T$690 * Inm_30673_D976_cmb344_)","v":""},"30673_D976_cmb344_","Handel i sven, Lång , Inflöde","VP203'!Inm_30673_D976_cmb344_","32211","S","L","SEK","TOT","I","M","X","H1",{"$f":"VLOOKUP('VP203'!$B$344,FlexDimensioner!$C$1:$D$430,2,FALSE)","v":"VALFRI"},"SEK",{"$f":"VLOOKUP(B690,Import!A$1:B$20000,2,FALSE)","v":{"$error":"#N/A"}},"EJ_GRANSKN",{"$f":"VLOOKUP(S690,Import!A$1:B$20000,2,FALSE)","v":{"$error":"#N/A"}},"32211_S_L_SEK_TOT_I_M_X_H1_VALFRI_SEK",1000,null,"30673_D976_cmb344_",{"$f":"VLOOKUP(B690,Import!E$1:F$20000,2,FALSE)","v":{"$error":"#N/A"}}]
[{"$f":"IF(ISBLANK(Inm_30673_D977_cmb345_),\"\",$T$691 * Inm_30673_D977_cmb345_)","v":""},"30673_D977_cmb345_","Handel i sven, Lång , Inflöde","VP203'!Inm_30673_D977_cmb345_","32211","S","L","SEK","TOT","I","M","X","H1",{"$f":"VLOOKUP('VP203'!$B$345,FlexDimensioner!$C$1:$D$430,2,FALSE)","v":"VALFRI"},"SEK",{"$f":"VLOOKUP(B691,Import!A$1:B$20000,2,FALSE)","v":{"$error":"#N/A"}},"EJ_GRANSKN",{"$f":"VLOOKUP(S691,Import!A$1:B$20000,2,FALSE)","v":{"$error":"#N/A"}},"32211_S_L_SEK_TOT_I_M_X_H1_VALFRI_SEK",1000,null,"30673_D977_cmb345_",{"$f":"VLOOKUP(B691,Import!E$1:F$20000,2,FALSE)","v":{"$error":"#N/A"}}]
[{"$f":"IF(ISBLANK(Inm_30673_D978_cmb346_),\"\",$T$692 * Inm_30673_D978_cmb346_)","v":""},"30673_D978_cmb346_","Handel i sven, Lång , Inflöde","VP203'!Inm_30673_D978_cmb346_","32211","S","L","SEK","TOT","I","M","X","H1",{"$f":"VLOOKUP('VP203'!$B$346,FlexDimensioner!$C$1:$D$430,2,FALSE)","v":"VALFRI"},"SEK",{"$f":"VLOOKUP(B692,Import!A$1:B$20000,2,FALSE)","v":{"$error":"#N/A"}},"EJ_GRANSKN",{"$f":"VLOOKUP(S692,Import!A$1:B$20000,2,FALSE)","v":{"$error":"#N/A"}},{"$f":"CONCATENATE(E692,\"_\",F692,\"_\",G692,\"_\",H692,\"_\",I692,\"_\",J692,\"_\",K692,\"_\",L692,\"_\",M692,\"_\",N692,\"_\",O692)","v":"32211_S_L_SEK_TOT_I_M_X_H1_VALFRI_SEK"},1000,null,"30673_D978_cmb346_",{"$f":"VLOOKUP(B692,Import!E$1:F$20000,2,FALSE)","v":{"$error":"#N/A"}}]
[{"$f":"IF(ISBLANK(Inm_30673_D979_cmb347_),\"\",$T$693 * Inm_30673_D979_cmb347_)","v":""},"30673_D979_cmb347_","Handel i sven, Lång , Inflöde","VP203'!Inm_30673_D979_cmb347_","32211","S","L","SEK","TOT","I","M","X","H1",{"$f":"VLOOKUP('VP203'!$B$347,FlexDimensioner!$C$1:$D$430,2,FALSE)","v":"VALFRI"},"SEK",{"$f":"VLOOKUP(B693,Import!A$1:B$20000,2,FALSE)","v":{"$error":"#N/A"}},"EJ_GRANSKN",{"$f":"VLOOKUP(S693,Import!A$1:B$20000,2,FALSE)","v":{"$error":"#N/A"}},"32211_S_L_SEK_TOT_I_M_X_H1_VALFRI_SEK",1000,null,"30673_D979_cmb347_",{"$f":"VLOOKUP(B693,Import!E$1:F$20000,2,FALSE)","v":{"$error":"#N/A"}}]
[{"$f":"IF(ISBLANK(Inm_30673_D980_cmb348_),\"\",$T$694 * Inm_30673_D980_cmb348_)","v":""},"30673_D980_cmb348_","Handel i sven, Lång , Inflöde","VP203'!Inm_30673_D980_cmb348_","32211","S","L","SEK","TOT","I","M","X","H1",{"$f":"VLOOKUP('VP203'!$B$348,FlexDimensioner!$C$1:$D$430,2,FALSE)","v":"VALFRI"},"SEK",{"$f":"VLOOKUP(B694,Import!A$1:B$20000,2,FALSE)","v":{"$error":"#N/A"}},"EJ_GRANSKN",{"$f":"VLOOKUP(S694,Import!A$1:B$20000,2,FALSE)","v":{"$error":"#N/A"}},"32211_S_L_SEK_TOT_I_M_X_H1_VALFRI_SEK",1000,null,"30673_D980_cmb348_",{"$f":"VLOOKUP(B694,Import!E$1:F$20000,2,FALSE)","v":{"$error":"#N/A"}}]
[{"$f":"IF(ISBLANK(Inm_30673_D981_cmb349_),\"\",$T$695 * Inm_30673_D981_cmb349_)","v":""},"30673_D981_cmb349_","Handel i sven, Lång , Inflöde","VP203'!Inm_30673_D981_cmb349_","32211","S","L","SEK","TOT","I","M","X","H1",{"$f":"VLOOKUP('VP203'!$B$349,FlexDimensioner!$C$1:$D$430,2,FALSE)","v":"VALFRI"},"SEK",{"$f":"VLOOKUP(B695,Import!A$1:B$20000,2,FALSE)","v":{"$error":"#N/A"}},"EJ_GRANSKN",{"$f":"VLOOKUP(S695,Import!A$1:B$20000,2,FALSE)","v":{"$error":"#N/A"}},"32211_S_L_SEK_TOT_I_M_X_H1_VALFRI_SEK",1000,null,"30673_D981_cmb349_",{"$f":"VLOOKUP(B695,Import!E$1:F$20000,2,FALSE)","v":{"$error":"#N/A"}}]
[{"$f":"IF(ISBLANK(Inm_30673_D982_cmb350_),\"\",$T$696 * Inm_30673_D982_cmb350_)","v":""},"30673_D982_cmb350_","Handel i sven, Lång , Inflöde","VP203'!Inm_30673_D982_cmb350_","32211","S","L","SEK","TOT","I","M","X","H1",{"$f":"VLOOKUP('VP203'!$B$350,FlexDimensioner!$C$1:$D$430,2,FALSE)","v":"VALFRI"},"SEK",{"$f":"VLOOKUP(B696,Import!A$1:B$20000,2,FALSE)","v":{"$error":"#N/A"}},"EJ_GRANSKN",{"$f":"VLOOKUP(S696,Import!A$1:B$20000,2,FALSE)","v":{"$error":"#N/A"}},"32211_S_L_SEK_TOT_I_M_X_H1_VALFRI_SEK",1000,null,"30673_D982_cmb350_",{"$f":"VLOOKUP(B696,Import!E$1:F$20000,2,FALSE)","v":{"$error":"#N/A"}}]
[{"$f":"IF(ISBLANK(Inm_30673_D983_cmb351_),\"\",$T$697 * Inm_30673_D983_cmb351_)","v":""},"30673_D983_cmb351_","Handel i sven, Lång , Inflöde","VP203'!Inm_30673_D983_cmb351_","32211","S","L","SEK","TOT","I","M","X","H1",{"$f":"VLOOKUP('VP203'!$B$351,FlexDimensioner!$C$1:$D$430,2,FALSE)","v":"VALFRI"},"SEK",{"$f":"VLOOKUP(B697,Import!A$1:B$20000,2,FALSE)","v":{"$error":"#N/A"}},"EJ_GRANSKN",{"$f":"VLOOKUP(S697,Import!A$1:B$20000,2,FALSE)","v":{"$error":"#N/A"}},"32211_S_L_SEK_TOT_I_M_X_H1_VALFRI_SEK",1000,null,"30673_D983_cmb351_",{"$f":"VLOOKUP(B697,Import!E$1:F$20000,2,FALSE)","v":{"$error":"#N/A"}}]
[{"$f":"IF(ISBLANK(Inm_30673_D984_cmb352_),\"\",$T$698 * Inm_30673_D984_cmb352_)","v":""},"30673_D984_cmb352_","Handel i sven, Lång , Inflöde","VP203'!Inm_30673_D984_cmb352_","32211","S","L","SEK","TOT","I","M","X","H1",{"$f":"VLOOKUP('VP203'!$B$352,FlexDimensioner!$C$1:$D$430,2,FALSE)","v":"VALFRI"},"SEK",{"$f":"VLOOKUP(B698,Import!A$1:B$20000,2,FALSE)","v":{"$error":"#N/A"}},"EJ_GRANSKN",{"$f":"VLOOKUP(S698,Import!A$1:B$20000,2,FALSE)","v":{"$error":"#N/A"}},"32211_S_L_SEK_TOT_I_M_X_H1_VALFRI_SEK",1000,null,"30673_D984_cmb352_",{"$f":"VLOOKUP(B698,Import!E$1:F$20000,2,FALSE)","v":{"$error":"#N/A"}}]
[{"$f":"IF(ISBLANK(Inm_30673_D985_cmb353_),\"\",$T$699 * Inm_30673_D985_cmb353_)","v":""},"30673_D985_cmb353_","Handel i sven, Lång , Inflöde","VP203'!Inm_30673_D985_cmb353_","32211","S","L","SEK","TOT","I","M","X","H1",{"$f":"VLOOKUP('VP203'!$B$353,FlexDimensioner!$C$1:$D$430,2,FALSE)","v":"VALFRI"},"SEK",{"$f":"VLOOKUP(B699,Import!A$1:B$20000,2,FALSE)","v":{"$error":"#N/A"}},"EJ_GRANSKN",{"$f":"VLOOKUP(S699,Import!A$1:B$20000,2,FALSE)","v":{"$error":"#N/A"}},"32211_S_L_SEK_TOT_I_M_X_H1_VALFRI_SEK",1000,null,"30673_D985_cmb353_",{"$f":"VLOOKUP(B699,Import!E$1:F$20000,2,FALSE)","v":{"$error":"#N/A"}}]
[{"$f":"IF(ISBLANK(Inm_30673_D986_cmb354_),\"\",$T$700 * Inm_30673_D986_cmb354_)","v":""},"30673_D986_cmb354_","Handel i sven, Lång , Inflöde","VP203'!Inm_30673_D986_cmb354_","32211","S","L","SEK","TOT","I","M","X","H1",{"$f":"VLOOKUP('VP203'!$B$354,FlexDimensioner!$C$1:$D$430,2,FALSE)","v":"VALFRI"},"SEK",{"$f":"VLOOKUP(B700,Import!A$1:B$20000,2,FALSE)","v":{"$error":"#N/A"}},"EJ_GRANSKN",{"$f":"VLOOKUP(S700,Import!A$1:B$20000,2,FALSE)","v":{"$error":"#N/A"}},"32211_S_L_SEK_TOT_I_M_X_H1_VALFRI_SEK",1000,null,"30673_D986_cmb354_",{"$f":"VLOOKUP(B700,Import!E$1:F$20000,2,FALSE)","v":{"$error":"#N/A"}}]
[{"$f":"IF(ISBLANK(Inm_30673_D987_cmb355_),\"\",$T$701 * Inm_30673_D987_cmb355_)","v":""},"30673_D987_cmb355_","Handel i sven, Lång , Inflöde","VP203'!Inm_30673_D987_cmb355_","32211","S","L","SEK","TOT","I","M","X","H1",{"$f":"VLOOKUP('VP203'!$B$355,FlexDimensioner!$C$1:$D$430,2,FALSE)","v":"VALFRI"},"SEK",{"$f":"VLOOKUP(B701,Import!A$1:B$20000,2,FALSE)","v":{"$error":"#N/A"}},"EJ_GRANSKN",{"$f":"VLOOKUP(S701,Import!A$1:B$20000,2,FALSE)","v":{"$error":"#N/A"}},"32211_S_L_SEK_TOT_I_M_X_H1_VALFRI_SEK",1000,null,"30673_D987_cmb355_",{"$f":"VLOOKUP(B701,Import!E$1:F$20000,2,FALSE)","v":{"$error":"#N/A"}}]
[{"$f":"IF(ISBLANK(Inm_30673_D988_cmb356_),\"\",$T$702 * Inm_30673_D988_cmb356_)","v":""},"30673_D988_cmb356_","Handel i sven, Lång , Inflöde","VP203'!Inm_30673_D988_cmb356_","32211","S","L","SEK","TOT","I","M","X","H1",{"$f":"VLOOKUP('VP203'!$B$356,FlexDimensioner!$C$1:$D$430,2,FALSE)","v":"VALFRI"},"SEK",{"$f":"VLOOKUP(B702,Import!A$1:B$20000,2,FALSE)","v":{"$error":"#N/A"}},"EJ_GRANSKN",{"$f":"VLOOKUP(S702,Import!A$1:B$20000,2,FALSE)","v":{"$error":"#N/A"}},"32211_S_L_SEK_TOT_I_M_X_H1_VALFRI_SEK",1000,null,"30673_D988_cmb356_",{"$f":"VLOOKUP(B702,Import!E$1:F$20000,2,FALSE)","v":{"$error":"#N/A"}}]
[{"$f":"IF(ISBLANK(Inm_30673_D989_cmb357_),\"\",$T$703 * Inm_30673_D989_cmb357_)","v":""},"30673_D989_cmb357_","Handel i sven, Lång , Inflöde","VP203'!Inm_30673_D989_cmb357_","32211","S","L","SEK","TOT","I","M","X","H1",{"$f":"VLOOKUP('VP203'!$B$357,FlexDimensioner!$C$1:$D$430,2,FALSE)","v":"VALFRI"},"SEK",{"$f":"VLOOKUP(B703,Import!A$1:B$20000,2,FALSE)","v":{"$error":"#N/A"}},"EJ_GRANSKN",{"$f":"VLOOKUP(S703,Import!A$1:B$20000,2,FALSE)","v":{"$error":"#N/A"}},"32211_S_L_SEK_TOT_I_M_X_H1_VALFRI_SEK",1000,null,"30673_D989_cmb357_",{"$f":"VLOOKUP(B703,Import!E$1:F$20000,2,FALSE)","v":{"$error":"#N/A"}}]
[{"$f":"IF(ISBLANK(Inm_30673_D990_cmb358_),\"\",$T$704 * Inm_30673_D990_cmb358_)","v":""},"30673_D990_cmb358_","Handel i sven, Lång , Inflöde","VP203'!Inm_30673_D990_cmb358_","32211","S","L","SEK","TOT","I","M","X","H1",{"$f":"VLOOKUP('VP203'!$B$358,FlexDimensioner!$C$1:$D$430,2,FALSE)","v":"VALFRI"},"SEK",{"$f":"VLOOKUP(B704,Import!A$1:B$20000,2,FALSE)","v":{"$error":"#N/A"}},"EJ_GRANSKN",{"$f":"VLOOKUP(S704,Import!A$1:B$20000,2,FALSE)","v":{"$error":"#N/A"}},"32211_S_L_SEK_TOT_I_M_X_H1_VALFRI_SEK",1000,null,"30673_D990_cmb358_",{"$f":"VLOOKUP(B704,Import!E$1:F$20000,2,FALSE)","v":{"$error":"#N/A"}}]
[{"$f":"IF(ISBLANK(Inm_30673_D991_cmb359_),\"\",$T$705 * Inm_30673_D991_cmb359_)","v":""},"30673_D991_cmb359_","Handel i sven, Lång , Inflöde","VP203'!Inm_30673_D991_cmb359_","32211","S","L","SEK","TOT","I","M","X","H1",{"$f":"VLOOKUP('VP203'!$B$359,FlexDimensioner!$C$1:$D$430,2,FALSE)","v":"VALFRI"},"SEK",{"$f":"VLOOKUP(B705,Import!A$1:B$20000,2,FALSE)","v":{"$error":"#N/A"}},"EJ_GRANSKN",{"$f":"VLOOKUP(S705,Import!A$1:B$20000,2,FALSE)","v":{"$error":"#N/A"}},"32211_S_L_SEK_TOT_I_M_X_H1_VALFRI_SEK",1000,null,"30673_D991_cmb359_",{"$f":"VLOOKUP(B705,Import!E$1:F$20000,2,FALSE)","v":{"$error":"#N/A"}}]
[{"$f":"IF(ISBLANK(Inm_30673_D992_cmb360_),\"\",$T$706 * Inm_30673_D992_cmb360_)","v":""},"30673_D992_cmb360_","Handel i sven, Lång , Inflöde","VP203'!Inm_30673_D992_cmb360_","32211","S","L","SEK","TOT","I","M","X","H1",{"$f":"VLOOKUP('VP203'!$B$360,FlexDimensioner!$C$1:$D$430,2,FALSE)","v":"VALFRI"},"SEK",{"$f":"VLOOKUP(B706,Import!A$1:B$20000,2,FALSE)","v":{"$error":"#N/A"}},"EJ_GRANSKN",{"$f":"VLOOKUP(S706,Import!A$1:B$20000,2,FALSE)","v":{"$error":"#N/A"}},"32211_S_L_SEK_TOT_I_M_X_H1_VALFRI_SEK",1000,null,"30673_D992_cmb360_",{"$f":"VLOOKUP(B706,Import!E$1:F$20000,2,FALSE)","v":{"$error":"#N/A"}}]
[{"$f":"IF(ISBLANK(Inm_30673_D993_cmb361_),\"\",$T$707 * Inm_30673_D993_cmb361_)","v":""},"30673_D993_cmb361_","Handel i sven, Lång , Inflöde","VP203'!Inm_30673_D993_cmb361_","32211","S","L","SEK","TOT","I","M","X","H1",{"$f":"VLOOKUP('VP203'!$B$361,FlexDimensioner!$C$1:$D$430,2,FALSE)","v":"VALFRI"},"SEK",{"$f":"VLOOKUP(B707,Import!A$1:B$20000,2,FALSE)","v":{"$error":"#N/A"}},"EJ_GRANSKN",{"$f":"VLOOKUP(S707,Import!A$1:B$20000,2,FALSE)","v":{"$error":"#N/A"}},"32211_S_L_SEK_TOT_I_M_X_H1_VALFRI_SEK",1000,null,"30673_D993_cmb361_",{"$f":"VLOOKUP(B707,Import!E$1:F$20000,2,FALSE)","v":{"$error":"#N/A"}}]
[{"$f":"IF(ISBLANK(Inm_30673_D994_cmb362_),\"\",$T$708 * Inm_30673_D994_cmb362_)","v":""},"30673_D994_cmb362_","Handel i sven, Lång , Inflöde","VP203'!Inm_30673_D994_cmb362_","32211","S","L","SEK","TOT","I","M","X","H1",{"$f":"VLOOKUP('VP203'!$B$362,FlexDimensioner!$C$1:$D$430,2,FALSE)","v":"VALFRI"},"SEK",{"$f":"VLOOKUP(B708,Import!A$1:B$20000,2,FALSE)","v":{"$error":"#N/A"}},"EJ_GRANSKN",{"$f":"VLOOKUP(S708,Import!A$1:B$20000,2,FALSE)","v":{"$error":"#N/A"}},"32211_S_L_SEK_TOT_I_M_X_H1_VALFRI_SEK",1000,null,"30673_D994_cmb362_",{"$f":"VLOOKUP(B708,Import!E$1:F$20000,2,FALSE)","v":{"$error":"#N/A"}}]
[{"$f":"IF(ISBLANK(Inm_30673_D995_cmb363_),\"\",$T$709 * Inm_30673_D995_cmb363_)","v":""},"30673_D995_cmb363_","Handel i sven, Lång , Inflöde","VP203'!Inm_30673_D995_cmb363_","32211","S","L","SEK","TOT","I","M","X","H1",{"$f":"VLOOKUP('VP203'!$B$363,FlexDimensioner!$C$1:$D$430,2,FALSE)","v":"VALFRI"},"SEK",{"$f":"VLOOKUP(B709,Import!A$1:B$20000,2,FALSE)","v":{"$error":"#N/A"}},"EJ_GRANSKN",{"$f":"VLOOKUP(S709,Import!A$1:B$20000,2,FALSE)","v":{"$error":"#N/A"}},"32211_S_L_SEK_TOT_I_M_X_H1_VALFRI_SEK",1000,null,"30673_D995_cmb363_",{"$f":"VLOOKUP(B709,Import!E$1:F$20000,2,FALSE)","v":{"$error":"#N/A"}}]
[{"$f":"IF(ISBLANK(Inm_30673_D996_cmb364_),\"\",$T$710 * Inm_30673_D996_cmb364_)","v":""},"30673_D996_cmb364_","Handel i sven, Lång , Inflöde","VP203'!Inm_30673_D996_cmb364_","32211","S","L","SEK","TOT","I","M","X","H1",{"$f":"VLOOKUP('VP203'!$B$364,FlexDimensioner!$C$1:$D$430,2,FALSE)","v":"VALFRI"},"SEK",{"$f":"VLOOKUP(B710,Import!A$1:B$20000,2,FALSE)","v":{"$error":"#N/A"}},"EJ_GRANSKN",{"$f":"VLOOKUP(S710,Import!A$1:B$20000,2,FALSE)","v":{"$error":"#N/A"}},"32211_S_L_SEK_TOT_I_M_X_H1_VALFRI_SEK",1000,null,"30673_D996_cmb364_",{"$f":"VLOOKUP(B710,Import!E$1:F$20000,2,FALSE)","v":{"$error":"#N/A"}}]
[{"$f":"IF(ISBLANK(Inm_30673_D997_cmb365_),\"\",$T$711 * Inm_30673_D997_cmb365_)","v":""},"30673_D997_cmb365_","Handel i sven, Lång , Inflöde","VP203'!Inm_30673_D997_cmb365_","32211","S","L","SEK","TOT","I","M","X","H1",{"$f":"VLOOKUP('VP203'!$B$365,FlexDimensioner!$C$1:$D$430,2,FALSE)","v":"VALFRI"},"SEK",{"$f":"VLOOKUP(B711,Import!A$1:B$20000,2,FALSE)","v":{"$error":"#N/A"}},"EJ_GRANSKN",{"$f":"VLOOKUP(S711,Import!A$1:B$20000,2,FALSE)","v":{"$error":"#N/A"}},"32211_S_L_SEK_TOT_I_M_X_H1_VALFRI_SEK",1000,null,"30673_D997_cmb365_",{"$f":"VLOOKUP(B711,Import!E$1:F$20000,2,FALSE)","v":{"$error":"#N/A"}}]
[{"$f":"IF(ISBLANK(Inm_30673_D998_cmb366_),\"\",$T$712 * Inm_30673_D998_cmb366_)","v":""},"30673_D998_cmb366_","Handel i sven, Lång , Inflöde","VP203'!Inm_30673_D998_cmb366_","32211","S","L","SEK","TOT","I","M","X","H1",{"$f":"VLOOKUP('VP203'!$B$366,FlexDimensioner!$C$1:$D$430,2,FALSE)","v":"VALFRI"},"SEK",{"$f":"VLOOKUP(B712,Import!A$1:B$20000,2,FALSE)","v":{"$error":"#N/A"}},"EJ_GRANSKN",{"$f":"VLOOKUP(S712,Import!A$1:B$20000,2,FALSE)","v":{"$error":"#N/A"}},"32211_S_L_SEK_TOT_I_M_X_H1_VALFRI_SEK",1000,null,"30673_D998_cmb366_",{"$f":"VLOOKUP(B712,Import!E$1:F$20000,2,FALSE)","v":{"$error":"#N/A"}}]
[{"$f":"IF(ISBLANK(Inm_30673_D999_cmb367_),\"\",$T$713 * Inm_30673_D999_cmb367_)","v":""},"30673_D999_cmb367_","Handel i sven, Lång , Inflöde","VP203'!Inm_30673_D999_cmb367_","32211","S","L","SEK","TOT","I","M","X","H1",{"$f":"VLOOKUP('VP203'!$B$367,FlexDimensioner!$C$1:$D$430,2,FALSE)","v":"VALFRI"},"SEK",{"$f":"VLOOKUP(B713,Import!A$1:B$20000,2,FALSE)","v":{"$error":"#N/A"}},"EJ_GRANSKN",{"$f":"VLOOKUP(S713,Import!A$1:B$20000,2,FALSE)","v":{"$error":"#N/A"}},"32211_S_L_SEK_TOT_I_M_X_H1_VALFRI_SEK",1000,null,"30673_D999_cmb367_",{"$f":"VLOOKUP(B713,Import!E$1:F$20000,2,FALSE)","v":{"$error":"#N/A"}}]
[{"$f":"IF(ISBLANK(Inm_30673_D1000_cmb368_),\"\",$T$714 * Inm_30673_D1000_cmb368_)","v":""},"30673_D1000_cmb368_","Handel i sven, Lång , Inflöde","VP203'!Inm_30673_D1000_cmb368_","32211","S","L","SEK","TOT","I","M","X","H1",{"$f":"VLOOKUP('VP203'!$B$368,FlexDimensioner!$C$1:$D$430,2,FALSE)","v":"VALFRI"},"SEK",{"$f":"VLOOKUP(B714,Import!A$1:B$20000,2,FALSE)","v":{"$error":"#N/A"}},"EJ_GRANSKN",{"$f":"VLOOKUP(S714,Import!A$1:B$20000,2,FALSE)","v":{"$error":"#N/A"}},"32211_S_L_SEK_TOT_I_M_X_H1_VALFRI_SEK",1000,null,"30673_D1000_cmb368_",{"$f":"VLOOKUP(B714,Import!E$1:F$20000,2,FALSE)","v":{"$error":"#N/A"}}]
[{"$f":"IF(ISBLANK(Inm_30673_D1001_cmb369_),\"\",$T$715 * Inm_30673_D1001_cmb369_)","v":""},"30673_D1001_cmb369_","Handel i sven, Lång , Inflöde","VP203'!Inm_30673_D1001_cmb369_","32211","S","L","SEK","TOT","I","M","X","H1",{"$f":"VLOOKUP('VP203'!$B$369,FlexDimensioner!$C$1:$D$430,2,FALSE)","v":"VALFRI"},"SEK",{"$f":"VLOOKUP(B715,Import!A$1:B$20000,2,FALSE)","v":{"$error":"#N/A"}},"EJ_GRANSKN",{"$f":"VLOOKUP(S715,Import!A$1:B$20000,2,FALSE)","v":{"$error":"#N/A"}},"32211_S_L_SEK_TOT_I_M_X_H1_VALFRI_SEK",1000,null,"30673_D1001_cmb369_",{"$f":"VLOOKUP(B715,Import!E$1:F$20000,2,FALSE)","v":{"$error":"#N/A"}}]
[{"$f":"IF(ISBLANK(Inm_30673_D1002_cmb370_),\"\",$T$716 * Inm_30673_D1002_cmb370_)","v":""},"30673_D1002_cmb370_","Handel i sven, Lång , Inflöde","VP203'!Inm_30673_D1002_cmb370_","32211","S","L","SEK","TOT","I","M","X","H1",{"$f":"VLOOKUP('VP203'!$B$370,FlexDimensioner!$C$1:$D$430,2,FALSE)","v":"VALFRI"},"SEK",{"$f":"VLOOKUP(B716,Import!A$1:B$20000,2,FALSE)","v":{"$error":"#N/A"}},"EJ_GRANSKN",{"$f":"VLOOKUP(S716,Import!A$1:B$20000,2,FALSE)","v":{"$error":"#N/A"}},"32211_S_L_SEK_TOT_I_M_X_H1_VALFRI_SEK",1000,null,"30673_D1002_cmb370_",{"$f":"VLOOKUP(B716,Import!E$1:F$20000,2,FALSE)","v":{"$error":"#N/A"}}]
[{"$f":"IF(ISBLANK(Inm_30673_D1003_cmb371_),\"\",$T$717 * Inm_30673_D1003_cmb371_)","v":""},"30673_D1003_cmb371_","Handel i sven, Lång , Inflöde","VP203'!Inm_30673_D1003_cmb371_","32211","S","L","SEK","TOT","I","M","X","H1",{"$f":"VLOOKUP('VP203'!$B$371,FlexDimensioner!$C$1:$D$430,2,FALSE)","v":"VALFRI"},"SEK",{"$f":"VLOOKUP(B717,Import!A$1:B$20000,2,FALSE)","v":{"$error":"#N/A"}},"EJ_GRANSKN",{"$f":"VLOOKUP(S717,Import!A$1:B$20000,2,FALSE)","v":{"$error":"#N/A"}},"32211_S_L_SEK_TOT_I_M_X_H1_VALFRI_SEK",1000,null,"30673_D1003_cmb371_",{"$f":"VLOOKUP(B717,Import!E$1:F$20000,2,FALSE)","v":{"$error":"#N/A"}}]
[{"$f":"IF(ISBLANK(Inm_30673_D1004_cmb372_),\"\",$T$718 * Inm_30673_D1004_cmb372_)","v":""},"30673_D1004_cmb372_","Handel i sven, Lång , Inflöde","VP203'!Inm_30673_D1004_cmb372_","32211","S","L","SEK","TOT","I","M","X","H1",{"$f":"VLOOKUP('VP203'!$B$372,FlexDimensioner!$C$1:$D$430,2,FALSE)","v":"VALFRI"},"SEK",{"$f":"VLOOKUP(B718,Import!A$1:B$20000,2,FALSE)","v":{"$error":"#N/A"}},"EJ_GRANSKN",{"$f":"VLOOKUP(S718,Import!A$1:B$20000,2,FALSE)","v":{"$error":"#N/A"}},"32211_S_L_SEK_TOT_I_M_X_H1_VALFRI_SEK",1000,null,"30673_D1004_cmb372_",{"$f":"VLOOKUP(B718,Import!E$1:F$20000,2,FALSE)","v":{"$error":"#N/A"}}]
[{"$f":"IF(ISBLANK(Inm_30673_D1005_cmb373_),\"\",$T$719 * Inm_30673_D1005_cmb373_)","v":""},"30673_D1005_cmb373_","Handel i sven, Lång , Inflöde","VP203'!Inm_30673_D1005_cmb373_","32211","S","L","SEK","TOT","I","M","X","H1",{"$f":"VLOOKUP('VP203'!$B$373,FlexDimensioner!$C$1:$D$430,2,FALSE)","v":"VALFRI"},"SEK",{"$f":"VLOOKUP(B719,Import!A$1:B$20000,2,FALSE)","v":{"$error":"#N/A"}},"EJ_GRANSKN",{"$f":"VLOOKUP(S719,Import!A$1:B$20000,2,FALSE)","v":{"$error":"#N/A"}},"32211_S_L_SEK_TOT_I_M_X_H1_VALFRI_SEK",1000,null,"30673_D1005_cmb373_",{"$f":"VLOOKUP(B719,Import!E$1:F$20000,2,FALSE)","v":{"$error":"#N/A"}}]
[{"$f":"IF(ISBLANK(Inm_30673_D1006_cmb374_),\"\",$T$720 * Inm_30673_D1006_cmb374_)","v":""},"30673_D1006_cmb374_","Handel i sven, Lång , Inflöde","VP203'!Inm_30673_D1006_cmb374_","32211","S","L","SEK","TOT","I","M","X","H1",{"$f":"VLOOKUP('VP203'!$B$374,FlexDimensioner!$C$1:$D$430,2,FALSE)","v":"VALFRI"},"SEK",{"$f":"VLOOKUP(B720,Import!A$1:B$20000,2,FALSE)","v":{"$error":"#N/A"}},"EJ_GRANSKN",{"$f":"VLOOKUP(S720,Import!A$1:B$20000,2,FALSE)","v":{"$error":"#N/A"}},"32211_S_L_SEK_TOT_I_M_X_H1_VALFRI_SEK",1000,null,"30673_D1006_cmb374_",{"$f":"VLOOKUP(B720,Import!E$1:F$20000,2,FALSE)","v":{"$error":"#N/A"}}]
[{"$f":"IF(ISBLANK(Inm_30673_D1007_cmb375_),\"\",$T$721 * Inm_30673_D1007_cmb375_)","v":""},"30673_D1007_cmb375_","Handel i sven, Lång , Inflöde","VP203'!Inm_30673_D1007_cmb375_","32211","S","L","SEK","TOT","I","M","X","H1",{"$f":"VLOOKUP('VP203'!$B$375,FlexDimensioner!$C$1:$D$430,2,FALSE)","v":"VALFRI"},"SEK",{"$f":"VLOOKUP(B721,Import!A$1:B$20000,2,FALSE)","v":{"$error":"#N/A"}},"EJ_GRANSKN",{"$f":"VLOOKUP(S721,Import!A$1:B$20000,2,FALSE)","v":{"$error":"#N/A"}},"32211_S_L_SEK_TOT_I_M_X_H1_VALFRI_SEK",1000,null,"30673_D1007_cmb375_",{"$f":"VLOOKUP(B721,Import!E$1:F$20000,2,FALSE)","v":{"$error":"#N/A"}}]
[{"$f":"IF(ISBLANK(Inm_30673_D1008_cmb376_),\"\",$T$722 * Inm_30673_D1008_cmb376_)","v":""},"30673_D1008_cmb376_","Handel i sven, Lång , Inflöde","VP203'!Inm_30673_D1008_cmb376_","32211","S","L","SEK","TOT","I","M","X","H1",{"$f":"VLOOKUP('VP203'!$B$376,FlexDimensioner!$C$1:$D$430,2,FALSE)","v":"VALFRI"},"SEK",{"$f":"VLOOKUP(B722,Import!A$1:B$20000,2,FALSE)","v":{"$error":"#N/A"}},"EJ_GRANSKN",{"$f":"VLOOKUP(S722,Import!A$1:B$20000,2,FALSE)","v":{"$error":"#N/A"}},"32211_S_L_SEK_TOT_I_M_X_H1_VALFRI_SEK",1000,null,"30673_D1008_cmb376_",{"$f":"VLOOKUP(B722,Import!E$1:F$20000,2,FALSE)","v":{"$error":"#N/A"}}]
[{"$f":"IF(ISBLANK(Inm_30673_D1009_cmb377_),\"\",$T$723 * Inm_30673_D1009_cmb377_)","v":""},"30673_D1009_cmb377_","Handel i sven, Lång , Inflöde","VP203'!Inm_30673_D1009_cmb377_","32211","S","L","SEK","TOT","I","M","X","H1",{"$f":"VLOOKUP('VP203'!$B$377,FlexDimensioner!$C$1:$D$430,2,FALSE)","v":"VALFRI"},"SEK",{"$f":"VLOOKUP(B723,Import!A$1:B$20000,2,FALSE)","v":{"$error":"#N/A"}},"EJ_GRANSKN",{"$f":"VLOOKUP(S723,Import!A$1:B$20000,2,FALSE)","v":{"$error":"#N/A"}},"32211_S_L_SEK_TOT_I_M_X_H1_VALFRI_SEK",1000,null,"30673_D1009_cmb377_",{"$f":"VLOOKUP(B723,Import!E$1:F$20000,2,FALSE)","v":{"$error":"#N/A"}}]
[{"$f":"IF(ISBLANK(Inm_30673_D1010_cmb378_),\"\",$T$724 * Inm_30673_D1010_cmb378_)","v":""},"30673_D1010_cmb378_","Handel i sven, Lång , Inflöde","VP203'!Inm_30673_D1010_cmb378_","32211","S","L","SEK","TOT","I","M","X","H1",{"$f":"VLOOKUP('VP203'!$B$378,FlexDimensioner!$C$1:$D$430,2,FALSE)","v":"VALFRI"},"SEK",{"$f":"VLOOKUP(B724,Import!A$1:B$20000,2,FALSE)","v":{"$error":"#N/A"}},"EJ_GRANSKN",{"$f":"VLOOKUP(S724,Import!A$1:B$20000,2,FALSE)","v":{"$error":"#N/A"}},"32211_S_L_SEK_TOT_I_M_X_H1_VALFRI_SEK",1000,null,"30673_D1010_cmb378_",{"$f":"VLOOKUP(B724,Import!E$1:F$20000,2,FALSE)","v":{"$error":"#N/A"}}]
[{"$f":"IF(ISBLANK(Inm_30673_D1011_cmb379_),\"\",$T$725 * Inm_30673_D1011_cmb379_)","v":""},"30673_D1011_cmb379_","Handel i sven, Lång , Inflöde","VP203'!Inm_30673_D1011_cmb379_","32211","S","L","SEK","TOT","I","M","X","H1",{"$f":"VLOOKUP('VP203'!$B$379,FlexDimensioner!$C$1:$D$430,2,FALSE)","v":"VALFRI"},"SEK",{"$f":"VLOOKUP(B725,Import!A$1:B$20000,2,FALSE)","v":{"$error":"#N/A"}},"EJ_GRANSKN",{"$f":"VLOOKUP(S725,Import!A$1:B$20000,2,FALSE)","v":{"$error":"#N/A"}},"32211_S_L_SEK_TOT_I_M_X_H1_VALFRI_SEK",1000,null,"30673_D1011_cmb379_",{"$f":"VLOOKUP(B725,Import!E$1:F$20000,2,FALSE)","v":{"$error":"#N/A"}}]
[{"$f":"IF(ISBLANK(Inm_30673_D1012_cmb380_),\"\",$T$726 * Inm_30673_D1012_cmb380_)","v":""},"30673_D1012_cmb380_","Handel i sven, Lång , Inflöde","VP203'!Inm_30673_D1012_cmb380_","32211","S","L","SEK","TOT","I","M","X","H1",{"$f":"VLOOKUP('VP203'!$B$380,FlexDimensioner!$C$1:$D$430,2,FALSE)","v":"VALFRI"},"SEK",{"$f":"VLOOKUP(B726,Import!A$1:B$20000,2,FALSE)","v":{"$error":"#N/A"}},"EJ_GRANSKN",{"$f":"VLOOKUP(S726,Import!A$1:B$20000,2,FALSE)","v":{"$error":"#N/A"}},"32211_S_L_SEK_TOT_I_M_X_H1_VALFRI_SEK",1000,null,"30673_D1012_cmb380_",{"$f":"VLOOKUP(B726,Import!E$1:F$20000,2,FALSE)","v":{"$error":"#N/A"}}]
[{"$f":"IF(ISBLANK(Inm_30673_D1013_cmb381_),\"\",$T$727 * Inm_30673_D1013_cmb381_)","v":""},"30673_D1013_cmb381_","Handel i sven, Lång , Inflöde","VP203'!Inm_30673_D1013_cmb381_","32211","S","L","SEK","TOT","I","M","X","H1",{"$f":"VLOOKUP('VP203'!$B$381,FlexDimensioner!$C$1:$D$430,2,FALSE)","v":"VALFRI"},"SEK",{"$f":"VLOOKUP(B727,Import!A$1:B$20000,2,FALSE)","v":{"$error":"#N/A"}},"EJ_GRANSKN",{"$f":"VLOOKUP(S727,Import!A$1:B$20000,2,FALSE)","v":{"$error":"#N/A"}},"32211_S_L_SEK_TOT_I_M_X_H1_VALFRI_SEK",1000,null,"30673_D1013_cmb381_",{"$f":"VLOOKUP(B727,Import!E$1:F$20000,2,FALSE)","v":{"$error":"#N/A"}}]
[{"$f":"IF(ISBLANK(Inm_30673_D1014_cmb382_),\"\",$T$728 * Inm_30673_D1014_cmb382_)","v":""},"30673_D1014_cmb382_","Handel i sven, Lång , Inflöde","VP203'!Inm_30673_D1014_cmb382_","32211","S","L","SEK","TOT","I","M","X","H1",{"$f":"VLOOKUP('VP203'!$B$382,FlexDimensioner!$C$1:$D$430,2,FALSE)","v":"VALFRI"},"SEK",{"$f":"VLOOKUP(B728,Import!A$1:B$20000,2,FALSE)","v":{"$error":"#N/A"}},"EJ_GRANSKN",{"$f":"VLOOKUP(S728,Import!A$1:B$20000,2,FALSE)","v":{"$error":"#N/A"}},"32211_S_L_SEK_TOT_I_M_X_H1_VALFRI_SEK",1000,null,"30673_D1014_cmb382_",{"$f":"VLOOKUP(B728,Import!E$1:F$20000,2,FALSE)","v":{"$error":"#N/A"}}]
[{"$f":"IF(ISBLANK(Inm_30673_D1015_cmb383_),\"\",$T$729 * Inm_30673_D1015_cmb383_)","v":""},"30673_D1015_cmb383_","Handel i sven, Lång , Inflöde","VP203'!Inm_30673_D1015_cmb383_","32211","S","L","SEK","TOT","I","M","X","H1",{"$f":"VLOOKUP('VP203'!$B$383,FlexDimensioner!$C$1:$D$430,2,FALSE)","v":"VALFRI"},"SEK",{"$f":"VLOOKUP(B729,Import!A$1:B$20000,2,FALSE)","v":{"$error":"#N/A"}},"EJ_GRANSKN",{"$f":"VLOOKUP(S729,Import!A$1:B$20000,2,FALSE)","v":{"$error":"#N/A"}},"32211_S_L_SEK_TOT_I_M_X_H1_VALFRI_SEK",1000,null,"30673_D1015_cmb383_",{"$f":"VLOOKUP(B729,Import!E$1:F$20000,2,FALSE)","v":{"$error":"#N/A"}}]
[{"$f":"IF(ISBLANK(Inm_30673_D1016_cmb384_),\"\",$T$730 * Inm_30673_D1016_cmb384_)","v":""},"30673_D1016_cmb384_","Handel i sven, Lång , Inflöde","VP203'!Inm_30673_D1016_cmb384_","32211","S","L","SEK","TOT","I","M","X","H1",{"$f":"VLOOKUP('VP203'!$B$384,FlexDimensioner!$C$1:$D$430,2,FALSE)","v":"VALFRI"},"SEK",{"$f":"VLOOKUP(B730,Import!A$1:B$20000,2,FALSE)","v":{"$error":"#N/A"}},"EJ_GRANSKN",{"$f":"VLOOKUP(S730,Import!A$1:B$20000,2,FALSE)","v":{"$error":"#N/A"}},"32211_S_L_SEK_TOT_I_M_X_H1_VALFRI_SEK",1000,null,"30673_D1016_cmb384_",{"$f":"VLOOKUP(B730,Import!E$1:F$20000,2,FALSE)","v":{"$error":"#N/A"}}]
[{"$f":"IF(ISBLANK(Inm_30673_D1017_cmb385_),\"\",$T$731 * Inm_30673_D1017_cmb385_)","v":""},"30673_D1017_cmb385_","Handel i sven, Lång , Inflöde","VP203'!Inm_30673_D1017_cmb385_","32211","S","L","SEK","TOT","I","M","X","H1",{"$f":"VLOOKUP('VP203'!$B$385,FlexDimensioner!$C$1:$D$430,2,FALSE)","v":"VALFRI"},"SEK",{"$f":"VLOOKUP(B731,Import!A$1:B$20000,2,FALSE)","v":{"$error":"#N/A"}},"EJ_GRANSKN",{"$f":"VLOOKUP(S731,Import!A$1:B$20000,2,FALSE)","v":{"$error":"#N/A"}},"32211_S_L_SEK_TOT_I_M_X_H1_VALFRI_SEK",1000,null,"30673_D1017_cmb385_",{"$f":"VLOOKUP(B731,Import!E$1:F$20000,2,FALSE)","v":{"$error":"#N/A"}}]
[{"$f":"IF(ISBLANK(Inm_30673_D1018_cmb386_),\"\",$T$732 * Inm_30673_D1018_cmb386_)","v":""},"30673_D1018_cmb386_","Handel i sven, Lång , Inflöde","VP203'!Inm_30673_D1018_cmb386_","32211","S","L","SEK","TOT","I","M","X","H1",{"$f":"VLOOKUP('VP203'!$B$386,FlexDimensioner!$C$1:$D$430,2,FALSE)","v":"VALFRI"},"SEK",{"$f":"VLOOKUP(B732,Import!A$1:B$20000,2,FALSE)","v":{"$error":"#N/A"}},"EJ_GRANSKN",{"$f":"VLOOKUP(S732,Import!A$1:B$20000,2,FALSE)","v":{"$error":"#N/A"}},"32211_S_L_SEK_TOT_I_M_X_H1_VALFRI_SEK",1000,null,"30673_D1018_cmb386_",{"$f":"VLOOKUP(B732,Import!E$1:F$20000,2,FALSE)","v":{"$error":"#N/A"}}]
[{"$f":"IF(ISBLANK(Inm_30673_D1019_cmb387_),\"\",$T$733 * Inm_30673_D1019_cmb387_)","v":""},"30673_D1019_cmb387_","Handel i sven, Lång , Inflöde","VP203'!Inm_30673_D1019_cmb387_","32211","S","L","SEK","TOT","I","M","X","H1",{"$f":"VLOOKUP('VP203'!$B$387,FlexDimensioner!$C$1:$D$430,2,FALSE)","v":"VALFRI"},"SEK",{"$f":"VLOOKUP(B733,Import!A$1:B$20000,2,FALSE)","v":{"$error":"#N/A"}},"EJ_GRANSKN",{"$f":"VLOOKUP(S733,Import!A$1:B$20000,2,FALSE)","v":{"$error":"#N/A"}},"32211_S_L_SEK_TOT_I_M_X_H1_VALFRI_SEK",1000,null,"30673_D1019_cmb387_",{"$f":"VLOOKUP(B733,Import!E$1:F$20000,2,FALSE)","v":{"$error":"#N/A"}}]
[{"$f":"IF(ISBLANK(Inm_30673_D1020_cmb388_),\"\",$T$734 * Inm_30673_D1020_cmb388_)","v":""},"30673_D1020_cmb388_","Handel i sven, Lång , Inflöde","VP203'!Inm_30673_D1020_cmb388_","32211","S","L","SEK","TOT","I","M","X","H1",{"$f":"VLOOKUP('VP203'!$B$388,FlexDimensioner!$C$1:$D$430,2,FALSE)","v":"VALFRI"},"SEK",{"$f":"VLOOKUP(B734,Import!A$1:B$20000,2,FALSE)","v":{"$error":"#N/A"}},"EJ_GRANSKN",{"$f":"VLOOKUP(S734,Import!A$1:B$20000,2,FALSE)","v":{"$error":"#N/A"}},"32211_S_L_SEK_TOT_I_M_X_H1_VALFRI_SEK",1000,null,"30673_D1020_cmb388_",{"$f":"VLOOKUP(B734,Import!E$1:F$20000,2,FALSE)","v":{"$error":"#N/A"}}]
[{"$f":"IF(ISBLANK(Inm_30673_D1021_cmb389_),\"\",$T$735 * Inm_30673_D1021_cmb389_)","v":""},"30673_D1021_cmb389_","Handel i sven, Lång , Inflöde","VP203'!Inm_30673_D1021_cmb389_","32211","S","L","SEK","TOT","I","M","X","H1",{"$f":"VLOOKUP('VP203'!$B$389,FlexDimensioner!$C$1:$D$430,2,FALSE)","v":"VALFRI"},"SEK",{"$f":"VLOOKUP(B735,Import!A$1:B$20000,2,FALSE)","v":{"$error":"#N/A"}},"EJ_GRANSKN",{"$f":"VLOOKUP(S735,Import!A$1:B$20000,2,FALSE)","v":{"$error":"#N/A"}},"32211_S_L_SEK_TOT_I_M_X_H1_VALFRI_SEK",1000,null,"30673_D1021_cmb389_",{"$f":"VLOOKUP(B735,Import!E$1:F$20000,2,FALSE)","v":{"$error":"#N/A"}}]
[{"$f":"IF(ISBLANK(Inm_30673_D1022_cmb390_),\"\",$T$736 * Inm_30673_D1022_cmb390_)","v":""},"30673_D1022_cmb390_","Handel i sven, Lång , Inflöde","VP203'!Inm_30673_D1022_cmb390_","32211","S","L","SEK","TOT","I","M","X","H1",{"$f":"VLOOKUP('VP203'!$B$390,FlexDimensioner!$C$1:$D$430,2,FALSE)","v":"VALFRI"},"SEK",{"$f":"VLOOKUP(B736,Import!A$1:B$20000,2,FALSE)","v":{"$error":"#N/A"}},"EJ_GRANSKN",{"$f":"VLOOKUP(S736,Import!A$1:B$20000,2,FALSE)","v":{"$error":"#N/A"}},"32211_S_L_SEK_TOT_I_M_X_H1_VALFRI_SEK",1000,null,"30673_D1022_cmb390_",{"$f":"VLOOKUP(B736,Import!E$1:F$20000,2,FALSE)","v":{"$error":"#N/A"}}]
[{"$f":"IF(ISBLANK(Inm_30673_D1023_cmb391_),\"\",$T$737 * Inm_30673_D1023_cmb391_)","v":""},"30673_D1023_cmb391_","Handel i sven, Lång , Inflöde","VP203'!Inm_30673_D1023_cmb391_","32211","S","L","SEK","TOT","I","M","X","H1",{"$f":"VLOOKUP('VP203'!$B$391,FlexDimensioner!$C$1:$D$430,2,FALSE)","v":"VALFRI"},"SEK",{"$f":"VLOOKUP(B737,Import!A$1:B$20000,2,FALSE)","v":{"$error":"#N/A"}},"EJ_GRANSKN",{"$f":"VLOOKUP(S737,Import!A$1:B$20000,2,FALSE)","v":{"$error":"#N/A"}},"32211_S_L_SEK_TOT_I_M_X_H1_VALFRI_SEK",1000,null,"30673_D1023_cmb391_",{"$f":"VLOOKUP(B737,Import!E$1:F$20000,2,FALSE)","v":{"$error":"#N/A"}}]
[{"$f":"IF(ISBLANK(Inm_30673_D1024_cmb392_),\"\",$T$738 * Inm_30673_D1024_cmb392_)","v":""},"30673_D1024_cmb392_","Handel i sven, Lång , Inflöde","VP203'!Inm_30673_D1024_cmb392_","32211","S","L","SEK","TOT","I","M","X","H1",{"$f":"VLOOKUP('VP203'!$B$392,FlexDimensioner!$C$1:$D$430,2,FALSE)","v":"VALFRI"},"SEK",{"$f":"VLOOKUP(B738,Import!A$1:B$20000,2,FALSE)","v":{"$error":"#N/A"}},"EJ_GRANSKN",{"$f":"VLOOKUP(S738,Import!A$1:B$20000,2,FALSE)","v":{"$error":"#N/A"}},"32211_S_L_SEK_TOT_I_M_X_H1_VALFRI_SEK",1000,null,"30673_D1024_cmb392_",{"$f":"VLOOKUP(B738,Import!E$1:F$20000,2,FALSE)","v":{"$error":"#N/A"}}]
[{"$f":"IF(ISBLANK(Inm_30673_D1025_cmb393_),\"\",$T$739 * Inm_30673_D1025_cmb393_)","v":""},"30673_D1025_cmb393_","Handel i sven, Lång , Inflöde","VP203'!Inm_30673_D1025_cmb393_","32211","S","L","SEK","TOT","I","M","X","H1",{"$f":"VLOOKUP('VP203'!$B$393,FlexDimensioner!$C$1:$D$430,2,FALSE)","v":"VALFRI"},"SEK",{"$f":"VLOOKUP(B739,Import!A$1:B$20000,2,FALSE)","v":{"$error":"#N/A"}},"EJ_GRANSKN",{"$f":"VLOOKUP(S739,Import!A$1:B$20000,2,FALSE)","v":{"$error":"#N/A"}},"32211_S_L_SEK_TOT_I_M_X_H1_VALFRI_SEK",1000,null,"30673_D1025_cmb393_",{"$f":"VLOOKUP(B739,Import!E$1:F$20000,2,FALSE)","v":{"$error":"#N/A"}}]
[{"$f":"IF(ISBLANK(Inm_30673_D1026_cmb394_),\"\",$T$740 * Inm_30673_D1026_cmb394_)","v":""},"30673_D1026_cmb394_","Handel i sven, Lång , Inflöde","VP203'!Inm_30673_D1026_cmb394_","32211","S","L","SEK","TOT","I","M","X","H1",{"$f":"VLOOKUP('VP203'!$B$394,FlexDimensioner!$C$1:$D$430,2,FALSE)","v":"VALFRI"},"SEK",{"$f":"VLOOKUP(B740,Import!A$1:B$20000,2,FALSE)","v":{"$error":"#N/A"}},"EJ_GRANSKN",{"$f":"VLOOKUP(S740,Import!A$1:B$20000,2,FALSE)","v":{"$error":"#N/A"}},"32211_S_L_SEK_TOT_I_M_X_H1_VALFRI_SEK",1000,null,"30673_D1026_cmb394_",{"$f":"VLOOKUP(B740,Import!E$1:F$20000,2,FALSE)","v":{"$error":"#N/A"}}]
[{"$f":"IF(ISBLANK(Inm_30673_D1027_cmb395_),\"\",$T$741 * Inm_30673_D1027_cmb395_)","v":""},"30673_D1027_cmb395_","Handel i sven, Lång , Inflöde","VP203'!Inm_30673_D1027_cmb395_","32211","S","L","SEK","TOT","I","M","X","H1",{"$f":"VLOOKUP('VP203'!$B$395,FlexDimensioner!$C$1:$D$430,2,FALSE)","v":"VALFRI"},"SEK",{"$f":"VLOOKUP(B741,Import!A$1:B$20000,2,FALSE)","v":{"$error":"#N/A"}},"EJ_GRANSKN",{"$f":"VLOOKUP(S741,Import!A$1:B$20000,2,FALSE)","v":{"$error":"#N/A"}},"32211_S_L_SEK_TOT_I_M_X_H1_VALFRI_SEK",1000,null,"30673_D1027_cmb395_",{"$f":"VLOOKUP(B741,Import!E$1:F$20000,2,FALSE)","v":{"$error":"#N/A"}}]
[{"$f":"IF(ISBLANK(Inm_30673_D1028_cmb396_),\"\",$T$742 * Inm_30673_D1028_cmb396_)","v":""},"30673_D1028_cmb396_","Handel i sven, Lång , Inflöde","VP203'!Inm_30673_D1028_cmb396_","32211","S","L","SEK","TOT","I","M","X","H1",{"$f":"VLOOKUP('VP203'!$B$396,FlexDimensioner!$C$1:$D$430,2,FALSE)","v":"VALFRI"},"SEK",{"$f":"VLOOKUP(B742,Import!A$1:B$20000,2,FALSE)","v":{"$error":"#N/A"}},"EJ_GRANSKN",{"$f":"VLOOKUP(S742,Import!A$1:B$20000,2,FALSE)","v":{"$error":"#N/A"}},"32211_S_L_SEK_TOT_I_M_X_H1_VALFRI_SEK",1000,null,"30673_D1028_cmb396_",{"$f":"VLOOKUP(B742,Import!E$1:F$20000,2,FALSE)","v":{"$error":"#N/A"}}]
[{"$f":"IF(ISBLANK(Inm_30673_D1029_cmb397_),\"\",$T$743 * Inm_30673_D1029_cmb397_)","v":""},"30673_D1029_cmb397_","Handel i sven, Lång , Inflöde","VP203'!Inm_30673_D1029_cmb397_","32211","S","L","SEK","TOT","I","M","X","H1",{"$f":"VLOOKUP('VP203'!$B$397,FlexDimensioner!$C$1:$D$430,2,FALSE)","v":"VALFRI"},"SEK",{"$f":"VLOOKUP(B743,Import!A$1:B$20000,2,FALSE)","v":{"$error":"#N/A"}},"EJ_GRANSKN",{"$f":"VLOOKUP(S743,Import!A$1:B$20000,2,FALSE)","v":{"$error":"#N/A"}},"32211_S_L_SEK_TOT_I_M_X_H1_VALFRI_SEK",1000,null,"30673_D1029_cmb397_",{"$f":"VLOOKUP(B743,Import!E$1:F$20000,2,FALSE)","v":{"$error":"#N/A"}}]
[{"$f":"IF(ISBLANK(Inm_30673_D1030_cmb398_),\"\",$T$744 * Inm_30673_D1030_cmb398_)","v":""},"30673_D1030_cmb398_","Handel i sven, Lång , Inflöde","VP203'!Inm_30673_D1030_cmb398_","32211","S","L","SEK","TOT","I","M","X","H1",{"$f":"VLOOKUP('VP203'!$B$398,FlexDimensioner!$C$1:$D$430,2,FALSE)","v":"VALFRI"},"SEK",{"$f":"VLOOKUP(B744,Import!A$1:B$20000,2,FALSE)","v":{"$error":"#N/A"}},"EJ_GRANSKN",{"$f":"VLOOKUP(S744,Import!A$1:B$20000,2,FALSE)","v":{"$error":"#N/A"}},"32211_S_L_SEK_TOT_I_M_X_H1_VALFRI_SEK",1000,null,"30673_D1030_cmb398_",{"$f":"VLOOKUP(B744,Import!E$1:F$20000,2,FALSE)","v":{"$error":"#N/A"}}]
[{"$f":"IF(ISBLANK(Inm_30673_D1031_cmb400_),\"\",$T$745 * Inm_30673_D1031_cmb400_)","v":""},"30673_D1031_cmb400_","Handel i sven, Lång , Inflöde","VP203'!Inm_30673_D1031_cmb400_","32211","S","L","SEK","TOT","I","M","X","H1",{"$f":"VLOOKUP('VP203'!$B$399,FlexDimensioner!$C$1:$D$430,2,FALSE)","v":"VALFRI"},"SEK",{"$f":"VLOOKUP(B745,Import!A$1:B$20000,2,FALSE)","v":{"$error":"#N/A"}},"EJ_GRANSKN",{"$f":"VLOOKUP(S745,Import!A$1:B$20000,2,FALSE)","v":{"$error":"#N/A"}},"32211_S_L_SEK_TOT_I_M_X_H1_VALFRI_SEK",1000,null,"30673_D1031_cmb400_",{"$f":"VLOOKUP(B745,Import!E$1:F$20000,2,FALSE)","v":{"$error":"#N/A"}}]
[{"$f":"IF(ISBLANK(Inm_30673_D1032_cmb401_),\"\",$T$746 * Inm_30673_D1032_cmb401_)","v":""},"30673_D1032_cmb401_","Handel i sven, Lång , Inflöde","VP203'!Inm_30673_D1032_cmb401_","32211","S","L","SEK","TOT","I","M","X","H1",{"$f":"VLOOKUP('VP203'!$B$400,FlexDimensioner!$C$1:$D$430,2,FALSE)","v":"VALFRI"},"SEK",{"$f":"VLOOKUP(B746,Import!A$1:B$20000,2,FALSE)","v":{"$error":"#N/A"}},"EJ_GRANSKN",{"$f":"VLOOKUP(S746,Import!A$1:B$20000,2,FALSE)","v":{"$error":"#N/A"}},"32211_S_L_SEK_TOT_I_M_X_H1_VALFRI_SEK",1000,null,"30673_D1032_cmb401_",{"$f":"VLOOKUP(B746,Import!E$1:F$20000,2,FALSE)","v":{"$error":"#N/A"}}]
[{"$f":"IF(ISBLANK(Inm_30673_D1033_cmb402_),\"\",$T$747 * Inm_30673_D1033_cmb402_)","v":""},"30673_D1033_cmb402_","Handel i sven, Lång , Inflöde","VP203'!Inm_30673_D1033_cmb402_","32211","S","L","SEK","TOT","I","M","X","H1",{"$f":"VLOOKUP('VP203'!$B$401,FlexDimensioner!$C$1:$D$430,2,FALSE)","v":"VALFRI"},"SEK",{"$f":"VLOOKUP(B747,Import!A$1:B$20000,2,FALSE)","v":{"$error":"#N/A"}},"EJ_GRANSKN",{"$f":"VLOOKUP(S747,Import!A$1:B$20000,2,FALSE)","v":{"$error":"#N/A"}},"32211_S_L_SEK_TOT_I_M_X_H1_VALFRI_SEK",1000,null,"30673_D1033_cmb402_",{"$f":"VLOOKUP(B747,Import!E$1:F$20000,2,FALSE)","v":{"$error":"#N/A"}}]
[{"$f":"IF(ISBLANK(Inm_30673_D1034_cmb403_),\"\",$T$748 * Inm_30673_D1034_cmb403_)","v":""},"30673_D1034_cmb403_","Handel i sven, Lång , Inflöde","VP203'!Inm_30673_D1034_cmb403_","32211","S","L","SEK","TOT","I","M","X","H1",{"$f":"VLOOKUP('VP203'!$B$402,FlexDimensioner!$C$1:$D$430,2,FALSE)","v":"VALFRI"},"SEK",{"$f":"VLOOKUP(B748,Import!A$1:B$20000,2,FALSE)","v":{"$error":"#N/A"}},"EJ_GRANSKN",{"$f":"VLOOKUP(S748,Import!A$1:B$20000,2,FALSE)","v":{"$error":"#N/A"}},"32211_S_L_SEK_TOT_I_M_X_H1_VALFRI_SEK",1000,null,"30673_D1034_cmb403_",{"$f":"VLOOKUP(B748,Import!E$1:F$20000,2,FALSE)","v":{"$error":"#N/A"}}]
[{"$f":"IF(ISBLANK(Inm_30673_D1035_cmb404_),\"\",$T$749 * Inm_30673_D1035_cmb404_)","v":""},"30673_D1035_cmb404_","Handel i sven, Lång , Inflöde","VP203'!Inm_30673_D1035_cmb404_","32211","S","L","SEK","TOT","I","M","X","H1",{"$f":"VLOOKUP('VP203'!$B$403,FlexDimensioner!$C$1:$D$430,2,FALSE)","v":"VALFRI"},"SEK",{"$f":"VLOOKUP(B749,Import!A$1:B$20000,2,FALSE)","v":{"$error":"#N/A"}},"EJ_GRANSKN",{"$f":"VLOOKUP(S749,Import!A$1:B$20000,2,FALSE)","v":{"$error":"#N/A"}},"32211_S_L_SEK_TOT_I_M_X_H1_VALFRI_SEK",1000,null,"30673_D1035_cmb404_",{"$f":"VLOOKUP(B749,Import!E$1:F$20000,2,FALSE)","v":{"$error":"#N/A"}}]
[{"$f":"IF(ISBLANK(Inm_30673_D1036_cmb405_),\"\",$T$750 * Inm_30673_D1036_cmb405_)","v":""},"30673_D1036_cmb405_","Handel i sven, Lång , Inflöde","VP203'!Inm_30673_D1036_cmb405_","32211","S","L","SEK","TOT","I","M","X","H1",{"$f":"VLOOKUP('VP203'!$B$404,FlexDimensioner!$C$1:$D$430,2,FALSE)","v":"VALFRI"},"SEK",{"$f":"VLOOKUP(B750,Import!A$1:B$20000,2,FALSE)","v":{"$error":"#N/A"}},"EJ_GRANSKN",{"$f":"VLOOKUP(S750,Import!A$1:B$20000,2,FALSE)","v":{"$error":"#N/A"}},"32211_S_L_SEK_TOT_I_M_X_H1_VALFRI_SEK",1000,null,"30673_D1036_cmb405_",{"$f":"VLOOKUP(B750,Import!E$1:F$20000,2,FALSE)","v":{"$error":"#N/A"}}]
[{"$f":"IF(ISBLANK(Inm_30673_D1037_cmb406_),\"\",$T$751 * Inm_30673_D1037_cmb406_)","v":""},"30673_D1037_cmb406_","Handel i sven, Lång , Inflöde","VP203'!Inm_30673_D1037_cmb406_","32211","S","L","SEK","TOT","I","M","X","H1",{"$f":"VLOOKUP('VP203'!$B$405,FlexDimensioner!$C$1:$D$430,2,FALSE)","v":"VALFRI"},"SEK",{"$f":"VLOOKUP(B751,Import!A$1:B$20000,2,FALSE)","v":{"$error":"#N/A"}},"EJ_GRANSKN",{"$f":"VLOOKUP(S751,Import!A$1:B$20000,2,FALSE)","v":{"$error":"#N/A"}},"32211_S_L_SEK_TOT_I_M_X_H1_VALFRI_SEK",1000,null,"30673_D1037_cmb406_",{"$f":"VLOOKUP(B751,Import!E$1:F$20000,2,FALSE)","v":{"$error":"#N/A"}}]
[{"$f":"IF(ISBLANK(Inm_30673_D1038_cmb407_),\"\",$T$752 * Inm_30673_D1038_cmb407_)","v":""},"30673_D1038_cmb407_","Handel i sven, Lång , Inflöde","VP203'!Inm_30673_D1038_cmb407_","32211","S","L","SEK","TOT","I","M","X","H1",{"$f":"VLOOKUP('VP203'!$B$406,FlexDimensioner!$C$1:$D$430,2,FALSE)","v":"VALFRI"},"SEK",{"$f":"VLOOKUP(B752,Import!A$1:B$20000,2,FALSE)","v":{"$error":"#N/A"}},"EJ_GRANSKN",{"$f":"VLOOKUP(S752,Import!A$1:B$20000,2,FALSE)","v":{"$error":"#N/A"}},"32211_S_L_SEK_TOT_I_M_X_H1_VALFRI_SEK",1000,null,"30673_D1038_cmb407_",{"$f":"VLOOKUP(B752,Import!E$1:F$20000,2,FALSE)","v":{"$error":"#N/A"}}]
[{"$f":"IF(ISBLANK(Inm_30673_D1039_cmb408_),\"\",$T$753 * Inm_30673_D1039_cmb408_)","v":""},"30673_D1039_cmb408_","Handel i sven, Lång , Inflöde","VP203'!Inm_30673_D1039_cmb408_","32211","S","L","SEK","TOT","I","M","X","H1",{"$f":"VLOOKUP('VP203'!$B$407,FlexDimensioner!$C$1:$D$430,2,FALSE)","v":"VALFRI"},"SEK",{"$f":"VLOOKUP(B753,Import!A$1:B$20000,2,FALSE)","v":{"$error":"#N/A"}},"EJ_GRANSKN",{"$f":"VLOOKUP(S753,Import!A$1:B$20000,2,FALSE)","v":{"$error":"#N/A"}},"32211_S_L_SEK_TOT_I_M_X_H1_VALFRI_SEK",1000,null,"30673_D1039_cmb408_",{"$f":"VLOOKUP(B753,Import!E$1:F$20000,2,FALSE)","v":{"$error":"#N/A"}}]
[{"$f":"IF(ISBLANK(Inm_30673_D1040_cmb409_),\"\",$T$754 * Inm_30673_D1040_cmb409_)","v":""},"30673_D1040_cmb409_","Handel i sven, Lång , Inflöde","VP203'!Inm_30673_D1040_cmb409_","32211","S","L","SEK","TOT","I","M","X","H1",{"$f":"VLOOKUP('VP203'!$B$408,FlexDimensioner!$C$1:$D$430,2,FALSE)","v":"VALFRI"},"SEK",{"$f":"VLOOKUP(B754,Import!A$1:B$20000,2,FALSE)","v":{"$error":"#N/A"}},"EJ_GRANSKN",{"$f":"VLOOKUP(S754,Import!A$1:B$20000,2,FALSE)","v":{"$error":"#N/A"}},"32211_S_L_SEK_TOT_I_M_X_H1_VALFRI_SEK",1000,null,"30673_D1040_cmb409_",{"$f":"VLOOKUP(B754,Import!E$1:F$20000,2,FALSE)","v":{"$error":"#N/A"}}]
[{"$f":"IF(ISBLANK(Inm_30673_D1041_cmb410_),\"\",$T$755 * Inm_30673_D1041_cmb410_)","v":""},"30673_D1041_cmb410_","Handel i sven, Lång , Inflöde","VP203'!Inm_30673_D1041_cmb410_","32211","S","L","SEK","TOT","I","M","X","H1",{"$f":"VLOOKUP('VP203'!$B$409,FlexDimensioner!$C$1:$D$430,2,FALSE)","v":"VALFRI"},"SEK",{"$f":"VLOOKUP(B755,Import!A$1:B$20000,2,FALSE)","v":{"$error":"#N/A"}},"EJ_GRANSKN",{"$f":"VLOOKUP(S755,Import!A$1:B$20000,2,FALSE)","v":{"$error":"#N/A"}},"32211_S_L_SEK_TOT_I_M_X_H1_VALFRI_SEK",1000,null,"30673_D1041_cmb410_",{"$f":"VLOOKUP(B755,Import!E$1:F$20000,2,FALSE)","v":{"$error":"#N/A"}}]
[{"$f":"IF(ISBLANK(Inm_30673_D1042_cmb411_),\"\",$T$756 * Inm_30673_D1042_cmb411_)","v":""},"30673_D1042_cmb411_","Handel i sven, Lång , Inflöde","VP203'!Inm_30673_D1042_cmb411_","32211","S","L","SEK","TOT","I","M","X","H1",{"$f":"VLOOKUP('VP203'!$B$410,FlexDimensioner!$C$1:$D$430,2,FALSE)","v":"VALFRI"},"SEK",{"$f":"VLOOKUP(B756,Import!A$1:B$20000,2,FALSE)","v":{"$error":"#N/A"}},"EJ_GRANSKN",{"$f":"VLOOKUP(S756,Import!A$1:B$20000,2,FALSE)","v":{"$error":"#N/A"}},{"$f":"CONCATENATE(E756,\"_\",F756,\"_\",G756,\"_\",H756,\"_\",I756,\"_\",J756,\"_\",K756,\"_\",L756,\"_\",M756,\"_\",N756,\"_\",O756)","v":"32211_S_L_SEK_TOT_I_M_X_H1_VALFRI_SEK"},1000,null,"30673_D1042_cmb411_",{"$f":"VLOOKUP(B756,Import!E$1:F$20000,2,FALSE)","v":{"$error":"#N/A"}}]
[{"$f":"IF(ISBLANK(Inm_30673_D1043_cmb412_),\"\",$T$757 * Inm_30673_D1043_cmb412_)","v":""},"30673_D1043_cmb412_","Handel i sven, Lång , Inflöde","VP203'!Inm_30673_D1043_cmb412_","32211","S","L","SEK","TOT","I","M","X","H1",{"$f":"VLOOKUP('VP203'!$B$411,FlexDimensioner!$C$1:$D$430,2,FALSE)","v":"VALFRI"},"SEK",{"$f":"VLOOKUP(B757,Import!A$1:B$20000,2,FALSE)","v":{"$error":"#N/A"}},"EJ_GRANSKN",{"$f":"VLOOKUP(S757,Import!A$1:B$20000,2,FALSE)","v":{"$error":"#N/A"}},"32211_S_L_SEK_TOT_I_M_X_H1_VALFRI_SEK",1000,null,"30673_D1043_cmb412_",{"$f":"VLOOKUP(B757,Import!E$1:F$20000,2,FALSE)","v":{"$error":"#N/A"}}]
[{"$f":"IF(ISBLANK(Inm_30673_D1044_cmb413_),\"\",$T$758 * Inm_30673_D1044_cmb413_)","v":""},"30673_D1044_cmb413_","Handel i sven, Lång , Inflöde","VP203'!Inm_30673_D1044_cmb413_","32211","S","L","SEK","TOT","I","M","X","H1",{"$f":"VLOOKUP('VP203'!$B$412,FlexDimensioner!$C$1:$D$430,2,FALSE)","v":"VALFRI"},"SEK",{"$f":"VLOOKUP(B758,Import!A$1:B$20000,2,FALSE)","v":{"$error":"#N/A"}},"EJ_GRANSKN",{"$f":"VLOOKUP(S758,Import!A$1:B$20000,2,FALSE)","v":{"$error":"#N/A"}},"32211_S_L_SEK_TOT_I_M_X_H1_VALFRI_SEK",1000,null,"30673_D1044_cmb413_",{"$f":"VLOOKUP(B758,Import!E$1:F$20000,2,FALSE)","v":{"$error":"#N/A"}}]
[{"$f":"IF(ISBLANK(Inm_30673_D1045_cmb414_),\"\",$T$759 * Inm_30673_D1045_cmb414_)","v":""},"30673_D1045_cmb414_","Handel i sven, Lång , Inflöde","VP203'!Inm_30673_D1045_cmb414_","32211","S","L","SEK","TOT","I","M","X","H1",{"$f":"VLOOKUP('VP203'!$B$413,FlexDimensioner!$C$1:$D$430,2,FALSE)","v":"VALFRI"},"SEK",{"$f":"VLOOKUP(B759,Import!A$1:B$20000,2,FALSE)","v":{"$error":"#N/A"}},"EJ_GRANSKN",{"$f":"VLOOKUP(S759,Import!A$1:B$20000,2,FALSE)","v":{"$error":"#N/A"}},"32211_S_L_SEK_TOT_I_M_X_H1_VALFRI_SEK",1000,null,"30673_D1045_cmb414_",{"$f":"VLOOKUP(B759,Import!E$1:F$20000,2,FALSE)","v":{"$error":"#N/A"}}]
[{"$f":"IF(ISBLANK(Inm_30673_D1046_cmb415_),\"\",$T$760 * Inm_30673_D1046_cmb415_)","v":""},"30673_D1046_cmb415_","Handel i sven, Lång , Inflöde","VP203'!Inm_30673_D1046_cmb415_","32211","S","L","SEK","TOT","I","M","X","H1",{"$f":"VLOOKUP('VP203'!$B$414,FlexDimensioner!$C$1:$D$430,2,FALSE)","v":"VALFRI"},"SEK",{"$f":"VLOOKUP(B760,Import!A$1:B$20000,2,FALSE)","v":{"$error":"#N/A"}},"EJ_GRANSKN",{"$f":"VLOOKUP(S760,Import!A$1:B$20000,2,FALSE)","v":{"$error":"#N/A"}},"32211_S_L_SEK_TOT_I_M_X_H1_VALFRI_SEK",1000,null,"30673_D1046_cmb415_",{"$f":"VLOOKUP(B760,Import!E$1:F$20000,2,FALSE)","v":{"$error":"#N/A"}}]
[{"$f":"IF(ISBLANK(Inm_30673_D1047_cmb416_),\"\",$T$761 * Inm_30673_D1047_cmb416_)","v":""},"30673_D1047_cmb416_","Handel i sven, Lång , Inflöde","VP203'!Inm_30673_D1047_cmb416_","32211","S","L","SEK","TOT","I","M","X","H1",{"$f":"VLOOKUP('VP203'!$B$415,FlexDimensioner!$C$1:$D$430,2,FALSE)","v":"VALFRI"},"SEK",{"$f":"VLOOKUP(B761,Import!A$1:B$20000,2,FALSE)","v":{"$error":"#N/A"}},"EJ_GRANSKN",{"$f":"VLOOKUP(S761,Import!A$1:B$20000,2,FALSE)","v":{"$error":"#N/A"}},"32211_S_L_SEK_TOT_I_M_X_H1_VALFRI_SEK",1000,null,"30673_D1047_cmb416_",{"$f":"VLOOKUP(B761,Import!E$1:F$20000,2,FALSE)","v":{"$error":"#N/A"}}]
[{"$f":"IF(ISBLANK(Inm_30673_D1048_cmb417_),\"\",$T$762 * Inm_30673_D1048_cmb417_)","v":""},"30673_D1048_cmb417_","Handel i sven, Lång , Inflöde","VP203'!Inm_30673_D1048_cmb417_","32211","S","L","SEK","TOT","I","M","X","H1",{"$f":"VLOOKUP('VP203'!$B$416,FlexDimensioner!$C$1:$D$430,2,FALSE)","v":"VALFRI"},"SEK",{"$f":"VLOOKUP(B762,Import!A$1:B$20000,2,FALSE)","v":{"$error":"#N/A"}},"EJ_GRANSKN",{"$f":"VLOOKUP(S762,Import!A$1:B$20000,2,FALSE)","v":{"$error":"#N/A"}},"32211_S_L_SEK_TOT_I_M_X_H1_VALFRI_SEK",1000,null,"30673_D1048_cmb417_",{"$f":"VLOOKUP(B762,Import!E$1:F$20000,2,FALSE)","v":{"$error":"#N/A"}}]
[{"$f":"IF(ISBLANK(Inm_30673_D1049_cmb418_),\"\",$T$763 * Inm_30673_D1049_cmb418_)","v":""},"30673_D1049_cmb418_","Handel i sven, Lång , Inflöde","VP203'!Inm_30673_D1049_cmb418_","32211","S","L","SEK","TOT","I","M","X","H1",{"$f":"VLOOKUP('VP203'!$B$417,FlexDimensioner!$C$1:$D$430,2,FALSE)","v":"VALFRI"},"SEK",{"$f":"VLOOKUP(B763,Import!A$1:B$20000,2,FALSE)","v":{"$error":"#N/A"}},"EJ_GRANSKN",{"$f":"VLOOKUP(S763,Import!A$1:B$20000,2,FALSE)","v":{"$error":"#N/A"}},"32211_S_L_SEK_TOT_I_M_X_H1_VALFRI_SEK",1000,null,"30673_D1049_cmb418_",{"$f":"VLOOKUP(B763,Import!E$1:F$20000,2,FALSE)","v":{"$error":"#N/A"}}]
[{"$f":"IF(ISBLANK(Inm_30673_D1050_cmb419_),\"\",$T$764 * Inm_30673_D1050_cmb419_)","v":""},"30673_D1050_cmb419_","Handel i sven, Lång , Inflöde","VP203'!Inm_30673_D1050_cmb419_","32211","S","L","SEK","TOT","I","M","X","H1",{"$f":"VLOOKUP('VP203'!$B$418,FlexDimensioner!$C$1:$D$430,2,FALSE)","v":"VALFRI"},"SEK",{"$f":"VLOOKUP(B764,Import!A$1:B$20000,2,FALSE)","v":{"$error":"#N/A"}},"EJ_GRANSKN",{"$f":"VLOOKUP(S764,Import!A$1:B$20000,2,FALSE)","v":{"$error":"#N/A"}},"32211_S_L_SEK_TOT_I_M_X_H1_VALFRI_SEK",1000,null,"30673_D1050_cmb419_",{"$f":"VLOOKUP(B764,Import!E$1:F$20000,2,FALSE)","v":{"$error":"#N/A"}}]
[{"$f":"IF(ISBLANK(Inm_30673_D1051_cmb420_),\"\",$T$765 * Inm_30673_D1051_cmb420_)","v":""},"30673_D1051_cmb420_","Handel i sven, Lång , Inflöde","VP203'!Inm_30673_D1051_cmb420_","32211","S","L","SEK","TOT","I","M","X","H1",{"$f":"VLOOKUP('VP203'!$B$419,FlexDimensioner!$C$1:$D$430,2,FALSE)","v":"VALFRI"},"SEK",{"$f":"VLOOKUP(B765,Import!A$1:B$20000,2,FALSE)","v":{"$error":"#N/A"}},"EJ_GRANSKN",{"$f":"VLOOKUP(S765,Import!A$1:B$20000,2,FALSE)","v":{"$error":"#N/A"}},"32211_S_L_SEK_TOT_I_M_X_H1_VALFRI_SEK",1000,null,"30673_D1051_cmb420_",{"$f":"VLOOKUP(B765,Import!E$1:F$20000,2,FALSE)","v":{"$error":"#N/A"}}]
[{"$f":"IF(ISBLANK(Inm_30673_D1052_cmb421_),\"\",$T$766 * Inm_30673_D1052_cmb421_)","v":""},"30673_D1052_cmb421_","Handel i sven, Lång , Inflöde","VP203'!Inm_30673_D1052_cmb421_","32211","S","L","SEK","TOT","I","M","X","H1",{"$f":"VLOOKUP('VP203'!$B$420,FlexDimensioner!$C$1:$D$430,2,FALSE)","v":"VALFRI"},"SEK",{"$f":"VLOOKUP(B766,Import!A$1:B$20000,2,FALSE)","v":{"$error":"#N/A"}},"EJ_GRANSKN",{"$f":"VLOOKUP(S766,Import!A$1:B$20000,2,FALSE)","v":{"$error":"#N/A"}},"32211_S_L_SEK_TOT_I_M_X_H1_VALFRI_SEK",1000,null,"30673_D1052_cmb421_",{"$f":"VLOOKUP(B766,Import!E$1:F$20000,2,FALSE)","v":{"$error":"#N/A"}}]
[{"$f":"IF(ISBLANK(Inm_30673_D1053_cmb422_),\"\",$T$767 * Inm_30673_D1053_cmb422_)","v":""},"30673_D1053_cmb422_","Handel i sven, Lång , Inflöde","VP203'!Inm_30673_D1053_cmb422_","32211","S","L","SEK","TOT","I","M","X","H1",{"$f":"VLOOKUP('VP203'!$B$421,FlexDimensioner!$C$1:$D$430,2,FALSE)","v":"VALFRI"},"SEK",{"$f":"VLOOKUP(B767,Import!A$1:B$20000,2,FALSE)","v":{"$error":"#N/A"}},"EJ_GRANSKN",{"$f":"VLOOKUP(S767,Import!A$1:B$20000,2,FALSE)","v":{"$error":"#N/A"}},"32211_S_L_SEK_TOT_I_M_X_H1_VALFRI_SEK",1000,null,"30673_D1053_cmb422_",{"$f":"VLOOKUP(B767,Import!E$1:F$20000,2,FALSE)","v":{"$error":"#N/A"}}]
[{"$f":"IF(ISBLANK(Inm_30673_D1054_cmb423_),\"\",$T$768 * Inm_30673_D1054_cmb423_)","v":""},"30673_D1054_cmb423_","Handel i sven, Lång , Inflöde","VP203'!Inm_30673_D1054_cmb423_","32211","S","L","SEK","TOT","I","M","X","H1",{"$f":"VLOOKUP('VP203'!$B$422,FlexDimensioner!$C$1:$D$430,2,FALSE)","v":"VALFRI"},"SEK",{"$f":"VLOOKUP(B768,Import!A$1:B$20000,2,FALSE)","v":{"$error":"#N/A"}},"EJ_GRANSKN",{"$f":"VLOOKUP(S768,Import!A$1:B$20000,2,FALSE)","v":{"$error":"#N/A"}},"32211_S_L_SEK_TOT_I_M_X_H1_VALFRI_SEK",1000,null,"30673_D1054_cmb423_",{"$f":"VLOOKUP(B768,Import!E$1:F$20000,2,FALSE)","v":{"$error":"#N/A"}}]
[{"$f":"IF(ISBLANK(Inm_30673_D1055_cmb424_),\"\",$T$769 * Inm_30673_D1055_cmb424_)","v":""},"30673_D1055_cmb424_","Handel i sven, Lång , Inflöde","VP203'!Inm_30673_D1055_cmb424_","32211","S","L","SEK","TOT","I","M","X","H1",{"$f":"VLOOKUP('VP203'!$B$423,FlexDimensioner!$C$1:$D$430,2,FALSE)","v":"VALFRI"},"SEK",{"$f":"VLOOKUP(B769,Import!A$1:B$20000,2,FALSE)","v":{"$error":"#N/A"}},"EJ_GRANSKN",{"$f":"VLOOKUP(S769,Import!A$1:B$20000,2,FALSE)","v":{"$error":"#N/A"}},"32211_S_L_SEK_TOT_I_M_X_H1_VALFRI_SEK",1000,null,"30673_D1055_cmb424_",{"$f":"VLOOKUP(B769,Import!E$1:F$20000,2,FALSE)","v":{"$error":"#N/A"}}]
[{"$f":"IF(ISBLANK(Inm_30673_D1056_cmb425_),\"\",$T$770 * Inm_30673_D1056_cmb425_)","v":""},"30673_D1056_cmb425_","Handel i sven, Lång , Inflöde","VP203'!Inm_30673_D1056_cmb425_","32211","S","L","SEK","TOT","I","M","X","H1",{"$f":"VLOOKUP('VP203'!$B$424,FlexDimensioner!$C$1:$D$430,2,FALSE)","v":"VALFRI"},"SEK",{"$f":"VLOOKUP(B770,Import!A$1:B$20000,2,FALSE)","v":{"$error":"#N/A"}},"EJ_GRANSKN",{"$f":"VLOOKUP(S770,Import!A$1:B$20000,2,FALSE)","v":{"$error":"#N/A"}},"32211_S_L_SEK_TOT_I_M_X_H1_VALFRI_SEK",1000,null,"30673_D1056_cmb425_",{"$f":"VLOOKUP(B770,Import!E$1:F$20000,2,FALSE)","v":{"$error":"#N/A"}}]
[{"$f":"IF(ISBLANK(Inm_30673_D1057_cmb426_),\"\",$T$771 * Inm_30673_D1057_cmb426_)","v":""},"30673_D1057_cmb426_","Handel i sven, Lång , Inflöde","VP203'!Inm_30673_D1057_cmb426_","32211","S","L","SEK","TOT","I","M","X","H1",{"$f":"VLOOKUP('VP203'!$B$425,FlexDimensioner!$C$1:$D$430,2,FALSE)","v":"VALFRI"},"SEK",{"$f":"VLOOKUP(B771,Import!A$1:B$20000,2,FALSE)","v":{"$error":"#N/A"}},"EJ_GRANSKN",{"$f":"VLOOKUP(S771,Import!A$1:B$20000,2,FALSE)","v":{"$error":"#N/A"}},"32211_S_L_SEK_TOT_I_M_X_H1_VALFRI_SEK",1000,null,"30673_D1057_cmb426_",{"$f":"VLOOKUP(B771,Import!E$1:F$20000,2,FALSE)","v":{"$error":"#N/A"}}]
[{"$f":"IF(ISBLANK(Inm_30673_D1058_cmb427_),\"\",$T$772 * Inm_30673_D1058_cmb427_)","v":""},"30673_D1058_cmb427_","Handel i sven, Lång , Inflöde","VP203'!Inm_30673_D1058_cmb427_","32211","S","L","SEK","TOT","I","M","X","H1",{"$f":"VLOOKUP('VP203'!$B$426,FlexDimensioner!$C$1:$D$430,2,FALSE)","v":"VALFRI"},"SEK",{"$f":"VLOOKUP(B772,Import!A$1:B$20000,2,FALSE)","v":{"$error":"#N/A"}},"EJ_GRANSKN",{"$f":"VLOOKUP(S772,Import!A$1:B$20000,2,FALSE)","v":{"$error":"#N/A"}},"32211_S_L_SEK_TOT_I_M_X_H1_VALFRI_SEK",1000,null,"30673_D1058_cmb427_",{"$f":"VLOOKUP(B772,Import!E$1:F$20000,2,FALSE)","v":{"$error":"#N/A"}}]
[{"$f":"IF(ISBLANK(Inm_30673_D1059_cmb428_),\"\",$T$773 * Inm_30673_D1059_cmb428_)","v":""},"30673_D1059_cmb428_","Handel i sven, Lång , Inflöde","VP203'!Inm_30673_D1059_cmb428_","32211","S","L","SEK","TOT","I","M","X","H1",{"$f":"VLOOKUP('VP203'!$B$427,FlexDimensioner!$C$1:$D$430,2,FALSE)","v":"VALFRI"},"SEK",{"$f":"VLOOKUP(B773,Import!A$1:B$20000,2,FALSE)","v":{"$error":"#N/A"}},"EJ_GRANSKN",{"$f":"VLOOKUP(S773,Import!A$1:B$20000,2,FALSE)","v":{"$error":"#N/A"}},"32211_S_L_SEK_TOT_I_M_X_H1_VALFRI_SEK",1000,null,"30673_D1059_cmb428_",{"$f":"VLOOKUP(B773,Import!E$1:F$20000,2,FALSE)","v":{"$error":"#N/A"}}]
[{"$f":"IF(ISBLANK(Inm_30673_D1060_cmb429_),\"\",$T$774 * Inm_30673_D1060_cmb429_)","v":""},"30673_D1060_cmb429_","Handel i sven, Lång , Inflöde","VP203'!Inm_30673_D1060_cmb429_","32211","S","L","SEK","TOT","I","M","X","H1",{"$f":"VLOOKUP('VP203'!$B$428,FlexDimensioner!$C$1:$D$430,2,FALSE)","v":"VALFRI"},"SEK",{"$f":"VLOOKUP(B774,Import!A$1:B$20000,2,FALSE)","v":{"$error":"#N/A"}},"EJ_GRANSKN",{"$f":"VLOOKUP(S774,Import!A$1:B$20000,2,FALSE)","v":{"$error":"#N/A"}},"32211_S_L_SEK_TOT_I_M_X_H1_VALFRI_SEK",1000,null,"30673_D1060_cmb429_",{"$f":"VLOOKUP(B774,Import!E$1:F$20000,2,FALSE)","v":{"$error":"#N/A"}}]
[{"$f":"IF(ISBLANK(Inm_30673_D1061_cmb430_),\"\",$T$775 * Inm_30673_D1061_cmb430_)","v":""},"30673_D1061_cmb430_","Handel i sven, Lång , Inflöde","VP203'!Inm_30673_D1061_cmb430_","32211","S","L","SEK","TOT","I","M","X","H1",{"$f":"VLOOKUP('VP203'!$B$429,FlexDimensioner!$C$1:$D$430,2,FALSE)","v":"VALFRI"},"SEK",{"$f":"VLOOKUP(B775,Import!A$1:B$20000,2,FALSE)","v":{"$error":"#N/A"}},"EJ_GRANSKN",{"$f":"VLOOKUP(S775,Import!A$1:B$20000,2,FALSE)","v":{"$error":"#N/A"}},"32211_S_L_SEK_TOT_I_M_X_H1_VALFRI_SEK",1000,null,"30673_D1061_cmb430_",{"$f":"VLOOKUP(B775,Import!E$1:F$20000,2,FALSE)","v":{"$error":"#N/A"}}]
[{"$f":"IF(ISBLANK(Inm_30673_D1062_cmb431_),\"\",$T$776 * Inm_30673_D1062_cmb431_)","v":""},"30673_D1062_cmb431_","Handel i sven, Lång , Inflöde","VP203'!Inm_30673_D1062_cmb431_","32211","S","L","SEK","TOT","I","M","X","H1",{"$f":"VLOOKUP('VP203'!$B$430,FlexDimensioner!$C$1:$D$430,2,FALSE)","v":"VALFRI"},"SEK",{"$f":"VLOOKUP(B776,Import!A$1:B$20000,2,FALSE)","v":{"$error":"#N/A"}},"EJ_GRANSKN",{"$f":"VLOOKUP(S776,Import!A$1:B$20000,2,FALSE)","v":{"$error":"#N/A"}},"32211_S_L_SEK_TOT_I_M_X_H1_VALFRI_SEK",1000,null,"30673_D1062_cmb431_",{"$f":"VLOOKUP(B776,Import!E$1:F$20000,2,FALSE)","v":{"$error":"#N/A"}}]
[{"$f":"IF(ISBLANK(Inm_30673_D1063_cmb432_),\"\",$T$777 * Inm_30673_D1063_cmb432_)","v":""},"30673_D1063_cmb432_","Handel i sven, Lång , Inflöde","VP203'!Inm_30673_D1063_cmb432_","32211","S","L","SEK","TOT","I","M","X","H1",{"$f":"VLOOKUP('VP203'!$B$431,FlexDimensioner!$C$1:$D$430,2,FALSE)","v":"VALFRI"},"SEK",{"$f":"VLOOKUP(B777,Import!A$1:B$20000,2,FALSE)","v":{"$error":"#N/A"}},"EJ_GRANSKN",{"$f":"VLOOKUP(S777,Import!A$1:B$20000,2,FALSE)","v":{"$error":"#N/A"}},"32211_S_L_SEK_TOT_I_M_X_H1_VALFRI_SEK",1000,null,"30673_D1063_cmb432_",{"$f":"VLOOKUP(B777,Import!E$1:F$20000,2,FALSE)","v":{"$error":"#N/A"}}]
[{"$f":"IF(ISBLANK(Inm_30673_D1064_cmb433_),\"\",$T$778 * Inm_30673_D1064_cmb433_)","v":""},"30673_D1064_cmb433_","Handel i sven, Lång , Inflöde","VP203'!Inm_30673_D1064_cmb433_","32211","S","L","SEK","TOT","I","M","X","H1",{"$f":"VLOOKUP('VP203'!$B$432,FlexDimensioner!$C$1:$D$430,2,FALSE)","v":"VALFRI"},"SEK",{"$f":"VLOOKUP(B778,Import!A$1:B$20000,2,FALSE)","v":{"$error":"#N/A"}},"EJ_GRANSKN",{"$f":"VLOOKUP(S778,Import!A$1:B$20000,2,FALSE)","v":{"$error":"#N/A"}},"32211_S_L_SEK_TOT_I_M_X_H1_VALFRI_SEK",1000,null,"30673_D1064_cmb433_",{"$f":"VLOOKUP(B778,Import!E$1:F$20000,2,FALSE)","v":{"$error":"#N/A"}}]
[{"$f":"IF(ISBLANK(Inm_30673_D1065_cmb434_),\"\",$T$779 * Inm_30673_D1065_cmb434_)","v":""},"30673_D1065_cmb434_","Handel i sven, Lång , Inflöde","VP203'!Inm_30673_D1065_cmb434_","32211","S","L","SEK","TOT","I","M","X","H1",{"$f":"VLOOKUP('VP203'!$B$433,FlexDimensioner!$C$1:$D$430,2,FALSE)","v":"VALFRI"},"SEK",{"$f":"VLOOKUP(B779,Import!A$1:B$20000,2,FALSE)","v":{"$error":"#N/A"}},"EJ_GRANSKN",{"$f":"VLOOKUP(S779,Import!A$1:B$20000,2,FALSE)","v":{"$error":"#N/A"}},"32211_S_L_SEK_TOT_I_M_X_H1_VALFRI_SEK",1000,null,"30673_D1065_cmb434_",{"$f":"VLOOKUP(B779,Import!E$1:F$20000,2,FALSE)","v":{"$error":"#N/A"}}]
[{"$f":"IF(ISBLANK(Inm_30673_D1066_cmb435_),\"\",$T$780 * Inm_30673_D1066_cmb435_)","v":""},"30673_D1066_cmb435_","Handel i sven, Lång , Inflöde","VP203'!Inm_30673_D1066_cmb435_","32211","S","L","SEK","TOT","I","M","X","H1",{"$f":"VLOOKUP('VP203'!$B$434,FlexDimensioner!$C$1:$D$430,2,FALSE)","v":"VALFRI"},"SEK",{"$f":"VLOOKUP(B780,Import!A$1:B$20000,2,FALSE)","v":{"$error":"#N/A"}},"EJ_GRANSKN",{"$f":"VLOOKUP(S780,Import!A$1:B$20000,2,FALSE)","v":{"$error":"#N/A"}},"32211_S_L_SEK_TOT_I_M_X_H1_VALFRI_SEK",1000,null,"30673_D1066_cmb435_",{"$f":"VLOOKUP(B780,Import!E$1:F$20000,2,FALSE)","v":{"$error":"#N/A"}}]
[{"$f":"IF(ISBLANK(Inm_30673_D1067_cmb436_),\"\",$T$781 * Inm_30673_D1067_cmb436_)","v":""},"30673_D1067_cmb436_","Handel i sven, Lång , Inflöde","VP203'!Inm_30673_D1067_cmb436_","32211","S","L","SEK","TOT","I","M","X","H1",{"$f":"VLOOKUP('VP203'!$B$435,FlexDimensioner!$C$1:$D$430,2,FALSE)","v":"VALFRI"},"SEK",{"$f":"VLOOKUP(B781,Import!A$1:B$20000,2,FALSE)","v":{"$error":"#N/A"}},"EJ_GRANSKN",{"$f":"VLOOKUP(S781,Import!A$1:B$20000,2,FALSE)","v":{"$error":"#N/A"}},"32211_S_L_SEK_TOT_I_M_X_H1_VALFRI_SEK",1000,null,"30673_D1067_cmb436_",{"$f":"VLOOKUP(B781,Import!E$1:F$20000,2,FALSE)","v":{"$error":"#N/A"}}]
[{"$f":"IF(ISBLANK(Inm_30673_D1068_cmb437_),\"\",$T$782 * Inm_30673_D1068_cmb437_)","v":""},"30673_D1068_cmb437_","Handel i sven, Lång , Inflöde","VP203'!Inm_30673_D1068_cmb437_","32211","S","L","SEK","TOT","I","M","X","H1",{"$f":"VLOOKUP('VP203'!$B$436,FlexDimensioner!$C$1:$D$430,2,FALSE)","v":"VALFRI"},"SEK",{"$f":"VLOOKUP(B782,Import!A$1:B$20000,2,FALSE)","v":{"$error":"#N/A"}},"EJ_GRANSKN",{"$f":"VLOOKUP(S782,Import!A$1:B$20000,2,FALSE)","v":{"$error":"#N/A"}},"32211_S_L_SEK_TOT_I_M_X_H1_VALFRI_SEK",1000,null,"30673_D1068_cmb437_",{"$f":"VLOOKUP(B782,Import!E$1:F$20000,2,FALSE)","v":{"$error":"#N/A"}}]
[{"$f":"IF(ISBLANK(Inm_30673_D1069_cmb438_),\"\",$T$783 * Inm_30673_D1069_cmb438_)","v":""},"30673_D1069_cmb438_","Handel i sven, Lång , Inflöde","VP203'!Inm_30673_D1069_cmb438_","32211","S","L","SEK","TOT","I","M","X","H1",{"$f":"VLOOKUP('VP203'!$B$437,FlexDimensioner!$C$1:$D$430,2,FALSE)","v":"VALFRI"},"SEK",{"$f":"VLOOKUP(B783,Import!A$1:B$20000,2,FALSE)","v":{"$error":"#N/A"}},"EJ_GRANSKN",{"$f":"VLOOKUP(S783,Import!A$1:B$20000,2,FALSE)","v":{"$error":"#N/A"}},"32211_S_L_SEK_TOT_I_M_X_H1_VALFRI_SEK",1000,null,"30673_D1069_cmb438_",{"$f":"VLOOKUP(B783,Import!E$1:F$20000,2,FALSE)","v":{"$error":"#N/A"}}]
[{"$f":"IF(ISBLANK(Inm_30673_D1070_cmb439_),\"\",$T$784 * Inm_30673_D1070_cmb439_)","v":""},"30673_D1070_cmb439_","Handel i sven, Lång , Inflöde","VP203'!Inm_30673_D1070_cmb439_","32211","S","L","SEK","TOT","I","M","X","H1",{"$f":"VLOOKUP('VP203'!$B$438,FlexDimensioner!$C$1:$D$430,2,FALSE)","v":"VALFRI"},"SEK",{"$f":"VLOOKUP(B784,Import!A$1:B$20000,2,FALSE)","v":{"$error":"#N/A"}},"EJ_GRANSKN",{"$f":"VLOOKUP(S784,Import!A$1:B$20000,2,FALSE)","v":{"$error":"#N/A"}},"32211_S_L_SEK_TOT_I_M_X_H1_VALFRI_SEK",1000,null,"30673_D1070_cmb439_",{"$f":"VLOOKUP(B784,Import!E$1:F$20000,2,FALSE)","v":{"$error":"#N/A"}}]
[{"$f":"IF(ISBLANK(Inm_30673_D1071_cmb440_),\"\",$T$785 * Inm_30673_D1071_cmb440_)","v":""},"30673_D1071_cmb440_","Handel i sven, Lång , Inflöde","VP203'!Inm_30673_D1071_cmb440_","32211","S","L","SEK","TOT","I","M","X","H1",{"$f":"VLOOKUP('VP203'!$B$439,FlexDimensioner!$C$1:$D$430,2,FALSE)","v":"VALFRI"},"SEK",{"$f":"VLOOKUP(B785,Import!A$1:B$20000,2,FALSE)","v":{"$error":"#N/A"}},"EJ_GRANSKN",{"$f":"VLOOKUP(S785,Import!A$1:B$20000,2,FALSE)","v":{"$error":"#N/A"}},"32211_S_L_SEK_TOT_I_M_X_H1_VALFRI_SEK",1000,null,"30673_D1071_cmb440_",{"$f":"VLOOKUP(B785,Import!E$1:F$20000,2,FALSE)","v":{"$error":"#N/A"}}]
[{"$f":"IF(ISBLANK(Inm_30673_D1072_cmb441_),\"\",$T$786 * Inm_30673_D1072_cmb441_)","v":""},"30673_D1072_cmb441_","Handel i sven, Lång , Inflöde","VP203'!Inm_30673_D1072_cmb441_","32211","S","L","SEK","TOT","I","M","X","H1",{"$f":"VLOOKUP('VP203'!$B$440,FlexDimensioner!$C$1:$D$430,2,FALSE)","v":"VALFRI"},"SEK",{"$f":"VLOOKUP(B786,Import!A$1:B$20000,2,FALSE)","v":{"$error":"#N/A"}},"EJ_GRANSKN",{"$f":"VLOOKUP(S786,Import!A$1:B$20000,2,FALSE)","v":{"$error":"#N/A"}},"32211_S_L_SEK_TOT_I_M_X_H1_VALFRI_SEK",1000,null,"30673_D1072_cmb441_",{"$f":"VLOOKUP(B786,Import!E$1:F$20000,2,FALSE)","v":{"$error":"#N/A"}}]
[{"$f":"IF(ISBLANK(Inm_30673_D1073_cmb442_),\"\",$T$787 * Inm_30673_D1073_cmb442_)","v":""},"30673_D1073_cmb442_","Handel i sven, Lång , Inflöde","VP203'!Inm_30673_D1073_cmb442_","32211","S","L","SEK","TOT","I","M","X","H1",{"$f":"VLOOKUP('VP203'!$B$441,FlexDimensioner!$C$1:$D$430,2,FALSE)","v":"VALFRI"},"SEK",{"$f":"VLOOKUP(B787,Import!A$1:B$20000,2,FALSE)","v":{"$error":"#N/A"}},"EJ_GRANSKN",{"$f":"VLOOKUP(S787,Import!A$1:B$20000,2,FALSE)","v":{"$error":"#N/A"}},"32211_S_L_SEK_TOT_I_M_X_H1_VALFRI_SEK",1000,null,"30673_D1073_cmb442_",{"$f":"VLOOKUP(B787,Import!E$1:F$20000,2,FALSE)","v":{"$error":"#N/A"}}]
[{"$f":"IF(ISBLANK(Inm_30673_D1074_cmb443_),\"\",$T$788 * Inm_30673_D1074_cmb443_)","v":""},"30673_D1074_cmb443_","Handel i sven, Lång , Inflöde","VP203'!Inm_30673_D1074_cmb443_","32211","S","L","SEK","TOT","I","M","X","H1",{"$f":"VLOOKUP('VP203'!$B$442,FlexDimensioner!$C$1:$D$430,2,FALSE)","v":"VALFRI"},"SEK",{"$f":"VLOOKUP(B788,Import!A$1:B$20000,2,FALSE)","v":{"$error":"#N/A"}},"EJ_GRANSKN",{"$f":"VLOOKUP(S788,Import!A$1:B$20000,2,FALSE)","v":{"$error":"#N/A"}},"32211_S_L_SEK_TOT_I_M_X_H1_VALFRI_SEK",1000,null,"30673_D1074_cmb443_",{"$f":"VLOOKUP(B788,Import!E$1:F$20000,2,FALSE)","v":{"$error":"#N/A"}}]
[{"$f":"IF(ISBLANK(Inm_30673_D1075_cmb444_),\"\",$T$789 * Inm_30673_D1075_cmb444_)","v":""},"30673_D1075_cmb444_","Handel i sven, Lång , Inflöde","VP203'!Inm_30673_D1075_cmb444_","32211","S","L","SEK","TOT","I","M","X","H1",{"$f":"VLOOKUP('VP203'!$B$443,FlexDimensioner!$C$1:$D$430,2,FALSE)","v":"VALFRI"},"SEK",{"$f":"VLOOKUP(B789,Import!A$1:B$20000,2,FALSE)","v":{"$error":"#N/A"}},"EJ_GRANSKN",{"$f":"VLOOKUP(S789,Import!A$1:B$20000,2,FALSE)","v":{"$error":"#N/A"}},"32211_S_L_SEK_TOT_I_M_X_H1_VALFRI_SEK",1000,null,"30673_D1075_cmb444_",{"$f":"VLOOKUP(B789,Import!E$1:F$20000,2,FALSE)","v":{"$error":"#N/A"}}]
[{"$f":"IF(ISBLANK(Inm_30673_D1076_cmb445_),\"\",$T$790 * Inm_30673_D1076_cmb445_)","v":""},"30673_D1076_cmb445_","Handel i sven, Lång , Inflöde","VP203'!Inm_30673_D1076_cmb445_","32211","S","L","SEK","TOT","I","M","X","H1",{"$f":"VLOOKUP('VP203'!$B$444,FlexDimensioner!$C$1:$D$430,2,FALSE)","v":"VALFRI"},"SEK",{"$f":"VLOOKUP(B790,Import!A$1:B$20000,2,FALSE)","v":{"$error":"#N/A"}},"EJ_GRANSKN",{"$f":"VLOOKUP(S790,Import!A$1:B$20000,2,FALSE)","v":{"$error":"#N/A"}},"32211_S_L_SEK_TOT_I_M_X_H1_VALFRI_SEK",1000,null,"30673_D1076_cmb445_",{"$f":"VLOOKUP(B790,Import!E$1:F$20000,2,FALSE)","v":{"$error":"#N/A"}}]
[{"$f":"IF(ISBLANK(Inm_30673_D1077_cmb446_),\"\",$T$791 * Inm_30673_D1077_cmb446_)","v":""},"30673_D1077_cmb446_","Handel i sven, Lång , Inflöde","VP203'!Inm_30673_D1077_cmb446_","32211","S","L","SEK","TOT","I","M","X","H1",{"$f":"VLOOKUP('VP203'!$B$445,FlexDimensioner!$C$1:$D$430,2,FALSE)","v":"VALFRI"},"SEK",{"$f":"VLOOKUP(B791,Import!A$1:B$20000,2,FALSE)","v":{"$error":"#N/A"}},"EJ_GRANSKN",{"$f":"VLOOKUP(S791,Import!A$1:B$20000,2,FALSE)","v":{"$error":"#N/A"}},"32211_S_L_SEK_TOT_I_M_X_H1_VALFRI_SEK",1000,null,"30673_D1077_cmb446_",{"$f":"VLOOKUP(B791,Import!E$1:F$20000,2,FALSE)","v":{"$error":"#N/A"}}]
[{"$f":"IF(ISBLANK(Inm_30673_D1078_cmb447_),\"\",$T$792 * Inm_30673_D1078_cmb447_)","v":""},"30673_D1078_cmb447_","Handel i sven, Lång , Inflöde","VP203'!Inm_30673_D1078_cmb447_","32211","S","L","SEK","TOT","I","M","X","H1",{"$f":"VLOOKUP('VP203'!$B$446,FlexDimensioner!$C$1:$D$430,2,FALSE)","v":"VALFRI"},"SEK",{"$f":"VLOOKUP(B792,Import!A$1:B$20000,2,FALSE)","v":{"$error":"#N/A"}},"EJ_GRANSKN",{"$f":"VLOOKUP(S792,Import!A$1:B$20000,2,FALSE)","v":{"$error":"#N/A"}},"32211_S_L_SEK_TOT_I_M_X_H1_VALFRI_SEK",1000,null,"30673_D1078_cmb447_",{"$f":"VLOOKUP(B792,Import!E$1:F$20000,2,FALSE)","v":{"$error":"#N/A"}}]
[{"$f":"IF(ISBLANK(Inm_30673_D1079_cmb448_),\"\",$T$793 * Inm_30673_D1079_cmb448_)","v":""},"30673_D1079_cmb448_","Handel i sven, Lång , Inflöde","VP203'!Inm_30673_D1079_cmb448_","32211","S","L","SEK","TOT","I","M","X","H1",{"$f":"VLOOKUP('VP203'!$B$447,FlexDimensioner!$C$1:$D$430,2,FALSE)","v":"VALFRI"},"SEK",{"$f":"VLOOKUP(B793,Import!A$1:B$20000,2,FALSE)","v":{"$error":"#N/A"}},"EJ_GRANSKN",{"$f":"VLOOKUP(S793,Import!A$1:B$20000,2,FALSE)","v":{"$error":"#N/A"}},"32211_S_L_SEK_TOT_I_M_X_H1_VALFRI_SEK",1000,null,"30673_D1079_cmb448_",{"$f":"VLOOKUP(B793,Import!E$1:F$20000,2,FALSE)","v":{"$error":"#N/A"}}]
[{"$f":"IF(ISBLANK(Inm_30673_D1080_cmb449_),\"\",$T$794 * Inm_30673_D1080_cmb449_)","v":""},"30673_D1080_cmb449_","Handel i sven, Lång , Inflöde","VP203'!Inm_30673_D1080_cmb449_","32211","S","L","SEK","TOT","I","M","X","H1",{"$f":"VLOOKUP('VP203'!$B$448,FlexDimensioner!$C$1:$D$430,2,FALSE)","v":"VALFRI"},"SEK",{"$f":"VLOOKUP(B794,Import!A$1:B$20000,2,FALSE)","v":{"$error":"#N/A"}},"EJ_GRANSKN",{"$f":"VLOOKUP(S794,Import!A$1:B$20000,2,FALSE)","v":{"$error":"#N/A"}},"32211_S_L_SEK_TOT_I_M_X_H1_VALFRI_SEK",1000,null,"30673_D1080_cmb449_",{"$f":"VLOOKUP(B794,Import!E$1:F$20000,2,FALSE)","v":{"$error":"#N/A"}}]
[{"$f":"IF(ISBLANK(Inm_30673_D1081_cmb450_),\"\",$T$795 * Inm_30673_D1081_cmb450_)","v":""},"30673_D1081_cmb450_","Handel i sven, Lång , Inflöde","VP203'!Inm_30673_D1081_cmb450_","32211","S","L","SEK","TOT","I","M","X","H1",{"$f":"VLOOKUP('VP203'!$B$449,FlexDimensioner!$C$1:$D$430,2,FALSE)","v":"VALFRI"},"SEK",{"$f":"VLOOKUP(B795,Import!A$1:B$20000,2,FALSE)","v":{"$error":"#N/A"}},"EJ_GRANSKN",{"$f":"VLOOKUP(S795,Import!A$1:B$20000,2,FALSE)","v":{"$error":"#N/A"}},"32211_S_L_SEK_TOT_I_M_X_H1_VALFRI_SEK",1000,null,"30673_D1081_cmb450_",{"$f":"VLOOKUP(B795,Import!E$1:F$20000,2,FALSE)","v":{"$error":"#N/A"}}]
[{"$f":"IF(ISBLANK(Inm_30673_D1082_cmb451_),\"\",$T$796 * Inm_30673_D1082_cmb451_)","v":""},"30673_D1082_cmb451_","Handel i sven, Lång , Inflöde","VP203'!Inm_30673_D1082_cmb451_","32211","S","L","SEK","TOT","I","M","X","H1",{"$f":"VLOOKUP('VP203'!$B$450,FlexDimensioner!$C$1:$D$430,2,FALSE)","v":"VALFRI"},"SEK",{"$f":"VLOOKUP(B796,Import!A$1:B$20000,2,FALSE)","v":{"$error":"#N/A"}},"EJ_GRANSKN",{"$f":"VLOOKUP(S796,Import!A$1:B$20000,2,FALSE)","v":{"$error":"#N/A"}},"32211_S_L_SEK_TOT_I_M_X_H1_VALFRI_SEK",1000,null,"30673_D1082_cmb451_",{"$f":"VLOOKUP(B796,Import!E$1:F$20000,2,FALSE)","v":{"$error":"#N/A"}}]
[{"$f":"IF(ISBLANK(Inm_30674_D1083_cmb366_),\"\",$T$797 * Inm_30674_D1083_cmb366_)","v":""},"30674_D1083_cmb366_","Handel i sven, Lång , Utflöde","VP203'!Inm_30674_D1083_cmb366_","32211","S","L","SEK","TOT","U","M","X","H1",{"$f":"VLOOKUP('VP203'!$B$366,FlexDimensioner!$C$1:$D$430,2,FALSE)","v":"VALFRI"},"SEK",{"$f":"VLOOKUP(B797,Import!A$1:B$20000,2,FALSE)","v":{"$error":"#N/A"}},"EJ_GRANSKN",{"$f":"VLOOKUP(S797,Import!A$1:B$20000,2,FALSE)","v":{"$error":"#N/A"}},"32211_S_L_SEK_TOT_U_M_X_H1_VALFRI_SEK",1000,null,"30674_D1083_cmb366_",{"$f":"VLOOKUP(B797,Import!E$1:F$20000,2,FALSE)","v":{"$error":"#N/A"}}]
[{"$f":"IF(ISBLANK(Inm_30674_D1084_cmb367_),\"\",$T$798 * Inm_30674_D1084_cmb367_)","v":""},"30674_D1084_cmb367_","Handel i sven, Lång , Utflöde","VP203'!Inm_30674_D1084_cmb367_","32211","S","L","SEK","TOT","U","M","X","H1",{"$f":"VLOOKUP('VP203'!$B$367,FlexDimensioner!$C$1:$D$430,2,FALSE)","v":"VALFRI"},"SEK",{"$f":"VLOOKUP(B798,Import!A$1:B$20000,2,FALSE)","v":{"$error":"#N/A"}},"EJ_GRANSKN",{"$f":"VLOOKUP(S798,Import!A$1:B$20000,2,FALSE)","v":{"$error":"#N/A"}},"32211_S_L_SEK_TOT_U_M_X_H1_VALFRI_SEK",1000,null,"30674_D1084_cmb367_",{"$f":"VLOOKUP(B798,Import!E$1:F$20000,2,FALSE)","v":{"$error":"#N/A"}}]
[{"$f":"IF(ISBLANK(Inm_30674_D1085_cmb368_),\"\",$T$799 * Inm_30674_D1085_cmb368_)","v":""},"30674_D1085_cmb368_","Handel i sven, Lång , Utflöde","VP203'!Inm_30674_D1085_cmb368_","32211","S","L","SEK","TOT","U","M","X","H1",{"$f":"VLOOKUP('VP203'!$B$368,FlexDimensioner!$C$1:$D$430,2,FALSE)","v":"VALFRI"},"SEK",{"$f":"VLOOKUP(B799,Import!A$1:B$20000,2,FALSE)","v":{"$error":"#N/A"}},"EJ_GRANSKN",{"$f":"VLOOKUP(S799,Import!A$1:B$20000,2,FALSE)","v":{"$error":"#N/A"}},"32211_S_L_SEK_TOT_U_M_X_H1_VALFRI_SEK",1000,null,"30674_D1085_cmb368_",{"$f":"VLOOKUP(B799,Import!E$1:F$20000,2,FALSE)","v":{"$error":"#N/A"}}]
[{"$f":"IF(ISBLANK(Inm_30674_D1086_cmb369_),\"\",$T$800 * Inm_30674_D1086_cmb369_)","v":""},"30674_D1086_cmb369_","Handel i sven, Lång , Utflöde","VP203'!Inm_30674_D1086_cmb369_","32211","S","L","SEK","TOT","U","M","X","H1",{"$f":"VLOOKUP('VP203'!$B$369,FlexDimensioner!$C$1:$D$430,2,FALSE)","v":"VALFRI"},"SEK",{"$f":"VLOOKUP(B800,Import!A$1:B$20000,2,FALSE)","v":{"$error":"#N/A"}},"EJ_GRANSKN",{"$f":"VLOOKUP(S800,Import!A$1:B$20000,2,FALSE)","v":{"$error":"#N/A"}},"32211_S_L_SEK_TOT_U_M_X_H1_VALFRI_SEK",1000,null,"30674_D1086_cmb369_",{"$f":"VLOOKUP(B800,Import!E$1:F$20000,2,FALSE)","v":{"$error":"#N/A"}}]
[{"$f":"IF(ISBLANK(Inm_30674_D1087_cmb370_),\"\",$T$801 * Inm_30674_D1087_cmb370_)","v":""},"30674_D1087_cmb370_","Handel i sven, Lång , Utflöde","VP203'!Inm_30674_D1087_cmb370_","32211","S","L","SEK","TOT","U","M","X","H1",{"$f":"VLOOKUP('VP203'!$B$370,FlexDimensioner!$C$1:$D$430,2,FALSE)","v":"VALFRI"},"SEK",{"$f":"VLOOKUP(B801,Import!A$1:B$20000,2,FALSE)","v":{"$error":"#N/A"}},"EJ_GRANSKN",{"$f":"VLOOKUP(S801,Import!A$1:B$20000,2,FALSE)","v":{"$error":"#N/A"}},"32211_S_L_SEK_TOT_U_M_X_H1_VALFRI_SEK",1000,null,"30674_D1087_cmb370_",{"$f":"VLOOKUP(B801,Import!E$1:F$20000,2,FALSE)","v":{"$error":"#N/A"}}]
[{"$f":"IF(ISBLANK(Inm_30674_D1088_cmb371_),\"\",$T$802 * Inm_30674_D1088_cmb371_)","v":""},"30674_D1088_cmb371_","Handel i sven, Lång , Utflöde","VP203'!Inm_30674_D1088_cmb371_","32211","S","L","SEK","TOT","U","M","X","H1",{"$f":"VLOOKUP('VP203'!$B$371,FlexDimensioner!$C$1:$D$430,2,FALSE)","v":"VALFRI"},"SEK",{"$f":"VLOOKUP(B802,Import!A$1:B$20000,2,FALSE)","v":{"$error":"#N/A"}},"EJ_GRANSKN",{"$f":"VLOOKUP(S802,Import!A$1:B$20000,2,FALSE)","v":{"$error":"#N/A"}},"32211_S_L_SEK_TOT_U_M_X_H1_VALFRI_SEK",1000,null,"30674_D1088_cmb371_",{"$f":"VLOOKUP(B802,Import!E$1:F$20000,2,FALSE)","v":{"$error":"#N/A"}}]
[{"$f":"IF(ISBLANK(Inm_30674_D1089_cmb372_),\"\",$T$803 * Inm_30674_D1089_cmb372_)","v":""},"30674_D1089_cmb372_","Handel i sven, Lång , Utflöde","VP203'!Inm_30674_D1089_cmb372_","32211","S","L","SEK","TOT","U","M","X","H1",{"$f":"VLOOKUP('VP203'!$B$372,FlexDimensioner!$C$1:$D$430,2,FALSE)","v":"VALFRI"},"SEK",{"$f":"VLOOKUP(B803,Import!A$1:B$20000,2,FALSE)","v":{"$error":"#N/A"}},"EJ_GRANSKN",{"$f":"VLOOKUP(S803,Import!A$1:B$20000,2,FALSE)","v":{"$error":"#N/A"}},"32211_S_L_SEK_TOT_U_M_X_H1_VALFRI_SEK",1000,null,"30674_D1089_cmb372_",{"$f":"VLOOKUP(B803,Import!E$1:F$20000,2,FALSE)","v":{"$error":"#N/A"}}]
[{"$f":"IF(ISBLANK(Inm_30674_D1090_cmb373_),\"\",$T$804 * Inm_30674_D1090_cmb373_)","v":""},"30674_D1090_cmb373_","Handel i sven, Lång , Utflöde","VP203'!Inm_30674_D1090_cmb373_","32211","S","L","SEK","TOT","U","M","X","H1",{"$f":"VLOOKUP('VP203'!$B$373,FlexDimensioner!$C$1:$D$430,2,FALSE)","v":"VALFRI"},"SEK",{"$f":"VLOOKUP(B804,Import!A$1:B$20000,2,FALSE)","v":{"$error":"#N/A"}},"EJ_GRANSKN",{"$f":"VLOOKUP(S804,Import!A$1:B$20000,2,FALSE)","v":{"$error":"#N/A"}},"32211_S_L_SEK_TOT_U_M_X_H1_VALFRI_SEK",1000,null,"30674_D1090_cmb373_",{"$f":"VLOOKUP(B804,Import!E$1:F$20000,2,FALSE)","v":{"$error":"#N/A"}}]
[{"$f":"IF(ISBLANK(Inm_30674_D1091_cmb374_),\"\",$T$805 * Inm_30674_D1091_cmb374_)","v":""},"30674_D1091_cmb374_","Handel i sven, Lång , Utflöde","VP203'!Inm_30674_D1091_cmb374_","32211","S","L","SEK","TOT","U","M","X","H1",{"$f":"VLOOKUP('VP203'!$B$374,FlexDimensioner!$C$1:$D$430,2,FALSE)","v":"VALFRI"},"SEK",{"$f":"VLOOKUP(B805,Import!A$1:B$20000,2,FALSE)","v":{"$error":"#N/A"}},"EJ_GRANSKN",{"$f":"VLOOKUP(S805,Import!A$1:B$20000,2,FALSE)","v":{"$error":"#N/A"}},"32211_S_L_SEK_TOT_U_M_X_H1_VALFRI_SEK",1000,null,"30674_D1091_cmb374_",{"$f":"VLOOKUP(B805,Import!E$1:F$20000,2,FALSE)","v":{"$error":"#N/A"}}]
[{"$f":"IF(ISBLANK(Inm_30674_D1092_cmb375_),\"\",$T$806 * Inm_30674_D1092_cmb375_)","v":""},"30674_D1092_cmb375_","Handel i sven, Lång , Utflöde","VP203'!Inm_30674_D1092_cmb375_","32211","S","L","SEK","TOT","U","M","X","H1",{"$f":"VLOOKUP('VP203'!$B$375,FlexDimensioner!$C$1:$D$430,2,FALSE)","v":"VALFRI"},"SEK",{"$f":"VLOOKUP(B806,Import!A$1:B$20000,2,FALSE)","v":{"$error":"#N/A"}},"EJ_GRANSKN",{"$f":"VLOOKUP(S806,Import!A$1:B$20000,2,FALSE)","v":{"$error":"#N/A"}},"32211_S_L_SEK_TOT_U_M_X_H1_VALFRI_SEK",1000,null,"30674_D1092_cmb375_",{"$f":"VLOOKUP(B806,Import!E$1:F$20000,2,FALSE)","v":{"$error":"#N/A"}}]
[{"$f":"IF(ISBLANK(Inm_30674_D1093_cmb376_),\"\",$T$807 * Inm_30674_D1093_cmb376_)","v":""},"30674_D1093_cmb376_","Handel i sven, Lång , Utflöde","VP203'!Inm_30674_D1093_cmb376_","32211","S","L","SEK","TOT","U","M","X","H1",{"$f":"VLOOKUP('VP203'!$B$376,FlexDimensioner!$C$1:$D$430,2,FALSE)","v":"VALFRI"},"SEK",{"$f":"VLOOKUP(B807,Import!A$1:B$20000,2,FALSE)","v":{"$error":"#N/A"}},"EJ_GRANSKN",{"$f":"VLOOKUP(S807,Import!A$1:B$20000,2,FALSE)","v":{"$error":"#N/A"}},"32211_S_L_SEK_TOT_U_M_X_H1_VALFRI_SEK",1000,null,"30674_D1093_cmb376_",{"$f":"VLOOKUP(B807,Import!E$1:F$20000,2,FALSE)","v":{"$error":"#N/A"}}]
[{"$f":"IF(ISBLANK(Inm_30674_D1094_cmb377_),\"\",$T$808 * Inm_30674_D1094_cmb377_)","v":""},"30674_D1094_cmb377_","Handel i sven, Lång , Utflöde","VP203'!Inm_30674_D1094_cmb377_","32211","S","L","SEK","TOT","U","M","X","H1",{"$f":"VLOOKUP('VP203'!$B$377,FlexDimensioner!$C$1:$D$430,2,FALSE)","v":"VALFRI"},"SEK",{"$f":"VLOOKUP(B808,Import!A$1:B$20000,2,FALSE)","v":{"$error":"#N/A"}},"EJ_GRANSKN",{"$f":"VLOOKUP(S808,Import!A$1:B$20000,2,FALSE)","v":{"$error":"#N/A"}},"32211_S_L_SEK_TOT_U_M_X_H1_VALFRI_SEK",1000,null,"30674_D1094_cmb377_",{"$f":"VLOOKUP(B808,Import!E$1:F$20000,2,FALSE)","v":{"$error":"#N/A"}}]
[{"$f":"IF(ISBLANK(Inm_30674_D1095_cmb378_),\"\",$T$809 * Inm_30674_D1095_cmb378_)","v":""},"30674_D1095_cmb378_","Handel i sven, Lång , Utflöde","VP203'!Inm_30674_D1095_cmb378_","32211","S","L","SEK","TOT","U","M","X","H1",{"$f":"VLOOKUP('VP203'!$B$378,FlexDimensioner!$C$1:$D$430,2,FALSE)","v":"VALFRI"},"SEK",{"$f":"VLOOKUP(B809,Import!A$1:B$20000,2,FALSE)","v":{"$error":"#N/A"}},"EJ_GRANSKN",{"$f":"VLOOKUP(S809,Import!A$1:B$20000,2,FALSE)","v":{"$error":"#N/A"}},"32211_S_L_SEK_TOT_U_M_X_H1_VALFRI_SEK",1000,null,"30674_D1095_cmb378_",{"$f":"VLOOKUP(B809,Import!E$1:F$20000,2,FALSE)","v":{"$error":"#N/A"}}]
[{"$f":"IF(ISBLANK(Inm_30674_D1096_cmb379_),\"\",$T$810 * Inm_30674_D1096_cmb379_)","v":""},"30674_D1096_cmb379_","Handel i sven, Lång , Utflöde","VP203'!Inm_30674_D1096_cmb379_","32211","S","L","SEK","TOT","U","M","X","H1",{"$f":"VLOOKUP('VP203'!$B$379,FlexDimensioner!$C$1:$D$430,2,FALSE)","v":"VALFRI"},"SEK",{"$f":"VLOOKUP(B810,Import!A$1:B$20000,2,FALSE)","v":{"$error":"#N/A"}},"EJ_GRANSKN",{"$f":"VLOOKUP(S810,Import!A$1:B$20000,2,FALSE)","v":{"$error":"#N/A"}},"32211_S_L_SEK_TOT_U_M_X_H1_VALFRI_SEK",1000,null,"30674_D1096_cmb379_",{"$f":"VLOOKUP(B810,Import!E$1:F$20000,2,FALSE)","v":{"$error":"#N/A"}}]
[{"$f":"IF(ISBLANK(Inm_30674_D1097_cmb380_),\"\",$T$811 * Inm_30674_D1097_cmb380_)","v":""},"30674_D1097_cmb380_","Handel i sven, Lång , Utflöde","VP203'!Inm_30674_D1097_cmb380_","32211","S","L","SEK","TOT","U","M","X","H1",{"$f":"VLOOKUP('VP203'!$B$380,FlexDimensioner!$C$1:$D$430,2,FALSE)","v":"VALFRI"},"SEK",{"$f":"VLOOKUP(B811,Import!A$1:B$20000,2,FALSE)","v":{"$error":"#N/A"}},"EJ_GRANSKN",{"$f":"VLOOKUP(S811,Import!A$1:B$20000,2,FALSE)","v":{"$error":"#N/A"}},"32211_S_L_SEK_TOT_U_M_X_H1_VALFRI_SEK",1000,null,"30674_D1097_cmb380_",{"$f":"VLOOKUP(B811,Import!E$1:F$20000,2,FALSE)","v":{"$error":"#N/A"}}]
[{"$f":"IF(ISBLANK(Inm_30674_D1098_cmb381_),\"\",$T$812 * Inm_30674_D1098_cmb381_)","v":""},"30674_D1098_cmb381_","Handel i sven, Lång , Utflöde","VP203'!Inm_30674_D1098_cmb381_","32211","S","L","SEK","TOT","U","M","X","H1",{"$f":"VLOOKUP('VP203'!$B$381,FlexDimensioner!$C$1:$D$430,2,FALSE)","v":"VALFRI"},"SEK",{"$f":"VLOOKUP(B812,Import!A$1:B$20000,2,FALSE)","v":{"$error":"#N/A"}},"EJ_GRANSKN",{"$f":"VLOOKUP(S812,Import!A$1:B$20000,2,FALSE)","v":{"$error":"#N/A"}},"32211_S_L_SEK_TOT_U_M_X_H1_VALFRI_SEK",1000,null,"30674_D1098_cmb381_",{"$f":"VLOOKUP(B812,Import!E$1:F$20000,2,FALSE)","v":{"$error":"#N/A"}}]
[{"$f":"IF(ISBLANK(Inm_30674_D1099_cmb382_),\"\",$T$813 * Inm_30674_D1099_cmb382_)","v":""},"30674_D1099_cmb382_","Handel i sven, Lång , Utflöde","VP203'!Inm_30674_D1099_cmb382_","32211","S","L","SEK","TOT","U","M","X","H1",{"$f":"VLOOKUP('VP203'!$B$382,FlexDimensioner!$C$1:$D$430,2,FALSE)","v":"VALFRI"},"SEK",{"$f":"VLOOKUP(B813,Import!A$1:B$20000,2,FALSE)","v":{"$error":"#N/A"}},"EJ_GRANSKN",{"$f":"VLOOKUP(S813,Import!A$1:B$20000,2,FALSE)","v":{"$error":"#N/A"}},"32211_S_L_SEK_TOT_U_M_X_H1_VALFRI_SEK",1000,null,"30674_D1099_cmb382_",{"$f":"VLOOKUP(B813,Import!E$1:F$20000,2,FALSE)","v":{"$error":"#N/A"}}]
[{"$f":"IF(ISBLANK(Inm_30674_D1100_cmb383_),\"\",$T$814 * Inm_30674_D1100_cmb383_)","v":""},"30674_D1100_cmb383_","Handel i sven, Lång , Utflöde","VP203'!Inm_30674_D1100_cmb383_","32211","S","L","SEK","TOT","U","M","X","H1",{"$f":"VLOOKUP('VP203'!$B$383,FlexDimensioner!$C$1:$D$430,2,FALSE)","v":"VALFRI"},"SEK",{"$f":"VLOOKUP(B814,Import!A$1:B$20000,2,FALSE)","v":{"$error":"#N/A"}},"EJ_GRANSKN",{"$f":"VLOOKUP(S814,Import!A$1:B$20000,2,FALSE)","v":{"$error":"#N/A"}},"32211_S_L_SEK_TOT_U_M_X_H1_VALFRI_SEK",1000,null,"30674_D1100_cmb383_",{"$f":"VLOOKUP(B814,Import!E$1:F$20000,2,FALSE)","v":{"$error":"#N/A"}}]
[{"$f":"IF(ISBLANK(Inm_30674_D1101_cmb384_),\"\",$T$815 * Inm_30674_D1101_cmb384_)","v":""},"30674_D1101_cmb384_","Handel i sven, Lång , Utflöde","VP203'!Inm_30674_D1101_cmb384_","32211","S","L","SEK","TOT","U","M","X","H1",{"$f":"VLOOKUP('VP203'!$B$384,FlexDimensioner!$C$1:$D$430,2,FALSE)","v":"VALFRI"},"SEK",{"$f":"VLOOKUP(B815,Import!A$1:B$20000,2,FALSE)","v":{"$error":"#N/A"}},"EJ_GRANSKN",{"$f":"VLOOKUP(S815,Import!A$1:B$20000,2,FALSE)","v":{"$error":"#N/A"}},"32211_S_L_SEK_TOT_U_M_X_H1_VALFRI_SEK",1000,null,"30674_D1101_cmb384_",{"$f":"VLOOKUP(B815,Import!E$1:F$20000,2,FALSE)","v":{"$error":"#N/A"}}]
[{"$f":"IF(ISBLANK(Inm_30674_D1102_cmb385_),\"\",$T$816 * Inm_30674_D1102_cmb385_)","v":""},"30674_D1102_cmb385_","Handel i sven, Lång , Utflöde","VP203'!Inm_30674_D1102_cmb385_","32211","S","L","SEK","TOT","U","M","X","H1",{"$f":"VLOOKUP('VP203'!$B$385,FlexDimensioner!$C$1:$D$430,2,FALSE)","v":"VALFRI"},"SEK",{"$f":"VLOOKUP(B816,Import!A$1:B$20000,2,FALSE)","v":{"$error":"#N/A"}},"EJ_GRANSKN",{"$f":"VLOOKUP(S816,Import!A$1:B$20000,2,FALSE)","v":{"$error":"#N/A"}},"32211_S_L_SEK_TOT_U_M_X_H1_VALFRI_SEK",1000,null,"30674_D1102_cmb385_",{"$f":"VLOOKUP(B816,Import!E$1:F$20000,2,FALSE)","v":{"$error":"#N/A"}}]
[{"$f":"IF(ISBLANK(Inm_30674_D1103_cmb386_),\"\",$T$817 * Inm_30674_D1103_cmb386_)","v":""},"30674_D1103_cmb386_","Handel i sven, Lång , Utflöde","VP203'!Inm_30674_D1103_cmb386_","32211","S","L","SEK","TOT","U","M","X","H1",{"$f":"VLOOKUP('VP203'!$B$386,FlexDimensioner!$C$1:$D$430,2,FALSE)","v":"VALFRI"},"SEK",{"$f":"VLOOKUP(B817,Import!A$1:B$20000,2,FALSE)","v":{"$error":"#N/A"}},"EJ_GRANSKN",{"$f":"VLOOKUP(S817,Import!A$1:B$20000,2,FALSE)","v":{"$error":"#N/A"}},"32211_S_L_SEK_TOT_U_M_X_H1_VALFRI_SEK",1000,null,"30674_D1103_cmb386_",{"$f":"VLOOKUP(B817,Import!E$1:F$20000,2,FALSE)","v":{"$error":"#N/A"}}]
[{"$f":"IF(ISBLANK(Inm_30674_D1104_cmb387_),\"\",$T$818 * Inm_30674_D1104_cmb387_)","v":""},"30674_D1104_cmb387_","Handel i sven, Lång , Utflöde","VP203'!Inm_30674_D1104_cmb387_","32211","S","L","SEK","TOT","U","M","X","H1",{"$f":"VLOOKUP('VP203'!$B$387,FlexDimensioner!$C$1:$D$430,2,FALSE)","v":"VALFRI"},"SEK",{"$f":"VLOOKUP(B818,Import!A$1:B$20000,2,FALSE)","v":{"$error":"#N/A"}},"EJ_GRANSKN",{"$f":"VLOOKUP(S818,Import!A$1:B$20000,2,FALSE)","v":{"$error":"#N/A"}},"32211_S_L_SEK_TOT_U_M_X_H1_VALFRI_SEK",1000,null,"30674_D1104_cmb387_",{"$f":"VLOOKUP(B818,Import!E$1:F$20000,2,FALSE)","v":{"$error":"#N/A"}}]
[{"$f":"IF(ISBLANK(Inm_30674_D1105_cmb388_),\"\",$T$819 * Inm_30674_D1105_cmb388_)","v":""},"30674_D1105_cmb388_","Handel i sven, Lång , Utflöde","VP203'!Inm_30674_D1105_cmb388_","32211","S","L","SEK","TOT","U","M","X","H1",{"$f":"VLOOKUP('VP203'!$B$388,FlexDimensioner!$C$1:$D$430,2,FALSE)","v":"VALFRI"},"SEK",{"$f":"VLOOKUP(B819,Import!A$1:B$20000,2,FALSE)","v":{"$error":"#N/A"}},"EJ_GRANSKN",{"$f":"VLOOKUP(S819,Import!A$1:B$20000,2,FALSE)","v":{"$error":"#N/A"}},"32211_S_L_SEK_TOT_U_M_X_H1_VALFRI_SEK",1000,null,"30674_D1105_cmb388_",{"$f":"VLOOKUP(B819,Import!E$1:F$20000,2,FALSE)","v":{"$error":"#N/A"}}]
[{"$f":"IF(ISBLANK(Inm_30674_D1106_cmb389_),\"\",$T$820 * Inm_30674_D1106_cmb389_)","v":""},"30674_D1106_cmb389_","Handel i sven, Lång , Utflöde","VP203'!Inm_30674_D1106_cmb389_","32211","S","L","SEK","TOT","U","M","X","H1",{"$f":"VLOOKUP('VP203'!$B$389,FlexDimensioner!$C$1:$D$430,2,FALSE)","v":"VALFRI"},"SEK",{"$f":"VLOOKUP(B820,Import!A$1:B$20000,2,FALSE)","v":{"$error":"#N/A"}},"EJ_GRANSKN",{"$f":"VLOOKUP(S820,Import!A$1:B$20000,2,FALSE)","v":{"$error":"#N/A"}},{"$f":"CONCATENATE(E820,\"_\",F820,\"_\",G820,\"_\",H820,\"_\",I820,\"_\",J820,\"_\",K820,\"_\",L820,\"_\",M820,\"_\",N820,\"_\",O820)","v":"32211_S_L_SEK_TOT_U_M_X_H1_VALFRI_SEK"},1000,null,"30674_D1106_cmb389_",{"$f":"VLOOKUP(B820,Import!E$1:F$20000,2,FALSE)","v":{"$error":"#N/A"}}]
[{"$f":"IF(ISBLANK(Inm_30674_D1107_cmb390_),\"\",$T$821 * Inm_30674_D1107_cmb390_)","v":""},"30674_D1107_cmb390_","Handel i sven, Lång , Utflöde","VP203'!Inm_30674_D1107_cmb390_","32211","S","L","SEK","TOT","U","M","X","H1",{"$f":"VLOOKUP('VP203'!$B$390,FlexDimensioner!$C$1:$D$430,2,FALSE)","v":"VALFRI"},"SEK",{"$f":"VLOOKUP(B821,Import!A$1:B$20000,2,FALSE)","v":{"$error":"#N/A"}},"EJ_GRANSKN",{"$f":"VLOOKUP(S821,Import!A$1:B$20000,2,FALSE)","v":{"$error":"#N/A"}},"32211_S_L_SEK_TOT_U_M_X_H1_VALFRI_SEK",1000,null,"30674_D1107_cmb390_",{"$f":"VLOOKUP(B821,Import!E$1:F$20000,2,FALSE)","v":{"$error":"#N/A"}}]
[{"$f":"IF(ISBLANK(Inm_30674_D1108_cmb391_),\"\",$T$822 * Inm_30674_D1108_cmb391_)","v":""},"30674_D1108_cmb391_","Handel i sven, Lång , Utflöde","VP203'!Inm_30674_D1108_cmb391_","32211","S","L","SEK","TOT","U","M","X","H1",{"$f":"VLOOKUP('VP203'!$B$391,FlexDimensioner!$C$1:$D$430,2,FALSE)","v":"VALFRI"},"SEK",{"$f":"VLOOKUP(B822,Import!A$1:B$20000,2,FALSE)","v":{"$error":"#N/A"}},"EJ_GRANSKN",{"$f":"VLOOKUP(S822,Import!A$1:B$20000,2,FALSE)","v":{"$error":"#N/A"}},"32211_S_L_SEK_TOT_U_M_X_H1_VALFRI_SEK",1000,null,"30674_D1108_cmb391_",{"$f":"VLOOKUP(B822,Import!E$1:F$20000,2,FALSE)","v":{"$error":"#N/A"}}]
[{"$f":"IF(ISBLANK(Inm_30674_D1109_cmb392_),\"\",$T$823 * Inm_30674_D1109_cmb392_)","v":""},"30674_D1109_cmb392_","Handel i sven, Lång , Utflöde","VP203'!Inm_30674_D1109_cmb392_","32211","S","L","SEK","TOT","U","M","X","H1",{"$f":"VLOOKUP('VP203'!$B$392,FlexDimensioner!$C$1:$D$430,2,FALSE)","v":"VALFRI"},"SEK",{"$f":"VLOOKUP(B823,Import!A$1:B$20000,2,FALSE)","v":{"$error":"#N/A"}},"EJ_GRANSKN",{"$f":"VLOOKUP(S823,Import!A$1:B$20000,2,FALSE)","v":{"$error":"#N/A"}},"32211_S_L_SEK_TOT_U_M_X_H1_VALFRI_SEK",1000,null,"30674_D1109_cmb392_",{"$f":"VLOOKUP(B823,Import!E$1:F$20000,2,FALSE)","v":{"$error":"#N/A"}}]
[{"$f":"IF(ISBLANK(Inm_30674_D1110_cmb393_),\"\",$T$824 * Inm_30674_D1110_cmb393_)","v":""},"30674_D1110_cmb393_","Handel i sven, Lång , Utflöde","VP203'!Inm_30674_D1110_cmb393_","32211","S","L","SEK","TOT","U","M","X","H1",{"$f":"VLOOKUP('VP203'!$B$393,FlexDimensioner!$C$1:$D$430,2,FALSE)","v":"VALFRI"},"SEK",{"$f":"VLOOKUP(B824,Import!A$1:B$20000,2,FALSE)","v":{"$error":"#N/A"}},"EJ_GRANSKN",{"$f":"VLOOKUP(S824,Import!A$1:B$20000,2,FALSE)","v":{"$error":"#N/A"}},"32211_S_L_SEK_TOT_U_M_X_H1_VALFRI_SEK",1000,null,"30674_D1110_cmb393_",{"$f":"VLOOKUP(B824,Import!E$1:F$20000,2,FALSE)","v":{"$error":"#N/A"}}]
[{"$f":"IF(ISBLANK(Inm_30674_D1111_cmb394_),\"\",$T$825 * Inm_30674_D1111_cmb394_)","v":""},"30674_D1111_cmb394_","Handel i sven, Lång , Utflöde","VP203'!Inm_30674_D1111_cmb394_","32211","S","L","SEK","TOT","U","M","X","H1",{"$f":"VLOOKUP('VP203'!$B$394,FlexDimensioner!$C$1:$D$430,2,FALSE)","v":"VALFRI"},"SEK",{"$f":"VLOOKUP(B825,Import!A$1:B$20000,2,FALSE)","v":{"$error":"#N/A"}},"EJ_GRANSKN",{"$f":"VLOOKUP(S825,Import!A$1:B$20000,2,FALSE)","v":{"$error":"#N/A"}},"32211_S_L_SEK_TOT_U_M_X_H1_VALFRI_SEK",1000,null,"30674_D1111_cmb394_",{"$f":"VLOOKUP(B825,Import!E$1:F$20000,2,FALSE)","v":{"$error":"#N/A"}}]
[{"$f":"IF(ISBLANK(Inm_30674_D1112_cmb395_),\"\",$T$826 * Inm_30674_D1112_cmb395_)","v":""},"30674_D1112_cmb395_","Handel i sven, Lång , Utflöde","VP203'!Inm_30674_D1112_cmb395_","32211","S","L","SEK","TOT","U","M","X","H1",{"$f":"VLOOKUP('VP203'!$B$395,FlexDimensioner!$C$1:$D$430,2,FALSE)","v":"VALFRI"},"SEK",{"$f":"VLOOKUP(B826,Import!A$1:B$20000,2,FALSE)","v":{"$error":"#N/A"}},"EJ_GRANSKN",{"$f":"VLOOKUP(S826,Import!A$1:B$20000,2,FALSE)","v":{"$error":"#N/A"}},"32211_S_L_SEK_TOT_U_M_X_H1_VALFRI_SEK",1000,null,"30674_D1112_cmb395_",{"$f":"VLOOKUP(B826,Import!E$1:F$20000,2,FALSE)","v":{"$error":"#N/A"}}]
[{"$f":"IF(ISBLANK(Inm_30674_D1113_cmb396_),\"\",$T$827 * Inm_30674_D1113_cmb396_)","v":""},"30674_D1113_cmb396_","Handel i sven, Lång , Utflöde","VP203'!Inm_30674_D1113_cmb396_","32211","S","L","SEK","TOT","U","M","X","H1",{"$f":"VLOOKUP('VP203'!$B$396,FlexDimensioner!$C$1:$D$430,2,FALSE)","v":"VALFRI"},"SEK",{"$f":"VLOOKUP(B827,Import!A$1:B$20000,2,FALSE)","v":{"$error":"#N/A"}},"EJ_GRANSKN",{"$f":"VLOOKUP(S827,Import!A$1:B$20000,2,FALSE)","v":{"$error":"#N/A"}},"32211_S_L_SEK_TOT_U_M_X_H1_VALFRI_SEK",1000,null,"30674_D1113_cmb396_",{"$f":"VLOOKUP(B827,Import!E$1:F$20000,2,FALSE)","v":{"$error":"#N/A"}}]
[{"$f":"IF(ISBLANK(Inm_30674_D1114_cmb397_),\"\",$T$828 * Inm_30674_D1114_cmb397_)","v":""},"30674_D1114_cmb397_","Handel i sven, Lång , Utflöde","VP203'!Inm_30674_D1114_cmb397_","32211","S","L","SEK","TOT","U","M","X","H1",{"$f":"VLOOKUP('VP203'!$B$397,FlexDimensioner!$C$1:$D$430,2,FALSE)","v":"VALFRI"},"SEK",{"$f":"VLOOKUP(B828,Import!A$1:B$20000,2,FALSE)","v":{"$error":"#N/A"}},"EJ_GRANSKN",{"$f":"VLOOKUP(S828,Import!A$1:B$20000,2,FALSE)","v":{"$error":"#N/A"}},"32211_S_L_SEK_TOT_U_M_X_H1_VALFRI_SEK",1000,null,"30674_D1114_cmb397_",{"$f":"VLOOKUP(B828,Import!E$1:F$20000,2,FALSE)","v":{"$error":"#N/A"}}]
[{"$f":"IF(ISBLANK(Inm_30674_D1115_cmb398_),\"\",$T$829 * Inm_30674_D1115_cmb398_)","v":""},"30674_D1115_cmb398_","Handel i sven, Lång , Utflöde","VP203'!Inm_30674_D1115_cmb398_","32211","S","L","SEK","TOT","U","M","X","H1",{"$f":"VLOOKUP('VP203'!$B$398,FlexDimensioner!$C$1:$D$430,2,FALSE)","v":"VALFRI"},"SEK",{"$f":"VLOOKUP(B829,Import!A$1:B$20000,2,FALSE)","v":{"$error":"#N/A"}},"EJ_GRANSKN",{"$f":"VLOOKUP(S829,Import!A$1:B$20000,2,FALSE)","v":{"$error":"#N/A"}},"32211_S_L_SEK_TOT_U_M_X_H1_VALFRI_SEK",1000,null,"30674_D1115_cmb398_",{"$f":"VLOOKUP(B829,Import!E$1:F$20000,2,FALSE)","v":{"$error":"#N/A"}}]
[{"$f":"IF(ISBLANK(Inm_30674_D1116_cmb400_),\"\",$T$830 * Inm_30674_D1116_cmb400_)","v":""},"30674_D1116_cmb400_","Handel i sven, Lång , Utflöde","VP203'!Inm_30674_D1116_cmb400_","32211","S","L","SEK","TOT","U","M","X","H1",{"$f":"VLOOKUP('VP203'!$B$399,FlexDimensioner!$C$1:$D$430,2,FALSE)","v":"VALFRI"},"SEK",{"$f":"VLOOKUP(B830,Import!A$1:B$20000,2,FALSE)","v":{"$error":"#N/A"}},"EJ_GRANSKN",{"$f":"VLOOKUP(S830,Import!A$1:B$20000,2,FALSE)","v":{"$error":"#N/A"}},"32211_S_L_SEK_TOT_U_M_X_H1_VALFRI_SEK",1000,null,"30674_D1116_cmb400_",{"$f":"VLOOKUP(B830,Import!E$1:F$20000,2,FALSE)","v":{"$error":"#N/A"}}]
[{"$f":"IF(ISBLANK(Inm_30674_D1117_cmb401_),\"\",$T$831 * Inm_30674_D1117_cmb401_)","v":""},"30674_D1117_cmb401_","Handel i sven, Lång , Utflöde","VP203'!Inm_30674_D1117_cmb401_","32211","S","L","SEK","TOT","U","M","X","H1",{"$f":"VLOOKUP('VP203'!$B$400,FlexDimensioner!$C$1:$D$430,2,FALSE)","v":"VALFRI"},"SEK",{"$f":"VLOOKUP(B831,Import!A$1:B$20000,2,FALSE)","v":{"$error":"#N/A"}},"EJ_GRANSKN",{"$f":"VLOOKUP(S831,Import!A$1:B$20000,2,FALSE)","v":{"$error":"#N/A"}},"32211_S_L_SEK_TOT_U_M_X_H1_VALFRI_SEK",1000,null,"30674_D1117_cmb401_",{"$f":"VLOOKUP(B831,Import!E$1:F$20000,2,FALSE)","v":{"$error":"#N/A"}}]
[{"$f":"IF(ISBLANK(Inm_30674_D1118_cmb402_),\"\",$T$832 * Inm_30674_D1118_cmb402_)","v":""},"30674_D1118_cmb402_","Handel i sven, Lång , Utflöde","VP203'!Inm_30674_D1118_cmb402_","32211","S","L","SEK","TOT","U","M","X","H1",{"$f":"VLOOKUP('VP203'!$B$401,FlexDimensioner!$C$1:$D$430,2,FALSE)","v":"VALFRI"},"SEK",{"$f":"VLOOKUP(B832,Import!A$1:B$20000,2,FALSE)","v":{"$error":"#N/A"}},"EJ_GRANSKN",{"$f":"VLOOKUP(S832,Import!A$1:B$20000,2,FALSE)","v":{"$error":"#N/A"}},"32211_S_L_SEK_TOT_U_M_X_H1_VALFRI_SEK",1000,null,"30674_D1118_cmb402_",{"$f":"VLOOKUP(B832,Import!E$1:F$20000,2,FALSE)","v":{"$error":"#N/A"}}]
[{"$f":"IF(ISBLANK(Inm_30674_D1119_cmb403_),\"\",$T$833 * Inm_30674_D1119_cmb403_)","v":""},"30674_D1119_cmb403_","Handel i sven, Lång , Utflöde","VP203'!Inm_30674_D1119_cmb403_","32211","S","L","SEK","TOT","U","M","X","H1",{"$f":"VLOOKUP('VP203'!$B$402,FlexDimensioner!$C$1:$D$430,2,FALSE)","v":"VALFRI"},"SEK",{"$f":"VLOOKUP(B833,Import!A$1:B$20000,2,FALSE)","v":{"$error":"#N/A"}},"EJ_GRANSKN",{"$f":"VLOOKUP(S833,Import!A$1:B$20000,2,FALSE)","v":{"$error":"#N/A"}},"32211_S_L_SEK_TOT_U_M_X_H1_VALFRI_SEK",1000,null,"30674_D1119_cmb403_",{"$f":"VLOOKUP(B833,Import!E$1:F$20000,2,FALSE)","v":{"$error":"#N/A"}}]
[{"$f":"IF(ISBLANK(Inm_30674_D1120_cmb404_),\"\",$T$834 * Inm_30674_D1120_cmb404_)","v":""},"30674_D1120_cmb404_","Handel i sven, Lång , Utflöde","VP203'!Inm_30674_D1120_cmb404_","32211","S","L","SEK","TOT","U","M","X","H1",{"$f":"VLOOKUP('VP203'!$B$403,FlexDimensioner!$C$1:$D$430,2,FALSE)","v":"VALFRI"},"SEK",{"$f":"VLOOKUP(B834,Import!A$1:B$20000,2,FALSE)","v":{"$error":"#N/A"}},"EJ_GRANSKN",{"$f":"VLOOKUP(S834,Import!A$1:B$20000,2,FALSE)","v":{"$error":"#N/A"}},"32211_S_L_SEK_TOT_U_M_X_H1_VALFRI_SEK",1000,null,"30674_D1120_cmb404_",{"$f":"VLOOKUP(B834,Import!E$1:F$20000,2,FALSE)","v":{"$error":"#N/A"}}]
[{"$f":"IF(ISBLANK(Inm_30674_D1121_cmb405_),\"\",$T$835 * Inm_30674_D1121_cmb405_)","v":""},"30674_D1121_cmb405_","Handel i sven, Lång , Utflöde","VP203'!Inm_30674_D1121_cmb405_","32211","S","L","SEK","TOT","U","M","X","H1",{"$f":"VLOOKUP('VP203'!$B$404,FlexDimensioner!$C$1:$D$430,2,FALSE)","v":"VALFRI"},"SEK",{"$f":"VLOOKUP(B835,Import!A$1:B$20000,2,FALSE)","v":{"$error":"#N/A"}},"EJ_GRANSKN",{"$f":"VLOOKUP(S835,Import!A$1:B$20000,2,FALSE)","v":{"$error":"#N/A"}},"32211_S_L_SEK_TOT_U_M_X_H1_VALFRI_SEK",1000,null,"30674_D1121_cmb405_",{"$f":"VLOOKUP(B835,Import!E$1:F$20000,2,FALSE)","v":{"$error":"#N/A"}}]
[{"$f":"IF(ISBLANK(Inm_30674_D1122_cmb406_),\"\",$T$836 * Inm_30674_D1122_cmb406_)","v":""},"30674_D1122_cmb406_","Handel i sven, Lång , Utflöde","VP203'!Inm_30674_D1122_cmb406_","32211","S","L","SEK","TOT","U","M","X","H1",{"$f":"VLOOKUP('VP203'!$B$405,FlexDimensioner!$C$1:$D$430,2,FALSE)","v":"VALFRI"},"SEK",{"$f":"VLOOKUP(B836,Import!A$1:B$20000,2,FALSE)","v":{"$error":"#N/A"}},"EJ_GRANSKN",{"$f":"VLOOKUP(S836,Import!A$1:B$20000,2,FALSE)","v":{"$error":"#N/A"}},"32211_S_L_SEK_TOT_U_M_X_H1_VALFRI_SEK",1000,null,"30674_D1122_cmb406_",{"$f":"VLOOKUP(B836,Import!E$1:F$20000,2,FALSE)","v":{"$error":"#N/A"}}]
[{"$f":"IF(ISBLANK(Inm_30674_D1123_cmb407_),\"\",$T$837 * Inm_30674_D1123_cmb407_)","v":""},"30674_D1123_cmb407_","Handel i sven, Lång , Utflöde","VP203'!Inm_30674_D1123_cmb407_","32211","S","L","SEK","TOT","U","M","X","H1",{"$f":"VLOOKUP('VP203'!$B$406,FlexDimensioner!$C$1:$D$430,2,FALSE)","v":"VALFRI"},"SEK",{"$f":"VLOOKUP(B837,Import!A$1:B$20000,2,FALSE)","v":{"$error":"#N/A"}},"EJ_GRANSKN",{"$f":"VLOOKUP(S837,Import!A$1:B$20000,2,FALSE)","v":{"$error":"#N/A"}},"32211_S_L_SEK_TOT_U_M_X_H1_VALFRI_SEK",1000,null,"30674_D1123_cmb407_",{"$f":"VLOOKUP(B837,Import!E$1:F$20000,2,FALSE)","v":{"$error":"#N/A"}}]
[{"$f":"IF(ISBLANK(Inm_30674_D1124_cmb408_),\"\",$T$838 * Inm_30674_D1124_cmb408_)","v":""},"30674_D1124_cmb408_","Handel i sven, Lång , Utflöde","VP203'!Inm_30674_D1124_cmb408_","32211","S","L","SEK","TOT","U","M","X","H1",{"$f":"VLOOKUP('VP203'!$B$407,FlexDimensioner!$C$1:$D$430,2,FALSE)","v":"VALFRI"},"SEK",{"$f":"VLOOKUP(B838,Import!A$1:B$20000,2,FALSE)","v":{"$error":"#N/A"}},"EJ_GRANSKN",{"$f":"VLOOKUP(S838,Import!A$1:B$20000,2,FALSE)","v":{"$error":"#N/A"}},"32211_S_L_SEK_TOT_U_M_X_H1_VALFRI_SEK",1000,null,"30674_D1124_cmb408_",{"$f":"VLOOKUP(B838,Import!E$1:F$20000,2,FALSE)","v":{"$error":"#N/A"}}]
[{"$f":"IF(ISBLANK(Inm_30674_D1125_cmb409_),\"\",$T$839 * Inm_30674_D1125_cmb409_)","v":""},"30674_D1125_cmb409_","Handel i sven, Lång , Utflöde","VP203'!Inm_30674_D1125_cmb409_","32211","S","L","SEK","TOT","U","M","X","H1",{"$f":"VLOOKUP('VP203'!$B$408,FlexDimensioner!$C$1:$D$430,2,FALSE)","v":"VALFRI"},"SEK",{"$f":"VLOOKUP(B839,Import!A$1:B$20000,2,FALSE)","v":{"$error":"#N/A"}},"EJ_GRANSKN",{"$f":"VLOOKUP(S839,Import!A$1:B$20000,2,FALSE)","v":{"$error":"#N/A"}},"32211_S_L_SEK_TOT_U_M_X_H1_VALFRI_SEK",1000,null,"30674_D1125_cmb409_",{"$f":"VLOOKUP(B839,Import!E$1:F$20000,2,FALSE)","v":{"$error":"#N/A"}}]
[{"$f":"IF(ISBLANK(Inm_30674_D1126_cmb410_),\"\",$T$840 * Inm_30674_D1126_cmb410_)","v":""},"30674_D1126_cmb410_","Handel i sven, Lång , Utflöde","VP203'!Inm_30674_D1126_cmb410_","32211","S","L","SEK","TOT","U","M","X","H1",{"$f":"VLOOKUP('VP203'!$B$409,FlexDimensioner!$C$1:$D$430,2,FALSE)","v":"VALFRI"},"SEK",{"$f":"VLOOKUP(B840,Import!A$1:B$20000,2,FALSE)","v":{"$error":"#N/A"}},"EJ_GRANSKN",{"$f":"VLOOKUP(S840,Import!A$1:B$20000,2,FALSE)","v":{"$error":"#N/A"}},"32211_S_L_SEK_TOT_U_M_X_H1_VALFRI_SEK",1000,null,"30674_D1126_cmb410_",{"$f":"VLOOKUP(B840,Import!E$1:F$20000,2,FALSE)","v":{"$error":"#N/A"}}]
[{"$f":"IF(ISBLANK(Inm_30674_D1127_cmb411_),\"\",$T$841 * Inm_30674_D1127_cmb411_)","v":""},"30674_D1127_cmb411_","Handel i sven, Lång , Utflöde","VP203'!Inm_30674_D1127_cmb411_","32211","S","L","SEK","TOT","U","M","X","H1",{"$f":"VLOOKUP('VP203'!$B$410,FlexDimensioner!$C$1:$D$430,2,FALSE)","v":"VALFRI"},"SEK",{"$f":"VLOOKUP(B841,Import!A$1:B$20000,2,FALSE)","v":{"$error":"#N/A"}},"EJ_GRANSKN",{"$f":"VLOOKUP(S841,Import!A$1:B$20000,2,FALSE)","v":{"$error":"#N/A"}},"32211_S_L_SEK_TOT_U_M_X_H1_VALFRI_SEK",1000,null,"30674_D1127_cmb411_",{"$f":"VLOOKUP(B841,Import!E$1:F$20000,2,FALSE)","v":{"$error":"#N/A"}}]
[{"$f":"IF(ISBLANK(Inm_30674_D1128_cmb412_),\"\",$T$842 * Inm_30674_D1128_cmb412_)","v":""},"30674_D1128_cmb412_","Handel i sven, Lång , Utflöde","VP203'!Inm_30674_D1128_cmb412_","32211","S","L","SEK","TOT","U","M","X","H1",{"$f":"VLOOKUP('VP203'!$B$411,FlexDimensioner!$C$1:$D$430,2,FALSE)","v":"VALFRI"},"SEK",{"$f":"VLOOKUP(B842,Import!A$1:B$20000,2,FALSE)","v":{"$error":"#N/A"}},"EJ_GRANSKN",{"$f":"VLOOKUP(S842,Import!A$1:B$20000,2,FALSE)","v":{"$error":"#N/A"}},"32211_S_L_SEK_TOT_U_M_X_H1_VALFRI_SEK",1000,null,"30674_D1128_cmb412_",{"$f":"VLOOKUP(B842,Import!E$1:F$20000,2,FALSE)","v":{"$error":"#N/A"}}]
[{"$f":"IF(ISBLANK(Inm_30674_D1129_cmb413_),\"\",$T$843 * Inm_30674_D1129_cmb413_)","v":""},"30674_D1129_cmb413_","Handel i sven, Lång , Utflöde","VP203'!Inm_30674_D1129_cmb413_","32211","S","L","SEK","TOT","U","M","X","H1",{"$f":"VLOOKUP('VP203'!$B$412,FlexDimensioner!$C$1:$D$430,2,FALSE)","v":"VALFRI"},"SEK",{"$f":"VLOOKUP(B843,Import!A$1:B$20000,2,FALSE)","v":{"$error":"#N/A"}},"EJ_GRANSKN",{"$f":"VLOOKUP(S843,Import!A$1:B$20000,2,FALSE)","v":{"$error":"#N/A"}},"32211_S_L_SEK_TOT_U_M_X_H1_VALFRI_SEK",1000,null,"30674_D1129_cmb413_",{"$f":"VLOOKUP(B843,Import!E$1:F$20000,2,FALSE)","v":{"$error":"#N/A"}}]
[{"$f":"IF(ISBLANK(Inm_30674_D1130_cmb414_),\"\",$T$844 * Inm_30674_D1130_cmb414_)","v":""},"30674_D1130_cmb414_","Handel i sven, Lång , Utflöde","VP203'!Inm_30674_D1130_cmb414_","32211","S","L","SEK","TOT","U","M","X","H1",{"$f":"VLOOKUP('VP203'!$B$413,FlexDimensioner!$C$1:$D$430,2,FALSE)","v":"VALFRI"},"SEK",{"$f":"VLOOKUP(B844,Import!A$1:B$20000,2,FALSE)","v":{"$error":"#N/A"}},"EJ_GRANSKN",{"$f":"VLOOKUP(S844,Import!A$1:B$20000,2,FALSE)","v":{"$error":"#N/A"}},"32211_S_L_SEK_TOT_U_M_X_H1_VALFRI_SEK",1000,null,"30674_D1130_cmb414_",{"$f":"VLOOKUP(B844,Import!E$1:F$20000,2,FALSE)","v":{"$error":"#N/A"}}]
[{"$f":"IF(ISBLANK(Inm_30674_D1131_cmb415_),\"\",$T$845 * Inm_30674_D1131_cmb415_)","v":""},"30674_D1131_cmb415_","Handel i sven, Lång , Utflöde","VP203'!Inm_30674_D1131_cmb415_","32211","S","L","SEK","TOT","U","M","X","H1",{"$f":"VLOOKUP('VP203'!$B$414,FlexDimensioner!$C$1:$D$430,2,FALSE)","v":"VALFRI"},"SEK",{"$f":"VLOOKUP(B845,Import!A$1:B$20000,2,FALSE)","v":{"$error":"#N/A"}},"EJ_GRANSKN",{"$f":"VLOOKUP(S845,Import!A$1:B$20000,2,FALSE)","v":{"$error":"#N/A"}},"32211_S_L_SEK_TOT_U_M_X_H1_VALFRI_SEK",1000,null,"30674_D1131_cmb415_",{"$f":"VLOOKUP(B845,Import!E$1:F$20000,2,FALSE)","v":{"$error":"#N/A"}}]
[{"$f":"IF(ISBLANK(Inm_30674_D1132_cmb416_),\"\",$T$846 * Inm_30674_D1132_cmb416_)","v":""},"30674_D1132_cmb416_","Handel i sven, Lång , Utflöde","VP203'!Inm_30674_D1132_cmb416_","32211","S","L","SEK","TOT","U","M","X","H1",{"$f":"VLOOKUP('VP203'!$B$415,FlexDimensioner!$C$1:$D$430,2,FALSE)","v":"VALFRI"},"SEK",{"$f":"VLOOKUP(B846,Import!A$1:B$20000,2,FALSE)","v":{"$error":"#N/A"}},"EJ_GRANSKN",{"$f":"VLOOKUP(S846,Import!A$1:B$20000,2,FALSE)","v":{"$error":"#N/A"}},"32211_S_L_SEK_TOT_U_M_X_H1_VALFRI_SEK",1000,null,"30674_D1132_cmb416_",{"$f":"VLOOKUP(B846,Import!E$1:F$20000,2,FALSE)","v":{"$error":"#N/A"}}]
[{"$f":"IF(ISBLANK(Inm_30674_D1133_cmb417_),\"\",$T$847 * Inm_30674_D1133_cmb417_)","v":""},"30674_D1133_cmb417_","Handel i sven, Lång , Utflöde","VP203'!Inm_30674_D1133_cmb417_","32211","S","L","SEK","TOT","U","M","X","H1",{"$f":"VLOOKUP('VP203'!$B$416,FlexDimensioner!$C$1:$D$430,2,FALSE)","v":"VALFRI"},"SEK",{"$f":"VLOOKUP(B847,Import!A$1:B$20000,2,FALSE)","v":{"$error":"#N/A"}},"EJ_GRANSKN",{"$f":"VLOOKUP(S847,Import!A$1:B$20000,2,FALSE)","v":{"$error":"#N/A"}},"32211_S_L_SEK_TOT_U_M_X_H1_VALFRI_SEK",1000,null,"30674_D1133_cmb417_",{"$f":"VLOOKUP(B847,Import!E$1:F$20000,2,FALSE)","v":{"$error":"#N/A"}}]
[{"$f":"IF(ISBLANK(Inm_30674_D1134_cmb418_),\"\",$T$848 * Inm_30674_D1134_cmb418_)","v":""},"30674_D1134_cmb418_","Handel i sven, Lång , Utflöde","VP203'!Inm_30674_D1134_cmb418_","32211","S","L","SEK","TOT","U","M","X","H1",{"$f":"VLOOKUP('VP203'!$B$417,FlexDimensioner!$C$1:$D$430,2,FALSE)","v":"VALFRI"},"SEK",{"$f":"VLOOKUP(B848,Import!A$1:B$20000,2,FALSE)","v":{"$error":"#N/A"}},"EJ_GRANSKN",{"$f":"VLOOKUP(S848,Import!A$1:B$20000,2,FALSE)","v":{"$error":"#N/A"}},"32211_S_L_SEK_TOT_U_M_X_H1_VALFRI_SEK",1000,null,"30674_D1134_cmb418_",{"$f":"VLOOKUP(B848,Import!E$1:F$20000,2,FALSE)","v":{"$error":"#N/A"}}]
[{"$f":"IF(ISBLANK(Inm_30674_D1135_cmb419_),\"\",$T$849 * Inm_30674_D1135_cmb419_)","v":""},"30674_D1135_cmb419_","Handel i sven, Lång , Utflöde","VP203'!Inm_30674_D1135_cmb419_","32211","S","L","SEK","TOT","U","M","X","H1",{"$f":"VLOOKUP('VP203'!$B$418,FlexDimensioner!$C$1:$D$430,2,FALSE)","v":"VALFRI"},"SEK",{"$f":"VLOOKUP(B849,Import!A$1:B$20000,2,FALSE)","v":{"$error":"#N/A"}},"EJ_GRANSKN",{"$f":"VLOOKUP(S849,Import!A$1:B$20000,2,FALSE)","v":{"$error":"#N/A"}},"32211_S_L_SEK_TOT_U_M_X_H1_VALFRI_SEK",1000,null,"30674_D1135_cmb419_",{"$f":"VLOOKUP(B849,Import!E$1:F$20000,2,FALSE)","v":{"$error":"#N/A"}}]
[{"$f":"IF(ISBLANK(Inm_30674_D1136_cmb420_),\"\",$T$850 * Inm_30674_D1136_cmb420_)","v":""},"30674_D1136_cmb420_","Handel i sven, Lång , Utflöde","VP203'!Inm_30674_D1136_cmb420_","32211","S","L","SEK","TOT","U","M","X","H1",{"$f":"VLOOKUP('VP203'!$B$419,FlexDimensioner!$C$1:$D$430,2,FALSE)","v":"VALFRI"},"SEK",{"$f":"VLOOKUP(B850,Import!A$1:B$20000,2,FALSE)","v":{"$error":"#N/A"}},"EJ_GRANSKN",{"$f":"VLOOKUP(S850,Import!A$1:B$20000,2,FALSE)","v":{"$error":"#N/A"}},"32211_S_L_SEK_TOT_U_M_X_H1_VALFRI_SEK",1000,null,"30674_D1136_cmb420_",{"$f":"VLOOKUP(B850,Import!E$1:F$20000,2,FALSE)","v":{"$error":"#N/A"}}]
[{"$f":"IF(ISBLANK(Inm_30674_D1137_cmb421_),\"\",$T$851 * Inm_30674_D1137_cmb421_)","v":""},"30674_D1137_cmb421_","Handel i sven, Lång , Utflöde","VP203'!Inm_30674_D1137_cmb421_","32211","S","L","SEK","TOT","U","M","X","H1",{"$f":"VLOOKUP('VP203'!$B$420,FlexDimensioner!$C$1:$D$430,2,FALSE)","v":"VALFRI"},"SEK",{"$f":"VLOOKUP(B851,Import!A$1:B$20000,2,FALSE)","v":{"$error":"#N/A"}},"EJ_GRANSKN",{"$f":"VLOOKUP(S851,Import!A$1:B$20000,2,FALSE)","v":{"$error":"#N/A"}},"32211_S_L_SEK_TOT_U_M_X_H1_VALFRI_SEK",1000,null,"30674_D1137_cmb421_",{"$f":"VLOOKUP(B851,Import!E$1:F$20000,2,FALSE)","v":{"$error":"#N/A"}}]
[{"$f":"IF(ISBLANK(Inm_30674_D1138_cmb422_),\"\",$T$852 * Inm_30674_D1138_cmb422_)","v":""},"30674_D1138_cmb422_","Handel i sven, Lång , Utflöde","VP203'!Inm_30674_D1138_cmb422_","32211","S","L","SEK","TOT","U","M","X","H1",{"$f":"VLOOKUP('VP203'!$B$421,FlexDimensioner!$C$1:$D$430,2,FALSE)","v":"VALFRI"},"SEK",{"$f":"VLOOKUP(B852,Import!A$1:B$20000,2,FALSE)","v":{"$error":"#N/A"}},"EJ_GRANSKN",{"$f":"VLOOKUP(S852,Import!A$1:B$20000,2,FALSE)","v":{"$error":"#N/A"}},"32211_S_L_SEK_TOT_U_M_X_H1_VALFRI_SEK",1000,null,"30674_D1138_cmb422_",{"$f":"VLOOKUP(B852,Import!E$1:F$20000,2,FALSE)","v":{"$error":"#N/A"}}]
[{"$f":"IF(ISBLANK(Inm_30674_D1139_cmb423_),\"\",$T$853 * Inm_30674_D1139_cmb423_)","v":""},"30674_D1139_cmb423_","Handel i sven, Lång , Utflöde","VP203'!Inm_30674_D1139_cmb423_","32211","S","L","SEK","TOT","U","M","X","H1",{"$f":"VLOOKUP('VP203'!$B$422,FlexDimensioner!$C$1:$D$430,2,FALSE)","v":"VALFRI"},"SEK",{"$f":"VLOOKUP(B853,Import!A$1:B$20000,2,FALSE)","v":{"$error":"#N/A"}},"EJ_GRANSKN",{"$f":"VLOOKUP(S853,Import!A$1:B$20000,2,FALSE)","v":{"$error":"#N/A"}},"32211_S_L_SEK_TOT_U_M_X_H1_VALFRI_SEK",1000,null,"30674_D1139_cmb423_",{"$f":"VLOOKUP(B853,Import!E$1:F$20000,2,FALSE)","v":{"$error":"#N/A"}}]
[{"$f":"IF(ISBLANK(Inm_30674_D1140_cmb424_),\"\",$T$854 * Inm_30674_D1140_cmb424_)","v":""},"30674_D1140_cmb424_","Handel i sven, Lång , Utflöde","VP203'!Inm_30674_D1140_cmb424_","32211","S","L","SEK","TOT","U","M","X","H1",{"$f":"VLOOKUP('VP203'!$B$423,FlexDimensioner!$C$1:$D$430,2,FALSE)","v":"VALFRI"},"SEK",{"$f":"VLOOKUP(B854,Import!A$1:B$20000,2,FALSE)","v":{"$error":"#N/A"}},"EJ_GRANSKN",{"$f":"VLOOKUP(S854,Import!A$1:B$20000,2,FALSE)","v":{"$error":"#N/A"}},"32211_S_L_SEK_TOT_U_M_X_H1_VALFRI_SEK",1000,null,"30674_D1140_cmb424_",{"$f":"VLOOKUP(B854,Import!E$1:F$20000,2,FALSE)","v":{"$error":"#N/A"}}]
[{"$f":"IF(ISBLANK(Inm_30674_D1141_cmb425_),\"\",$T$855 * Inm_30674_D1141_cmb425_)","v":""},"30674_D1141_cmb425_","Handel i sven, Lång , Utflöde","VP203'!Inm_30674_D1141_cmb425_","32211","S","L","SEK","TOT","U","M","X","H1",{"$f":"VLOOKUP('VP203'!$B$424,FlexDimensioner!$C$1:$D$430,2,FALSE)","v":"VALFRI"},"SEK",{"$f":"VLOOKUP(B855,Import!A$1:B$20000,2,FALSE)","v":{"$error":"#N/A"}},"EJ_GRANSKN",{"$f":"VLOOKUP(S855,Import!A$1:B$20000,2,FALSE)","v":{"$error":"#N/A"}},"32211_S_L_SEK_TOT_U_M_X_H1_VALFRI_SEK",1000,null,"30674_D1141_cmb425_",{"$f":"VLOOKUP(B855,Import!E$1:F$20000,2,FALSE)","v":{"$error":"#N/A"}}]
[{"$f":"IF(ISBLANK(Inm_30674_D1142_cmb426_),\"\",$T$856 * Inm_30674_D1142_cmb426_)","v":""},"30674_D1142_cmb426_","Handel i sven, Lång , Utflöde","VP203'!Inm_30674_D1142_cmb426_","32211","S","L","SEK","TOT","U","M","X","H1",{"$f":"VLOOKUP('VP203'!$B$425,FlexDimensioner!$C$1:$D$430,2,FALSE)","v":"VALFRI"},"SEK",{"$f":"VLOOKUP(B856,Import!A$1:B$20000,2,FALSE)","v":{"$error":"#N/A"}},"EJ_GRANSKN",{"$f":"VLOOKUP(S856,Import!A$1:B$20000,2,FALSE)","v":{"$error":"#N/A"}},"32211_S_L_SEK_TOT_U_M_X_H1_VALFRI_SEK",1000,null,"30674_D1142_cmb426_",{"$f":"VLOOKUP(B856,Import!E$1:F$20000,2,FALSE)","v":{"$error":"#N/A"}}]
[{"$f":"IF(ISBLANK(Inm_30674_D1143_cmb427_),\"\",$T$857 * Inm_30674_D1143_cmb427_)","v":""},"30674_D1143_cmb427_","Handel i sven, Lång , Utflöde","VP203'!Inm_30674_D1143_cmb427_","32211","S","L","SEK","TOT","U","M","X","H1",{"$f":"VLOOKUP('VP203'!$B$426,FlexDimensioner!$C$1:$D$430,2,FALSE)","v":"VALFRI"},"SEK",{"$f":"VLOOKUP(B857,Import!A$1:B$20000,2,FALSE)","v":{"$error":"#N/A"}},"EJ_GRANSKN",{"$f":"VLOOKUP(S857,Import!A$1:B$20000,2,FALSE)","v":{"$error":"#N/A"}},"32211_S_L_SEK_TOT_U_M_X_H1_VALFRI_SEK",1000,null,"30674_D1143_cmb427_",{"$f":"VLOOKUP(B857,Import!E$1:F$20000,2,FALSE)","v":{"$error":"#N/A"}}]
[{"$f":"IF(ISBLANK(Inm_30674_D1144_cmb428_),\"\",$T$858 * Inm_30674_D1144_cmb428_)","v":""},"30674_D1144_cmb428_","Handel i sven, Lång , Utflöde","VP203'!Inm_30674_D1144_cmb428_","32211","S","L","SEK","TOT","U","M","X","H1",{"$f":"VLOOKUP('VP203'!$B$427,FlexDimensioner!$C$1:$D$430,2,FALSE)","v":"VALFRI"},"SEK",{"$f":"VLOOKUP(B858,Import!A$1:B$20000,2,FALSE)","v":{"$error":"#N/A"}},"EJ_GRANSKN",{"$f":"VLOOKUP(S858,Import!A$1:B$20000,2,FALSE)","v":{"$error":"#N/A"}},"32211_S_L_SEK_TOT_U_M_X_H1_VALFRI_SEK",1000,null,"30674_D1144_cmb428_",{"$f":"VLOOKUP(B858,Import!E$1:F$20000,2,FALSE)","v":{"$error":"#N/A"}}]
[{"$f":"IF(ISBLANK(Inm_30674_D1145_cmb429_),\"\",$T$859 * Inm_30674_D1145_cmb429_)","v":""},"30674_D1145_cmb429_","Handel i sven, Lång , Utflöde","VP203'!Inm_30674_D1145_cmb429_","32211","S","L","SEK","TOT","U","M","X","H1",{"$f":"VLOOKUP('VP203'!$B$428,FlexDimensioner!$C$1:$D$430,2,FALSE)","v":"VALFRI"},"SEK",{"$f":"VLOOKUP(B859,Import!A$1:B$20000,2,FALSE)","v":{"$error":"#N/A"}},"EJ_GRANSKN",{"$f":"VLOOKUP(S859,Import!A$1:B$20000,2,FALSE)","v":{"$error":"#N/A"}},"32211_S_L_SEK_TOT_U_M_X_H1_VALFRI_SEK",1000,null,"30674_D1145_cmb429_",{"$f":"VLOOKUP(B859,Import!E$1:F$20000,2,FALSE)","v":{"$error":"#N/A"}}]
[{"$f":"IF(ISBLANK(Inm_30674_D1146_cmb430_),\"\",$T$860 * Inm_30674_D1146_cmb430_)","v":""},"30674_D1146_cmb430_","Handel i sven, Lång , Utflöde","VP203'!Inm_30674_D1146_cmb430_","32211","S","L","SEK","TOT","U","M","X","H1",{"$f":"VLOOKUP('VP203'!$B$429,FlexDimensioner!$C$1:$D$430,2,FALSE)","v":"VALFRI"},"SEK",{"$f":"VLOOKUP(B860,Import!A$1:B$20000,2,FALSE)","v":{"$error":"#N/A"}},"EJ_GRANSKN",{"$f":"VLOOKUP(S860,Import!A$1:B$20000,2,FALSE)","v":{"$error":"#N/A"}},"32211_S_L_SEK_TOT_U_M_X_H1_VALFRI_SEK",1000,null,"30674_D1146_cmb430_",{"$f":"VLOOKUP(B860,Import!E$1:F$20000,2,FALSE)","v":{"$error":"#N/A"}}]
[{"$f":"IF(ISBLANK(Inm_30674_D1147_cmb431_),\"\",$T$861 * Inm_30674_D1147_cmb431_)","v":""},"30674_D1147_cmb431_","Handel i sven, Lång , Utflöde","VP203'!Inm_30674_D1147_cmb431_","32211","S","L","SEK","TOT","U","M","X","H1",{"$f":"VLOOKUP('VP203'!$B$430,FlexDimensioner!$C$1:$D$430,2,FALSE)","v":"VALFRI"},"SEK",{"$f":"VLOOKUP(B861,Import!A$1:B$20000,2,FALSE)","v":{"$error":"#N/A"}},"EJ_GRANSKN",{"$f":"VLOOKUP(S861,Import!A$1:B$20000,2,FALSE)","v":{"$error":"#N/A"}},"32211_S_L_SEK_TOT_U_M_X_H1_VALFRI_SEK",1000,null,"30674_D1147_cmb431_",{"$f":"VLOOKUP(B861,Import!E$1:F$20000,2,FALSE)","v":{"$error":"#N/A"}}]
[{"$f":"IF(ISBLANK(Inm_30674_D1148_cmb432_),\"\",$T$862 * Inm_30674_D1148_cmb432_)","v":""},"30674_D1148_cmb432_","Handel i sven, Lång , Utflöde","VP203'!Inm_30674_D1148_cmb432_","32211","S","L","SEK","TOT","U","M","X","H1",{"$f":"VLOOKUP('VP203'!$B$431,FlexDimensioner!$C$1:$D$430,2,FALSE)","v":"VALFRI"},"SEK",{"$f":"VLOOKUP(B862,Import!A$1:B$20000,2,FALSE)","v":{"$error":"#N/A"}},"EJ_GRANSKN",{"$f":"VLOOKUP(S862,Import!A$1:B$20000,2,FALSE)","v":{"$error":"#N/A"}},"32211_S_L_SEK_TOT_U_M_X_H1_VALFRI_SEK",1000,null,"30674_D1148_cmb432_",{"$f":"VLOOKUP(B862,Import!E$1:F$20000,2,FALSE)","v":{"$error":"#N/A"}}]
[{"$f":"IF(ISBLANK(Inm_30674_D1149_cmb433_),\"\",$T$863 * Inm_30674_D1149_cmb433_)","v":""},"30674_D1149_cmb433_","Handel i sven, Lång , Utflöde","VP203'!Inm_30674_D1149_cmb433_","32211","S","L","SEK","TOT","U","M","X","H1",{"$f":"VLOOKUP('VP203'!$B$432,FlexDimensioner!$C$1:$D$430,2,FALSE)","v":"VALFRI"},"SEK",{"$f":"VLOOKUP(B863,Import!A$1:B$20000,2,FALSE)","v":{"$error":"#N/A"}},"EJ_GRANSKN",{"$f":"VLOOKUP(S863,Import!A$1:B$20000,2,FALSE)","v":{"$error":"#N/A"}},"32211_S_L_SEK_TOT_U_M_X_H1_VALFRI_SEK",1000,null,"30674_D1149_cmb433_",{"$f":"VLOOKUP(B863,Import!E$1:F$20000,2,FALSE)","v":{"$error":"#N/A"}}]
[{"$f":"IF(ISBLANK(Inm_30674_D1150_cmb434_),\"\",$T$864 * Inm_30674_D1150_cmb434_)","v":""},"30674_D1150_cmb434_","Handel i sven, Lång , Utflöde","VP203'!Inm_30674_D1150_cmb434_","32211","S","L","SEK","TOT","U","M","X","H1",{"$f":"VLOOKUP('VP203'!$B$433,FlexDimensioner!$C$1:$D$430,2,FALSE)","v":"VALFRI"},"SEK",{"$f":"VLOOKUP(B864,Import!A$1:B$20000,2,FALSE)","v":{"$error":"#N/A"}},"EJ_GRANSKN",{"$f":"VLOOKUP(S864,Import!A$1:B$20000,2,FALSE)","v":{"$error":"#N/A"}},"32211_S_L_SEK_TOT_U_M_X_H1_VALFRI_SEK",1000,null,"30674_D1150_cmb434_",{"$f":"VLOOKUP(B864,Import!E$1:F$20000,2,FALSE)","v":{"$error":"#N/A"}}]
[{"$f":"IF(ISBLANK(Inm_30674_D1151_cmb435_),\"\",$T$865 * Inm_30674_D1151_cmb435_)","v":""},"30674_D1151_cmb435_","Handel i sven, Lång , Utflöde","VP203'!Inm_30674_D1151_cmb435_","32211","S","L","SEK","TOT","U","M","X","H1",{"$f":"VLOOKUP('VP203'!$B$434,FlexDimensioner!$C$1:$D$430,2,FALSE)","v":"VALFRI"},"SEK",{"$f":"VLOOKUP(B865,Import!A$1:B$20000,2,FALSE)","v":{"$error":"#N/A"}},"EJ_GRANSKN",{"$f":"VLOOKUP(S865,Import!A$1:B$20000,2,FALSE)","v":{"$error":"#N/A"}},"32211_S_L_SEK_TOT_U_M_X_H1_VALFRI_SEK",1000,null,"30674_D1151_cmb435_",{"$f":"VLOOKUP(B865,Import!E$1:F$20000,2,FALSE)","v":{"$error":"#N/A"}}]
[{"$f":"IF(ISBLANK(Inm_30674_D1152_cmb436_),\"\",$T$866 * Inm_30674_D1152_cmb436_)","v":""},"30674_D1152_cmb436_","Handel i sven, Lång , Utflöde","VP203'!Inm_30674_D1152_cmb436_","32211","S","L","SEK","TOT","U","M","X","H1",{"$f":"VLOOKUP('VP203'!$B$435,FlexDimensioner!$C$1:$D$430,2,FALSE)","v":"VALFRI"},"SEK",{"$f":"VLOOKUP(B866,Import!A$1:B$20000,2,FALSE)","v":{"$error":"#N/A"}},"EJ_GRANSKN",{"$f":"VLOOKUP(S866,Import!A$1:B$20000,2,FALSE)","v":{"$error":"#N/A"}},"32211_S_L_SEK_TOT_U_M_X_H1_VALFRI_SEK",1000,null,"30674_D1152_cmb436_",{"$f":"VLOOKUP(B866,Import!E$1:F$20000,2,FALSE)","v":{"$error":"#N/A"}}]
[{"$f":"IF(ISBLANK(Inm_30674_D1153_cmb437_),\"\",$T$867 * Inm_30674_D1153_cmb437_)","v":""},"30674_D1153_cmb437_","Handel i sven, Lång , Utflöde","VP203'!Inm_30674_D1153_cmb437_","32211","S","L","SEK","TOT","U","M","X","H1",{"$f":"VLOOKUP('VP203'!$B$436,FlexDimensioner!$C$1:$D$430,2,FALSE)","v":"VALFRI"},"SEK",{"$f":"VLOOKUP(B867,Import!A$1:B$20000,2,FALSE)","v":{"$error":"#N/A"}},"EJ_GRANSKN",{"$f":"VLOOKUP(S867,Import!A$1:B$20000,2,FALSE)","v":{"$error":"#N/A"}},"32211_S_L_SEK_TOT_U_M_X_H1_VALFRI_SEK",1000,null,"30674_D1153_cmb437_",{"$f":"VLOOKUP(B867,Import!E$1:F$20000,2,FALSE)","v":{"$error":"#N/A"}}]
[{"$f":"IF(ISBLANK(Inm_30674_D1154_cmb438_),\"\",$T$868 * Inm_30674_D1154_cmb438_)","v":""},"30674_D1154_cmb438_","Handel i sven, Lång , Utflöde","VP203'!Inm_30674_D1154_cmb438_","32211","S","L","SEK","TOT","U","M","X","H1",{"$f":"VLOOKUP('VP203'!$B$437,FlexDimensioner!$C$1:$D$430,2,FALSE)","v":"VALFRI"},"SEK",{"$f":"VLOOKUP(B868,Import!A$1:B$20000,2,FALSE)","v":{"$error":"#N/A"}},"EJ_GRANSKN",{"$f":"VLOOKUP(S868,Import!A$1:B$20000,2,FALSE)","v":{"$error":"#N/A"}},"32211_S_L_SEK_TOT_U_M_X_H1_VALFRI_SEK",1000,null,"30674_D1154_cmb438_",{"$f":"VLOOKUP(B868,Import!E$1:F$20000,2,FALSE)","v":{"$error":"#N/A"}}]
[{"$f":"IF(ISBLANK(Inm_30674_D1155_cmb439_),\"\",$T$869 * Inm_30674_D1155_cmb439_)","v":""},"30674_D1155_cmb439_","Handel i sven, Lång , Utflöde","VP203'!Inm_30674_D1155_cmb439_","32211","S","L","SEK","TOT","U","M","X","H1",{"$f":"VLOOKUP('VP203'!$B$438,FlexDimensioner!$C$1:$D$430,2,FALSE)","v":"VALFRI"},"SEK",{"$f":"VLOOKUP(B869,Import!A$1:B$20000,2,FALSE)","v":{"$error":"#N/A"}},"EJ_GRANSKN",{"$f":"VLOOKUP(S869,Import!A$1:B$20000,2,FALSE)","v":{"$error":"#N/A"}},"32211_S_L_SEK_TOT_U_M_X_H1_VALFRI_SEK",1000,null,"30674_D1155_cmb439_",{"$f":"VLOOKUP(B869,Import!E$1:F$20000,2,FALSE)","v":{"$error":"#N/A"}}]
[{"$f":"IF(ISBLANK(Inm_30674_D1156_cmb440_),\"\",$T$870 * Inm_30674_D1156_cmb440_)","v":""},"30674_D1156_cmb440_","Handel i sven, Lång , Utflöde","VP203'!Inm_30674_D1156_cmb440_","32211","S","L","SEK","TOT","U","M","X","H1",{"$f":"VLOOKUP('VP203'!$B$439,FlexDimensioner!$C$1:$D$430,2,FALSE)","v":"VALFRI"},"SEK",{"$f":"VLOOKUP(B870,Import!A$1:B$20000,2,FALSE)","v":{"$error":"#N/A"}},"EJ_GRANSKN",{"$f":"VLOOKUP(S870,Import!A$1:B$20000,2,FALSE)","v":{"$error":"#N/A"}},"32211_S_L_SEK_TOT_U_M_X_H1_VALFRI_SEK",1000,null,"30674_D1156_cmb440_",{"$f":"VLOOKUP(B870,Import!E$1:F$20000,2,FALSE)","v":{"$error":"#N/A"}}]
[{"$f":"IF(ISBLANK(Inm_30674_D1157_cmb441_),\"\",$T$871 * Inm_30674_D1157_cmb441_)","v":""},"30674_D1157_cmb441_","Handel i sven, Lång , Utflöde","VP203'!Inm_30674_D1157_cmb441_","32211","S","L","SEK","TOT","U","M","X","H1",{"$f":"VLOOKUP('VP203'!$B$440,FlexDimensioner!$C$1:$D$430,2,FALSE)","v":"VALFRI"},"SEK",{"$f":"VLOOKUP(B871,Import!A$1:B$20000,2,FALSE)","v":{"$error":"#N/A"}},"EJ_GRANSKN",{"$f":"VLOOKUP(S871,Import!A$1:B$20000,2,FALSE)","v":{"$error":"#N/A"}},"32211_S_L_SEK_TOT_U_M_X_H1_VALFRI_SEK",1000,null,"30674_D1157_cmb441_",{"$f":"VLOOKUP(B871,Import!E$1:F$20000,2,FALSE)","v":{"$error":"#N/A"}}]
[{"$f":"IF(ISBLANK(Inm_30674_D1158_cmb442_),\"\",$T$872 * Inm_30674_D1158_cmb442_)","v":""},"30674_D1158_cmb442_","Handel i sven, Lång , Utflöde","VP203'!Inm_30674_D1158_cmb442_","32211","S","L","SEK","TOT","U","M","X","H1",{"$f":"VLOOKUP('VP203'!$B$441,FlexDimensioner!$C$1:$D$430,2,FALSE)","v":"VALFRI"},"SEK",{"$f":"VLOOKUP(B872,Import!A$1:B$20000,2,FALSE)","v":{"$error":"#N/A"}},"EJ_GRANSKN",{"$f":"VLOOKUP(S872,Import!A$1:B$20000,2,FALSE)","v":{"$error":"#N/A"}},"32211_S_L_SEK_TOT_U_M_X_H1_VALFRI_SEK",1000,null,"30674_D1158_cmb442_",{"$f":"VLOOKUP(B872,Import!E$1:F$20000,2,FALSE)","v":{"$error":"#N/A"}}]
[{"$f":"IF(ISBLANK(Inm_30674_D1159_cmb443_),\"\",$T$873 * Inm_30674_D1159_cmb443_)","v":""},"30674_D1159_cmb443_","Handel i sven, Lång , Utflöde","VP203'!Inm_30674_D1159_cmb443_","32211","S","L","SEK","TOT","U","M","X","H1",{"$f":"VLOOKUP('VP203'!$B$442,FlexDimensioner!$C$1:$D$430,2,FALSE)","v":"VALFRI"},"SEK",{"$f":"VLOOKUP(B873,Import!A$1:B$20000,2,FALSE)","v":{"$error":"#N/A"}},"EJ_GRANSKN",{"$f":"VLOOKUP(S873,Import!A$1:B$20000,2,FALSE)","v":{"$error":"#N/A"}},"32211_S_L_SEK_TOT_U_M_X_H1_VALFRI_SEK",1000,null,"30674_D1159_cmb443_",{"$f":"VLOOKUP(B873,Import!E$1:F$20000,2,FALSE)","v":{"$error":"#N/A"}}]
[{"$f":"IF(ISBLANK(Inm_30674_D1160_cmb444_),\"\",$T$874 * Inm_30674_D1160_cmb444_)","v":""},"30674_D1160_cmb444_","Handel i sven, Lång , Utflöde","VP203'!Inm_30674_D1160_cmb444_","32211","S","L","SEK","TOT","U","M","X","H1",{"$f":"VLOOKUP('VP203'!$B$443,FlexDimensioner!$C$1:$D$430,2,FALSE)","v":"VALFRI"},"SEK",{"$f":"VLOOKUP(B874,Import!A$1:B$20000,2,FALSE)","v":{"$error":"#N/A"}},"EJ_GRANSKN",{"$f":"VLOOKUP(S874,Import!A$1:B$20000,2,FALSE)","v":{"$error":"#N/A"}},"32211_S_L_SEK_TOT_U_M_X_H1_VALFRI_SEK",1000,null,"30674_D1160_cmb444_",{"$f":"VLOOKUP(B874,Import!E$1:F$20000,2,FALSE)","v":{"$error":"#N/A"}}]
[{"$f":"IF(ISBLANK(Inm_30674_D1161_cmb445_),\"\",$T$875 * Inm_30674_D1161_cmb445_)","v":""},"30674_D1161_cmb445_","Handel i sven, Lång , Utflöde","VP203'!Inm_30674_D1161_cmb445_","32211","S","L","SEK","TOT","U","M","X","H1",{"$f":"VLOOKUP('VP203'!$B$444,FlexDimensioner!$C$1:$D$430,2,FALSE)","v":"VALFRI"},"SEK",{"$f":"VLOOKUP(B875,Import!A$1:B$20000,2,FALSE)","v":{"$error":"#N/A"}},"EJ_GRANSKN",{"$f":"VLOOKUP(S875,Import!A$1:B$20000,2,FALSE)","v":{"$error":"#N/A"}},"32211_S_L_SEK_TOT_U_M_X_H1_VALFRI_SEK",1000,null,"30674_D1161_cmb445_",{"$f":"VLOOKUP(B875,Import!E$1:F$20000,2,FALSE)","v":{"$error":"#N/A"}}]
[{"$f":"IF(ISBLANK(Inm_30674_D1162_cmb446_),\"\",$T$876 * Inm_30674_D1162_cmb446_)","v":""},"30674_D1162_cmb446_","Handel i sven, Lång , Utflöde","VP203'!Inm_30674_D1162_cmb446_","32211","S","L","SEK","TOT","U","M","X","H1",{"$f":"VLOOKUP('VP203'!$B$445,FlexDimensioner!$C$1:$D$430,2,FALSE)","v":"VALFRI"},"SEK",{"$f":"VLOOKUP(B876,Import!A$1:B$20000,2,FALSE)","v":{"$error":"#N/A"}},"EJ_GRANSKN",{"$f":"VLOOKUP(S876,Import!A$1:B$20000,2,FALSE)","v":{"$error":"#N/A"}},"32211_S_L_SEK_TOT_U_M_X_H1_VALFRI_SEK",1000,null,"30674_D1162_cmb446_",{"$f":"VLOOKUP(B876,Import!E$1:F$20000,2,FALSE)","v":{"$error":"#N/A"}}]
[{"$f":"IF(ISBLANK(Inm_30674_D1163_cmb447_),\"\",$T$877 * Inm_30674_D1163_cmb447_)","v":""},"30674_D1163_cmb447_","Handel i sven, Lång , Utflöde","VP203'!Inm_30674_D1163_cmb447_","32211","S","L","SEK","TOT","U","M","X","H1",{"$f":"VLOOKUP('VP203'!$B$446,FlexDimensioner!$C$1:$D$430,2,FALSE)","v":"VALFRI"},"SEK",{"$f":"VLOOKUP(B877,Import!A$1:B$20000,2,FALSE)","v":{"$error":"#N/A"}},"EJ_GRANSKN",{"$f":"VLOOKUP(S877,Import!A$1:B$20000,2,FALSE)","v":{"$error":"#N/A"}},"32211_S_L_SEK_TOT_U_M_X_H1_VALFRI_SEK",1000,null,"30674_D1163_cmb447_",{"$f":"VLOOKUP(B877,Import!E$1:F$20000,2,FALSE)","v":{"$error":"#N/A"}}]
[{"$f":"IF(ISBLANK(Inm_30674_D1164_cmb448_),\"\",$T$878 * Inm_30674_D1164_cmb448_)","v":""},"30674_D1164_cmb448_","Handel i sven, Lång , Utflöde","VP203'!Inm_30674_D1164_cmb448_","32211","S","L","SEK","TOT","U","M","X","H1",{"$f":"VLOOKUP('VP203'!$B$447,FlexDimensioner!$C$1:$D$430,2,FALSE)","v":"VALFRI"},"SEK",{"$f":"VLOOKUP(B878,Import!A$1:B$20000,2,FALSE)","v":{"$error":"#N/A"}},"EJ_GRANSKN",{"$f":"VLOOKUP(S878,Import!A$1:B$20000,2,FALSE)","v":{"$error":"#N/A"}},"32211_S_L_SEK_TOT_U_M_X_H1_VALFRI_SEK",1000,null,"30674_D1164_cmb448_",{"$f":"VLOOKUP(B878,Import!E$1:F$20000,2,FALSE)","v":{"$error":"#N/A"}}]
[{"$f":"IF(ISBLANK(Inm_30674_D1165_cmb449_),\"\",$T$879 * Inm_30674_D1165_cmb449_)","v":""},"30674_D1165_cmb449_","Handel i sven, Lång , Utflöde","VP203'!Inm_30674_D1165_cmb449_","32211","S","L","SEK","TOT","U","M","X","H1",{"$f":"VLOOKUP('VP203'!$B$448,FlexDimensioner!$C$1:$D$430,2,FALSE)","v":"VALFRI"},"SEK",{"$f":"VLOOKUP(B879,Import!A$1:B$20000,2,FALSE)","v":{"$error":"#N/A"}},"EJ_GRANSKN",{"$f":"VLOOKUP(S879,Import!A$1:B$20000,2,FALSE)","v":{"$error":"#N/A"}},"32211_S_L_SEK_TOT_U_M_X_H1_VALFRI_SEK",1000,null,"30674_D1165_cmb449_",{"$f":"VLOOKUP(B879,Import!E$1:F$20000,2,FALSE)","v":{"$error":"#N/A"}}]
[{"$f":"IF(ISBLANK(Inm_30674_D1166_cmb450_),\"\",$T$880 * Inm_30674_D1166_cmb450_)","v":""},"30674_D1166_cmb450_","Handel i sven, Lång , Utflöde","VP203'!Inm_30674_D1166_cmb450_","32211","S","L","SEK","TOT","U","M","X","H1",{"$f":"VLOOKUP('VP203'!$B$449,FlexDimensioner!$C$1:$D$430,2,FALSE)","v":"VALFRI"},"SEK",{"$f":"VLOOKUP(B880,Import!A$1:B$20000,2,FALSE)","v":{"$error":"#N/A"}},"EJ_GRANSKN",{"$f":"VLOOKUP(S880,Import!A$1:B$20000,2,FALSE)","v":{"$error":"#N/A"}},"32211_S_L_SEK_TOT_U_M_X_H1_VALFRI_SEK",1000,null,"30674_D1166_cmb450_",{"$f":"VLOOKUP(B880,Import!E$1:F$20000,2,FALSE)","v":{"$error":"#N/A"}}]
[{"$f":"IF(ISBLANK(Inm_30674_D1167_cmb451_),\"\",$T$881 * Inm_30674_D1167_cmb451_)","v":""},"30674_D1167_cmb451_","Handel i sven, Lång , Utflöde","VP203'!Inm_30674_D1167_cmb451_","32211","S","L","SEK","TOT","U","M","X","H1",{"$f":"VLOOKUP('VP203'!$B$450,FlexDimensioner!$C$1:$D$430,2,FALSE)","v":"VALFRI"},"SEK",{"$f":"VLOOKUP(B881,Import!A$1:B$20000,2,FALSE)","v":{"$error":"#N/A"}},"EJ_GRANSKN",{"$f":"VLOOKUP(S881,Import!A$1:B$20000,2,FALSE)","v":{"$error":"#N/A"}},"32211_S_L_SEK_TOT_U_M_X_H1_VALFRI_SEK",1000,null,"30674_D1167_cmb451_",{"$f":"VLOOKUP(B881,Import!E$1:F$20000,2,FALSE)","v":{"$error":"#N/A"}}]
[{"$f":"IF(ISBLANK(Inm_30674_D1168_cmb452_),\"\",$T$882 * Inm_30674_D1168_cmb452_)","v":""},"30674_D1168_cmb452_","Handel i sven, Lång , Utflöde","VP203'!Inm_30674_D1168_cmb452_","32211","S","L","SEK","TOT","U","M","X","H1",{"$f":"VLOOKUP('VP203'!$B$451,FlexDimensioner!$C$1:$D$430,2,FALSE)","v":"VALFRI"},"SEK",{"$f":"VLOOKUP(B882,Import!A$1:B$20000,2,FALSE)","v":{"$error":"#N/A"}},"EJ_GRANSKN",{"$f":"VLOOKUP(S882,Import!A$1:B$20000,2,FALSE)","v":{"$error":"#N/A"}},"32211_S_L_SEK_TOT_U_M_X_H1_VALFRI_SEK",1000,null,"30674_D1168_cmb452_",{"$f":"VLOOKUP(B882,Import!E$1:F$20000,2,FALSE)","v":{"$error":"#N/A"}}]
[{"$f":"IF(ISBLANK(Inm_30674_D1169_cmb453_),\"\",$T$883 * Inm_30674_D1169_cmb453_)","v":""},"30674_D1169_cmb453_","Handel i sven, Lång , Utflöde","VP203'!Inm_30674_D1169_cmb453_","32211","S","L","SEK","TOT","U","M","X","H1",{"$f":"VLOOKUP('VP203'!$B$452,FlexDimensioner!$C$1:$D$430,2,FALSE)","v":"VALFRI"},"SEK",{"$f":"VLOOKUP(B883,Import!A$1:B$20000,2,FALSE)","v":{"$error":"#N/A"}},"EJ_GRANSKN",{"$f":"VLOOKUP(S883,Import!A$1:B$20000,2,FALSE)","v":{"$error":"#N/A"}},"32211_S_L_SEK_TOT_U_M_X_H1_VALFRI_SEK",1000,null,"30674_D1169_cmb453_",{"$f":"VLOOKUP(B883,Import!E$1:F$20000,2,FALSE)","v":{"$error":"#N/A"}}]
[{"$f":"IF(ISBLANK(Inm_30674_D1170_cmb454_),\"\",$T$884 * Inm_30674_D1170_cmb454_)","v":""},"30674_D1170_cmb454_","Handel i sven, Lång , Utflöde","VP203'!Inm_30674_D1170_cmb454_","32211","S","L","SEK","TOT","U","M","X","H1",{"$f":"VLOOKUP('VP203'!$B$453,FlexDimensioner!$C$1:$D$430,2,FALSE)","v":"VALFRI"},"SEK",{"$f":"VLOOKUP(B884,Import!A$1:B$20000,2,FALSE)","v":{"$error":"#N/A"}},"EJ_GRANSKN",{"$f":"VLOOKUP(S884,Import!A$1:B$20000,2,FALSE)","v":{"$error":"#N/A"}},{"$f":"CONCATENATE(E884,\"_\",F884,\"_\",G884,\"_\",H884,\"_\",I884,\"_\",J884,\"_\",K884,\"_\",L884,\"_\",M884,\"_\",N884,\"_\",O884)","v":"32211_S_L_SEK_TOT_U_M_X_H1_VALFRI_SEK"},1000,null,"30674_D1170_cmb454_",{"$f":"VLOOKUP(B884,Import!E$1:F$20000,2,FALSE)","v":{"$error":"#N/A"}}]
[{"$f":"IF(ISBLANK(Inm_30674_D1171_cmb455_),\"\",$T$885 * Inm_30674_D1171_cmb455_)","v":""},"30674_D1171_cmb455_","Handel i sven, Lång , Utflöde","VP203'!Inm_30674_D1171_cmb455_","32211","S","L","SEK","TOT","U","M","X","H1",{"$f":"VLOOKUP('VP203'!$B$454,FlexDimensioner!$C$1:$D$430,2,FALSE)","v":"VALFRI"},"SEK",{"$f":"VLOOKUP(B885,Import!A$1:B$20000,2,FALSE)","v":{"$error":"#N/A"}},"EJ_GRANSKN",{"$f":"VLOOKUP(S885,Import!A$1:B$20000,2,FALSE)","v":{"$error":"#N/A"}},"32211_S_L_SEK_TOT_U_M_X_H1_VALFRI_SEK",1000,null,"30674_D1171_cmb455_",{"$f":"VLOOKUP(B885,Import!E$1:F$20000,2,FALSE)","v":{"$error":"#N/A"}}]
[{"$f":"IF(ISBLANK(Inm_30674_D1172_cmb456_),\"\",$T$886 * Inm_30674_D1172_cmb456_)","v":""},"30674_D1172_cmb456_","Handel i sven, Lång , Utflöde","VP203'!Inm_30674_D1172_cmb456_","32211","S","L","SEK","TOT","U","M","X","H1",{"$f":"VLOOKUP('VP203'!$B$455,FlexDimensioner!$C$1:$D$430,2,FALSE)","v":"VALFRI"},"SEK",{"$f":"VLOOKUP(B886,Import!A$1:B$20000,2,FALSE)","v":{"$error":"#N/A"}},"EJ_GRANSKN",{"$f":"VLOOKUP(S886,Import!A$1:B$20000,2,FALSE)","v":{"$error":"#N/A"}},"32211_S_L_SEK_TOT_U_M_X_H1_VALFRI_SEK",1000,null,"30674_D1172_cmb456_",{"$f":"VLOOKUP(B886,Import!E$1:F$20000,2,FALSE)","v":{"$error":"#N/A"}}]
[{"$f":"IF(ISBLANK(Inm_30674_D1173_cmb457_),\"\",$T$887 * Inm_30674_D1173_cmb457_)","v":""},"30674_D1173_cmb457_","Handel i sven, Lång , Utflöde","VP203'!Inm_30674_D1173_cmb457_","32211","S","L","SEK","TOT","U","M","X","H1",{"$f":"VLOOKUP('VP203'!$B$456,FlexDimensioner!$C$1:$D$430,2,FALSE)","v":"VALFRI"},"SEK",{"$f":"VLOOKUP(B887,Import!A$1:B$20000,2,FALSE)","v":{"$error":"#N/A"}},"EJ_GRANSKN",{"$f":"VLOOKUP(S887,Import!A$1:B$20000,2,FALSE)","v":{"$error":"#N/A"}},"32211_S_L_SEK_TOT_U_M_X_H1_VALFRI_SEK",1000,null,"30674_D1173_cmb457_",{"$f":"VLOOKUP(B887,Import!E$1:F$20000,2,FALSE)","v":{"$error":"#N/A"}}]
[{"$f":"IF(ISBLANK(Inm_30674_D1174_cmb458_),\"\",$T$888 * Inm_30674_D1174_cmb458_)","v":""},"30674_D1174_cmb458_","Handel i sven, Lång , Utflöde","VP203'!Inm_30674_D1174_cmb458_","32211","S","L","SEK","TOT","U","M","X","H1",{"$f":"VLOOKUP('VP203'!$B$457,FlexDimensioner!$C$1:$D$430,2,FALSE)","v":"VALFRI"},"SEK",{"$f":"VLOOKUP(B888,Import!A$1:B$20000,2,FALSE)","v":{"$error":"#N/A"}},"EJ_GRANSKN",{"$f":"VLOOKUP(S888,Import!A$1:B$20000,2,FALSE)","v":{"$error":"#N/A"}},"32211_S_L_SEK_TOT_U_M_X_H1_VALFRI_SEK",1000,null,"30674_D1174_cmb458_",{"$f":"VLOOKUP(B888,Import!E$1:F$20000,2,FALSE)","v":{"$error":"#N/A"}}]
[{"$f":"IF(ISBLANK(Inm_30674_D1175_cmb459_),\"\",$T$889 * Inm_30674_D1175_cmb459_)","v":""},"30674_D1175_cmb459_","Handel i sven, Lång , Utflöde","VP203'!Inm_30674_D1175_cmb459_","32211","S","L","SEK","TOT","U","M","X","H1",{"$f":"VLOOKUP('VP203'!$B$458,FlexDimensioner!$C$1:$D$430,2,FALSE)","v":"VALFRI"},"SEK",{"$f":"VLOOKUP(B889,Import!A$1:B$20000,2,FALSE)","v":{"$error":"#N/A"}},"EJ_GRANSKN",{"$f":"VLOOKUP(S889,Import!A$1:B$20000,2,FALSE)","v":{"$error":"#N/A"}},"32211_S_L_SEK_TOT_U_M_X_H1_VALFRI_SEK",1000,null,"30674_D1175_cmb459_",{"$f":"VLOOKUP(B889,Import!E$1:F$20000,2,FALSE)","v":{"$error":"#N/A"}}]
[{"$f":"IF(ISBLANK(Inm_30674_D1176_cmb460_),\"\",$T$890 * Inm_30674_D1176_cmb460_)","v":""},"30674_D1176_cmb460_","Handel i sven, Lång , Utflöde","VP203'!Inm_30674_D1176_cmb460_","32211","S","L","SEK","TOT","U","M","X","H1",{"$f":"VLOOKUP('VP203'!$B$459,FlexDimensioner!$C$1:$D$430,2,FALSE)","v":"VALFRI"},"SEK",{"$f":"VLOOKUP(B890,Import!A$1:B$20000,2,FALSE)","v":{"$error":"#N/A"}},"EJ_GRANSKN",{"$f":"VLOOKUP(S890,Import!A$1:B$20000,2,FALSE)","v":{"$error":"#N/A"}},"32211_S_L_SEK_TOT_U_M_X_H1_VALFRI_SEK",1000,null,"30674_D1176_cmb460_",{"$f":"VLOOKUP(B890,Import!E$1:F$20000,2,FALSE)","v":{"$error":"#N/A"}}]
[{"$f":"IF(ISBLANK(Inm_30674_D1177_cmb461_),\"\",$T$891 * Inm_30674_D1177_cmb461_)","v":""},"30674_D1177_cmb461_","Handel i sven, Lång , Utflöde","VP203'!Inm_30674_D1177_cmb461_","32211","S","L","SEK","TOT","U","M","X","H1",{"$f":"VLOOKUP('VP203'!$B$460,FlexDimensioner!$C$1:$D$430,2,FALSE)","v":"VALFRI"},"SEK",{"$f":"VLOOKUP(B891,Import!A$1:B$20000,2,FALSE)","v":{"$error":"#N/A"}},"EJ_GRANSKN",{"$f":"VLOOKUP(S891,Import!A$1:B$20000,2,FALSE)","v":{"$error":"#N/A"}},"32211_S_L_SEK_TOT_U_M_X_H1_VALFRI_SEK",1000,null,"30674_D1177_cmb461_",{"$f":"VLOOKUP(B891,Import!E$1:F$20000,2,FALSE)","v":{"$error":"#N/A"}}]
[{"$f":"IF(ISBLANK(Inm_30674_D1178_cmb462_),\"\",$T$892 * Inm_30674_D1178_cmb462_)","v":""},"30674_D1178_cmb462_","Handel i sven, Lång , Utflöde","VP203'!Inm_30674_D1178_cmb462_","32211","S","L","SEK","TOT","U","M","X","H1",{"$f":"VLOOKUP('VP203'!$B$461,FlexDimensioner!$C$1:$D$430,2,FALSE)","v":"VALFRI"},"SEK",{"$f":"VLOOKUP(B892,Import!A$1:B$20000,2,FALSE)","v":{"$error":"#N/A"}},"EJ_GRANSKN",{"$f":"VLOOKUP(S892,Import!A$1:B$20000,2,FALSE)","v":{"$error":"#N/A"}},"32211_S_L_SEK_TOT_U_M_X_H1_VALFRI_SEK",1000,null,"30674_D1178_cmb462_",{"$f":"VLOOKUP(B892,Import!E$1:F$20000,2,FALSE)","v":{"$error":"#N/A"}}]
[{"$f":"IF(ISBLANK(Inm_30674_D1179_cmb463_),\"\",$T$893 * Inm_30674_D1179_cmb463_)","v":""},"30674_D1179_cmb463_","Handel i sven, Lång , Utflöde","VP203'!Inm_30674_D1179_cmb463_","32211","S","L","SEK","TOT","U","M","X","H1",{"$f":"VLOOKUP('VP203'!$B$462,FlexDimensioner!$C$1:$D$430,2,FALSE)","v":"VALFRI"},"SEK",{"$f":"VLOOKUP(B893,Import!A$1:B$20000,2,FALSE)","v":{"$error":"#N/A"}},"EJ_GRANSKN",{"$f":"VLOOKUP(S893,Import!A$1:B$20000,2,FALSE)","v":{"$error":"#N/A"}},"32211_S_L_SEK_TOT_U_M_X_H1_VALFRI_SEK",1000,null,"30674_D1179_cmb463_",{"$f":"VLOOKUP(B893,Import!E$1:F$20000,2,FALSE)","v":{"$error":"#N/A"}}]
[{"$f":"IF(ISBLANK(Inm_30674_D1180_cmb464_),\"\",$T$894 * Inm_30674_D1180_cmb464_)","v":""},"30674_D1180_cmb464_","Handel i sven, Lång , Utflöde","VP203'!Inm_30674_D1180_cmb464_","32211","S","L","SEK","TOT","U","M","X","H1",{"$f":"VLOOKUP('VP203'!$B$463,FlexDimensioner!$C$1:$D$430,2,FALSE)","v":"VALFRI"},"SEK",{"$f":"VLOOKUP(B894,Import!A$1:B$20000,2,FALSE)","v":{"$error":"#N/A"}},"EJ_GRANSKN",{"$f":"VLOOKUP(S894,Import!A$1:B$20000,2,FALSE)","v":{"$error":"#N/A"}},"32211_S_L_SEK_TOT_U_M_X_H1_VALFRI_SEK",1000,null,"30674_D1180_cmb464_",{"$f":"VLOOKUP(B894,Import!E$1:F$20000,2,FALSE)","v":{"$error":"#N/A"}}]
[{"$f":"IF(ISBLANK(Inm_30674_D1181_cmb465_),\"\",$T$895 * Inm_30674_D1181_cmb465_)","v":""},"30674_D1181_cmb465_","Handel i sven, Lång , Utflöde","VP203'!Inm_30674_D1181_cmb465_","32211","S","L","SEK","TOT","U","M","X","H1",{"$f":"VLOOKUP('VP203'!$B$464,FlexDimensioner!$C$1:$D$430,2,FALSE)","v":"VALFRI"},"SEK",{"$f":"VLOOKUP(B895,Import!A$1:B$20000,2,FALSE)","v":{"$error":"#N/A"}},"EJ_GRANSKN",{"$f":"VLOOKUP(S895,Import!A$1:B$20000,2,FALSE)","v":{"$error":"#N/A"}},"32211_S_L_SEK_TOT_U_M_X_H1_VALFRI_SEK",1000,null,"30674_D1181_cmb465_",{"$f":"VLOOKUP(B895,Import!E$1:F$20000,2,FALSE)","v":{"$error":"#N/A"}}]
[{"$f":"IF(ISBLANK(Inm_30674_D1182_cmb466_),\"\",$T$896 * Inm_30674_D1182_cmb466_)","v":""},"30674_D1182_cmb466_","Handel i sven, Lång , Utflöde","VP203'!Inm_30674_D1182_cmb466_","32211","S","L","SEK","TOT","U","M","X","H1",{"$f":"VLOOKUP('VP203'!$B$465,FlexDimensioner!$C$1:$D$430,2,FALSE)","v":"VALFRI"},"SEK",{"$f":"VLOOKUP(B896,Import!A$1:B$20000,2,FALSE)","v":{"$error":"#N/A"}},"EJ_GRANSKN",{"$f":"VLOOKUP(S896,Import!A$1:B$20000,2,FALSE)","v":{"$error":"#N/A"}},"32211_S_L_SEK_TOT_U_M_X_H1_VALFRI_SEK",1000,null,"30674_D1182_cmb466_",{"$f":"VLOOKUP(B896,Import!E$1:F$20000,2,FALSE)","v":{"$error":"#N/A"}}]
[{"$f":"IF(ISBLANK(Inm_30674_D1183_cmb467_),\"\",$T$897 * Inm_30674_D1183_cmb467_)","v":""},"30674_D1183_cmb467_","Handel i sven, Lång , Utflöde","VP203'!Inm_30674_D1183_cmb467_","32211","S","L","SEK","TOT","U","M","X","H1",{"$f":"VLOOKUP('VP203'!$B$466,FlexDimensioner!$C$1:$D$430,2,FALSE)","v":"VALFRI"},"SEK",{"$f":"VLOOKUP(B897,Import!A$1:B$20000,2,FALSE)","v":{"$error":"#N/A"}},"EJ_GRANSKN",{"$f":"VLOOKUP(S897,Import!A$1:B$20000,2,FALSE)","v":{"$error":"#N/A"}},"32211_S_L_SEK_TOT_U_M_X_H1_VALFRI_SEK",1000,null,"30674_D1183_cmb467_",{"$f":"VLOOKUP(B897,Import!E$1:F$20000,2,FALSE)","v":{"$error":"#N/A"}}]
[{"$f":"IF(ISBLANK(Inm_30674_D1184_cmb468_),\"\",$T$898 * Inm_30674_D1184_cmb468_)","v":""},"30674_D1184_cmb468_","Handel i sven, Lång , Utflöde","VP203'!Inm_30674_D1184_cmb468_","32211","S","L","SEK","TOT","U","M","X","H1",{"$f":"VLOOKUP('VP203'!$B$467,FlexDimensioner!$C$1:$D$430,2,FALSE)","v":"VALFRI"},"SEK",{"$f":"VLOOKUP(B898,Import!A$1:B$20000,2,FALSE)","v":{"$error":"#N/A"}},"EJ_GRANSKN",{"$f":"VLOOKUP(S898,Import!A$1:B$20000,2,FALSE)","v":{"$error":"#N/A"}},"32211_S_L_SEK_TOT_U_M_X_H1_VALFRI_SEK",1000,null,"30674_D1184_cmb468_",{"$f":"VLOOKUP(B898,Import!E$1:F$20000,2,FALSE)","v":{"$error":"#N/A"}}]
[{"$f":"IF(ISBLANK(Inm_30674_D1185_cmb469_),\"\",$T$899 * Inm_30674_D1185_cmb469_)","v":""},"30674_D1185_cmb469_","Handel i sven, Lång , Utflöde","VP203'!Inm_30674_D1185_cmb469_","32211","S","L","SEK","TOT","U","M","X","H1",{"$f":"VLOOKUP('VP203'!$B$468,FlexDimensioner!$C$1:$D$430,2,FALSE)","v":"VALFRI"},"SEK",{"$f":"VLOOKUP(B899,Import!A$1:B$20000,2,FALSE)","v":{"$error":"#N/A"}},"EJ_GRANSKN",{"$f":"VLOOKUP(S899,Import!A$1:B$20000,2,FALSE)","v":{"$error":"#N/A"}},"32211_S_L_SEK_TOT_U_M_X_H1_VALFRI_SEK",1000,null,"30674_D1185_cmb469_",{"$f":"VLOOKUP(B899,Import!E$1:F$20000,2,FALSE)","v":{"$error":"#N/A"}}]
[{"$f":"IF(ISBLANK(Inm_30674_D1186_cmb470_),\"\",$T$900 * Inm_30674_D1186_cmb470_)","v":""},"30674_D1186_cmb470_","Handel i sven, Lång , Utflöde","VP203'!Inm_30674_D1186_cmb470_","32211","S","L","SEK","TOT","U","M","X","H1",{"$f":"VLOOKUP('VP203'!$B$469,FlexDimensioner!$C$1:$D$430,2,FALSE)","v":"VALFRI"},"SEK",{"$f":"VLOOKUP(B900,Import!A$1:B$20000,2,FALSE)","v":{"$error":"#N/A"}},"EJ_GRANSKN",{"$f":"VLOOKUP(S900,Import!A$1:B$20000,2,FALSE)","v":{"$error":"#N/A"}},"32211_S_L_SEK_TOT_U_M_X_H1_VALFRI_SEK",1000,null,"30674_D1186_cmb470_",{"$f":"VLOOKUP(B900,Import!E$1:F$20000,2,FALSE)","v":{"$error":"#N/A"}}]
[{"$f":"IF(ISBLANK(Inm_30674_D1187_cmb471_),\"\",$T$901 * Inm_30674_D1187_cmb471_)","v":""},"30674_D1187_cmb471_","Handel i sven, Lång , Utflöde","VP203'!Inm_30674_D1187_cmb471_","32211","S","L","SEK","TOT","U","M","X","H1",{"$f":"VLOOKUP('VP203'!$B$470,FlexDimensioner!$C$1:$D$430,2,FALSE)","v":"VALFRI"},"SEK",{"$f":"VLOOKUP(B901,Import!A$1:B$20000,2,FALSE)","v":{"$error":"#N/A"}},"EJ_GRANSKN",{"$f":"VLOOKUP(S901,Import!A$1:B$20000,2,FALSE)","v":{"$error":"#N/A"}},"32211_S_L_SEK_TOT_U_M_X_H1_VALFRI_SEK",1000,null,"30674_D1187_cmb471_",{"$f":"VLOOKUP(B901,Import!E$1:F$20000,2,FALSE)","v":{"$error":"#N/A"}}]
[{"$f":"IF(ISBLANK(Inm_30674_D1188_cmb472_),\"\",$T$902 * Inm_30674_D1188_cmb472_)","v":""},"30674_D1188_cmb472_","Handel i sven, Lång , Utflöde","VP203'!Inm_30674_D1188_cmb472_","32211","S","L","SEK","TOT","U","M","X","H1",{"$f":"VLOOKUP('VP203'!$B$471,FlexDimensioner!$C$1:$D$430,2,FALSE)","v":"VALFRI"},"SEK",{"$f":"VLOOKUP(B902,Import!A$1:B$20000,2,FALSE)","v":{"$error":"#N/A"}},"EJ_GRANSKN",{"$f":"VLOOKUP(S902,Import!A$1:B$20000,2,FALSE)","v":{"$error":"#N/A"}},"32211_S_L_SEK_TOT_U_M_X_H1_VALFRI_SEK",1000,null,"30674_D1188_cmb472_",{"$f":"VLOOKUP(B902,Import!E$1:F$20000,2,FALSE)","v":{"$error":"#N/A"}}]
[{"$f":"IF(ISBLANK(Inm_30674_D1189_cmb473_),\"\",$T$903 * Inm_30674_D1189_cmb473_)","v":""},"30674_D1189_cmb473_","Handel i sven, Lång , Utflöde","VP203'!Inm_30674_D1189_cmb473_","32211","S","L","SEK","TOT","U","M","X","H1",{"$f":"VLOOKUP('VP203'!$B$472,FlexDimensioner!$C$1:$D$430,2,FALSE)","v":"VALFRI"},"SEK",{"$f":"VLOOKUP(B903,Import!A$1:B$20000,2,FALSE)","v":{"$error":"#N/A"}},"EJ_GRANSKN",{"$f":"VLOOKUP(S903,Import!A$1:B$20000,2,FALSE)","v":{"$error":"#N/A"}},"32211_S_L_SEK_TOT_U_M_X_H1_VALFRI_SEK",1000,null,"30674_D1189_cmb473_",{"$f":"VLOOKUP(B903,Import!E$1:F$20000,2,FALSE)","v":{"$error":"#N/A"}}]
[{"$f":"IF(ISBLANK(Inm_30674_D1190_cmb474_),\"\",$T$904 * Inm_30674_D1190_cmb474_)","v":""},"30674_D1190_cmb474_","Handel i sven, Lång , Utflöde","VP203'!Inm_30674_D1190_cmb474_","32211","S","L","SEK","TOT","U","M","X","H1",{"$f":"VLOOKUP('VP203'!$B$473,FlexDimensioner!$C$1:$D$430,2,FALSE)","v":"VALFRI"},"SEK",{"$f":"VLOOKUP(B904,Import!A$1:B$20000,2,FALSE)","v":{"$error":"#N/A"}},"EJ_GRANSKN",{"$f":"VLOOKUP(S904,Import!A$1:B$20000,2,FALSE)","v":{"$error":"#N/A"}},"32211_S_L_SEK_TOT_U_M_X_H1_VALFRI_SEK",1000,null,"30674_D1190_cmb474_",{"$f":"VLOOKUP(B904,Import!E$1:F$20000,2,FALSE)","v":{"$error":"#N/A"}}]
[{"$f":"IF(ISBLANK(Inm_30674_D1191_cmb475_),\"\",$T$905 * Inm_30674_D1191_cmb475_)","v":""},"30674_D1191_cmb475_","Handel i sven, Lång , Utflöde","VP203'!Inm_30674_D1191_cmb475_","32211","S","L","SEK","TOT","U","M","X","H1",{"$f":"VLOOKUP('VP203'!$B$474,FlexDimensioner!$C$1:$D$430,2,FALSE)","v":"VALFRI"},"SEK",{"$f":"VLOOKUP(B905,Import!A$1:B$20000,2,FALSE)","v":{"$error":"#N/A"}},"EJ_GRANSKN",{"$f":"VLOOKUP(S905,Import!A$1:B$20000,2,FALSE)","v":{"$error":"#N/A"}},"32211_S_L_SEK_TOT_U_M_X_H1_VALFRI_SEK",1000,null,"30674_D1191_cmb475_",{"$f":"VLOOKUP(B905,Import!E$1:F$20000,2,FALSE)","v":{"$error":"#N/A"}}]
[{"$f":"IF(ISBLANK(Inm_30674_D1192_cmb476_),\"\",$T$906 * Inm_30674_D1192_cmb476_)","v":""},"30674_D1192_cmb476_","Handel i sven, Lång , Utflöde","VP203'!Inm_30674_D1192_cmb476_","32211","S","L","SEK","TOT","U","M","X","H1",{"$f":"VLOOKUP('VP203'!$B$475,FlexDimensioner!$C$1:$D$430,2,FALSE)","v":"VALFRI"},"SEK",{"$f":"VLOOKUP(B906,Import!A$1:B$20000,2,FALSE)","v":{"$error":"#N/A"}},"EJ_GRANSKN",{"$f":"VLOOKUP(S906,Import!A$1:B$20000,2,FALSE)","v":{"$error":"#N/A"}},"32211_S_L_SEK_TOT_U_M_X_H1_VALFRI_SEK",1000,null,"30674_D1192_cmb476_",{"$f":"VLOOKUP(B906,Import!E$1:F$20000,2,FALSE)","v":{"$error":"#N/A"}}]
[{"$f":"IF(ISBLANK(Inm_30674_D1193_cmb477_),\"\",$T$907 * Inm_30674_D1193_cmb477_)","v":""},"30674_D1193_cmb477_","Handel i sven, Lång , Utflöde","VP203'!Inm_30674_D1193_cmb477_","32211","S","L","SEK","TOT","U","M","X","H1",{"$f":"VLOOKUP('VP203'!$B$476,FlexDimensioner!$C$1:$D$430,2,FALSE)","v":"VALFRI"},"SEK",{"$f":"VLOOKUP(B907,Import!A$1:B$20000,2,FALSE)","v":{"$error":"#N/A"}},"EJ_GRANSKN",{"$f":"VLOOKUP(S907,Import!A$1:B$20000,2,FALSE)","v":{"$error":"#N/A"}},"32211_S_L_SEK_TOT_U_M_X_H1_VALFRI_SEK",1000,null,"30674_D1193_cmb477_",{"$f":"VLOOKUP(B907,Import!E$1:F$20000,2,FALSE)","v":{"$error":"#N/A"}}]
[{"$f":"IF(ISBLANK(Inm_30674_D1194_cmb478_),\"\",$T$908 * Inm_30674_D1194_cmb478_)","v":""},"30674_D1194_cmb478_","Handel i sven, Lång , Utflöde","VP203'!Inm_30674_D1194_cmb478_","32211","S","L","SEK","TOT","U","M","X","H1",{"$f":"VLOOKUP('VP203'!$B$477,FlexDimensioner!$C$1:$D$430,2,FALSE)","v":"VALFRI"},"SEK",{"$f":"VLOOKUP(B908,Import!A$1:B$20000,2,FALSE)","v":{"$error":"#N/A"}},"EJ_GRANSKN",{"$f":"VLOOKUP(S908,Import!A$1:B$20000,2,FALSE)","v":{"$error":"#N/A"}},"32211_S_L_SEK_TOT_U_M_X_H1_VALFRI_SEK",1000,null,"30674_D1194_cmb478_",{"$f":"VLOOKUP(B908,Import!E$1:F$20000,2,FALSE)","v":{"$error":"#N/A"}}]
[{"$f":"IF(ISBLANK(Inm_30674_D1195_cmb479_),\"\",$T$909 * Inm_30674_D1195_cmb479_)","v":""},"30674_D1195_cmb479_","Handel i sven, Lång , Utflöde","VP203'!Inm_30674_D1195_cmb479_","32211","S","L","SEK","TOT","U","M","X","H1",{"$f":"VLOOKUP('VP203'!$B$478,FlexDimensioner!$C$1:$D$430,2,FALSE)","v":"VALFRI"},"SEK",{"$f":"VLOOKUP(B909,Import!A$1:B$20000,2,FALSE)","v":{"$error":"#N/A"}},"EJ_GRANSKN",{"$f":"VLOOKUP(S909,Import!A$1:B$20000,2,FALSE)","v":{"$error":"#N/A"}},"32211_S_L_SEK_TOT_U_M_X_H1_VALFRI_SEK",1000,null,"30674_D1195_cmb479_",{"$f":"VLOOKUP(B909,Import!E$1:F$20000,2,FALSE)","v":{"$error":"#N/A"}}]
[{"$f":"IF(ISBLANK(Inm_30674_D1196_cmb480_),\"\",$T$910 * Inm_30674_D1196_cmb480_)","v":""},"30674_D1196_cmb480_","Handel i sven, Lång , Utflöde","VP203'!Inm_30674_D1196_cmb480_","32211","S","L","SEK","TOT","U","M","X","H1",{"$f":"VLOOKUP('VP203'!$B$479,FlexDimensioner!$C$1:$D$430,2,FALSE)","v":"VALFRI"},"SEK",{"$f":"VLOOKUP(B910,Import!A$1:B$20000,2,FALSE)","v":{"$error":"#N/A"}},"EJ_GRANSKN",{"$f":"VLOOKUP(S910,Import!A$1:B$20000,2,FALSE)","v":{"$error":"#N/A"}},"32211_S_L_SEK_TOT_U_M_X_H1_VALFRI_SEK",1000,null,"30674_D1196_cmb480_",{"$f":"VLOOKUP(B910,Import!E$1:F$20000,2,FALSE)","v":{"$error":"#N/A"}}]
[{"$f":"IF(ISBLANK(Inm_30674_D1197_cmb481_),\"\",$T$911 * Inm_30674_D1197_cmb481_)","v":""},"30674_D1197_cmb481_","Handel i sven, Lång , Utflöde","VP203'!Inm_30674_D1197_cmb481_","32211","S","L","SEK","TOT","U","M","X","H1",{"$f":"VLOOKUP('VP203'!$B$480,FlexDimensioner!$C$1:$D$430,2,FALSE)","v":"VALFRI"},"SEK",{"$f":"VLOOKUP(B911,Import!A$1:B$20000,2,FALSE)","v":{"$error":"#N/A"}},"EJ_GRANSKN",{"$f":"VLOOKUP(S911,Import!A$1:B$20000,2,FALSE)","v":{"$error":"#N/A"}},"32211_S_L_SEK_TOT_U_M_X_H1_VALFRI_SEK",1000,null,"30674_D1197_cmb481_",{"$f":"VLOOKUP(B911,Import!E$1:F$20000,2,FALSE)","v":{"$error":"#N/A"}}]
[{"$f":"IF(ISBLANK(Inm_30674_D1198_cmb482_),\"\",$T$912 * Inm_30674_D1198_cmb482_)","v":""},"30674_D1198_cmb482_","Handel i sven, Lång , Utflöde","VP203'!Inm_30674_D1198_cmb482_","32211","S","L","SEK","TOT","U","M","X","H1",{"$f":"VLOOKUP('VP203'!$B$481,FlexDimensioner!$C$1:$D$430,2,FALSE)","v":"VALFRI"},"SEK",{"$f":"VLOOKUP(B912,Import!A$1:B$20000,2,FALSE)","v":{"$error":"#N/A"}},"EJ_GRANSKN",{"$f":"VLOOKUP(S912,Import!A$1:B$20000,2,FALSE)","v":{"$error":"#N/A"}},"32211_S_L_SEK_TOT_U_M_X_H1_VALFRI_SEK",1000,null,"30674_D1198_cmb482_",{"$f":"VLOOKUP(B912,Import!E$1:F$20000,2,FALSE)","v":{"$error":"#N/A"}}]
[{"$f":"IF(ISBLANK(Inm_30674_D1199_cmb483_),\"\",$T$913 * Inm_30674_D1199_cmb483_)","v":""},"30674_D1199_cmb483_","Handel i sven, Lång , Utflöde","VP203'!Inm_30674_D1199_cmb483_","32211","S","L","SEK","TOT","U","M","X","H1",{"$f":"VLOOKUP('VP203'!$B$482,FlexDimensioner!$C$1:$D$430,2,FALSE)","v":"VALFRI"},"SEK",{"$f":"VLOOKUP(B913,Import!A$1:B$20000,2,FALSE)","v":{"$error":"#N/A"}},"EJ_GRANSKN",{"$f":"VLOOKUP(S913,Import!A$1:B$20000,2,FALSE)","v":{"$error":"#N/A"}},"32211_S_L_SEK_TOT_U_M_X_H1_VALFRI_SEK",1000,null,"30674_D1199_cmb483_",{"$f":"VLOOKUP(B913,Import!E$1:F$20000,2,FALSE)","v":{"$error":"#N/A"}}]
[{"$f":"IF(ISBLANK(Inm_30674_D1200_cmb484_),\"\",$T$914 * Inm_30674_D1200_cmb484_)","v":""},"30674_D1200_cmb484_","Handel i sven, Lång , Utflöde","VP203'!Inm_30674_D1200_cmb484_","32211","S","L","SEK","TOT","U","M","X","H1",{"$f":"VLOOKUP('VP203'!$B$483,FlexDimensioner!$C$1:$D$430,2,FALSE)","v":"VALFRI"},"SEK",{"$f":"VLOOKUP(B914,Import!A$1:B$20000,2,FALSE)","v":{"$error":"#N/A"}},"EJ_GRANSKN",{"$f":"VLOOKUP(S914,Import!A$1:B$20000,2,FALSE)","v":{"$error":"#N/A"}},"32211_S_L_SEK_TOT_U_M_X_H1_VALFRI_SEK",1000,null,"30674_D1200_cmb484_",{"$f":"VLOOKUP(B914,Import!E$1:F$20000,2,FALSE)","v":{"$error":"#N/A"}}]
[{"$f":"IF(ISBLANK(Inm_30674_D1201_cmb485_),\"\",$T$915 * Inm_30674_D1201_cmb485_)","v":""},"30674_D1201_cmb485_","Handel i sven, Lång , Utflöde","VP203'!Inm_30674_D1201_cmb485_","32211","S","L","SEK","TOT","U","M","X","H1",{"$f":"VLOOKUP('VP203'!$B$484,FlexDimensioner!$C$1:$D$430,2,FALSE)","v":"VALFRI"},"SEK",{"$f":"VLOOKUP(B915,Import!A$1:B$20000,2,FALSE)","v":{"$error":"#N/A"}},"EJ_GRANSKN",{"$f":"VLOOKUP(S915,Import!A$1:B$20000,2,FALSE)","v":{"$error":"#N/A"}},"32211_S_L_SEK_TOT_U_M_X_H1_VALFRI_SEK",1000,null,"30674_D1201_cmb485_",{"$f":"VLOOKUP(B915,Import!E$1:F$20000,2,FALSE)","v":{"$error":"#N/A"}}]
[{"$f":"IF(ISBLANK(Inm_30674_D1202_cmb486_),\"\",$T$916 * Inm_30674_D1202_cmb486_)","v":""},"30674_D1202_cmb486_","Handel i sven, Lång , Utflöde","VP203'!Inm_30674_D1202_cmb486_","32211","S","L","SEK","TOT","U","M","X","H1",{"$f":"VLOOKUP('VP203'!$B$485,FlexDimensioner!$C$1:$D$430,2,FALSE)","v":"VALFRI"},"SEK",{"$f":"VLOOKUP(B916,Import!A$1:B$20000,2,FALSE)","v":{"$error":"#N/A"}},"EJ_GRANSKN",{"$f":"VLOOKUP(S916,Import!A$1:B$20000,2,FALSE)","v":{"$error":"#N/A"}},"32211_S_L_SEK_TOT_U_M_X_H1_VALFRI_SEK",1000,null,"30674_D1202_cmb486_",{"$f":"VLOOKUP(B916,Import!E$1:F$20000,2,FALSE)","v":{"$error":"#N/A"}}]
[{"$f":"IF(ISBLANK(Inm_30674_D1203_cmb487_),\"\",$T$917 * Inm_30674_D1203_cmb487_)","v":""},"30674_D1203_cmb487_","Handel i sven, Lång , Utflöde","VP203'!Inm_30674_D1203_cmb487_","32211","S","L","SEK","TOT","U","M","X","H1",{"$f":"VLOOKUP('VP203'!$B$486,FlexDimensioner!$C$1:$D$430,2,FALSE)","v":"VALFRI"},"SEK",{"$f":"VLOOKUP(B917,Import!A$1:B$20000,2,FALSE)","v":{"$error":"#N/A"}},"EJ_GRANSKN",{"$f":"VLOOKUP(S917,Import!A$1:B$20000,2,FALSE)","v":{"$error":"#N/A"}},"32211_S_L_SEK_TOT_U_M_X_H1_VALFRI_SEK",1000,null,"30674_D1203_cmb487_",{"$f":"VLOOKUP(B917,Import!E$1:F$20000,2,FALSE)","v":{"$error":"#N/A"}}]
[{"$f":"IF(ISBLANK(Inm_30674_D1204_cmb488_),\"\",$T$918 * Inm_30674_D1204_cmb488_)","v":""},"30674_D1204_cmb488_","Handel i sven, Lång , Utflöde","VP203'!Inm_30674_D1204_cmb488_","32211","S","L","SEK","TOT","U","M","X","H1",{"$f":"VLOOKUP('VP203'!$B$487,FlexDimensioner!$C$1:$D$430,2,FALSE)","v":"VALFRI"},"SEK",{"$f":"VLOOKUP(B918,Import!A$1:B$20000,2,FALSE)","v":{"$error":"#N/A"}},"EJ_GRANSKN",{"$f":"VLOOKUP(S918,Import!A$1:B$20000,2,FALSE)","v":{"$error":"#N/A"}},"32211_S_L_SEK_TOT_U_M_X_H1_VALFRI_SEK",1000,null,"30674_D1204_cmb488_",{"$f":"VLOOKUP(B918,Import!E$1:F$20000,2,FALSE)","v":{"$error":"#N/A"}}]
[{"$f":"IF(ISBLANK(Inm_30674_D1205_cmb489_),\"\",$T$919 * Inm_30674_D1205_cmb489_)","v":""},"30674_D1205_cmb489_","Handel i sven, Lång , Utflöde","VP203'!Inm_30674_D1205_cmb489_","32211","S","L","SEK","TOT","U","M","X","H1",{"$f":"VLOOKUP('VP203'!$B$488,FlexDimensioner!$C$1:$D$430,2,FALSE)","v":"VALFRI"},"SEK",{"$f":"VLOOKUP(B919,Import!A$1:B$20000,2,FALSE)","v":{"$error":"#N/A"}},"EJ_GRANSKN",{"$f":"VLOOKUP(S919,Import!A$1:B$20000,2,FALSE)","v":{"$error":"#N/A"}},"32211_S_L_SEK_TOT_U_M_X_H1_VALFRI_SEK",1000,null,"30674_D1205_cmb489_",{"$f":"VLOOKUP(B919,Import!E$1:F$20000,2,FALSE)","v":{"$error":"#N/A"}}]
[{"$f":"IF(ISBLANK(Inm_30674_D1206_cmb490_),\"\",$T$920 * Inm_30674_D1206_cmb490_)","v":""},"30674_D1206_cmb490_","Handel i sven, Lång , Utflöde","VP203'!Inm_30674_D1206_cmb490_","32211","S","L","SEK","TOT","U","M","X","H1",{"$f":"VLOOKUP('VP203'!$B$489,FlexDimensioner!$C$1:$D$430,2,FALSE)","v":"VALFRI"},"SEK",{"$f":"VLOOKUP(B920,Import!A$1:B$20000,2,FALSE)","v":{"$error":"#N/A"}},"EJ_GRANSKN",{"$f":"VLOOKUP(S920,Import!A$1:B$20000,2,FALSE)","v":{"$error":"#N/A"}},"32211_S_L_SEK_TOT_U_M_X_H1_VALFRI_SEK",1000,null,"30674_D1206_cmb490_",{"$f":"VLOOKUP(B920,Import!E$1:F$20000,2,FALSE)","v":{"$error":"#N/A"}}]
[{"$f":"IF(ISBLANK(Inm_30674_D1207_cmb491_),\"\",$T$921 * Inm_30674_D1207_cmb491_)","v":""},"30674_D1207_cmb491_","Handel i sven, Lång , Utflöde","VP203'!Inm_30674_D1207_cmb491_","32211","S","L","SEK","TOT","U","M","X","H1",{"$f":"VLOOKUP('VP203'!$B$490,FlexDimensioner!$C$1:$D$430,2,FALSE)","v":"VALFRI"},"SEK",{"$f":"VLOOKUP(B921,Import!A$1:B$20000,2,FALSE)","v":{"$error":"#N/A"}},"EJ_GRANSKN",{"$f":"VLOOKUP(S921,Import!A$1:B$20000,2,FALSE)","v":{"$error":"#N/A"}},"32211_S_L_SEK_TOT_U_M_X_H1_VALFRI_SEK",1000,null,"30674_D1207_cmb491_",{"$f":"VLOOKUP(B921,Import!E$1:F$20000,2,FALSE)","v":{"$error":"#N/A"}}]
[{"$f":"IF(ISBLANK(Inm_30674_D1208_cmb492_),\"\",$T$922 * Inm_30674_D1208_cmb492_)","v":""},"30674_D1208_cmb492_","Handel i sven, Lång , Utflöde","VP203'!Inm_30674_D1208_cmb492_","32211","S","L","SEK","TOT","U","M","X","H1",{"$f":"VLOOKUP('VP203'!$B$491,FlexDimensioner!$C$1:$D$430,2,FALSE)","v":"VALFRI"},"SEK",{"$f":"VLOOKUP(B922,Import!A$1:B$20000,2,FALSE)","v":{"$error":"#N/A"}},"EJ_GRANSKN",{"$f":"VLOOKUP(S922,Import!A$1:B$20000,2,FALSE)","v":{"$error":"#N/A"}},"32211_S_L_SEK_TOT_U_M_X_H1_VALFRI_SEK",1000,null,"30674_D1208_cmb492_",{"$f":"VLOOKUP(B922,Import!E$1:F$20000,2,FALSE)","v":{"$error":"#N/A"}}]
[{"$f":"IF(ISBLANK(Inm_30674_D1209_cmb493_),\"\",$T$923 * Inm_30674_D1209_cmb493_)","v":""},"30674_D1209_cmb493_","Handel i sven, Lång , Utflöde","VP203'!Inm_30674_D1209_cmb493_","32211","S","L","SEK","TOT","U","M","X","H1",{"$f":"VLOOKUP('VP203'!$B$492,FlexDimensioner!$C$1:$D$430,2,FALSE)","v":"VALFRI"},"SEK",{"$f":"VLOOKUP(B923,Import!A$1:B$20000,2,FALSE)","v":{"$error":"#N/A"}},"EJ_GRANSKN",{"$f":"VLOOKUP(S923,Import!A$1:B$20000,2,FALSE)","v":{"$error":"#N/A"}},"32211_S_L_SEK_TOT_U_M_X_H1_VALFRI_SEK",1000,null,"30674_D1209_cmb493_",{"$f":"VLOOKUP(B923,Import!E$1:F$20000,2,FALSE)","v":{"$error":"#N/A"}}]
[{"$f":"IF(ISBLANK(Inm_30674_D1210_cmb494_),\"\",$T$924 * Inm_30674_D1210_cmb494_)","v":""},"30674_D1210_cmb494_","Handel i sven, Lång , Utflöde","VP203'!Inm_30674_D1210_cmb494_","32211","S","L","SEK","TOT","U","M","X","H1",{"$f":"VLOOKUP('VP203'!$B$493,FlexDimensioner!$C$1:$D$430,2,FALSE)","v":"VALFRI"},"SEK",{"$f":"VLOOKUP(B924,Import!A$1:B$20000,2,FALSE)","v":{"$error":"#N/A"}},"EJ_GRANSKN",{"$f":"VLOOKUP(S924,Import!A$1:B$20000,2,FALSE)","v":{"$error":"#N/A"}},"32211_S_L_SEK_TOT_U_M_X_H1_VALFRI_SEK",1000,null,"30674_D1210_cmb494_",{"$f":"VLOOKUP(B924,Import!E$1:F$20000,2,FALSE)","v":{"$error":"#N/A"}}]
[{"$f":"IF(ISBLANK(Inm_30674_D1211_cmb495_),\"\",$T$925 * Inm_30674_D1211_cmb495_)","v":""},"30674_D1211_cmb495_","Handel i sven, Lång , Utflöde","VP203'!Inm_30674_D1211_cmb495_","32211","S","L","SEK","TOT","U","M","X","H1",{"$f":"VLOOKUP('VP203'!$B$494,FlexDimensioner!$C$1:$D$430,2,FALSE)","v":"VALFRI"},"SEK",{"$f":"VLOOKUP(B925,Import!A$1:B$20000,2,FALSE)","v":{"$error":"#N/A"}},"EJ_GRANSKN",{"$f":"VLOOKUP(S925,Import!A$1:B$20000,2,FALSE)","v":{"$error":"#N/A"}},"32211_S_L_SEK_TOT_U_M_X_H1_VALFRI_SEK",1000,null,"30674_D1211_cmb495_",{"$f":"VLOOKUP(B925,Import!E$1:F$20000,2,FALSE)","v":{"$error":"#N/A"}}]
[{"$f":"IF(ISBLANK(Inm_30674_D1212_cmb496_),\"\",$T$926 * Inm_30674_D1212_cmb496_)","v":""},"30674_D1212_cmb496_","Handel i sven, Lång , Utflöde","VP203'!Inm_30674_D1212_cmb496_","32211","S","L","SEK","TOT","U","M","X","H1",{"$f":"VLOOKUP('VP203'!$B$495,FlexDimensioner!$C$1:$D$430,2,FALSE)","v":"VALFRI"},"SEK",{"$f":"VLOOKUP(B926,Import!A$1:B$20000,2,FALSE)","v":{"$error":"#N/A"}},"EJ_GRANSKN",{"$f":"VLOOKUP(S926,Import!A$1:B$20000,2,FALSE)","v":{"$error":"#N/A"}},"32211_S_L_SEK_TOT_U_M_X_H1_VALFRI_SEK",1000,null,"30674_D1212_cmb496_",{"$f":"VLOOKUP(B926,Import!E$1:F$20000,2,FALSE)","v":{"$error":"#N/A"}}]
[{"$f":"IF(ISBLANK(Inm_30674_D1213_cmb497_),\"\",$T$927 * Inm_30674_D1213_cmb497_)","v":""},"30674_D1213_cmb497_","Handel i sven, Lång , Utflöde","VP203'!Inm_30674_D1213_cmb497_","32211","S","L","SEK","TOT","U","M","X","H1",{"$f":"VLOOKUP('VP203'!$B$496,FlexDimensioner!$C$1:$D$430,2,FALSE)","v":"VALFRI"},"SEK",{"$f":"VLOOKUP(B927,Import!A$1:B$20000,2,FALSE)","v":{"$error":"#N/A"}},"EJ_GRANSKN",{"$f":"VLOOKUP(S927,Import!A$1:B$20000,2,FALSE)","v":{"$error":"#N/A"}},"32211_S_L_SEK_TOT_U_M_X_H1_VALFRI_SEK",1000,null,"30674_D1213_cmb497_",{"$f":"VLOOKUP(B927,Import!E$1:F$20000,2,FALSE)","v":{"$error":"#N/A"}}]
[{"$f":"IF(ISBLANK(Inm_30674_D1214_cmb498_),\"\",$T$928 * Inm_30674_D1214_cmb498_)","v":""},"30674_D1214_cmb498_","Handel i sven, Lång , Utflöde","VP203'!Inm_30674_D1214_cmb498_","32211","S","L","SEK","TOT","U","M","X","H1",{"$f":"VLOOKUP('VP203'!$B$497,FlexDimensioner!$C$1:$D$430,2,FALSE)","v":"VALFRI"},"SEK",{"$f":"VLOOKUP(B928,Import!A$1:B$20000,2,FALSE)","v":{"$error":"#N/A"}},"EJ_GRANSKN",{"$f":"VLOOKUP(S928,Import!A$1:B$20000,2,FALSE)","v":{"$error":"#N/A"}},"32211_S_L_SEK_TOT_U_M_X_H1_VALFRI_SEK",1000,null,"30674_D1214_cmb498_",{"$f":"VLOOKUP(B928,Import!E$1:F$20000,2,FALSE)","v":{"$error":"#N/A"}}]
[{"$f":"IF(ISBLANK(Inm_30674_D1215_cmb499_),\"\",$T$929 * Inm_30674_D1215_cmb499_)","v":""},"30674_D1215_cmb499_","Handel i sven, Lång , Utflöde","VP203'!Inm_30674_D1215_cmb499_","32211","S","L","SEK","TOT","U","M","X","H1",{"$f":"VLOOKUP('VP203'!$B$498,FlexDimensioner!$C$1:$D$430,2,FALSE)","v":"VALFRI"},"SEK",{"$f":"VLOOKUP(B929,Import!A$1:B$20000,2,FALSE)","v":{"$error":"#N/A"}},"EJ_GRANSKN",{"$f":"VLOOKUP(S929,Import!A$1:B$20000,2,FALSE)","v":{"$error":"#N/A"}},"32211_S_L_SEK_TOT_U_M_X_H1_VALFRI_SEK",1000,null,"30674_D1215_cmb499_",{"$f":"VLOOKUP(B929,Import!E$1:F$20000,2,FALSE)","v":{"$error":"#N/A"}}]
[{"$f":"IF(ISBLANK(Inm_30674_D1216_cmb500_),\"\",$T$930 * Inm_30674_D1216_cmb500_)","v":""},"30674_D1216_cmb500_","Handel i sven, Lång , Utflöde","VP203'!Inm_30674_D1216_cmb500_","32211","S","L","SEK","TOT","U","M","X","H1",{"$f":"VLOOKUP('VP203'!$B$499,FlexDimensioner!$C$1:$D$430,2,FALSE)","v":"VALFRI"},"SEK",{"$f":"VLOOKUP(B930,Import!A$1:B$20000,2,FALSE)","v":{"$error":"#N/A"}},"EJ_GRANSKN",{"$f":"VLOOKUP(S930,Import!A$1:B$20000,2,FALSE)","v":{"$error":"#N/A"}},"32211_S_L_SEK_TOT_U_M_X_H1_VALFRI_SEK",1000,null,"30674_D1216_cmb500_",{"$f":"VLOOKUP(B930,Import!E$1:F$20000,2,FALSE)","v":{"$error":"#N/A"}}]
[{"$f":"IF(ISBLANK(Inm_30674_D1217_cmb501_),\"\",$T$931 * Inm_30674_D1217_cmb501_)","v":""},"30674_D1217_cmb501_","Handel i sven, Lång , Utflöde","VP203'!Inm_30674_D1217_cmb501_","32211","S","L","SEK","TOT","U","M","X","H1",{"$f":"VLOOKUP('VP203'!$B$500,FlexDimensioner!$C$1:$D$430,2,FALSE)","v":"VALFRI"},"SEK",{"$f":"VLOOKUP(B931,Import!A$1:B$20000,2,FALSE)","v":{"$error":"#N/A"}},"EJ_GRANSKN",{"$f":"VLOOKUP(S931,Import!A$1:B$20000,2,FALSE)","v":{"$error":"#N/A"}},"32211_S_L_SEK_TOT_U_M_X_H1_VALFRI_SEK",1000,null,"30674_D1217_cmb501_",{"$f":"VLOOKUP(B931,Import!E$1:F$20000,2,FALSE)","v":{"$error":"#N/A"}}]
[{"$f":"IF(ISBLANK(Inm_30673_D1218_cmb452_),\"\",$T$932 * Inm_30673_D1218_cmb452_)","v":""},"30673_D1218_cmb452_","Handel i sven, Lång , Inflöde","VP203'!Inm_30673_D1218_cmb452_","32211","S","L","SEK","TOT","I","M","X","H1",{"$f":"VLOOKUP('VP203'!$B$451,FlexDimensioner!$C$1:$D$430,2,FALSE)","v":"VALFRI"},"SEK",{"$f":"VLOOKUP(B932,Import!A$1:B$20000,2,FALSE)","v":{"$error":"#N/A"}},"EJ_GRANSKN",{"$f":"VLOOKUP(S932,Import!A$1:B$20000,2,FALSE)","v":{"$error":"#N/A"}},"32211_S_L_SEK_TOT_I_M_X_H1_VALFRI_SEK",1000,null,"30673_D1218_cmb452_",{"$f":"VLOOKUP(B932,Import!E$1:F$20000,2,FALSE)","v":{"$error":"#N/A"}}]
[{"$f":"IF(ISBLANK(Inm_30673_D1219_cmb453_),\"\",$T$933 * Inm_30673_D1219_cmb453_)","v":""},"30673_D1219_cmb453_","Handel i sven, Lång , Inflöde","VP203'!Inm_30673_D1219_cmb453_","32211","S","L","SEK","TOT","I","M","X","H1",{"$f":"VLOOKUP('VP203'!$B$452,FlexDimensioner!$C$1:$D$430,2,FALSE)","v":"VALFRI"},"SEK",{"$f":"VLOOKUP(B933,Import!A$1:B$20000,2,FALSE)","v":{"$error":"#N/A"}},"EJ_GRANSKN",{"$f":"VLOOKUP(S933,Import!A$1:B$20000,2,FALSE)","v":{"$error":"#N/A"}},"32211_S_L_SEK_TOT_I_M_X_H1_VALFRI_SEK",1000,null,"30673_D1219_cmb453_",{"$f":"VLOOKUP(B933,Import!E$1:F$20000,2,FALSE)","v":{"$error":"#N/A"}}]
[{"$f":"IF(ISBLANK(Inm_30673_D1220_cmb454_),\"\",$T$934 * Inm_30673_D1220_cmb454_)","v":""},"30673_D1220_cmb454_","Handel i sven, Lång , Inflöde","VP203'!Inm_30673_D1220_cmb454_","32211","S","L","SEK","TOT","I","M","X","H1",{"$f":"VLOOKUP('VP203'!$B$453,FlexDimensioner!$C$1:$D$430,2,FALSE)","v":"VALFRI"},"SEK",{"$f":"VLOOKUP(B934,Import!A$1:B$20000,2,FALSE)","v":{"$error":"#N/A"}},"EJ_GRANSKN",{"$f":"VLOOKUP(S934,Import!A$1:B$20000,2,FALSE)","v":{"$error":"#N/A"}},"32211_S_L_SEK_TOT_I_M_X_H1_VALFRI_SEK",1000,null,"30673_D1220_cmb454_",{"$f":"VLOOKUP(B934,Import!E$1:F$20000,2,FALSE)","v":{"$error":"#N/A"}}]
[{"$f":"IF(ISBLANK(Inm_30673_D1221_cmb455_),\"\",$T$935 * Inm_30673_D1221_cmb455_)","v":""},"30673_D1221_cmb455_","Handel i sven, Lång , Inflöde","VP203'!Inm_30673_D1221_cmb455_","32211","S","L","SEK","TOT","I","M","X","H1",{"$f":"VLOOKUP('VP203'!$B$454,FlexDimensioner!$C$1:$D$430,2,FALSE)","v":"VALFRI"},"SEK",{"$f":"VLOOKUP(B935,Import!A$1:B$20000,2,FALSE)","v":{"$error":"#N/A"}},"EJ_GRANSKN",{"$f":"VLOOKUP(S935,Import!A$1:B$20000,2,FALSE)","v":{"$error":"#N/A"}},"32211_S_L_SEK_TOT_I_M_X_H1_VALFRI_SEK",1000,null,"30673_D1221_cmb455_",{"$f":"VLOOKUP(B935,Import!E$1:F$20000,2,FALSE)","v":{"$error":"#N/A"}}]
[{"$f":"IF(ISBLANK(Inm_30673_D1222_cmb456_),\"\",$T$936 * Inm_30673_D1222_cmb456_)","v":""},"30673_D1222_cmb456_","Handel i sven, Lång , Inflöde","VP203'!Inm_30673_D1222_cmb456_","32211","S","L","SEK","TOT","I","M","X","H1",{"$f":"VLOOKUP('VP203'!$B$455,FlexDimensioner!$C$1:$D$430,2,FALSE)","v":"VALFRI"},"SEK",{"$f":"VLOOKUP(B936,Import!A$1:B$20000,2,FALSE)","v":{"$error":"#N/A"}},"EJ_GRANSKN",{"$f":"VLOOKUP(S936,Import!A$1:B$20000,2,FALSE)","v":{"$error":"#N/A"}},"32211_S_L_SEK_TOT_I_M_X_H1_VALFRI_SEK",1000,null,"30673_D1222_cmb456_",{"$f":"VLOOKUP(B936,Import!E$1:F$20000,2,FALSE)","v":{"$error":"#N/A"}}]
[{"$f":"IF(ISBLANK(Inm_30673_D1223_cmb457_),\"\",$T$937 * Inm_30673_D1223_cmb457_)","v":""},"30673_D1223_cmb457_","Handel i sven, Lång , Inflöde","VP203'!Inm_30673_D1223_cmb457_","32211","S","L","SEK","TOT","I","M","X","H1",{"$f":"VLOOKUP('VP203'!$B$456,FlexDimensioner!$C$1:$D$430,2,FALSE)","v":"VALFRI"},"SEK",{"$f":"VLOOKUP(B937,Import!A$1:B$20000,2,FALSE)","v":{"$error":"#N/A"}},"EJ_GRANSKN",{"$f":"VLOOKUP(S937,Import!A$1:B$20000,2,FALSE)","v":{"$error":"#N/A"}},"32211_S_L_SEK_TOT_I_M_X_H1_VALFRI_SEK",1000,null,"30673_D1223_cmb457_",{"$f":"VLOOKUP(B937,Import!E$1:F$20000,2,FALSE)","v":{"$error":"#N/A"}}]
[{"$f":"IF(ISBLANK(Inm_30673_D1224_cmb458_),\"\",$T$938 * Inm_30673_D1224_cmb458_)","v":""},"30673_D1224_cmb458_","Handel i sven, Lång , Inflöde","VP203'!Inm_30673_D1224_cmb458_","32211","S","L","SEK","TOT","I","M","X","H1",{"$f":"VLOOKUP('VP203'!$B$457,FlexDimensioner!$C$1:$D$430,2,FALSE)","v":"VALFRI"},"SEK",{"$f":"VLOOKUP(B938,Import!A$1:B$20000,2,FALSE)","v":{"$error":"#N/A"}},"EJ_GRANSKN",{"$f":"VLOOKUP(S938,Import!A$1:B$20000,2,FALSE)","v":{"$error":"#N/A"}},"32211_S_L_SEK_TOT_I_M_X_H1_VALFRI_SEK",1000,null,"30673_D1224_cmb458_",{"$f":"VLOOKUP(B938,Import!E$1:F$20000,2,FALSE)","v":{"$error":"#N/A"}}]
[{"$f":"IF(ISBLANK(Inm_30673_D1225_cmb459_),\"\",$T$939 * Inm_30673_D1225_cmb459_)","v":""},"30673_D1225_cmb459_","Handel i sven, Lång , Inflöde","VP203'!Inm_30673_D1225_cmb459_","32211","S","L","SEK","TOT","I","M","X","H1",{"$f":"VLOOKUP('VP203'!$B$458,FlexDimensioner!$C$1:$D$430,2,FALSE)","v":"VALFRI"},"SEK",{"$f":"VLOOKUP(B939,Import!A$1:B$20000,2,FALSE)","v":{"$error":"#N/A"}},"EJ_GRANSKN",{"$f":"VLOOKUP(S939,Import!A$1:B$20000,2,FALSE)","v":{"$error":"#N/A"}},"32211_S_L_SEK_TOT_I_M_X_H1_VALFRI_SEK",1000,null,"30673_D1225_cmb459_",{"$f":"VLOOKUP(B939,Import!E$1:F$20000,2,FALSE)","v":{"$error":"#N/A"}}]
[{"$f":"IF(ISBLANK(Inm_30673_D1226_cmb460_),\"\",$T$940 * Inm_30673_D1226_cmb460_)","v":""},"30673_D1226_cmb460_","Handel i sven, Lång , Inflöde","VP203'!Inm_30673_D1226_cmb460_","32211","S","L","SEK","TOT","I","M","X","H1",{"$f":"VLOOKUP('VP203'!$B$459,FlexDimensioner!$C$1:$D$430,2,FALSE)","v":"VALFRI"},"SEK",{"$f":"VLOOKUP(B940,Import!A$1:B$20000,2,FALSE)","v":{"$error":"#N/A"}},"EJ_GRANSKN",{"$f":"VLOOKUP(S940,Import!A$1:B$20000,2,FALSE)","v":{"$error":"#N/A"}},"32211_S_L_SEK_TOT_I_M_X_H1_VALFRI_SEK",1000,null,"30673_D1226_cmb460_",{"$f":"VLOOKUP(B940,Import!E$1:F$20000,2,FALSE)","v":{"$error":"#N/A"}}]
[{"$f":"IF(ISBLANK(Inm_30673_D1227_cmb461_),\"\",$T$941 * Inm_30673_D1227_cmb461_)","v":""},"30673_D1227_cmb461_","Handel i sven, Lång , Inflöde","VP203'!Inm_30673_D1227_cmb461_","32211","S","L","SEK","TOT","I","M","X","H1",{"$f":"VLOOKUP('VP203'!$B$460,FlexDimensioner!$C$1:$D$430,2,FALSE)","v":"VALFRI"},"SEK",{"$f":"VLOOKUP(B941,Import!A$1:B$20000,2,FALSE)","v":{"$error":"#N/A"}},"EJ_GRANSKN",{"$f":"VLOOKUP(S941,Import!A$1:B$20000,2,FALSE)","v":{"$error":"#N/A"}},"32211_S_L_SEK_TOT_I_M_X_H1_VALFRI_SEK",1000,null,"30673_D1227_cmb461_",{"$f":"VLOOKUP(B941,Import!E$1:F$20000,2,FALSE)","v":{"$error":"#N/A"}}]
[{"$f":"IF(ISBLANK(Inm_30673_D1228_cmb462_),\"\",$T$942 * Inm_30673_D1228_cmb462_)","v":""},"30673_D1228_cmb462_","Handel i sven, Lång , Inflöde","VP203'!Inm_30673_D1228_cmb462_","32211","S","L","SEK","TOT","I","M","X","H1",{"$f":"VLOOKUP('VP203'!$B$461,FlexDimensioner!$C$1:$D$430,2,FALSE)","v":"VALFRI"},"SEK",{"$f":"VLOOKUP(B942,Import!A$1:B$20000,2,FALSE)","v":{"$error":"#N/A"}},"EJ_GRANSKN",{"$f":"VLOOKUP(S942,Import!A$1:B$20000,2,FALSE)","v":{"$error":"#N/A"}},"32211_S_L_SEK_TOT_I_M_X_H1_VALFRI_SEK",1000,null,"30673_D1228_cmb462_",{"$f":"VLOOKUP(B942,Import!E$1:F$20000,2,FALSE)","v":{"$error":"#N/A"}}]
[{"$f":"IF(ISBLANK(Inm_30673_D1229_cmb463_),\"\",$T$943 * Inm_30673_D1229_cmb463_)","v":""},"30673_D1229_cmb463_","Handel i sven, Lång , Inflöde","VP203'!Inm_30673_D1229_cmb463_","32211","S","L","SEK","TOT","I","M","X","H1",{"$f":"VLOOKUP('VP203'!$B$462,FlexDimensioner!$C$1:$D$430,2,FALSE)","v":"VALFRI"},"SEK",{"$f":"VLOOKUP(B943,Import!A$1:B$20000,2,FALSE)","v":{"$error":"#N/A"}},"EJ_GRANSKN",{"$f":"VLOOKUP(S943,Import!A$1:B$20000,2,FALSE)","v":{"$error":"#N/A"}},"32211_S_L_SEK_TOT_I_M_X_H1_VALFRI_SEK",1000,null,"30673_D1229_cmb463_",{"$f":"VLOOKUP(B943,Import!E$1:F$20000,2,FALSE)","v":{"$error":"#N/A"}}]
[{"$f":"IF(ISBLANK(Inm_30673_D1230_cmb464_),\"\",$T$944 * Inm_30673_D1230_cmb464_)","v":""},"30673_D1230_cmb464_","Handel i sven, Lång , Inflöde","VP203'!Inm_30673_D1230_cmb464_","32211","S","L","SEK","TOT","I","M","X","H1",{"$f":"VLOOKUP('VP203'!$B$463,FlexDimensioner!$C$1:$D$430,2,FALSE)","v":"VALFRI"},"SEK",{"$f":"VLOOKUP(B944,Import!A$1:B$20000,2,FALSE)","v":{"$error":"#N/A"}},"EJ_GRANSKN",{"$f":"VLOOKUP(S944,Import!A$1:B$20000,2,FALSE)","v":{"$error":"#N/A"}},"32211_S_L_SEK_TOT_I_M_X_H1_VALFRI_SEK",1000,null,"30673_D1230_cmb464_",{"$f":"VLOOKUP(B944,Import!E$1:F$20000,2,FALSE)","v":{"$error":"#N/A"}}]
[{"$f":"IF(ISBLANK(Inm_30673_D1231_cmb465_),\"\",$T$945 * Inm_30673_D1231_cmb465_)","v":""},"30673_D1231_cmb465_","Handel i sven, Lång , Inflöde","VP203'!Inm_30673_D1231_cmb465_","32211","S","L","SEK","TOT","I","M","X","H1",{"$f":"VLOOKUP('VP203'!$B$464,FlexDimensioner!$C$1:$D$430,2,FALSE)","v":"VALFRI"},"SEK",{"$f":"VLOOKUP(B945,Import!A$1:B$20000,2,FALSE)","v":{"$error":"#N/A"}},"EJ_GRANSKN",{"$f":"VLOOKUP(S945,Import!A$1:B$20000,2,FALSE)","v":{"$error":"#N/A"}},"32211_S_L_SEK_TOT_I_M_X_H1_VALFRI_SEK",1000,null,"30673_D1231_cmb465_",{"$f":"VLOOKUP(B945,Import!E$1:F$20000,2,FALSE)","v":{"$error":"#N/A"}}]
[{"$f":"IF(ISBLANK(Inm_30673_D1232_cmb466_),\"\",$T$946 * Inm_30673_D1232_cmb466_)","v":""},"30673_D1232_cmb466_","Handel i sven, Lång , Inflöde","VP203'!Inm_30673_D1232_cmb466_","32211","S","L","SEK","TOT","I","M","X","H1",{"$f":"VLOOKUP('VP203'!$B$465,FlexDimensioner!$C$1:$D$430,2,FALSE)","v":"VALFRI"},"SEK",{"$f":"VLOOKUP(B946,Import!A$1:B$20000,2,FALSE)","v":{"$error":"#N/A"}},"EJ_GRANSKN",{"$f":"VLOOKUP(S946,Import!A$1:B$20000,2,FALSE)","v":{"$error":"#N/A"}},"32211_S_L_SEK_TOT_I_M_X_H1_VALFRI_SEK",1000,null,"30673_D1232_cmb466_",{"$f":"VLOOKUP(B946,Import!E$1:F$20000,2,FALSE)","v":{"$error":"#N/A"}}]
[{"$f":"IF(ISBLANK(Inm_30673_D1233_cmb467_),\"\",$T$947 * Inm_30673_D1233_cmb467_)","v":""},"30673_D1233_cmb467_","Handel i sven, Lång , Inflöde","VP203'!Inm_30673_D1233_cmb467_","32211","S","L","SEK","TOT","I","M","X","H1",{"$f":"VLOOKUP('VP203'!$B$466,FlexDimensioner!$C$1:$D$430,2,FALSE)","v":"VALFRI"},"SEK",{"$f":"VLOOKUP(B947,Import!A$1:B$20000,2,FALSE)","v":{"$error":"#N/A"}},"EJ_GRANSKN",{"$f":"VLOOKUP(S947,Import!A$1:B$20000,2,FALSE)","v":{"$error":"#N/A"}},"32211_S_L_SEK_TOT_I_M_X_H1_VALFRI_SEK",1000,null,"30673_D1233_cmb467_",{"$f":"VLOOKUP(B947,Import!E$1:F$20000,2,FALSE)","v":{"$error":"#N/A"}}]
[{"$f":"IF(ISBLANK(Inm_30673_D1234_cmb468_),\"\",$T$948 * Inm_30673_D1234_cmb468_)","v":""},"30673_D1234_cmb468_","Handel i sven, Lång , Inflöde","VP203'!Inm_30673_D1234_cmb468_","32211","S","L","SEK","TOT","I","M","X","H1",{"$f":"VLOOKUP('VP203'!$B$467,FlexDimensioner!$C$1:$D$430,2,FALSE)","v":"VALFRI"},"SEK",{"$f":"VLOOKUP(B948,Import!A$1:B$20000,2,FALSE)","v":{"$error":"#N/A"}},"EJ_GRANSKN",{"$f":"VLOOKUP(S948,Import!A$1:B$20000,2,FALSE)","v":{"$error":"#N/A"}},{"$f":"CONCATENATE(E948,\"_\",F948,\"_\",G948,\"_\",H948,\"_\",I948,\"_\",J948,\"_\",K948,\"_\",L948,\"_\",M948,\"_\",N948,\"_\",O948)","v":"32211_S_L_SEK_TOT_I_M_X_H1_VALFRI_SEK"},1000,null,"30673_D1234_cmb468_",{"$f":"VLOOKUP(B948,Import!E$1:F$20000,2,FALSE)","v":{"$error":"#N/A"}}]
[{"$f":"IF(ISBLANK(Inm_30673_D1235_cmb469_),\"\",$T$949 * Inm_30673_D1235_cmb469_)","v":""},"30673_D1235_cmb469_","Handel i sven, Lång , Inflöde","VP203'!Inm_30673_D1235_cmb469_","32211","S","L","SEK","TOT","I","M","X","H1",{"$f":"VLOOKUP('VP203'!$B$468,FlexDimensioner!$C$1:$D$430,2,FALSE)","v":"VALFRI"},"SEK",{"$f":"VLOOKUP(B949,Import!A$1:B$20000,2,FALSE)","v":{"$error":"#N/A"}},"EJ_GRANSKN",{"$f":"VLOOKUP(S949,Import!A$1:B$20000,2,FALSE)","v":{"$error":"#N/A"}},"32211_S_L_SEK_TOT_I_M_X_H1_VALFRI_SEK",1000,null,"30673_D1235_cmb469_",{"$f":"VLOOKUP(B949,Import!E$1:F$20000,2,FALSE)","v":{"$error":"#N/A"}}]
[{"$f":"IF(ISBLANK(Inm_30673_D1236_cmb470_),\"\",$T$950 * Inm_30673_D1236_cmb470_)","v":""},"30673_D1236_cmb470_","Handel i sven, Lång , Inflöde","VP203'!Inm_30673_D1236_cmb470_","32211","S","L","SEK","TOT","I","M","X","H1",{"$f":"VLOOKUP('VP203'!$B$469,FlexDimensioner!$C$1:$D$430,2,FALSE)","v":"VALFRI"},"SEK",{"$f":"VLOOKUP(B950,Import!A$1:B$20000,2,FALSE)","v":{"$error":"#N/A"}},"EJ_GRANSKN",{"$f":"VLOOKUP(S950,Import!A$1:B$20000,2,FALSE)","v":{"$error":"#N/A"}},"32211_S_L_SEK_TOT_I_M_X_H1_VALFRI_SEK",1000,null,"30673_D1236_cmb470_",{"$f":"VLOOKUP(B950,Import!E$1:F$20000,2,FALSE)","v":{"$error":"#N/A"}}]
[{"$f":"IF(ISBLANK(Inm_30673_D1237_cmb471_),\"\",$T$951 * Inm_30673_D1237_cmb471_)","v":""},"30673_D1237_cmb471_","Handel i sven, Lång , Inflöde","VP203'!Inm_30673_D1237_cmb471_","32211","S","L","SEK","TOT","I","M","X","H1",{"$f":"VLOOKUP('VP203'!$B$470,FlexDimensioner!$C$1:$D$430,2,FALSE)","v":"VALFRI"},"SEK",{"$f":"VLOOKUP(B951,Import!A$1:B$20000,2,FALSE)","v":{"$error":"#N/A"}},"EJ_GRANSKN",{"$f":"VLOOKUP(S951,Import!A$1:B$20000,2,FALSE)","v":{"$error":"#N/A"}},"32211_S_L_SEK_TOT_I_M_X_H1_VALFRI_SEK",1000,null,"30673_D1237_cmb471_",{"$f":"VLOOKUP(B951,Import!E$1:F$20000,2,FALSE)","v":{"$error":"#N/A"}}]
[{"$f":"IF(ISBLANK(Inm_30673_D1238_cmb472_),\"\",$T$952 * Inm_30673_D1238_cmb472_)","v":""},"30673_D1238_cmb472_","Handel i sven, Lång , Inflöde","VP203'!Inm_30673_D1238_cmb472_","32211","S","L","SEK","TOT","I","M","X","H1",{"$f":"VLOOKUP('VP203'!$B$471,FlexDimensioner!$C$1:$D$430,2,FALSE)","v":"VALFRI"},"SEK",{"$f":"VLOOKUP(B952,Import!A$1:B$20000,2,FALSE)","v":{"$error":"#N/A"}},"EJ_GRANSKN",{"$f":"VLOOKUP(S952,Import!A$1:B$20000,2,FALSE)","v":{"$error":"#N/A"}},"32211_S_L_SEK_TOT_I_M_X_H1_VALFRI_SEK",1000,null,"30673_D1238_cmb472_",{"$f":"VLOOKUP(B952,Import!E$1:F$20000,2,FALSE)","v":{"$error":"#N/A"}}]
[{"$f":"IF(ISBLANK(Inm_30673_D1239_cmb473_),\"\",$T$953 * Inm_30673_D1239_cmb473_)","v":""},"30673_D1239_cmb473_","Handel i sven, Lång , Inflöde","VP203'!Inm_30673_D1239_cmb473_","32211","S","L","SEK","TOT","I","M","X","H1",{"$f":"VLOOKUP('VP203'!$B$472,FlexDimensioner!$C$1:$D$430,2,FALSE)","v":"VALFRI"},"SEK",{"$f":"VLOOKUP(B953,Import!A$1:B$20000,2,FALSE)","v":{"$error":"#N/A"}},"EJ_GRANSKN",{"$f":"VLOOKUP(S953,Import!A$1:B$20000,2,FALSE)","v":{"$error":"#N/A"}},"32211_S_L_SEK_TOT_I_M_X_H1_VALFRI_SEK",1000,null,"30673_D1239_cmb473_",{"$f":"VLOOKUP(B953,Import!E$1:F$20000,2,FALSE)","v":{"$error":"#N/A"}}]
[{"$f":"IF(ISBLANK(Inm_30673_D1240_cmb474_),\"\",$T$954 * Inm_30673_D1240_cmb474_)","v":""},"30673_D1240_cmb474_","Handel i sven, Lång , Inflöde","VP203'!Inm_30673_D1240_cmb474_","32211","S","L","SEK","TOT","I","M","X","H1",{"$f":"VLOOKUP('VP203'!$B$473,FlexDimensioner!$C$1:$D$430,2,FALSE)","v":"VALFRI"},"SEK",{"$f":"VLOOKUP(B954,Import!A$1:B$20000,2,FALSE)","v":{"$error":"#N/A"}},"EJ_GRANSKN",{"$f":"VLOOKUP(S954,Import!A$1:B$20000,2,FALSE)","v":{"$error":"#N/A"}},"32211_S_L_SEK_TOT_I_M_X_H1_VALFRI_SEK",1000,null,"30673_D1240_cmb474_",{"$f":"VLOOKUP(B954,Import!E$1:F$20000,2,FALSE)","v":{"$error":"#N/A"}}]
[{"$f":"IF(ISBLANK(Inm_30673_D1241_cmb475_),\"\",$T$955 * Inm_30673_D1241_cmb475_)","v":""},"30673_D1241_cmb475_","Handel i sven, Lång , Inflöde","VP203'!Inm_30673_D1241_cmb475_","32211","S","L","SEK","TOT","I","M","X","H1",{"$f":"VLOOKUP('VP203'!$B$474,FlexDimensioner!$C$1:$D$430,2,FALSE)","v":"VALFRI"},"SEK",{"$f":"VLOOKUP(B955,Import!A$1:B$20000,2,FALSE)","v":{"$error":"#N/A"}},"EJ_GRANSKN",{"$f":"VLOOKUP(S955,Import!A$1:B$20000,2,FALSE)","v":{"$error":"#N/A"}},"32211_S_L_SEK_TOT_I_M_X_H1_VALFRI_SEK",1000,null,"30673_D1241_cmb475_",{"$f":"VLOOKUP(B955,Import!E$1:F$20000,2,FALSE)","v":{"$error":"#N/A"}}]
[{"$f":"IF(ISBLANK(Inm_30673_D1242_cmb476_),\"\",$T$956 * Inm_30673_D1242_cmb476_)","v":""},"30673_D1242_cmb476_","Handel i sven, Lång , Inflöde","VP203'!Inm_30673_D1242_cmb476_","32211","S","L","SEK","TOT","I","M","X","H1",{"$f":"VLOOKUP('VP203'!$B$475,FlexDimensioner!$C$1:$D$430,2,FALSE)","v":"VALFRI"},"SEK",{"$f":"VLOOKUP(B956,Import!A$1:B$20000,2,FALSE)","v":{"$error":"#N/A"}},"EJ_GRANSKN",{"$f":"VLOOKUP(S956,Import!A$1:B$20000,2,FALSE)","v":{"$error":"#N/A"}},"32211_S_L_SEK_TOT_I_M_X_H1_VALFRI_SEK",1000,null,"30673_D1242_cmb476_",{"$f":"VLOOKUP(B956,Import!E$1:F$20000,2,FALSE)","v":{"$error":"#N/A"}}]
[{"$f":"IF(ISBLANK(Inm_30673_D1243_cmb477_),\"\",$T$957 * Inm_30673_D1243_cmb477_)","v":""},"30673_D1243_cmb477_","Handel i sven, Lång , Inflöde","VP203'!Inm_30673_D1243_cmb477_","32211","S","L","SEK","TOT","I","M","X","H1",{"$f":"VLOOKUP('VP203'!$B$476,FlexDimensioner!$C$1:$D$430,2,FALSE)","v":"VALFRI"},"SEK",{"$f":"VLOOKUP(B957,Import!A$1:B$20000,2,FALSE)","v":{"$error":"#N/A"}},"EJ_GRANSKN",{"$f":"VLOOKUP(S957,Import!A$1:B$20000,2,FALSE)","v":{"$error":"#N/A"}},"32211_S_L_SEK_TOT_I_M_X_H1_VALFRI_SEK",1000,null,"30673_D1243_cmb477_",{"$f":"VLOOKUP(B957,Import!E$1:F$20000,2,FALSE)","v":{"$error":"#N/A"}}]
[{"$f":"IF(ISBLANK(Inm_30673_D1244_cmb478_),\"\",$T$958 * Inm_30673_D1244_cmb478_)","v":""},"30673_D1244_cmb478_","Handel i sven, Lång , Inflöde","VP203'!Inm_30673_D1244_cmb478_","32211","S","L","SEK","TOT","I","M","X","H1",{"$f":"VLOOKUP('VP203'!$B$477,FlexDimensioner!$C$1:$D$430,2,FALSE)","v":"VALFRI"},"SEK",{"$f":"VLOOKUP(B958,Import!A$1:B$20000,2,FALSE)","v":{"$error":"#N/A"}},"EJ_GRANSKN",{"$f":"VLOOKUP(S958,Import!A$1:B$20000,2,FALSE)","v":{"$error":"#N/A"}},"32211_S_L_SEK_TOT_I_M_X_H1_VALFRI_SEK",1000,null,"30673_D1244_cmb478_",{"$f":"VLOOKUP(B958,Import!E$1:F$20000,2,FALSE)","v":{"$error":"#N/A"}}]
[{"$f":"IF(ISBLANK(Inm_30673_D1245_cmb479_),\"\",$T$959 * Inm_30673_D1245_cmb479_)","v":""},"30673_D1245_cmb479_","Handel i sven, Lång , Inflöde","VP203'!Inm_30673_D1245_cmb479_","32211","S","L","SEK","TOT","I","M","X","H1",{"$f":"VLOOKUP('VP203'!$B$478,FlexDimensioner!$C$1:$D$430,2,FALSE)","v":"VALFRI"},"SEK",{"$f":"VLOOKUP(B959,Import!A$1:B$20000,2,FALSE)","v":{"$error":"#N/A"}},"EJ_GRANSKN",{"$f":"VLOOKUP(S959,Import!A$1:B$20000,2,FALSE)","v":{"$error":"#N/A"}},"32211_S_L_SEK_TOT_I_M_X_H1_VALFRI_SEK",1000,null,"30673_D1245_cmb479_",{"$f":"VLOOKUP(B959,Import!E$1:F$20000,2,FALSE)","v":{"$error":"#N/A"}}]
[{"$f":"IF(ISBLANK(Inm_30673_D1246_cmb480_),\"\",$T$960 * Inm_30673_D1246_cmb480_)","v":""},"30673_D1246_cmb480_","Handel i sven, Lång , Inflöde","VP203'!Inm_30673_D1246_cmb480_","32211","S","L","SEK","TOT","I","M","X","H1",{"$f":"VLOOKUP('VP203'!$B$479,FlexDimensioner!$C$1:$D$430,2,FALSE)","v":"VALFRI"},"SEK",{"$f":"VLOOKUP(B960,Import!A$1:B$20000,2,FALSE)","v":{"$error":"#N/A"}},"EJ_GRANSKN",{"$f":"VLOOKUP(S960,Import!A$1:B$20000,2,FALSE)","v":{"$error":"#N/A"}},"32211_S_L_SEK_TOT_I_M_X_H1_VALFRI_SEK",1000,null,"30673_D1246_cmb480_",{"$f":"VLOOKUP(B960,Import!E$1:F$20000,2,FALSE)","v":{"$error":"#N/A"}}]
[{"$f":"IF(ISBLANK(Inm_30673_D1247_cmb481_),\"\",$T$961 * Inm_30673_D1247_cmb481_)","v":""},"30673_D1247_cmb481_","Handel i sven, Lång , Inflöde","VP203'!Inm_30673_D1247_cmb481_","32211","S","L","SEK","TOT","I","M","X","H1",{"$f":"VLOOKUP('VP203'!$B$480,FlexDimensioner!$C$1:$D$430,2,FALSE)","v":"VALFRI"},"SEK",{"$f":"VLOOKUP(B961,Import!A$1:B$20000,2,FALSE)","v":{"$error":"#N/A"}},"EJ_GRANSKN",{"$f":"VLOOKUP(S961,Import!A$1:B$20000,2,FALSE)","v":{"$error":"#N/A"}},"32211_S_L_SEK_TOT_I_M_X_H1_VALFRI_SEK",1000,null,"30673_D1247_cmb481_",{"$f":"VLOOKUP(B961,Import!E$1:F$20000,2,FALSE)","v":{"$error":"#N/A"}}]
[{"$f":"IF(ISBLANK(Inm_30673_D1248_cmb482_),\"\",$T$962 * Inm_30673_D1248_cmb482_)","v":""},"30673_D1248_cmb482_","Handel i sven, Lång , Inflöde","VP203'!Inm_30673_D1248_cmb482_","32211","S","L","SEK","TOT","I","M","X","H1",{"$f":"VLOOKUP('VP203'!$B$481,FlexDimensioner!$C$1:$D$430,2,FALSE)","v":"VALFRI"},"SEK",{"$f":"VLOOKUP(B962,Import!A$1:B$20000,2,FALSE)","v":{"$error":"#N/A"}},"EJ_GRANSKN",{"$f":"VLOOKUP(S962,Import!A$1:B$20000,2,FALSE)","v":{"$error":"#N/A"}},"32211_S_L_SEK_TOT_I_M_X_H1_VALFRI_SEK",1000,null,"30673_D1248_cmb482_",{"$f":"VLOOKUP(B962,Import!E$1:F$20000,2,FALSE)","v":{"$error":"#N/A"}}]
[{"$f":"IF(ISBLANK(Inm_30673_D1249_cmb483_),\"\",$T$963 * Inm_30673_D1249_cmb483_)","v":""},"30673_D1249_cmb483_","Handel i sven, Lång , Inflöde","VP203'!Inm_30673_D1249_cmb483_","32211","S","L","SEK","TOT","I","M","X","H1",{"$f":"VLOOKUP('VP203'!$B$482,FlexDimensioner!$C$1:$D$430,2,FALSE)","v":"VALFRI"},"SEK",{"$f":"VLOOKUP(B963,Import!A$1:B$20000,2,FALSE)","v":{"$error":"#N/A"}},"EJ_GRANSKN",{"$f":"VLOOKUP(S963,Import!A$1:B$20000,2,FALSE)","v":{"$error":"#N/A"}},"32211_S_L_SEK_TOT_I_M_X_H1_VALFRI_SEK",1000,null,"30673_D1249_cmb483_",{"$f":"VLOOKUP(B963,Import!E$1:F$20000,2,FALSE)","v":{"$error":"#N/A"}}]
[{"$f":"IF(ISBLANK(Inm_30673_D1250_cmb484_),\"\",$T$964 * Inm_30673_D1250_cmb484_)","v":""},"30673_D1250_cmb484_","Handel i sven, Lång , Inflöde","VP203'!Inm_30673_D1250_cmb484_","32211","S","L","SEK","TOT","I","M","X","H1",{"$f":"VLOOKUP('VP203'!$B$483,FlexDimensioner!$C$1:$D$430,2,FALSE)","v":"VALFRI"},"SEK",{"$f":"VLOOKUP(B964,Import!A$1:B$20000,2,FALSE)","v":{"$error":"#N/A"}},"EJ_GRANSKN",{"$f":"VLOOKUP(S964,Import!A$1:B$20000,2,FALSE)","v":{"$error":"#N/A"}},"32211_S_L_SEK_TOT_I_M_X_H1_VALFRI_SEK",1000,null,"30673_D1250_cmb484_",{"$f":"VLOOKUP(B964,Import!E$1:F$20000,2,FALSE)","v":{"$error":"#N/A"}}]
[{"$f":"IF(ISBLANK(Inm_30673_D1251_cmb485_),\"\",$T$965 * Inm_30673_D1251_cmb485_)","v":""},"30673_D1251_cmb485_","Handel i sven, Lång , Inflöde","VP203'!Inm_30673_D1251_cmb485_","32211","S","L","SEK","TOT","I","M","X","H1",{"$f":"VLOOKUP('VP203'!$B$484,FlexDimensioner!$C$1:$D$430,2,FALSE)","v":"VALFRI"},"SEK",{"$f":"VLOOKUP(B965,Import!A$1:B$20000,2,FALSE)","v":{"$error":"#N/A"}},"EJ_GRANSKN",{"$f":"VLOOKUP(S965,Import!A$1:B$20000,2,FALSE)","v":{"$error":"#N/A"}},"32211_S_L_SEK_TOT_I_M_X_H1_VALFRI_SEK",1000,null,"30673_D1251_cmb485_",{"$f":"VLOOKUP(B965,Import!E$1:F$20000,2,FALSE)","v":{"$error":"#N/A"}}]
[{"$f":"IF(ISBLANK(Inm_30673_D1252_cmb486_),\"\",$T$966 * Inm_30673_D1252_cmb486_)","v":""},"30673_D1252_cmb486_","Handel i sven, Lång , Inflöde","VP203'!Inm_30673_D1252_cmb486_","32211","S","L","SEK","TOT","I","M","X","H1",{"$f":"VLOOKUP('VP203'!$B$485,FlexDimensioner!$C$1:$D$430,2,FALSE)","v":"VALFRI"},"SEK",{"$f":"VLOOKUP(B966,Import!A$1:B$20000,2,FALSE)","v":{"$error":"#N/A"}},"EJ_GRANSKN",{"$f":"VLOOKUP(S966,Import!A$1:B$20000,2,FALSE)","v":{"$error":"#N/A"}},"32211_S_L_SEK_TOT_I_M_X_H1_VALFRI_SEK",1000,null,"30673_D1252_cmb486_",{"$f":"VLOOKUP(B966,Import!E$1:F$20000,2,FALSE)","v":{"$error":"#N/A"}}]
[{"$f":"IF(ISBLANK(Inm_30673_D1253_cmb487_),\"\",$T$967 * Inm_30673_D1253_cmb487_)","v":""},"30673_D1253_cmb487_","Handel i sven, Lång , Inflöde","VP203'!Inm_30673_D1253_cmb487_","32211","S","L","SEK","TOT","I","M","X","H1",{"$f":"VLOOKUP('VP203'!$B$486,FlexDimensioner!$C$1:$D$430,2,FALSE)","v":"VALFRI"},"SEK",{"$f":"VLOOKUP(B967,Import!A$1:B$20000,2,FALSE)","v":{"$error":"#N/A"}},"EJ_GRANSKN",{"$f":"VLOOKUP(S967,Import!A$1:B$20000,2,FALSE)","v":{"$error":"#N/A"}},"32211_S_L_SEK_TOT_I_M_X_H1_VALFRI_SEK",1000,null,"30673_D1253_cmb487_",{"$f":"VLOOKUP(B967,Import!E$1:F$20000,2,FALSE)","v":{"$error":"#N/A"}}]
[{"$f":"IF(ISBLANK(Inm_30673_D1254_cmb488_),\"\",$T$968 * Inm_30673_D1254_cmb488_)","v":""},"30673_D1254_cmb488_","Handel i sven, Lång , Inflöde","VP203'!Inm_30673_D1254_cmb488_","32211","S","L","SEK","TOT","I","M","X","H1",{"$f":"VLOOKUP('VP203'!$B$487,FlexDimensioner!$C$1:$D$430,2,FALSE)","v":"VALFRI"},"SEK",{"$f":"VLOOKUP(B968,Import!A$1:B$20000,2,FALSE)","v":{"$error":"#N/A"}},"EJ_GRANSKN",{"$f":"VLOOKUP(S968,Import!A$1:B$20000,2,FALSE)","v":{"$error":"#N/A"}},"32211_S_L_SEK_TOT_I_M_X_H1_VALFRI_SEK",1000,null,"30673_D1254_cmb488_",{"$f":"VLOOKUP(B968,Import!E$1:F$20000,2,FALSE)","v":{"$error":"#N/A"}}]
[{"$f":"IF(ISBLANK(Inm_30673_D1255_cmb489_),\"\",$T$969 * Inm_30673_D1255_cmb489_)","v":""},"30673_D1255_cmb489_","Handel i sven, Lång , Inflöde","VP203'!Inm_30673_D1255_cmb489_","32211","S","L","SEK","TOT","I","M","X","H1",{"$f":"VLOOKUP('VP203'!$B$488,FlexDimensioner!$C$1:$D$430,2,FALSE)","v":"VALFRI"},"SEK",{"$f":"VLOOKUP(B969,Import!A$1:B$20000,2,FALSE)","v":{"$error":"#N/A"}},"EJ_GRANSKN",{"$f":"VLOOKUP(S969,Import!A$1:B$20000,2,FALSE)","v":{"$error":"#N/A"}},"32211_S_L_SEK_TOT_I_M_X_H1_VALFRI_SEK",1000,null,"30673_D1255_cmb489_",{"$f":"VLOOKUP(B969,Import!E$1:F$20000,2,FALSE)","v":{"$error":"#N/A"}}]
[{"$f":"IF(ISBLANK(Inm_30673_D1256_cmb490_),\"\",$T$970 * Inm_30673_D1256_cmb490_)","v":""},"30673_D1256_cmb490_","Handel i sven, Lång , Inflöde","VP203'!Inm_30673_D1256_cmb490_","32211","S","L","SEK","TOT","I","M","X","H1",{"$f":"VLOOKUP('VP203'!$B$489,FlexDimensioner!$C$1:$D$430,2,FALSE)","v":"VALFRI"},"SEK",{"$f":"VLOOKUP(B970,Import!A$1:B$20000,2,FALSE)","v":{"$error":"#N/A"}},"EJ_GRANSKN",{"$f":"VLOOKUP(S970,Import!A$1:B$20000,2,FALSE)","v":{"$error":"#N/A"}},"32211_S_L_SEK_TOT_I_M_X_H1_VALFRI_SEK",1000,null,"30673_D1256_cmb490_",{"$f":"VLOOKUP(B970,Import!E$1:F$20000,2,FALSE)","v":{"$error":"#N/A"}}]
[{"$f":"IF(ISBLANK(Inm_30673_D1257_cmb491_),\"\",$T$971 * Inm_30673_D1257_cmb491_)","v":""},"30673_D1257_cmb491_","Handel i sven, Lång , Inflöde","VP203'!Inm_30673_D1257_cmb491_","32211","S","L","SEK","TOT","I","M","X","H1",{"$f":"VLOOKUP('VP203'!$B$490,FlexDimensioner!$C$1:$D$430,2,FALSE)","v":"VALFRI"},"SEK",{"$f":"VLOOKUP(B971,Import!A$1:B$20000,2,FALSE)","v":{"$error":"#N/A"}},"EJ_GRANSKN",{"$f":"VLOOKUP(S971,Import!A$1:B$20000,2,FALSE)","v":{"$error":"#N/A"}},"32211_S_L_SEK_TOT_I_M_X_H1_VALFRI_SEK",1000,null,"30673_D1257_cmb491_",{"$f":"VLOOKUP(B971,Import!E$1:F$20000,2,FALSE)","v":{"$error":"#N/A"}}]
[{"$f":"IF(ISBLANK(Inm_30673_D1258_cmb492_),\"\",$T$972 * Inm_30673_D1258_cmb492_)","v":""},"30673_D1258_cmb492_","Handel i sven, Lång , Inflöde","VP203'!Inm_30673_D1258_cmb492_","32211","S","L","SEK","TOT","I","M","X","H1",{"$f":"VLOOKUP('VP203'!$B$491,FlexDimensioner!$C$1:$D$430,2,FALSE)","v":"VALFRI"},"SEK",{"$f":"VLOOKUP(B972,Import!A$1:B$20000,2,FALSE)","v":{"$error":"#N/A"}},"EJ_GRANSKN",{"$f":"VLOOKUP(S972,Import!A$1:B$20000,2,FALSE)","v":{"$error":"#N/A"}},"32211_S_L_SEK_TOT_I_M_X_H1_VALFRI_SEK",1000,null,"30673_D1258_cmb492_",{"$f":"VLOOKUP(B972,Import!E$1:F$20000,2,FALSE)","v":{"$error":"#N/A"}}]
[{"$f":"IF(ISBLANK(Inm_30673_D1259_cmb493_),\"\",$T$973 * Inm_30673_D1259_cmb493_)","v":""},"30673_D1259_cmb493_","Handel i sven, Lång , Inflöde","VP203'!Inm_30673_D1259_cmb493_","32211","S","L","SEK","TOT","I","M","X","H1",{"$f":"VLOOKUP('VP203'!$B$492,FlexDimensioner!$C$1:$D$430,2,FALSE)","v":"VALFRI"},"SEK",{"$f":"VLOOKUP(B973,Import!A$1:B$20000,2,FALSE)","v":{"$error":"#N/A"}},"EJ_GRANSKN",{"$f":"VLOOKUP(S973,Import!A$1:B$20000,2,FALSE)","v":{"$error":"#N/A"}},"32211_S_L_SEK_TOT_I_M_X_H1_VALFRI_SEK",1000,null,"30673_D1259_cmb493_",{"$f":"VLOOKUP(B973,Import!E$1:F$20000,2,FALSE)","v":{"$error":"#N/A"}}]
[{"$f":"IF(ISBLANK(Inm_30673_D1260_cmb494_),\"\",$T$974 * Inm_30673_D1260_cmb494_)","v":""},"30673_D1260_cmb494_","Handel i sven, Lång , Inflöde","VP203'!Inm_30673_D1260_cmb494_","32211","S","L","SEK","TOT","I","M","X","H1",{"$f":"VLOOKUP('VP203'!$B$493,FlexDimensioner!$C$1:$D$430,2,FALSE)","v":"VALFRI"},"SEK",{"$f":"VLOOKUP(B974,Import!A$1:B$20000,2,FALSE)","v":{"$error":"#N/A"}},"EJ_GRANSKN",{"$f":"VLOOKUP(S974,Import!A$1:B$20000,2,FALSE)","v":{"$error":"#N/A"}},"32211_S_L_SEK_TOT_I_M_X_H1_VALFRI_SEK",1000,null,"30673_D1260_cmb494_",{"$f":"VLOOKUP(B974,Import!E$1:F$20000,2,FALSE)","v":{"$error":"#N/A"}}]
[{"$f":"IF(ISBLANK(Inm_30673_D1261_cmb495_),\"\",$T$975 * Inm_30673_D1261_cmb495_)","v":""},"30673_D1261_cmb495_","Handel i sven, Lång , Inflöde","VP203'!Inm_30673_D1261_cmb495_","32211","S","L","SEK","TOT","I","M","X","H1",{"$f":"VLOOKUP('VP203'!$B$494,FlexDimensioner!$C$1:$D$430,2,FALSE)","v":"VALFRI"},"SEK",{"$f":"VLOOKUP(B975,Import!A$1:B$20000,2,FALSE)","v":{"$error":"#N/A"}},"EJ_GRANSKN",{"$f":"VLOOKUP(S975,Import!A$1:B$20000,2,FALSE)","v":{"$error":"#N/A"}},"32211_S_L_SEK_TOT_I_M_X_H1_VALFRI_SEK",1000,null,"30673_D1261_cmb495_",{"$f":"VLOOKUP(B975,Import!E$1:F$20000,2,FALSE)","v":{"$error":"#N/A"}}]
[{"$f":"IF(ISBLANK(Inm_30673_D1262_cmb496_),\"\",$T$976 * Inm_30673_D1262_cmb496_)","v":""},"30673_D1262_cmb496_","Handel i sven, Lång , Inflöde","VP203'!Inm_30673_D1262_cmb496_","32211","S","L","SEK","TOT","I","M","X","H1",{"$f":"VLOOKUP('VP203'!$B$495,FlexDimensioner!$C$1:$D$430,2,FALSE)","v":"VALFRI"},"SEK",{"$f":"VLOOKUP(B976,Import!A$1:B$20000,2,FALSE)","v":{"$error":"#N/A"}},"EJ_GRANSKN",{"$f":"VLOOKUP(S976,Import!A$1:B$20000,2,FALSE)","v":{"$error":"#N/A"}},"32211_S_L_SEK_TOT_I_M_X_H1_VALFRI_SEK",1000,null,"30673_D1262_cmb496_",{"$f":"VLOOKUP(B976,Import!E$1:F$20000,2,FALSE)","v":{"$error":"#N/A"}}]
[{"$f":"IF(ISBLANK(Inm_30673_D1263_cmb497_),\"\",$T$977 * Inm_30673_D1263_cmb497_)","v":""},"30673_D1263_cmb497_","Handel i sven, Lång , Inflöde","VP203'!Inm_30673_D1263_cmb497_","32211","S","L","SEK","TOT","I","M","X","H1",{"$f":"VLOOKUP('VP203'!$B$496,FlexDimensioner!$C$1:$D$430,2,FALSE)","v":"VALFRI"},"SEK",{"$f":"VLOOKUP(B977,Import!A$1:B$20000,2,FALSE)","v":{"$error":"#N/A"}},"EJ_GRANSKN",{"$f":"VLOOKUP(S977,Import!A$1:B$20000,2,FALSE)","v":{"$error":"#N/A"}},"32211_S_L_SEK_TOT_I_M_X_H1_VALFRI_SEK",1000,null,"30673_D1263_cmb497_",{"$f":"VLOOKUP(B977,Import!E$1:F$20000,2,FALSE)","v":{"$error":"#N/A"}}]
[{"$f":"IF(ISBLANK(Inm_30673_D1264_cmb498_),\"\",$T$978 * Inm_30673_D1264_cmb498_)","v":""},"30673_D1264_cmb498_","Handel i sven, Lång , Inflöde","VP203'!Inm_30673_D1264_cmb498_","32211","S","L","SEK","TOT","I","M","X","H1",{"$f":"VLOOKUP('VP203'!$B$497,FlexDimensioner!$C$1:$D$430,2,FALSE)","v":"VALFRI"},"SEK",{"$f":"VLOOKUP(B978,Import!A$1:B$20000,2,FALSE)","v":{"$error":"#N/A"}},"EJ_GRANSKN",{"$f":"VLOOKUP(S978,Import!A$1:B$20000,2,FALSE)","v":{"$error":"#N/A"}},"32211_S_L_SEK_TOT_I_M_X_H1_VALFRI_SEK",1000,null,"30673_D1264_cmb498_",{"$f":"VLOOKUP(B978,Import!E$1:F$20000,2,FALSE)","v":{"$error":"#N/A"}}]
[{"$f":"IF(ISBLANK(Inm_30673_D1265_cmb499_),\"\",$T$979 * Inm_30673_D1265_cmb499_)","v":""},"30673_D1265_cmb499_","Handel i sven, Lång , Inflöde","VP203'!Inm_30673_D1265_cmb499_","32211","S","L","SEK","TOT","I","M","X","H1",{"$f":"VLOOKUP('VP203'!$B$498,FlexDimensioner!$C$1:$D$430,2,FALSE)","v":"VALFRI"},"SEK",{"$f":"VLOOKUP(B979,Import!A$1:B$20000,2,FALSE)","v":{"$error":"#N/A"}},"EJ_GRANSKN",{"$f":"VLOOKUP(S979,Import!A$1:B$20000,2,FALSE)","v":{"$error":"#N/A"}},"32211_S_L_SEK_TOT_I_M_X_H1_VALFRI_SEK",1000,null,"30673_D1265_cmb499_",{"$f":"VLOOKUP(B979,Import!E$1:F$20000,2,FALSE)","v":{"$error":"#N/A"}}]
[{"$f":"IF(ISBLANK(Inm_30673_D1266_cmb500_),\"\",$T$980 * Inm_30673_D1266_cmb500_)","v":""},"30673_D1266_cmb500_","Handel i sven, Lång , Inflöde","VP203'!Inm_30673_D1266_cmb500_","32211","S","L","SEK","TOT","I","M","X","H1",{"$f":"VLOOKUP('VP203'!$B$499,FlexDimensioner!$C$1:$D$430,2,FALSE)","v":"VALFRI"},"SEK",{"$f":"VLOOKUP(B980,Import!A$1:B$20000,2,FALSE)","v":{"$error":"#N/A"}},"EJ_GRANSKN",{"$f":"VLOOKUP(S980,Import!A$1:B$20000,2,FALSE)","v":{"$error":"#N/A"}},"32211_S_L_SEK_TOT_I_M_X_H1_VALFRI_SEK",1000,null,"30673_D1266_cmb500_",{"$f":"VLOOKUP(B980,Import!E$1:F$20000,2,FALSE)","v":{"$error":"#N/A"}}]
[{"$f":"IF(ISBLANK(Inm_30673_D1267_cmb501_),\"\",$T$981 * Inm_30673_D1267_cmb501_)","v":""},"30673_D1267_cmb501_","Handel i sven, Lång , Inflöde","VP203'!Inm_30673_D1267_cmb501_","32211","S","L","SEK","TOT","I","M","X","H1",{"$f":"VLOOKUP('VP203'!$B$500,FlexDimensioner!$C$1:$D$430,2,FALSE)","v":"VALFRI"},"SEK",{"$f":"VLOOKUP(B981,Import!A$1:B$20000,2,FALSE)","v":{"$error":"#N/A"}},"EJ_GRANSKN",{"$f":"VLOOKUP(S981,Import!A$1:B$20000,2,FALSE)","v":{"$error":"#N/A"}},"32211_S_L_SEK_TOT_I_M_X_H1_VALFRI_SEK",1000,null,"30673_D1267_cmb501_",{"$f":"VLOOKUP(B981,Import!E$1:F$20000,2,FALSE)","v":{"$error":"#N/A"}}]